Workbook

Sheet Intro
D2: GMAT CLUB - Contributing to Each Other's Learning
B5: Guide to the Official GMAT Guide 12th Edition
B6: Use this guide to: - Track your progress through the Official Guide for GMAT Review 12th edition - To analyze your mistakes in the Official Guide (Error log and Analysis tabs) - To help find specific practice questions and build your custom practice tests that focus on your weak areas - Identify questions new to the 12th edition Good Luck on the GMAT! GMAT Club
M13: See Details on Amazon
B20: Download the latest version of the Guide to the Official Guide 12th ed

Sheet Diagnostic Test
A1: For the latest edition of this spreadsheet visit: http://gmatclub.com/forum/guide-to-the-gmat-official-guide-12th-edition-85956.html
B2: Official Guide Diagnostic Test
B5: Question No. | C5: Category | D5: Sub Category | E5: Difficulty | F5: Type | G5: Correct Answer
B6: 1 | C6: Arithmetic | D6: Interpretation | E6: Medium | F6: PS | G6: A
B7: 2 | C7: Statistics | E7: Easy | F7: PS | G7: D
B8: 3 | C8: Arithmetic | D8: Sequence | E8: Medium | F8: PS | G8: E
B9: 4 | C9: Probability | E9: Medium | F9: PS | G9: B
B10: 5 | C10: Geometry | E10: Hard | F10: PS | G10: B
B11: 6 | C11: Word Problems | D11: Overlapping Sets | E11: Medium | F11: PS | G11: A
B12: 7 | C12: Probability | E12: Hard | F12: PS | G12: E
B13: 8 | C13: Statistics | E13: Medium | F13: PS | G13: E
B14: 9 | C14: Statistics | E14: Easy | F14: PS | G14: D
B15: 10 | C15: Geometry | E15: Hard | F15: PS | G15: C
B16: 11 | C16: Arithmetic | D16: Number Properties | E16: Hard | F16: PS | G16: C
B17: 12 | C17: Arithmetic | D17: Percent | E17: Medium | F17: PS | G17: C
B18: 13 | C18: Arithmetic | D18: Number Properties | E18: Hard | F18: PS | G18: E
B19: 14 | C19: Word Problems | D19: Overlapping Sets | E19: Hard | F19: PS | G19: B
B20: 15 | C20: Arithmetic | D20: Number Properties | E20: Medium | F20: PS | G20: C
B21: 16 | C21: Algebra | E21: Medium | F21: PS | G21: E
B22: 17 | C22: Arithmetic | D22: Number Properties | E22: Easy | F22: PS | G22: D
B23: 18 | C23: Arithmetic | D23: Number Properties | E23: Medium | F23: PS | G23: A
B24: 19 | C24: Geometry | E24: Medium | F24: PS | G24: A
B25: 20 | C25: Geometry | E25: Easy | F25: PS | G25: B
B26: 21 | C26: Word Problems | D26: Rate | E26: Easy | F26: PS | G26: D
B27: 22 | C27: Geometry | E27: Medium | F27: PS | G27: E
B28: 23 | C28: Arithmetic | D28: Number Properties | E28: Easy | F28: PS | G28: B
B29: 24 | C29: Word Problems | D29: Rate | E29: Medium | F29: PS | G29: C
B30: 25 | C30: Arithmetic | D30: Number Properties | E30: Hard | F30: DS | G30: E
B31: 26 | C31: Arithmetic | D31: Number Properties | E31: Medium | F31: DS | G31: E
B32: 27 | C32: Arithmetic | D32: Interpretation | E32: Medium | F32: DS | G32: E
B33: 28 | C33: Geometry | E33: Medium | F33: DS | G33: E
B34: 29 | C34: Arithmetic | D34: Percent | E34: Easy | F34: DS | G34: E
B35: 30 | C35: Word Problems | D35: Min/Max | E35: Hard | F35: DS | G35: A
B36: 31 | C36: Statistics | E36: Hard | F36: DS | G36: D
B37: 32 | C37: Statistics | E37: Medium | F37: DS | G37: C
B38: 33 | C38: Arithmetic | D38: Powers | E38: Medium | F38: DS | G38: D
B39: 34 | C39: Word Problems | D39: Groups | E39: Medium | F39: DS | G39: C
B40: 35 | C40: Algebra | E40: Easy | F40: DS | G40: D
B41: 36 | C41: Geometry | E41: Easy | F41: DS | G41: B
B42: 37 | C42: Algebra | E42: Medium | F42: DS | G42: A
...

Sheet PS - OG12
B1: For the latest edition of this spreadsheet visit: http://gmatclub.com/forum/guide-to-the-gmat-official-guide-12th-edition-85956.html
B2: Section: Problem Solving
B5: Difficulty | C5: Question No. | D5: Category | E5: Sub-Category | F5: OA | G5: GC Category | H5: GC Sub-Category | I5: Long Solution
B6: EASY EASY | C6: 1 | D6: Arithmetic | E6: Operations with rational numbers | F6: A | G6: Word Problem | H6: Rate
C7: 2* | D7: Algebra | E7: First-degree equations | F7: B
C8: 3 | D8: Arithmetic | E8: Properties of numbers | F8: C
C9: 4 | D9: Geometry | E9: Area | F9: E
C10: 5* | D10: Arithmetic | E10: Statistics | F10: C
C11: 6 | D11: Algebra | E11: Simplifying algebraic expressions | F11: C
C12: 7 | D12: Arithmetic | E12: Properties of numbers | F12: B
C13: 8 | D13: Algebra | E13: Applied problems | F13: E | G13: Word Problem | H13: Rate
C14: 9 | D14: Arithmetic; Algebra | E14: Interpretation of graphs; Second-degree equations | F14: E | G14: Coordinate Geometry
C15: 10 | D15: Arithmetic | E15: Percents | F15: D
C16: 11 | D16: Arithmetic | E16: Operations on radical expressions | F16: E
C17: 12 | D17: Arithmetic | E17: Probability | F17: A
C18: 13* | D18: Algebra | E18: First-degree equations | F18: C | G18: Word Problem | H18: Rate
C19: 14 | D19: Arithmetic | E19: Statistics | F19: A
C20: 15 | D20: Arithmetic | E20: Operations on rational numbers | F20: B | G20: Arithmetic | H20: Powers
C21: 16 | D21: Geometry | E21: Volume | F21: D
C22: 17 | D22: Arithmetic | E22: Operations on rational numbers; Percents | F22: D | G22: Word Problem | H22: Rate
C23: 18* | D23: Geometry | E23: Quadrilaterals | F23: E
C24: 19 | D24: Arithmetic | E24: Percents | F24: E
C25: 20 | D25: Arithmetic | E25: Operations on rational numbers | F25: A
C26: 21 | D26: Arithmetic | E26: Operations on rational numbers | F26: B | G26: Word Problem | H26: Rate
C27: 22 | D27: Arithmetic | E27: Properties of numbers | F27: A
C28: 23* | D28: Arithmetic | E28: Properties of numbers | F28: B | I28: Yes
C29: 24* | D29: Arithmetic | E29: Operations with rational numbers | F29: D | G29: Arithmetic | H29: Fractions
C30: 25 | D30: Geometry | E30: Coordinate geometry | F30: E
C31: 26 | D31: Algebra | E31: First-degree equations | F31: B
C32: 27* | D32: Arithmetic | E32: Statistics | F32: E
C33: 28* | D33: Arithmetic | E33: Measurement conversion | F33: B
C34: 29 | D34: Arithmetic | E34: Properties of numbers | F34: C
C35: 30 | D35: Arithmetic | E35: Interpretation of graphs and tables | F35: B
C36: 31 | D36: Algebra | E36: First-degree equations | F36: B
C37: 32 | D37: Arithmetic | E37: Operations on radical expressions | F37: B
C38: 33 | D38: Geometry | E38: Circles and area | F38: C
C39: 34 | D39: Algebra | E39: Applied problems | F39: A
C40: 35 | D40: Arithmetic | E40: Operations on rational numbers | F40: B
C41: 36 | D41: Arithmetic | E41: Operations on rational numbers | F41: A
C42: 37* | D42: Arithmetic | E42: Operations with rational numbers | F42: A | G42: Arithmetic | H42: Fractions
...

Sheet DS - OG12
B1: For the latest edition of this spreadsheet visit: http://gmatclub.com/forum/guide-to-the-gmat-official-guide-12th-edition-85956.html
B2: Section: Data Sufficiency
B5: Difficulty | C5: Question No. | D5: Category | E5: Sub-Category | F5: Correct Answer | G5: GC Category | H5: GC Sub-Category | I5: Long Solution
B6: EASY EASY | C6: 1 | D6: Arithmetic | E6: Absolute Value | F6: B
C7: 2 | D7: Arithmetic | E7: Percents | F7: E
C8: 3 | D8: Arithmetic | E8: Probability | F8: A
C9: 4* | D9: Arithmetic | E9: Sets (Venn diagrams) | F9: E
C10: 5 | D10: Geometry | E10: Lines | F10: E
C11: 6 | D11: Arithmetic | E11: Properties of Numbers | F11: D
C12: 7* | D12: Arithmetic | E12: Percents | F12: A
C13: 8* | D13: Algebra | E13: Simultaneous Equations | F13: C | G13: Word Problem | H13: Rate
C14: 9* | D14: Arithmetic | E14: Operations with Rational Numbers | F14: A | G14: Word Problem | H14: Ratios
C15: 10 | D15: Arithmetic | E15: Work Problems | F15: B | G15: Word Problem | H15: Work
C16: 11 | D16: Arithmetic | E16: Properties of Numbers | F16: A
C17: 12 | D17: Arithmetic | E17: Properties of Numbers | F17: B
C18: 13* | D18: Algebra | E18: First Degree Equations | F18: D | G18: Word Problem
C19: 14* | D19: Arithmetic | E19: Rate Problem | F19: C | G19: Word Problem | H19: Rate
C20: 15 | D20: Algebra | E20: First and Second Degree Equations | F20: B
C21: 16 | D21: Arithmetic | E21: Properties of Numbers | F21: A
C22: 17* | D22: Arithmetic | E22: Properties of Numbers | F22: D
C23: 18* | D23: Geometry | E23: Volume | F23: B
C24: 19* | D24: Arithmetic | E24: Series and Sequences | F24: C | G24: Arithmetic | H24: Sequences
C25: 20 | D25: Geometry | E25: Triangles | F25: A
C26: 21* | D26: Arithmetic | E26: Percents | F26: E | G26: Word Problem | H26: Overlapping Sets
C27: 22* | D27: Arithmetic | E27: Rate Problem | F27: E | G27: Word Problem | H27: Rate
C28: 23 | D28: Arithmetic | E28: Arithmetic Operations, Proportions | F28: B | G28: Word Problem | H28: Min/Max
C29: 24* | D29: Arithmetic | E29: Properties of Numbers | F29: D
C30: 25* | D30: Arithmetic | E30: Operations with Rational Numbers | F30: D | G30: Word Problem | H30: Rate
C31: 26* | D31: Algebra | E31: Formulas | F31: D | G31: Word Problem | H31: Rate
C32: 27* | D32: Arithmetic | E32: Operations with Rational Numbers | F32: D | G32: Word Problem | H32: Ratios
C33: 28* | D33: Arithmetic | E33: Statistics | F33: E
C34: 29 | D34: Geometry | E34: Surface Area | F34: E
C35: 30 | D35: Arithmetic | E35: First and Second Degree Equations | F35: B
C36: 31* | D36: Arithmetic | E36: Rounding, Place Value | F36: B
C37: 32* | D37: Arithmetic | E37: Applied Problems | F37: E | G37: Word Problem | H37: Min/Max
C38: 33* | D38: Algebra | E38: Applied Problems | F38: C | G38: Word Problem | H38: Profit/Loss
C39: 34 | D39: Geometry | E39: Circles | F39: D
C40: 35 | D40: Algebra | E40: First and Second Degree Equations | F40: D
C41: 36* | D41: Algebra | E41: Functions | F41: B
C42: 37* | D42: Algebra | E42: Percents | F42: A | G42: Word Problem | H42: Percents
...

Sheet RC - OG12
B1: For the latest edition of this spreadsheet visit: http://gmatclub.com/forum/guide-to-the-gmat-official-guide-12th-edition-85956.html
B2: Section: Reading Comprehension
B5: Difficulty | C5: Question No. | D5: Passage No. | E5: Category | F5: Correct Answer | G5: Passage Title | H5: Passage Category | I5: Lines
B6: EASY EASY | C6: 1* | D6: 1 | E6: Main Idea | F6: C | G6: Ecoefficiency | H6: Social Science | I6: 32
C7: 2* | E7: Supporting Ideas | F7: D
C8: 3* | E8: Inference | F8: B
C9: 4 | D9: 2 | E9: Main Idea | F9: E | G9: Predator-Prey Dynamics in the Late Pleistocene Era | H9: Science | I9: 29
C10: 5 | E10: Supporting Ideas | F10: B
C11: 6 | E11: Supporting Ideas | F11: D
C12: 7 | E12: Logical Structure | F12: D
C13: 8 | E13: Logical Structure | F13: A
C14: 9 | D14: 3 | E14: Main Idea | F14: B | G14: Archeology | H14: Humanities | I14: 61
C15: 10 | E15: Inference | F15: E
C16: 11 | E16: Supporting Ideas | F16: E
C17: 12 | D17: 4 | E17: Main Idea | F17: D | G17: Beta Format for VCRs | H17: Business | I17: 30
C18: 13 | E18: Supporting Ideas | F18: E
C19: 14 | E19: Supporting Ideas | F19: D
C20: 15 | E20: Inference | F20: D
C21: 16 | E21: Application | F21: C
C22: 17 | E22: Logical Structure | F22: A
C23: 18* | D23: 5 | E23: Application | F23: B | G23: Gravity and Cardiovascular Systems | H23: Science | I23: 46
C24: 19* | E24: Supporting Ideas | F24: B
C25: 20* | E25: Inference | F25: B
C26: 21* | E26: Evaluation | F26: A
C27: 22* | E27: Inference | F27: D
C28: 23* | E28: Inference | F28: E
C29: 24* | E29: Evaluation | F29: D
C30: 25* | E30: Main Idea | F30: A
C31: 26 | D31: 6 | E31: Main Idea | F31: E | G31: Economic Development Strategy | H31: Business | I31: 33
C32: 27 | E32: Inference | F32: C
C33: 28 | E33: Tone | F33: C
C34: 29 | E34: Supporting Ideas | F34: C
C35: 30 | E35: Supporting Ideas | F35: E
C36: 31 | D36: 7 | E36: Main Idea | F36: C | G36: Services in the US Economy | H36: Humanities | I36: 30
C37: 32 | E37: Inference | F37: B
C38: 33 | E38: Inference | F38: A
C39: 34 | E39: Supporting Ideas | F39: C
C40: 35 | E40: Logical Structure | F40: B
C41: 36* | D41: 8 | E41: Main Idea | F41: C | G41: Current Feminist Theory | H41: Social Science | I41: 29
C42: 37* | E42: Supporting Ideas | F42: B
...

Sheet CR - OG12
A1: For the latest edition of this spreadsheet visit: http://gmatclub.com/forum/guide-to-the-gmat-official-guide-12th-edition-85956.html
B2: Section: Critical Reasoning
B5: Difficulty | C5: Question No. | D5: OG Category | E5: GC Category | F5: Correct Answer
B6: EASY EASY | C6: 1 | D6: Argument Evaluation | E6: Weaken | F6: B
C7: 2* | D7: Evaluation of a Plan | E7: Assumption | F7: C
C8: 3 | D8: Argument Evaluation | E8: Argument Evaluation | F8: A
C9: 4* | D9: Evaluation of a Plan | E9: Logical Flaw | F9: D
C10: 5 | D10: Evaluation of a Plan | E10: Inference | F10: D
C11: 6 | D11: Evaluation of a Plan | E11: Evaluation of a Plan | F11: E
C12: 7* | D12: Evaluation of a Plan | E12: Assumption | F12: A
C13: 8 | D13: Argument Construction | E13: Resolve Paradox | F13: A
C14: 9* | D14: Evaluation of a Plan | E14: Evaluation of a Plan | F14: B
C15: 10 | D15: Argument Evaluation | E15: Weaken | F15: D
C16: 11 | D16: Argument Construction | E16: Additional Evidence | F16: E
C17: 12* | D17: Evaluation of a Plan | E17: Evaluation of a Plan | F17: A
C18: 13 | D18: Argument Evaluation | E18: Additional Evidence | F18: E
C19: 14* | D19: Evaluation of a Plan | E19: Resolve Paradox | F19: A
C20: 15 | D20: Argument Evaluation | E20: Weaken | F20: D
C21: 16 | D21: Argument Construction | E21: Complete the Passage | F21: B
C22: 17* | D22: Argument Construction | E22: Bold Face CR | F22: E
C23: 18 | D23: Argument Construction | E23: Resolve Paradox | F23: C
C24: 19* | D24: Argument Evaluation | E24: Argument Evaluation | F24: E
C25: 20 | D25: Argument Construction | E25: Assumption | F25: D
C26: 21 | D26: Argument Evaluation | E26: Strengthen | F26: B
C27: 22* | D27: Evaluation of a Plan | E27: Evaluation of a Plan | F27: C
C28: 23 | D28: Argument Evaluation | E28: Weaken | F28: D
C29: 24* | D29: Argument Construction | E29: Additional Evidence | F29: C
C30: 25 | D30: Argument Evaluation | E30: Strengthen | F30: A
C31: 26 | D31: Argument Construction | E31: Conclusion | F31: C
C32: 27* | D32: Argument Evaluation | E32: Assumption | F32: B
C33: 28 | D33: Argument Construction | E33: Assumption | F33: C
C34: 29* | D34: Argument Construction | E34: Bold Face CR | F34: A
C35: 30 | D35: Argument Evaluation | E35: Weaken | F35: E
C36: 31 | D36: Argument Construction | E36: Inference | F36: C
C37: 32* | D37: Evaluation of a Plan | E37: Strengthen | F37: C
C38: 33 | D38: Argument Construction | E38: Must Be True | F38: C
C39: 34* | D39: Argument Construction | E39: Complete the Passage | F39: D
C40: 35 | D40: Argument Evaluation | E40: Weaken | F40: B
C41: 36 | D41: Argument Evaluation | E41: Weaken | F41: A
C42: 37* | D42: Argument Construction | E42: Argument Construction | F42: D
...

Sheet SC - OG12
B1: For the latest edition of this spreadsheet visit: http://gmatclub.com/forum/guide-to-the-gmat-official-guide-12th-edition-85956.html
B2: Section: Sentence Correction
B5: Difficulty | C5: Question No. | D5: OG Category | E5: OG Sub-Category | F5: GC Category | G5: GC Sub-Category | H5: Correct Answer | I5: 2 Correct Choices | J5: Long
B6: EASY EASY | C6: 1* | D6: Agreement | E6: Rhetorical Construction | F6: Verb Voice | G6: Pronouns | H6: D
C7: 2 | D7: Agreement | E7: Rhetorical Construction | F7: Subject Verb Agreement | G7: Rhetorical Construction | H7: D
C8: 3* | D8: Verb Form | E8: Rhetorical Construction | F8: Verb Tense / Form | G8: Rhetorical Construction | H8: E
C9: 4 | D9: Idiom | E9: Verb Form | F9: Idiom | G9: Comparisons | H9: E
C10: 5 | D10: Agreement | E10: Logical Predication | F10: Subject Verb Agreement | G10: Modifiers | H10: A
C11: 6* | D11: Agreement | E11: Parallelism | F11: Pronouns | G11: Parallel Structure | H11: E
C12: 7 | D12: Agreement | E12: Rhetorical Construction | F12: Pronouns | G12: Rhetorical Construction | H12: E
C13: 8* | D13: Logical Predication | E13: Verb Form | F13: Verb Tense / Form | G13: Modifiers | H13: A
C14: 9 | D14: Logical Predication | F14: Comparisons | H14: E
C15: 10 | D15: Verb Form | E15: Rhetorical Construction | F15: Which / That | G15: Verb Tense | H15: B
C16: 11* | D16: Parallelism | E16: Verb Form | F16: Parallel Structure | G16: Verb Tense | H16: D
C17: 12 | D17: Diction | E17: Agreement | F17: Subject Verb Agreement | G17: Diction | H17: E
C18: 13* | D18: Agreement | E18: Grammatical Construction | F18: Subject Verb Agreement | G18: Grammatical Construction | H18: A
C19: 14 | D19: Logical Predication | E19: Parallelism | F19: Parallel Structure | G19: Modifiers | H19: A
C20: 15 | D20: Parallelism | E20: Grammatical Construction | F20: Parallel Structure | G20: Idiom | H20: E
C21: 16* | D21: Verb Form | E21: Logical Predication | F21: Verb Tense / Form | G21: Style | H21: B | I21: Yes
C22: 17 | D22: Idiom | E22: Logical Predication | F22: Idiom | H22: D
C23: 18* | D23: Logical Predication | E23: Grammatical Construction | F23: Comparisons | G23: Grammatical Construction | H23: C
C24: 19 | D24: Grammatical Construction | E24: Verb Form | F24: Comparisons | G24: Modifiers | H24: D
C25: 20 | D25: Idiom | E25: Logical Predication | F25: Idiom | G25: Parallel Structure | H25: E
C26: 21* | D26: Grammatical Construction | E26: Logical Predication | F26: Grammatical Construction | G26: Subject Verb Agreement | H26: A
C27: 22 | D27: Grammatical Construction | E27: Parallelism | F27: Verb Tense / Form | G27: Parallel Structure | H27: D
C28: 23* | D28: Verb Form | E28: Grammatical Construction | F28: Verb Tense / Form | G28: Pronouns | H28: C
C29: 24 | D29: Diction | E29: Rhetorical Construction | F29: Diction | G29: Style | H29: E
C30: 25 | D30: Logical Predication | E30: Rhetorical Construction | F30: Modifiers | G30: Style | H30: E
C31: 26* | D31: Parallelism | E31: Grammatical Construction | F31: Parallel Structure | G31: Subject Verb Agreement | H31: E
C32: 27 | D32: Idiom | E32: Agreement | F32: Idiom | G32: Subject Verb Agreement | H32: D
C33: 28* | D33: Diction | E33: Parallelism | F33: Parallel Structure | G33: Such As / Like | H33: B
C34: 29 | D34: Parallelism | F34: Parallel Structure | H34: C
C35: 30 | D35: Logical Predication | E35: Rhetorical Construction | F35: Modifiers | G35: Style | H35: C | I35: Yes
C36: 31* | D36: Rhetorical Construction | E36: Idiom | F36: Comparisons | G36: Idiom | H36: D
C37: 32 | D37: Idiom | E37: Parallelism | F37: Idiom | G37: Parallel Structure | H37: B
C38: 33* | D38: Agreement | E38: Rhetorical Construction | F38: Subject Verb Agreement | G38: Style | H38: A
C39: 34 | D39: Idiom | E39: Verb Form | F39: Idiom | G39: Style | H39: B
C40: 35 | D40: Grammatical Construction | E40: Agreement | F40: Such As / Like | G40: Subject Verb Agreement | H40: C
C41: 36* | D41: Parallelism | E41: Logical Predication | F41: Verb Voice | G41: Parallel Structure | H41: A
C42: 37 | D42: Idiom | F42: Idiom | G42: Style | H42: A
...

Sheet Error Log
B2: Error Log
B6: Sr. No. | C6: Verbal/Quant | D6: Section | E6: Q. No. | F6: Answer | G6: Result
B7: 1 | C7: Verbal | D7: CR | E7: 1 | F7: B | G7: =IF(F7="","NA",IF(F7='CR - OG12'!F6,"Correct","Incorrect")) -> Correct
B8: 2 | C8: Verbal | D8: CR | E8: 2 | F8: C | G8: =IF(F8="","NA",IF(F8='CR - OG12'!F7,"Correct","Incorrect")) -> Correct
B9: 3 | C9: Verbal | D9: CR | E9: 3 | F9: A | G9: =IF(F9="","NA",IF(F9='CR - OG12'!F8,"Correct","Incorrect")) -> Correct
B10: 4 | C10: Verbal | D10: CR | E10: 4 | F10: D | G10: =IF(F10="","NA",IF(F10='CR - OG12'!F9,"Correct","Incorrect")) -> Correct
B11: 5 | C11: Verbal | D11: CR | E11: 5 | F11: D | G11: =IF(F11="","NA",IF(F11='CR - OG12'!F10,"Correct","Incorrect")) -> Correct
B12: 6 | C12: Verbal | D12: CR | E12: 6 | F12: E | G12: =IF(F12="","NA",IF(F12='CR - OG12'!F11,"Correct","Incorrect")) -> Correct
B13: 7 | C13: Verbal | D13: CR | E13: 7 | F13: A | G13: =IF(F13="","NA",IF(F13='CR - OG12'!F12,"Correct","Incorrect")) -> Correct
B14: 8 | C14: Verbal | D14: CR | E14: 8 | F14: A | G14: =IF(F14="","NA",IF(F14='CR - OG12'!F13,"Correct","Incorrect")) -> Correct
B15: 9 | C15: Verbal | D15: CR | E15: 9 | F15: A | G15: =IF(F15="","NA",IF(F15='CR - OG12'!F14,"Correct","Incorrect")) -> Incorrect
B16: 10 | C16: Verbal | D16: CR | E16: 10 | F16: A | G16: =IF(F16="","NA",IF(F16='CR - OG12'!F15,"Correct","Incorrect")) -> Incorrect
B17: 11 | C17: Verbal | D17: CR | E17: 11 | F17: A | G17: =IF(F17="","NA",IF(F17='CR - OG12'!F16,"Correct","Incorrect")) -> Incorrect
B18: 12 | C18: Verbal | D18: CR | E18: 12 | F18: A | G18: =IF(F18="","NA",IF(F18='CR - OG12'!F17,"Correct","Incorrect")) -> Correct
... B99: 93 | C99: Verbal | D99: CR | E99: 93 | F99: A | G99: =IF(F99="","NA",IF(F99='CR - OG12'!F98,"Correct","Incorrect")) -> Incorrect
B100: 94 | C100: Verbal | D100: CR | E100: 94 | G100: =IF(F100="","NA",IF(F100='CR - OG12'!F99,"Correct","Incorrect")) -> NA
B101: 95 | C101: Verbal | D101: CR | E101: 95 | G101: =IF(F101="","NA",IF(F101='CR - OG12'!F100,"Correct","Incorrect")) -> NA
B102: 96 | C102: Verbal | D102: CR | E102: 96 | G102: =IF(F102="","NA",IF(F102='CR - OG12'!F101,"Correct","Incorrect")) -> NA
B103: 97 | C103: Verbal | D103: CR | E103: 97 | G103: =IF(F103="","NA",IF(F103='CR - OG12'!F102,"Correct","Incorrect")) -> NA
B104: 98 | C104: Verbal | D104: CR | E104: 98 | G104: =IF(F104="","NA",IF(F104='CR - OG12'!F103,"Correct","Incorrect")) -> NA
B105: 99 | C105: Verbal | D105: CR | E105: 99 | G105: =IF(F105="","NA",IF(F105='CR - OG12'!F104,"Correct","Incorrect")) -> NA
B106: 100 | C106: Verbal | D106: CR | E106: 100 | G106: =IF(F106="","NA",IF(F106='CR - OG12'!F105,"Correct","Incorrect")) -> NA
B107: 101 | C107: Verbal | D107: CR | E107: 101 | G107: =IF(F107="","NA",IF(F107='CR - OG12'!F106,"Correct","Incorrect")) -> NA
B108: 102 | C108: Verbal | D108: CR | E108: 102 | F108: A | G108: =IF(F108="","NA",IF(F108='CR - OG12'!F107,"Correct","Incorrect")) -> Incorrect
B109: 103 | C109: Verbal | D109: CR | E109: 103 | F109: A | G109: =IF(F109="","NA",IF(F109='CR - OG12'!F108,"Correct","Incorrect")) -> Incorrect
B110: 104 | C110: Verbal | D110: CR | E110: 104 | F110: A | G110: =IF(F110="","NA",IF(F110='CR - OG12'!F109,"Correct","Incorrect")) -> Incorrect
B111: 105 | C111: Verbal | D111: CR | E111: 105 | F111: A | G111: =IF(F111="","NA",IF(F111='CR - OG12'!F110,"Correct","Incorrect")) -> Incorrect
B112: 106 | C112: Verbal | D112: CR | E112: 106 | F112: A | G112: =IF(F112="","NA",IF(F112='CR - OG12'!F111,"Correct","Incorrect")) -> Correct
B113: 107 | C113: Verbal | D113: CR | E113: 107 | F113: A | G113: =IF(F113="","NA",IF(F113='CR - OG12'!F112,"Correct","Incorrect")) -> Incorrect
B114: 108 | C114: Verbal | D114: CR | E114: 108 | F114: A | G114: =IF(F114="","NA",IF(F114='CR - OG12'!F113,"Correct","Incorrect")) -> Incorrect
B115: 109 | C115: Verbal | D115: CR | E115: 109 | F115: A | G115: =IF(F115="","NA",IF(F115='CR - OG12'!F114,"Correct","Incorrect")) -> Correct
B116: 110 | C116: Verbal | D116: CR | E116: 110 | F116: A | G116: =IF(F116="","NA",IF(F116='CR - OG12'!F115,"Correct","Incorrect")) -> Incorrect
B117: 111 | C117: Verbal | D117: CR | E117: 111 | F117: A | G117: =IF(F117="","NA",IF(F117='CR - OG12'!F116,"Correct","Incorrect")) -> Incorrect
B118: 112 | C118: Verbal | D118: CR | E118: 112 | F118: A | G118: =IF(F118="","NA",IF(F118='CR - OG12'!F117,"Correct","Incorrect")) -> Incorrect
B119: 113 | C119: Verbal | D119: CR | E119: 113 | F119: A | G119: =IF(F119="","NA",IF(F119='CR - OG12'!F118,"Correct","Incorrect")) -> Incorrect
... B130: 124 | C130: Verbal | D130: CR | E130: 124 | F130: A | G130: =IF(F130="","NA",IF(F130='CR - OG12'!F129,"Correct","Incorrect")) -> Incorrect
B131: 125 | C131: Verbal | D131: SC | E131: 1 | F131: A | G131: =IF(F131="","NA",IF(F131='SC - OG12'!H6,"Correct","Incorrect")) -> Incorrect
B132: 126 | C132: Verbal | D132: SC | E132: 2 | F132: A | G132: =IF(F132="","NA",IF(F132='SC - OG12'!H7,"Correct","Incorrect")) -> Incorrect
B133: 127 | C133: Verbal | D133: SC | E133: 3 | F133: A | G133: =IF(F133="","NA",IF(F133='SC - OG12'!H8,"Correct","Incorrect")) -> Incorrect
B134: 128 | C134: Verbal | D134: SC | E134: 4 | F134: A | G134: =IF(F134="","NA",IF(F134='SC - OG12'!H9,"Correct","Incorrect")) -> Incorrect
...

Sheet Analysis
B4: Count | D4: Result
B5: Section | C5: Sub-Section | D5: Correct | E5: Incorrect | F5: NA | G5: Grand Total
B6: Quant | C6: DS | D6: 39 | E6: 135 | G6: 174
C7: PS | D7: 36 | E7: 190 | F7: 4 | G7: 230
B8: Quant Total | D8: 75 | E8: 325 | F8: 4 | G8: 404
B9: Verbal | C9: CR | D9: 25 | E9: 91 | F9: 8 | G9: 124
C10: RC | D10: 26 | E10: 109 | F10: 4 | G10: 139
C11: SC | D11: 26 | E11: 110 | F11: 4 | G11: 140
B12: Verbal Total | D12: 77 | E12: 310 | F12: 16 | G12: 403
B13: Grand Total | D13: 152 | E13: 635 | F13: 20 | G13: 807
