Workbook

Sheet Intro
D2: GMAT CLUB - Contributing to Each Other's Learning
B5: Guide to the Official GMAT Guide 12th Edition
B6: Use this guide to: - Track your progress through the Official Guide for GMAT Review 12th edition - To analyze your mistakes in the Official Guide (Error log and Analysis tabs) - To help find specific practice questions and build your custom practice tests that focus on your weak areas - Identify questions new to the 12th edition Good Luck on the GMAT! GMAT Club
M13: See Details on Amazon
B20: Download the latest version of the Guide to the Official Guide 12th ed

Sheet Diagnostic Test
A1: For the latest edition of this spreadsheet visit: http://gmatclub.com/forum/guide-to-the-gmat-official-guide-12th-edition-85956.html
B2: Official Guide Diagnostic Test
B5: Question No. | C5: Category | D5: Sub Category | E5: Difficulty | F5: Type | G5: Correct Answer
B6: 1 | C6: Arithmetic | D6: Interpretation | E6: Medium | F6: PS | G6: A
B7: 2 | C7: Statistics | E7: Easy | F7: PS | G7: D
B8: 3 | C8: Arithmetic | D8: Sequence | E8: Medium | F8: PS | G8: E
B9: 4 | C9: Probability | E9: Medium | F9: PS | G9: B
B10: 5 | C10: Geometry | E10: Hard | F10: PS | G10: B
B11: 6 | C11: Word Problems | D11: Overlapping Sets | E11: Medium | F11: PS | G11: A
B12: 7 | C12: Probability | E12: Hard | F12: PS | G12: E
B13: 8 | C13: Statistics | E13: Medium | F13: PS | G13: E
B14: 9 | C14: Statistics | E14: Easy | F14: PS | G14: D
B15: 10 | C15: Geometry | E15: Hard | F15: PS | G15: C
B16: 11 | C16: Arithmetic | D16: Number Properties | E16: Hard | F16: PS | G16: C
B17: 12 | C17: Arithmetic | D17: Percent | E17: Medium | F17: PS | G17: C
B18: 13 | C18: Arithmetic | D18: Number Properties | E18: Hard | F18: PS | G18: E
B19: 14 | C19: Word Problems | D19: Overlapping Sets | E19: Hard | F19: PS | G19: B
B20: 15 | C20: Arithmetic | D20: Number Properties | E20: Medium | F20: PS | G20: C
B21: 16 | C21: Algebra | E21: Medium | F21: PS | G21: E
B22: 17 | C22: Arithmetic | D22: Number Properties | E22: Easy | F22: PS | G22: D
B23: 18 | C23: Arithmetic | D23: Number Properties | E23: Medium | F23: PS | G23: A
B24: 19 | C24: Geometry | E24: Medium | F24: PS | G24: A
B25: 20 | C25: Geometry | E25: Easy | F25: PS | G25: B
B26: 21 | C26: Word Problems | D26: Rate | E26: Easy | F26: PS | G26: D
B27: 22 | C27: Geometry | E27: Medium | F27: PS | G27: E
B28: 23 | C28: Arithmetic | D28: Number Properties | E28: Easy | F28: PS | G28: B
B29: 24 | C29: Word Problems | D29: Rate | E29: Medium | F29: PS | G29: C
B30: 25 | C30: Arithmetic | D30: Number Properties | E30: Hard | F30: DS | G30: E
B31: 26 | C31: Arithmetic | D31: Number Properties | E31: Medium | F31: DS | G31: E
B32: 27 | C32: Arithmetic | D32: Interpretation | E32: Medium | F32: DS | G32: E
B33: 28 | C33: Geometry | E33: Medium | F33: DS | G33: E
B34: 29 | C34: Arithmetic | D34: Percent | E34: Easy | F34: DS | G34: E
B35: 30 | C35: Word Problems | D35: Min/Max | E35: Hard | F35: DS | G35: A
B36: 31 | C36: Statistics | E36: Hard | F36: DS | G36: D
B37: 32 | C37: Statistics | E37: Medium | F37: DS | G37: C
B38: 33 | C38: Arithmetic | D38: Powers | E38: Medium | F38: DS | G38: D
B39: 34 | C39: Word Problems | D39: Groups | E39: Medium | F39: DS | G39: C
B40: 35 | C40: Algebra | E40: Easy | F40: DS | G40: D
B41: 36 | C41: Geometry | E41: Easy | F41: DS | G41: B
B42: 37 | C42: Algebra | E42: Medium | F42: DS | G42: A
B43: 38 | C43: Word Problems | D43: Rate | E43: Medium | F43: DS | G43: B
B44: 39 | C44: Coordinate Geometry | E44: Hard | F44: DS | G44: E
B45: 40 | C45: Word Problems | D45: Rate | E45: Medium | F45: DS | G45: D
B46: 41 | C46: Algebra | E46: Hard | F46: DS | G46: C
B47: 42 | C47: Arithmetic | D47: Fractions | E47: Medium | F47: DS | G47: C
B48: 43 | C48: Statistics | E48: Hard | F48: DS | G48: B
B49: 44 | C49: Arithmetic | D49: Roots | E49: Easy | F49: DS | G49: A
B50: 45 | C50: Word Problems | D50: Min/Max | E50: Hard | F50: DS | G50: D
B51: 46 | C51: Word Problems | D51: Min/Max | E51: Medium | F51: DS | G51: E
B52: 47 | C52: Word Problems | D52: Groups | E52: Medium | F52: DS | G52: D
B53: 48 | C53: Geometry | E53: Hard | F53: DS | G53: C
B56: Question No. | C56: Category | D56: Sub Category | E56: Difficulty | F56: Type | G56: Correct Answer
B57: 1 | C57: Logical Structure | F57: RC | G57: E
B58: 2 | C58: Main Idea | F58: RC | G58: C
B59: 3 | C59: Inference | F59: RC | G59: B
B60: 4 | C60: Inference | F60: RC | G60: A
B61: 5 | C61: Inference | F61: RC | G61: D
B62: 6 | C62: Main Idea | F62: RC | G62: C
B63: 7 | C63: Evaluation | F63: RC | G63: A
B64: 8 | C64: Application | F64: RC | G64: A
B65: 9 | C65: Inference | F65: RC | G65: B
B66: 10 | C66: Inference | F66: RC | G66: A
B67: 11 | C67: Inference | F67: RC | G67: B
B68: 12 | C68: Main Idea | F68: RC | G68: D
... B74: 18 | C74: Evaluation of a Plan | F74: CR | G74: B
B75: 19 | C75: Argument Construction | D75: Strengthen | F75: CR | G75: E
B76: 20 | C76: Argument Evaluation | D76: Weaken | F76: CR | G76: C
B77: 21 | C77: Argument Evaluation | D77: Additional Evidence | F77: CR | G77: A
B78: 22 | C78: Evaluation of a Plan | F78: CR | G78: B
B79: 23 | C79: Argument Evaluation | D79: Weaken | F79: CR | G79: A
B80: 24 | C80: Argument Construction | D80: Must be True | F80: CR | G80: C
B81: 25 | C81: Argument Evaluation | D81: Strengthen, Weaken | E81: Hard | F81: CR | G81: B
B82: 26 | C82: Argument Evaluation | D82: Weaken | F82: CR | G82: D
B83: 27 | C83: Argument Construction | D83: Finish the passage | E83: Hard | F83: CR | G83: D
B84: 28 | C84: Argument Construction | D84: Assumption | F84: CR | G84: E
B85: 29 | C85: Evaluation of a Plan | F85: CR | G85: B
B86: 30 | C86: Argument Evaluation | D86: Weaken | F86: CR | G86: C
B87: 31 | C87: Argument Construction | D87: Must be True | F87: CR | G87: A
B88: 32 | C88: Argument Evaluation | D88: Strengthen | F88: CR | G88: C
B89: 33 | C89: Argument Construction | D89: Resolve Paradox | F89: CR | G89: C
B90: 34 | C90: Argument Evaluation | D90: Weaken | F90: CR | G90: E
B91: 35 | C91: Comparison-contrast | D91: Modifiers | F91: SC | G91: D
B92: 36 | C92: Logical Predication | D92: Modifiers | F92: SC | G92: B
B93: 37 | C93: Comparison | D93: Sentence Structure | F93: SC | G93: B
B94: 38 | C94: Grammatical Construction | D94: Parallel Structure | F94: SC | G94: E
B95: 39 | C95: Idiom | D95: Verb Form | F95: SC | G95: B
B96: 40 | C96: Parallel Structure | D96: Modifiers | F96: SC | G96: A
B97: 41 | C97: Parallel Structure | D97: Idiom | F97: SC | G97: E
... B108: 52 | C108: Parallel Structure | D108: Like/As | F108: SC | G108: E

Sheet PS - OG12
B1: For the latest edition of this spreadsheet visit: http://gmatclub.com/forum/guide-to-the-gmat-official-guide-12th-edition-85956.html
B2: Section: Problem Solving
B5: Difficulty | C5: Question No. | D5: Category | E5: Sub-Category | F5: OA | G5: GC Category | H5: GC Sub-Category | I5: Long Solution
B6: EASY EASY | C6: 1 | D6: Arithmetic | E6: Operations with rational numbers | F6: A | G6: Word Problem | H6: Rate
C7: 2* | D7: Algebra | E7: First-degree equations | F7: B
C8: 3 | D8: Arithmetic | E8: Properties of numbers | F8: C
C9: 4 | D9: Geometry | E9: Area | F9: E
C10: 5* | D10: Arithmetic | E10: Statistics | F10: C
C11: 6 | D11: Algebra | E11: Simplifying algebraic expressions | F11: C
C12: 7 | D12: Arithmetic | E12: Properties of numbers | F12: B
C13: 8 | D13: Algebra | E13: Applied problems | F13: E | G13: Word Problem | H13: Rate
C14: 9 | D14: Arithmetic; Algebra | E14: Interpretation of graphs; Second-degree equations | F14: E | G14: Coordinate Geometry
C15: 10 | D15: Arithmetic | E15: Percents | F15: D
C16: 11 | D16: Arithmetic | E16: Operations on radical expressions | F16: E
C17: 12 | D17: Arithmetic | E17: Probability | F17: A
C18: 13* | D18: Algebra | E18: First-degree equations | F18: C | G18: Word Problem | H18: Rate
C19: 14 | D19: Arithmetic | E19: Statistics | F19: A
C20: 15 | D20: Arithmetic | E20: Operations on rational numbers | F20: B | G20: Arithmetic | H20: Powers
C21: 16 | D21: Geometry | E21: Volume | F21: D
C22: 17 | D22: Arithmetic | E22: Operations on rational numbers; Percents | F22: D | G22: Word Problem | H22: Rate
C23: 18* | D23: Geometry | E23: Quadrilaterals | F23: E
C24: 19 | D24: Arithmetic | E24: Percents | F24: E
C25: 20 | D25: Arithmetic | E25: Operations on rational numbers | F25: A
C26: 21 | D26: Arithmetic | E26: Operations on rational numbers | F26: B | G26: Word Problem | H26: Rate
C27: 22 | D27: Arithmetic | E27: Properties of numbers | F27: A
C28: 23* | D28: Arithmetic | E28: Properties of numbers | F28: B | I28: Yes
C29: 24* | D29: Arithmetic | E29: Operations with rational numbers | F29: D | G29: Arithmetic | H29: Fractions
C30: 25 | D30: Geometry | E30: Coordinate geometry | F30: E
C31: 26 | D31: Algebra | E31: First-degree equations | F31: B
C32: 27* | D32: Arithmetic | E32: Statistics | F32: E
C33: 28* | D33: Arithmetic | E33: Measurement conversion | F33: B
C34: 29 | D34: Arithmetic | E34: Properties of numbers | F34: C
C35: 30 | D35: Arithmetic | E35: Interpretation of graphs and tables | F35: B
C36: 31 | D36: Algebra | E36: First-degree equations | F36: B
C37: 32 | D37: Arithmetic | E37: Operations on radical expressions | F37: B
C38: 33 | D38: Geometry | E38: Circles and area | F38: C
C39: 34 | D39: Algebra | E39: Applied problems | F39: A
C40: 35 | D40: Arithmetic | E40: Operations on rational numbers | F40: B
C41: 36 | D41: Arithmetic | E41: Operations on rational numbers | F41: A
C42: 37* | D42: Arithmetic | E42: Operations with rational numbers | F42: A | G42: Arithmetic | H42: Fractions
C43: 38 | D43: Algebra | E43: First-degree equations | F43: B | G43: Arithmetic | H43: Fractions
C44: 39 | D44: Geometry | E44: Coordinate geometry | F44: B
C45: 40* | D45: Arithmetic | E45: Properties of integers | F45: C
C46: 41 | D46: Algebra | E46: Second-degree equations | F46: A
C47: 42* | D47: Algebra | E47: Simplifying algebraic expressions | F47: E | G47: Special Operations
C48: 43* | D48: Arithmetic | E48: Operations with rational numbers | F48: B | G48: Arithmetic | H48: Fractions
C49: 44 | D49: Algebra | E49: Simultaneous equations | F49: D
C50: 45* | D50: Arithmetic | E50: Operations with rational numbers | F50: B | G50: Arithmetic | H50: Fractions
C51: 46 | D51: Arithmetic | E51: Operations on rational numbers | F51: C | G51: Arithmetic | H51: Powers
C52: 47 | D52: Arithmetic | E52: Percents | F52: C | G52: Word Problem | H52: Percents
C53: 48* | D53: Geometry | E53: Angle measure in degrees; Triangles | F53: C
C54: 49 | D54: Algebra | E54: Inequalities | F54: B
C55: 50* | D55: Arithmetic | E55: Absolute value; Operations with integers | F55: B
C56: 51 | D56: Arithmetic | E56: Operations with radical expressions | F56: C
C57: 52 | D57: Algebra | E57: Applied problems | F57: E | G57: Word Problem | H57: Ratios
C58: 53 | D58: Geometry | E58: Angle measure in degrees | F58: E
C59: 54* | D59: Arithmetic | E59: Operations with radical expressions | F59: A
C60: 55 | D60: Arithmetic | E60: Percents | F60: E | G60: Word Problem | H60: Ratios
C61: 56 | D61: Arithmetic | E61: Estimation | F61: B
C62: 57 | D62: Arithmetic | E62: Statistics | F62: A
C63: 58* | D63: Algebra | E63: First-degree equations | F63: B
C64: 59* | D64: Algebra | E64: System of equations | F64: D | G64: Word Problem | H64: Rate
C65: 60* | D65: Arithmetic | E65: Percents | F65: D | G65: Word Problem | H65: Percents
C66: 61 | D66: Algebra | E66: Applied problems | F66: E | G66: Word Problem | H66: Mixtures
C67: 62 | D67: Geometry | E67: Polygons | F67: A
C68: 63 | D68: Arithmetic | E68: Applied problems | F68: A
C69: 64 | D69: Arithmetic | E69: Percents | F69: B | G69: Word Problem | H69: Percents
C70: 65* | D70: Algebra | E70: First-degree equations; Operations with integers | F70: B | G70: Word Problem | H70: Rate
C71: 66* | D71: Arithmetic | E71: Ratio and proportions | F71: E | G71: Word Problem | H71: Ratios
C72: 67 | D72: Arithmetic; Algebra | E72: Probability; Concepts of sets | F72: B
C73: 68* | D73: Algebra | E73: Simplifying algebraic expressions | F73: D | G73: Word Problem
C74: 69* | D74: Arithmetic | E74: Interpretation of graphs and tables; Statistics | F74: C
C75: 70 | D75: Algebra | E75: First-degree equations | F75: C
C76: 71 | D76: Algebra | E76: Inequalities | F76: A
C77: 72 | D77: Arithmetic | E77: Properties of numbers | F77: B | G77: Word Problem | H77: Min/Max
C78: 73* | D78: Arithmetic | E78: Order | F78: D
C79: 74* | D79: Algebra | E79: Simplifying algebraic expressions | F79: D | G79: Word Problem | H79: Ratios
C80: 75 | D80: Arithmetic | E80: Operations on rational numbers | F80: E | G80: Word Problem | H80: Min/Max
C81: 76 | D81: Algebra | E81: Applied problems | F81: D | G81: Word Problem | H81: Ratios
C82: 77 | D82: Algebra | E82: Simultaneous equations; Applied problems | F82: D | G82: Word Problem | H82: Ratios
B83: MEDIUM MEDIUM | C83: 78 | D83: Arithmetic | E83: Operations with rational numbers | F83: C | G83: Word Problem | H83: Percents
C84: 79* | D84: Arithmetic | E84: Operations with rational numbers | F84: A | G84: Arithmetic | H84: Fractions
C85: 80 | D85: Algebra | E85: Applied problems | F85: B | G85: Word Problem | H85: Work
C86: 81* | D86: Arithmetic | E86: Operations with rational numbers; Second-degree equations | F86: A | G86: Word Problem | H86: Rate
C87: 82* | D87: Arithmetic | E87: Properties of numbers | F87: A | I87: Yes
C88: 83* | D88: Arithmetic | E88: Applied problems | F88: C | G88: Word Problem | H88: Profit/Loss
C89: 84 | D89: Algebra | E89: Factoring and Simplifying algebraic expressions | F89: A | G89: Word Problem | H89: Profit/Loss
C90: 85 | D90: Algebra | E90: First-degree equations | F90: A | G90: Arithmetic | H90: Sequences
C91: 86 | D91: Arithmetic | E91: Operations on rational numbers | F91: A | G91: Word Problem | H91: Work
C92: 87 | D92: Algebra | E92: Applied problems | F92: E | G92: Word Problem
C93: 88 | D93: Geometry | E93: Simple coordinate geometry | F93: D
C94: 89* | D94: Arithmetic | E94: Operations with rational numbers | F94: D | G94: Arithmetic | H94: Fractions
C95: 90* | D95: Algebra | E95: System of equations | F95: E | G95: Word Problem | H95: Rate
C96: 91* | D96: Algebra | E96: System of equations | F96: B | G96: Word Problem | H96: Profit/Loss
C97: 92* | D97: Arithmetic | E97: Percents | F97: C | G97: Word Problem | H97: Percents
C98: 93 | D98: Arithmetic | E98: Statistics | F98: B
C99: 94 | D99: Arithmetic; Algebra | E99: Percents; Applied problems | F99: B | G99: Word Problem | H99: Overlapping Sets
C100: 95 | D100: Arithmetic | E100: Operations on rational numbers | F100: E
C101: 96 | D101: Algebra | E101: Applied problems | F101: D | G101: Word Problem | H101: Mixtures
C102: 97 | D102: Algebra | E102: Second-degree equations; Simultaneous equations | F102: B
...

Sheet DS - OG12
B1: For the latest edition of this spreadsheet visit: http://gmatclub.com/forum/guide-to-the-gmat-official-guide-12th-edition-85956.html
B2: Section: Data Sufficiency
B5: Difficulty | C5: Question No. | D5: Category | E5: Sub-Category | F5: Correct Answer | G5: GC Category | H5: GC Sub-Category | I5: Long Solution
B6: EASY EASY | C6: 1 | D6: Arithmetic | E6: Absolute Value | F6: B
C7: 2 | D7: Arithmetic | E7: Percents | F7: E
C8: 3 | D8: Arithmetic | E8: Probability | F8: A
C9: 4* | D9: Arithmetic | E9: Sets (Venn diagrams) | F9: E
C10: 5 | D10: Geometry | E10: Lines | F10: E
C11: 6 | D11: Arithmetic | E11: Properties of Numbers | F11: D
C12: 7* | D12: Arithmetic | E12: Percents | F12: A
C13: 8* | D13: Algebra | E13: Simultaneous Equations | F13: C | G13: Word Problem | H13: Rate
C14: 9* | D14: Arithmetic | E14: Operations with Rational Numbers | F14: A | G14: Word Problem | H14: Ratios
C15: 10 | D15: Arithmetic | E15: Work Problems | F15: B | G15: Word Problem | H15: Work
C16: 11 | D16: Arithmetic | E16: Properties of Numbers | F16: A
C17: 12 | D17: Arithmetic | E17: Properties of Numbers | F17: B
C18: 13* | D18: Algebra | E18: First Degree Equations | F18: D | G18: Word Problem
C19: 14* | D19: Arithmetic | E19: Rate Problem | F19: C | G19: Word Problem | H19: Rate
C20: 15 | D20: Algebra | E20: First and Second Degree Equations | F20: B
C21: 16 | D21: Arithmetic | E21: Properties of Numbers | F21: A
C22: 17* | D22: Arithmetic | E22: Properties of Numbers | F22: D
C23: 18* | D23: Geometry | E23: Volume | F23: B
C24: 19* | D24: Arithmetic | E24: Series and Sequences | F24: C | G24: Arithmetic | H24: Sequences
C25: 20 | D25: Geometry | E25: Triangles | F25: A
C26: 21* | D26: Arithmetic | E26: Percents | F26: E | G26: Word Problem | H26: Overlapping Sets
C27: 22* | D27: Arithmetic | E27: Rate Problem | F27: E | G27: Word Problem | H27: Rate
C28: 23 | D28: Arithmetic | E28: Arithmetic Operations, Proportions | F28: B | G28: Word Problem | H28: Min/Max
C29: 24* | D29: Arithmetic | E29: Properties of Numbers | F29: D
C30: 25* | D30: Arithmetic | E30: Operations with Rational Numbers | F30: D | G30: Word Problem | H30: Rate
C31: 26* | D31: Algebra | E31: Formulas | F31: D | G31: Word Problem | H31: Rate
C32: 27* | D32: Arithmetic | E32: Operations with Rational Numbers | F32: D | G32: Word Problem | H32: Ratios
C33: 28* | D33: Arithmetic | E33: Statistics | F33: E
C34: 29 | D34: Geometry | E34: Surface Area | F34: E
C35: 30 | D35: Arithmetic | E35: First and Second Degree Equations | F35: B
C36: 31* | D36: Arithmetic | E36: Rounding, Place Value | F36: B
C37: 32* | D37: Arithmetic | E37: Applied Problems | F37: E | G37: Word Problem | H37: Min/Max
C38: 33* | D38: Algebra | E38: Applied Problems | F38: C | G38: Word Problem | H38: Profit/Loss
C39: 34 | D39: Geometry | E39: Circles | F39: D
C40: 35 | D40: Algebra | E40: First and Second Degree Equations | F40: D
C41: 36* | D41: Algebra | E41: Functions | F41: B
C42: 37* | D42: Algebra | E42: Percents | F42: A | G42: Word Problem | H42: Percents
C43: 38* | D43: Algebra | E43: Ratios | F43: C | G43: Word Problem | H43: Ratios
C44: 39* | D44: Algebra | E44: First Degree Equations | F44: D | G44: Word Problem | H44: Ratios
C45: 40 | D45: Arithmetic | E45: Tables | F45: B
C46: 41 | D46: Arithmetic | E46: Properties of Numbers | F46: E
C47: 42* | D47: Geometry | E47: Circles | F47: A
C48: 43 | D48: Arithmetic | E48: Properties of Numbers | F48: E
C49: 44* | D49: Algebra | E49: Ratios | F49: C | G49: Word Problem | H49: Rate
C50: 45* | D50: Algebra | E50: Series and Sequences | F50: D | G50: Arithmetic | H50: Sequences
C51: 46* | D51: Arithmetic | E51: Place Value | F51: B
C52: 47 | D52: Arithmetic | E52: Arithmetic Operations | F52: A
C53: 48* | D53: Arithmetic | E53: Ratios | F53: C | G53: Word Problem | H53: Percents
C54: 49* | D54: Algebra | E54: Inequalities | F54: B
C55: 50 | D55: Algebra | E55: Sets | F55: C
C56: 51 | D56: Algebra | E56: Inequalities | F56: B
C57: 52* | D57: Algebra | E57: Applied Problems | F57: B | G57: Word Problem | H57: Profit/Loss
C58: 53* | D58: Arithmetic | E58: Statistics | F58: A
C59: 54* | D59: Arithmetic | E59: Applied Problems | F59: C
C60: 55* | D60: Arithmetic | E60: Percents | F60: E | G60: Word Problem | H60: Percents | I60: Yes
C61: 56 | D61: Geometry | E61: Triangles | F61: A
C62: 57* | D62: Arithmetic | E62: Operations with Integers | F62: D
C63: 58* | D63: Algebra | E63: Ratios | F63: E | G63: Word Problem | H63: Ratios
B64: MEDIUM MEDIUM | C64: 59* | D64: Arithmetic | E64: Operations with Rational Numbers | F64: E | G64: Word Problem | H64: Overlapping Sets
C65: 60 | D65: Algebra | E65: First and Second Degree Equations | F65: D
C66: 61 | D66: Arithmetic | E66: Percents | F66: C | G66: Word Problem | H66: Percents
C67: 62* | D67: Algebra | E67: First Degree Equations | F67: D | G67: Word Problem | H67: Rate
C68: 63* | D68: Arithmetic | E68: Percents | F68: C | G68: Word Problem | H68: Percents
C69: 64 | D69: Arithmetic | E69: Rounding | F69: B
C70: 65 | D70: Arithmetic | E70: Properties of Numbers | F70: D
C71: 66* | D71: Algebra | E71: Exponents | F71: C
C72: 67* | D72: Arithmetic | E72: Sets | F72: D | G72: Word Problem | H72: Overlapping Sets
C73: 68* | D73: Algebra | E73: Applied Problems | F73: A | G73: Word Problem | H73: Work
C74: 69* | D74: Algebra | E74: Order | F74: A | I74: Yes
C75: 70* | D75: Algebra | E75: Simultaneous Equations | F75: D | G75: Word Problem | I75: Yes
C76: 71 | D76: Arithmetic | E76: Arithmetic Operations | F76: C | G76: Word Problem | H76: Rate
C77: 72 | D77: Algebra | E77: Inequalities | F77: A
C78: 73 | D78: Algebra | E78: Properties of Numbers | F78: B | G78: Arithmetic | H78: Number Properties
C79: 74 | D79: Geometry | E79: Triangles | F79: A
C80: 75* | D80: Arithmetic | E80: Coordinate Geometry | F80: A
C81: 76* | D81: Arithmetic | E81: Properties of Numbers | F81: E
C82: 77* | D82: Algebra | E82: Applied Problems | F82: D | G82: Word Problem | H82: Profit/Loss
C83: 78* | D83: Algebra | E83: Applied Problems | F83: C | G83: Word Problem | H83: Percents | I83: Yes
C84: 79* | D84: Algebra | E84: Applied Problems | F84: E | G84: Word Problem | H84: Rate | I84: Yes
C85: 80* | D85: Algebra | E85: Ratios | F85: D
C86: 81* | D86: Arithmetic | E86: Statistics | F86: C
C87: 82* | D87: Arithmetic | E87: Properties of Numbers | F87: B
C88: 83 | D88: Algebra | E88: first and Second Degree Equations | F88: C
C89: 84 | D89: Arithmetic | E89: Statistics | F89: D
C90: 85 | D90: Algebra | E90: Simultaneous Equations | F90: A | G90: Word Problem | H90: Ratios
C91: 86 | D91: Algebra | E91: Sets and Functions | F91: A | G91: Word Problem | H91: Min/Max
C92: 87* | D92: Algebra | E92: Applied Problems | F92: E | G92: Word Problem | H92: Rate
C93: 88* | D93: Arithmetic | E93: Applied Problems | F93: B | G93: Word Problem | H93: Percents
C94: 89* | D94: Arithmetic | E94: Sets | F94: C | G94: Word Problem | H94: Overlapping Sets
C95: 90* | D95: Arithmetic | E95: Properties of Numbers | F95: A
C96: 91 | D96: Geometry | E96: Lines | F96: E
C97: 92 | D97: Arithmetic | E97: Percents | F97: A | G97: Word Problem | H97: Overlapping Sets
C98: 93* | D98: Arithmetic | E98: Properties of Numbers | F98: D | G98: Statistics
C99: 94* | D99: Algebra | E99: Coordinate Geometry | F99: A
C100: 95 | D100: Arithmetic | E100: Properties of Numbers | F100: E
C101: 96 | D101: Geometry | E101: Circles | F101: A
C102: 97* | D102: Arithmetic | E102: Properties of Numbers | F102: A
...

Sheet RC - OG12
B1: For the latest edition of this spreadsheet visit: http://gmatclub.com/forum/guide-to-the-gmat-official-guide-12th-edition-85956.html
B2: Section: Reading Comprehension
B5: Difficulty | C5: Question No. | D5: Passage No. | E5: Category | F5: Correct Answer | G5: Passage Title | H5: Passage Category | I5: Lines
B6: EASY EASY | C6: 1* | D6: 1 | E6: Main Idea | F6: C | G6: Ecoefficiency | H6: Social Science | I6: 32
C7: 2* | E7: Supporting Ideas | F7: D
C8: 3* | E8: Inference | F8: B
C9: 4 | D9: 2 | E9: Main Idea | F9: E | G9: Predator-Prey Dynamics in the Late Pleistocene Era | H9: Science | I9: 29
C10: 5 | E10: Supporting Ideas | F10: B
C11: 6 | E11: Supporting Ideas | F11: D
C12: 7 | E12: Logical Structure | F12: D
C13: 8 | E13: Logical Structure | F13: A
C14: 9 | D14: 3 | E14: Main Idea | F14: B | G14: Archeology | H14: Humanities | I14: 61
C15: 10 | E15: Inference | F15: E
C16: 11 | E16: Supporting Ideas | F16: E
C17: 12 | D17: 4 | E17: Main Idea | F17: D | G17: Beta Format for VCRs | H17: Business | I17: 30
C18: 13 | E18: Supporting Ideas | F18: E
C19: 14 | E19: Supporting Ideas | F19: D
C20: 15 | E20: Inference | F20: D
C21: 16 | E21: Application | F21: C
C22: 17 | E22: Logical Structure | F22: A
C23: 18* | D23: 5 | E23: Application | F23: B | G23: Gravity and Cardiovascular Systems | H23: Science | I23: 46
C24: 19* | E24: Supporting Ideas | F24: B
C25: 20* | E25: Inference | F25: B
C26: 21* | E26: Evaluation | F26: A
C27: 22* | E27: Inference | F27: D
C28: 23* | E28: Inference | F28: E
C29: 24* | E29: Evaluation | F29: D
C30: 25* | E30: Main Idea | F30: A
C31: 26 | D31: 6 | E31: Main Idea | F31: E | G31: Economic Development Strategy | H31: Business | I31: 33
C32: 27 | E32: Inference | F32: C
C33: 28 | E33: Tone | F33: C
C34: 29 | E34: Supporting Ideas | F34: C
C35: 30 | E35: Supporting Ideas | F35: E
C36: 31 | D36: 7 | E36: Main Idea | F36: C | G36: Services in the US Economy | H36: Humanities | I36: 30
C37: 32 | E37: Inference | F37: B
C38: 33 | E38: Inference | F38: A
C39: 34 | E39: Supporting Ideas | F39: C
C40: 35 | E40: Logical Structure | F40: B
C41: 36* | D41: 8 | E41: Main Idea | F41: C | G41: Current Feminist Theory | H41: Social Science | I41: 29
C42: 37* | E42: Supporting Ideas | F42: B
C43: 38* | E43: Application | F43: D
C44: 39* | E44: Evaluation | F44: B
C45: 40* | E45: Inference | F45: E
C46: 41* | E46: Supporting Ideas | F46: C
C47: 42 | D47: 9 | E47: Main Idea | F47: C | G47: Asian American Studies | H47: Humanities | I47: 30
C48: 43 | E48: Logical Structure | F48: D
C49: 44 | E49: Inference | F49: D
C50: 45 | E50: Inference | F50: A
C51: 46 | E51: Supporting Ideas | F51: E
B52: MEDIUM MEDIUM | C52: 47 | D52: 10 | E52: Inference | F52: B | G52: Segregation of Labor | H52: Humanities | I52: 31
C53: 48 | E53: Logical Structure | F53: A
C54: 49 | E54: Logical Structure | F54: A
C55: 50 | D55: 11 | E55: Main Idea | F55: C | G55: Temporary Employment | H55: Social Science | I55: 31
C56: 51 | E56: Supporting Ideas | F56: B
C57: 52 | E57: Inference | F57: E
C58: 53 | E58: Inference | F58: E
C59: 54 | E59: Application | F59: A
C60: 55 | E60: Logical Structure | F60: A
C61: 56 | E61: Supporting Ideas | F61: D
C62: 57* | D62: 12 | E62: Supporting Ideas | F62: D | G62: Winters Doctrine | H62: Social Science | I62: 45
C63: 58* | E63: Inference | F63: C
C64: 59* | E64: Inference | F64: B
C65: 60* | E65: Supporting Ideas | F65: A
C66: 61* | E66: Evaluation | F66: A
C67: 62* | E67: Main Idea | F67: B
C68: 63* | E68: Inference | F68: E
C69: 64 | D69: 13 | E69: Main Idea | F69: B | G69: Internationalization | H69: Social Science | I69: 47
C70: 65 | E70: Inference | F70: D
C71: 66 | E71: Logical Structure | F71: E
C72: 67 | E72: Supporting Ideas | F72: D
C73: 68 | E73: Inference | F73: D
C74: 69 | E74: Inference | F74: B
C75: 70 | D75: 14 | E75: Main Idea | F75: D | G75: Ice Age | H75: Science | I75: 60
C76: 71 | E76: Application | F76: D
C77: 72 | E77: Inference | F77: B
C78: 73 | E78: Supporting Ideas | F78: C
C79: 74 | E79: Inference | F79: B
C80: 75 | E80: Inference | F80: E
C81: 76* | D81: 15 | E81: Main Idea | F81: D | G81: History of the United States Women | H81: Humanities | I81: 32
C82: 77* | E82: Evaluation | F82: E
C83: 78* | E83: Supporting Ideas | F83: B
C84: 79* | E84: Supporting Ideas | F84: D
C85: 80* | E85: Inference | F85: C
C86: 81* | E86: Inference | F86: C
C87: 82 | D87: 16 | E87: Main Idea | F87: E | G87: Brain and Metabolic Processes | H87: Science | I87: 46
C88: 83 | E88: Supporting Ideas | F88: A
C89: 84 | E89: Supporting Ideas | F89: E
C90: 85 | E90: Supporting Ideas | F90: C
C91: 86 | E91: Supporting Ideas | F91: B
C92: 87 | E92: Logical Structure | F92: C
C93: 88 | E93: Supporting Ideas | F93: D
C94: 89 | E94: Inference | F94: A
C95: 90 | E95: Inference | F95: A
C96: 91 | D96: 17 | E96: Main Idea | F96: A | G96: Political Role of Women | H96: Humanities | I96: 31
C97: 92 | E97: Supporting Ideas | F97: A
B98: HARD HARD | C98: 93 | E98: Inference | F98: D
C99: 94 | E99: Inference | F99: C
C100: 95 | E100: Inference | F100: E
C101: 96 | E101: Inference | F101: B
C102: 97 | D102: 18 | E102: Supporting Ideas | F102: D | G102: Management Theory | H102: Social Science | I102: 60
...

Sheet CR - OG12
A1: For the latest edition of this spreadsheet visit: http://gmatclub.com/forum/guide-to-the-gmat-official-guide-12th-edition-85956.html
B2: Section: Critical Reasoning
B5: Difficulty | C5: Question No. | D5: OG Category | E5: GC Category | F5: Correct Answer
B6: EASY EASY | C6: 1 | D6: Argument Evaluation | E6: Weaken | F6: B
C7: 2* | D7: Evaluation of a Plan | E7: Assumption | F7: C
C8: 3 | D8: Argument Evaluation | E8: Argument Evaluation | F8: A
C9: 4* | D9: Evaluation of a Plan | E9: Logical Flaw | F9: D
C10: 5 | D10: Evaluation of a Plan | E10: Inference | F10: D
C11: 6 | D11: Evaluation of a Plan | E11: Evaluation of a Plan | F11: E
C12: 7* | D12: Evaluation of a Plan | E12: Assumption | F12: A
C13: 8 | D13: Argument Construction | E13: Resolve Paradox | F13: A
C14: 9* | D14: Evaluation of a Plan | E14: Evaluation of a Plan | F14: B
C15: 10 | D15: Argument Evaluation | E15: Weaken | F15: D
C16: 11 | D16: Argument Construction | E16: Additional Evidence | F16: E
C17: 12* | D17: Evaluation of a Plan | E17: Evaluation of a Plan | F17: A
C18: 13 | D18: Argument Evaluation | E18: Additional Evidence | F18: E
C19: 14* | D19: Evaluation of a Plan | E19: Resolve Paradox | F19: A
C20: 15 | D20: Argument Evaluation | E20: Weaken | F20: D
C21: 16 | D21: Argument Construction | E21: Complete the Passage | F21: B
C22: 17* | D22: Argument Construction | E22: Bold Face CR | F22: E
C23: 18 | D23: Argument Construction | E23: Resolve Paradox | F23: C
C24: 19* | D24: Argument Evaluation | E24: Argument Evaluation | F24: E
C25: 20 | D25: Argument Construction | E25: Assumption | F25: D
C26: 21 | D26: Argument Evaluation | E26: Strengthen | F26: B
C27: 22* | D27: Evaluation of a Plan | E27: Evaluation of a Plan | F27: C
C28: 23 | D28: Argument Evaluation | E28: Weaken | F28: D
C29: 24* | D29: Argument Construction | E29: Additional Evidence | F29: C
C30: 25 | D30: Argument Evaluation | E30: Strengthen | F30: A
C31: 26 | D31: Argument Construction | E31: Conclusion | F31: C
C32: 27* | D32: Argument Evaluation | E32: Assumption | F32: B
C33: 28 | D33: Argument Construction | E33: Assumption | F33: C
C34: 29* | D34: Argument Construction | E34: Bold Face CR | F34: A
C35: 30 | D35: Argument Evaluation | E35: Weaken | F35: E
C36: 31 | D36: Argument Construction | E36: Inference | F36: C
C37: 32* | D37: Evaluation of a Plan | E37: Strengthen | F37: C
C38: 33 | D38: Argument Construction | E38: Must Be True | F38: C
C39: 34* | D39: Argument Construction | E39: Complete the Passage | F39: D
C40: 35 | D40: Argument Evaluation | E40: Weaken | F40: B
C41: 36 | D41: Argument Evaluation | E41: Weaken | F41: A
C42: 37* | D42: Argument Construction | E42: Argument Construction | F42: D
C43: 38 | D43: Argument Construction | E43: Complete the Passage | F43: B
C44: 39* | D44: Argument Evaluation | E44: Argument Evaluation | F44: E
C45: 40 | D45: Argument Evaluation | E45: Weaken | F45: E
C46: 41 | D46: Argument Construction | E46: Complete the Passage | F46: C
B47: MEDIUM MEDIUM | C47: 42* | D47: Argument Construction | E47: Strengthen | F47: D
C48: 43 | D48: Argument Construction | E48: Assumption | F48: D
C49: 44* | D49: Evaluation of a Plan | E49: Evaluation of a Plan | F49: C
C50: 45 | D50: Argument Evaluation | E50: Weaken | F50: A
C51: 46 | D51: Argument Construction | E51: Additional Evidence | F51: A
C52: 47* | D52: Argument Construction | E52: Complete the Passage | F52: A
C53: 48 | D53: Argument Construction | E53: Assumption | F53: C
C54: 49* | D54: Argument Evaluation | E54: Argument Evaluation | F54: C
C55: 50 | D55: Argument Construction | E55: Assumption | F55: C
C56: 51 | D56: Argument Evaluation | E56: Strengthen | F56: B
C57: 52* | D57: Argument Evaluation | E57: Logical Flaw | F57: D
C58: 53 | D58: Argument Evaluation | E58: Additional Evidence | F58: B
C59: 54* | D59: Argument Construction | E59: Argument Construction | F59: B
C60: 55 | D60: Evaluation of a Plan | E60: Evaluation of a Plan | F60: A
C61: 56 | D61: Argument Construction | E61: Must Be True | F61: C
C62: 57* | D62: Argument Construction | E62: Complete the Passage | F62: D
C63: 58 | D63: Argument Construction | E63: Additional Evidence | F63: E
C64: 59* | D64: Argument Construction | E64: Resolve Paradox | F64: E
C65: 60 | D65: Argument Evaluation | E65: Weaken | F65: D
C66: 61 | D66: Argument Evaluation | E66: Inference | F66: A
C67: 62* | D67: Argument Construction | E67: Resolve Paradox | F67: D
C68: 63 | D68: Argument Evaluation | E68: Weaken | F68: A
C69: 64* | D69: Argument Evaluation | E69: Bold Face CR | F69: C
C70: 65 | D70: Argument Evaluation | E70: Strengthen | F70: B
C71: 66 | D71: Argument Construction | E71: Conclusion | F71: A
C72: 67* | D72: Argument Evaluation | E72: Strengthen | F72: E
C73: 68 | D73: Evaluation of a Plan | E73: Evaluation of a Plan | F73: E
C74: 69* | D74: Argument Evaluation | E74: Argument Evaluation | F74: D
C75: 70 | D75: Argument Construction | E75: Conclusion | F75: B
C76: 71 | D76: Argument Construction | E76: Assumption | F76: B
C77: 72* | D77: Argument Evaluation | E77: Argument Evaluation | F77: C
C78: 73 | D78: Argument Evaluation | E78: Weaken | F78: D
C79: 74* | D79: Argument Evaluation | E79: Argument Evaluation | F79: D
C80: 75 | D80: Argument Evaluation | E80: Weaken | F80: D
C81: 76 | D81: Argument Construction | E81: Assumption | F81: D
C82: 77* | D82: Argument Evaluation | E82: Bold Face CR | F82: D
C83: 78 | D83: Argument Construction | E83: Assumption | F83: B
C84: 79* | D84: Argument Evaluation | E84: Bold Face CR | F84: D
C85: 80 | D85: Argument Evaluation | E85: Resolve Paradox | F85: A
C86: 81 | D86: Argument Evaluation | E86: Weaken | F86: B
C87: 82* | D87: Argument Evaluation | E87: Strengthen | F87: D
B88: HARD HARD | C88: 83 | D88: Argument Evaluation | E88: Weaken | F88: E
C89: 84* | D89: Argument Construction | E89: Assumption | F89: E
C90: 85 | D90: Argument Evaluation | E90: Argument Evaluation | F90: C
C91: 86 | D91: Argument Construction | E91: Argument Construction | F91: C
C92: 87* | D92: Argument Evaluation | E92: Weaken | F92: C
C93: 88 | D93: Evaluation of a Plan | E93: Evaluation of a Plan | F93: A
C94: 89* | D94: Argument Evaluation | E94: Bold Face CR | F94: A
C95: 90 | D95: Evaluation of a Plan | E95: Evaluation of a Plan | F95: D
C96: 91 | D96: Argument Construction | E96: Conclusion | F96: E
C97: 92* | D97: Argument Evaluation | E97: Resolve Paradox | F97: C
C98: 93 | D98: Argument Construction | E98: Assumption | F98: D
C99: 94* | D99: Argument Evaluation | E99: Strengthen | F99: B
C100: 95 | D100: Argument Construction | E100: Assumption | F100: D
C101: 96 | D101: Evaluation of a Plan | E101: Evaluation of a Plan | F101: E
C102: 97* | D102: Argument Evaluation | E102: Bold Face CR | F102: B
...

Sheet SC - OG12
B1: For the latest edition of this spreadsheet visit: http://gmatclub.com/forum/guide-to-the-gmat-official-guide-12th-edition-85956.html
B2: Section: Sentence Correction
B5: Difficulty | C5: Question No. | D5: OG Category | E5: OG Sub-Category | F5: GC Category | G5: GC Sub-Category | H5: Correct Answer | I5: 2 Correct Choices | J5: Long
B6: EASY EASY | C6: 1* | D6: Agreement | E6: Rhetorical Construction | F6: Verb Voice | G6: Pronouns | H6: D
C7: 2 | D7: Agreement | E7: Rhetorical Construction | F7: Subject Verb Agreement | G7: Rhetorical Construction | H7: D
C8: 3* | D8: Verb Form | E8: Rhetorical Construction | F8: Verb Tense / Form | G8: Rhetorical Construction | H8: E
C9: 4 | D9: Idiom | E9: Verb Form | F9: Idiom | G9: Comparisons | H9: E
C10: 5 | D10: Agreement | E10: Logical Predication | F10: Subject Verb Agreement | G10: Modifiers | H10: A
C11: 6* | D11: Agreement | E11: Parallelism | F11: Pronouns | G11: Parallel Structure | H11: E
C12: 7 | D12: Agreement | E12: Rhetorical Construction | F12: Pronouns | G12: Rhetorical Construction | H12: E
C13: 8* | D13: Logical Predication | E13: Verb Form | F13: Verb Tense / Form | G13: Modifiers | H13: A
C14: 9 | D14: Logical Predication | F14: Comparisons | H14: E
C15: 10 | D15: Verb Form | E15: Rhetorical Construction | F15: Which / That | G15: Verb Tense | H15: B
C16: 11* | D16: Parallelism | E16: Verb Form | F16: Parallel Structure | G16: Verb Tense | H16: D
C17: 12 | D17: Diction | E17: Agreement | F17: Subject Verb Agreement | G17: Diction | H17: E
C18: 13* | D18: Agreement | E18: Grammatical Construction | F18: Subject Verb Agreement | G18: Grammatical Construction | H18: A
C19: 14 | D19: Logical Predication | E19: Parallelism | F19: Parallel Structure | G19: Modifiers | H19: A
C20: 15 | D20: Parallelism | E20: Grammatical Construction | F20: Parallel Structure | G20: Idiom | H20: E
C21: 16* | D21: Verb Form | E21: Logical Predication | F21: Verb Tense / Form | G21: Style | H21: B | I21: Yes
C22: 17 | D22: Idiom | E22: Logical Predication | F22: Idiom | H22: D
C23: 18* | D23: Logical Predication | E23: Grammatical Construction | F23: Comparisons | G23: Grammatical Construction | H23: C
C24: 19 | D24: Grammatical Construction | E24: Verb Form | F24: Comparisons | G24: Modifiers | H24: D
C25: 20 | D25: Idiom | E25: Logical Predication | F25: Idiom | G25: Parallel Structure | H25: E
C26: 21* | D26: Grammatical Construction | E26: Logical Predication | F26: Grammatical Construction | G26: Subject Verb Agreement | H26: A
C27: 22 | D27: Grammatical Construction | E27: Parallelism | F27: Verb Tense / Form | G27: Parallel Structure | H27: D
C28: 23* | D28: Verb Form | E28: Grammatical Construction | F28: Verb Tense / Form | G28: Pronouns | H28: C
C29: 24 | D29: Diction | E29: Rhetorical Construction | F29: Diction | G29: Style | H29: E
C30: 25 | D30: Logical Predication | E30: Rhetorical Construction | F30: Modifiers | G30: Style | H30: E
C31: 26* | D31: Parallelism | E31: Grammatical Construction | F31: Parallel Structure | G31: Subject Verb Agreement | H31: E
C32: 27 | D32: Idiom | E32: Agreement | F32: Idiom | G32: Subject Verb Agreement | H32: D
C33: 28* | D33: Diction | E33: Parallelism | F33: Parallel Structure | G33: Such As / Like | H33: B
C34: 29 | D34: Parallelism | F34: Parallel Structure | H34: C
C35: 30 | D35: Logical Predication | E35: Rhetorical Construction | F35: Modifiers | G35: Style | H35: C | I35: Yes
C36: 31* | D36: Rhetorical Construction | E36: Idiom | F36: Comparisons | G36: Idiom | H36: D
C37: 32 | D37: Idiom | E37: Parallelism | F37: Idiom | G37: Parallel Structure | H37: B
C38: 33* | D38: Agreement | E38: Rhetorical Construction | F38: Subject Verb Agreement | G38: Style | H38: A
C39: 34 | D39: Idiom | E39: Verb Form | F39: Idiom | G39: Style | H39: B
C40: 35 | D40: Grammatical Construction | E40: Agreement | F40: Such As / Like | G40: Subject Verb Agreement | H40: C
C41: 36* | D41: Parallelism | E41: Logical Predication | F41: Verb Voice | G41: Parallel Structure | H41: A
C42: 37 | D42: Idiom | F42: Idiom | G42: Style | H42: A
C43: 38* | D43: Parallelism | E43: Rhetorical Construction | F43: Style | G43: Parallel Structure | H43: E
C44: 39 | D44: Grammatical Construction | E44: Idiom | F44: Idiom | H44: D
C45: 40 | D45: Diction | E45: Idiom | F45: Diction | G45: Idiom | H45: E
C46: 41* | D46: Verb Form | E46: Logical Predication | F46: Comparisons | G46: Verb Tense | H46: D
C47: 42 | D47: Parallelism | E47: Verb Form | F47: Parallel Structure | G47: Verb Tense | H47: A
C48: 43* | D48: Logical Predication | E48: Grammatical Construction | F48: Comparisons | G48: Pronouns | H48: E
C49: 44 | D49: Idiom | E49: Rhetorical Construction | F49: Idiom | H49: C
C50: 45 | D50: Grammatical Construction | F50: Grammatical Construction | H50: B
C51: 46* | D51: Idiom | E51: Parallelism | F51: Idiom | G51: Parallel Structure | H51: B
B52: MEDIUM MEDIUM | C52: 47 | D52: Verb Form | E52: Grammatical Construction | F52: Verb Tense / Form | G52: Pronouns | H52: A | I52: Yes
C53: 48* | D53: Logical Predication | E53: Grammatical Construction | F53: Subject Verb Agreement | G53: Grammatical Construction | H53: B
C54: 49 | D54: Rhetorical Construction | E54: Idiom | F54: Idiom | G54: Style | H54: D
C55: 50 | D55: Grammatical Construction | E55: Rhetorical Construction | F55: Which / That | G55: Grammatical Construction | H55: A
C56: 51* | D56: Rhetorical Construction | E56: Parallelism | F56: Parallel Structure | G56: Diction | H56: B
C57: 52 | D57: Rhetorical Construction | E57: Parallelism | F57: Style | G57: Parallel Structure | H57: D
C58: 53* | D58: Parallelism | E58: Rhetorical Construction | F58: Parallel Structure | H58: A
C59: 54 | D59: Grammatical Construction | E59: Parallelism | F59: Parallel Structure | G59: Style | H59: E
C60: 55 | D60: Rhetorical Construction | E60: Logical Predication | F60: Punctuation | G60: Parallel Structure | H60: B
C61: 56* | D61: Logical Predication | E61: Parallelism | F61: Parallel Structure | G61: Modifiers | H61: E | I61: Yes
C62: 57 | D62: Grammatical Construction | E62: Rhetorical Construction | F62: Grammatical Construction | H62: D
C63: 58* | D63: Idiom | E63: Logical Predication | F63: Modifiers | G63: Idiom | H63: E
C64: 59 | D64: Idiom | E64: Rhetorical Construction | F64: Conjunctions | G64: Style | H64: D
C65: 60 | D65: Agreement | E65: Grammatical Construction | F65: Subject Verb Agreement | G65: Punctuation | H65: E
C66: 61* | D66: Logical Predication | E66: Rhetorical Construction | F66: Modifiers | H66: A
C67: 62 | D67: Idiom | E67: Parallelism | F67: Idiom | G67: Verb Voice | H67: E
C68: 63* | D68: Rhetorical Construction | E68: Verb Form | F68: Parallel Structure | G68: Verb Tense / Form | H68: B
C69: 64 | D69: Verb Form | E69: Logical Predication | F69: Parallel Structure | G69: Idiom | H69: A
C70: 65 | D70: Parallelism | E70: Idiom | F70: Idiom | G70: Parallel Structure | H70: C
C71: 66* | D71: Rhetorical Construction | E71: Agreement | F71: Subject Verb Agreement | G71: Style | H71: A
C72: 67 | D72: Rhetorical Construction | E72: Verb Form | F72: Verb Tense / Form | H72: B
C73: 68* | D73: Rhetorical Construction | E73: Agreement | F73: Subject Verb Agreement | G73: Style | H73: E
C74: 69 | D74: Diction | E74: Verb Form | F74: Verb Tense / Form | G74: Diction | H74: E | I74: Yes
C75: 70 | D75: Verb Form | E75: Rhetorical Construction | F75: Verb Tense / Form | G75: Style | H75: B
C76: 71* | D76: Grammatical Construction | E76: Logical Predication | F76: Which / That | G76: Modifiers | H76: D
C77: 72 | D77: Diction | E77: Parallelism | F77: Idiom | G77: Parallel Structure | H77: A
C78: 73* | D78: Verb Form | E78: Diction | F78: Verb Tense / Form | G78: Diction | H78: B
C79: 74 | D79: Verb Form | E79: Idiom | F79: Verb Tense / Form | H79: D
C80: 75 | D80: Logical Predication | E80: Diction | F80: Verb Tense / Form | H80: C
C81: 76* | D81: Rhetorical Construction | E81: Parallelism | F81: Style | G81: Parallel Structure | H81: D
C82: 77 | D82: Parallelism | E82: Agreement | F82: Parallel Structure | G82: Pronouns | H82: E
C83: 78* | D83: Agreement | E83: Logical Predication | F83: Pronouns | G83: Subject Verb Agreement | H83: D
C84: 79 | D84: Logical Predication | E84: Idiom | F84: Modifiers | G84: Idiom | H84: B
C85: 80 | D85: Diction | E85: Agreement | F85: Nouns | H85: E
C86: 81* | D86: Parallelism | E86: Diction | F86: Parallel Structure | G86: Idiom | H86: C
C87: 82 | D87: Parallelism | F87: Parallel Structure | H87: E
C88: 83* | D88: Rhetorical Construction | E88: Idiom | F88: Parallel Structure | G88: Idiom | H88: B
C89: 84 | D89: Grammatical Construction | E89: Idiom | F89: Subject Verb Agreement | H89: B
C90: 85 | D90: Verb Form | E90: Agreement | F90: Verb Tense / Form | G90: Pronouns | H90: A
C91: 86* | D91: Verb Form | E91: Agreement | F91: Verb Tense / Form | G91: Conjunctions | H91: C
C92: 87 | D92: Verb Form | F92: Verb Tense / Form | H92: C
C93: 88* | D93: Grammatical Construction | E93: Rhetorical Construction | F93: Style | H93: D
C94: 89 | D94: Logical Predication | E94: Parallelism | F94: Comparisons | G94: Parallel Structure | H94: B
C95: 90 | D95: Verb Form | E95: Parallelism | F95: Parallel Structure | G95: Verb Tense / Form | H95: B
C96: 91* | D96: Agreement | E96: Idiom | F96: Subject Verb Agreement | G96: Pronouns | H96: A
C97: 92 | D97: Grammatical Construction | F97: Grammatical Construction | G97: Punctuation | H97: B
B98: HARD HARD | C98: 93* | D98: Rhetorical Construction | E98: Idiom | F98: Parallel Structure | G98: Comparisons | H98: A
C99: 94 | D99: Parallelism | E99: Diction | F99: Parallel Structure | G99: Diction | H99: E | I99: Yes
C100: 95 | D100: Agreement | F100: Subject Verb Agreement | H100: C
C101: 96* | D101: Diction | E101: Idiom | F101: Diction | G101: Idiom | H101: C
C102: 97 | D102: Logical Predication | F102: Comparisons | H102: C
...

Sheet Error Log
B2: Error Log
B6: Sr. No. | C6: Verbal/Quant | D6: Section | E6: Q. No. | F6: Answer | G6: Result
B7: 1 | C7: Verbal | D7: CR | E7: 1 | F7: B | G7: =IF(F7="","NA",IF(F7='CR - OG12'!F6,"Correct","Incorrect")) -> Correct
B8: 2 | C8: Verbal | D8: CR | E8: 2 | F8: C | G8: =IF(F8="","NA",IF(F8='CR - OG12'!F7,"Correct","Incorrect")) -> Correct
B9: 3 | C9: Verbal | D9: CR | E9: 3 | F9: A | G9: =IF(F9="","NA",IF(F9='CR - OG12'!F8,"Correct","Incorrect")) -> Correct
B10: 4 | C10: Verbal | D10: CR | E10: 4 | F10: D | G10: =IF(F10="","NA",IF(F10='CR - OG12'!F9,"Correct","Incorrect")) -> Correct
B11: 5 | C11: Verbal | D11: CR | E11: 5 | F11: D | G11: =IF(F11="","NA",IF(F11='CR - OG12'!F10,"Correct","Incorrect")) -> Correct
B12: 6 | C12: Verbal | D12: CR | E12: 6 | F12: E | G12: =IF(F12="","NA",IF(F12='CR - OG12'!F11,"Correct","Incorrect")) -> Correct
B13: 7 | C13: Verbal | D13: CR | E13: 7 | F13: A | G13: =IF(F13="","NA",IF(F13='CR - OG12'!F12,"Correct","Incorrect")) -> Correct
B14: 8 | C14: Verbal | D14: CR | E14: 8 | F14: A | G14: =IF(F14="","NA",IF(F14='CR - OG12'!F13,"Correct","Incorrect")) -> Correct
B15: 9 | C15: Verbal | D15: CR | E15: 9 | F15: A | G15: =IF(F15="","NA",IF(F15='CR - OG12'!F14,"Correct","Incorrect")) -> Incorrect
B16: 10 | C16: Verbal | D16: CR | E16: 10 | F16: A | G16: =IF(F16="","NA",IF(F16='CR - OG12'!F15,"Correct","Incorrect")) -> Incorrect
B17: 11 | C17: Verbal | D17: CR | E17: 11 | F17: A | G17: =IF(F17="","NA",IF(F17='CR - OG12'!F16,"Correct","Incorrect")) -> Incorrect
B18: 12 | C18: Verbal | D18: CR | E18: 12 | F18: A | G18: =IF(F18="","NA",IF(F18='CR - OG12'!F17,"Correct","Incorrect")) -> Correct
... B99: 93 | C99: Verbal | D99: CR | E99: 93 | F99: A | G99: =IF(F99="","NA",IF(F99='CR - OG12'!F98,"Correct","Incorrect")) -> Incorrect
B100: 94 | C100: Verbal | D100: CR | E100: 94 | G100: =IF(F100="","NA",IF(F100='CR - OG12'!F99,"Correct","Incorrect")) -> NA
B101: 95 | C101: Verbal | D101: CR | E101: 95 | G101: =IF(F101="","NA",IF(F101='CR - OG12'!F100,"Correct","Incorrect")) -> NA
B102: 96 | C102: Verbal | D102: CR | E102: 96 | G102: =IF(F102="","NA",IF(F102='CR - OG12'!F101,"Correct","Incorrect")) -> NA
B103: 97 | C103: Verbal | D103: CR | E103: 97 | G103: =IF(F103="","NA",IF(F103='CR - OG12'!F102,"Correct","Incorrect")) -> NA
B104: 98 | C104: Verbal | D104: CR | E104: 98 | G104: =IF(F104="","NA",IF(F104='CR - OG12'!F103,"Correct","Incorrect")) -> NA
B105: 99 | C105: Verbal | D105: CR | E105: 99 | G105: =IF(F105="","NA",IF(F105='CR - OG12'!F104,"Correct","Incorrect")) -> NA
B106: 100 | C106: Verbal | D106: CR | E106: 100 | G106: =IF(F106="","NA",IF(F106='CR - OG12'!F105,"Correct","Incorrect")) -> NA
B107: 101 | C107: Verbal | D107: CR | E107: 101 | G107: =IF(F107="","NA",IF(F107='CR - OG12'!F106,"Correct","Incorrect")) -> NA
B108: 102 | C108: Verbal | D108: CR | E108: 102 | F108: A | G108: =IF(F108="","NA",IF(F108='CR - OG12'!F107,"Correct","Incorrect")) -> Incorrect
B109: 103 | C109: Verbal | D109: CR | E109: 103 | F109: A | G109: =IF(F109="","NA",IF(F109='CR - OG12'!F108,"Correct","Incorrect")) -> Incorrect
B110: 104 | C110: Verbal | D110: CR | E110: 104 | F110: A | G110: =IF(F110="","NA",IF(F110='CR - OG12'!F109,"Correct","Incorrect")) -> Incorrect
B111: 105 | C111: Verbal | D111: CR | E111: 105 | F111: A | G111: =IF(F111="","NA",IF(F111='CR - OG12'!F110,"Correct","Incorrect")) -> Incorrect
B112: 106 | C112: Verbal | D112: CR | E112: 106 | F112: A | G112: =IF(F112="","NA",IF(F112='CR - OG12'!F111,"Correct","Incorrect")) -> Correct
B113: 107 | C113: Verbal | D113: CR | E113: 107 | F113: A | G113: =IF(F113="","NA",IF(F113='CR - OG12'!F112,"Correct","Incorrect")) -> Incorrect
B114: 108 | C114: Verbal | D114: CR | E114: 108 | F114: A | G114: =IF(F114="","NA",IF(F114='CR - OG12'!F113,"Correct","Incorrect")) -> Incorrect
B115: 109 | C115: Verbal | D115: CR | E115: 109 | F115: A | G115: =IF(F115="","NA",IF(F115='CR - OG12'!F114,"Correct","Incorrect")) -> Correct
B116: 110 | C116: Verbal | D116: CR | E116: 110 | F116: A | G116: =IF(F116="","NA",IF(F116='CR - OG12'!F115,"Correct","Incorrect")) -> Incorrect
B117: 111 | C117: Verbal | D117: CR | E117: 111 | F117: A | G117: =IF(F117="","NA",IF(F117='CR - OG12'!F116,"Correct","Incorrect")) -> Incorrect
B118: 112 | C118: Verbal | D118: CR | E118: 112 | F118: A | G118: =IF(F118="","NA",IF(F118='CR - OG12'!F117,"Correct","Incorrect")) -> Incorrect
B119: 113 | C119: Verbal | D119: CR | E119: 113 | F119: A | G119: =IF(F119="","NA",IF(F119='CR - OG12'!F118,"Correct","Incorrect")) -> Incorrect
... B130: 124 | C130: Verbal | D130: CR | E130: 124 | F130: A | G130: =IF(F130="","NA",IF(F130='CR - OG12'!F129,"Correct","Incorrect")) -> Incorrect
B131: 125 | C131: Verbal | D131: SC | E131: 1 | F131: A | G131: =IF(F131="","NA",IF(F131='SC - OG12'!H6,"Correct","Incorrect")) -> Incorrect
B132: 126 | C132: Verbal | D132: SC | E132: 2 | F132: A | G132: =IF(F132="","NA",IF(F132='SC - OG12'!H7,"Correct","Incorrect")) -> Incorrect
B133: 127 | C133: Verbal | D133: SC | E133: 3 | F133: A | G133: =IF(F133="","NA",IF(F133='SC - OG12'!H8,"Correct","Incorrect")) -> Incorrect
B134: 128 | C134: Verbal | D134: SC | E134: 4 | F134: A | G134: =IF(F134="","NA",IF(F134='SC - OG12'!H9,"Correct","Incorrect")) -> Incorrect
B135: 129 | C135: Verbal | D135: SC | E135: 5 | F135: A | G135: =IF(F135="","NA",IF(F135='SC - OG12'!H10,"Correct","Incorrect")) -> Correct
B136: 130 | C136: Verbal | D136: SC | E136: 6 | F136: A | G136: =IF(F136="","NA",IF(F136='SC - OG12'!H11,"Correct","Incorrect")) -> Incorrect
B137: 131 | C137: Verbal | D137: SC | E137: 7 | F137: A | G137: =IF(F137="","NA",IF(F137='SC - OG12'!H12,"Correct","Incorrect")) -> Incorrect
B138: 132 | C138: Verbal | D138: SC | E138: 8 | F138: A | G138: =IF(F138="","NA",IF(F138='SC - OG12'!H13,"Correct","Incorrect")) -> Correct
B139: 133 | C139: Verbal | D139: SC | E139: 9 | F139: A | G139: =IF(F139="","NA",IF(F139='SC - OG12'!H14,"Correct","Incorrect")) -> Incorrect
B140: 134 | C140: Verbal | D140: SC | E140: 10 | F140: A | G140: =IF(F140="","NA",IF(F140='SC - OG12'!H15,"Correct","Incorrect")) -> Incorrect
B141: 135 | C141: Verbal | D141: SC | E141: 11 | F141: A | G141: =IF(F141="","NA",IF(F141='SC - OG12'!H16,"Correct","Incorrect")) -> Incorrect
B142: 136 | C142: Verbal | D142: SC | E142: 12 | F142: A | G142: =IF(F142="","NA",IF(F142='SC - OG12'!H17,"Correct","Incorrect")) -> Incorrect
... B233: 227 | C233: Verbal | D233: SC | E233: 103 | F233: A | G233: =IF(F233="","NA",IF(F233='SC - OG12'!H108,"Correct","Incorrect")) -> Incorrect
B234: 228 | C234: Verbal | D234: SC | E234: 104 | G234: =IF(F234="","NA",IF(F234='SC - OG12'!H109,"Correct","Incorrect")) -> NA
B235: 229 | C235: Verbal | D235: SC | E235: 105 | G235: =IF(F235="","NA",IF(F235='SC - OG12'!H110,"Correct","Incorrect")) -> NA
B236: 230 | C236: Verbal | D236: SC | E236: 106 | G236: =IF(F236="","NA",IF(F236='SC - OG12'!H111,"Correct","Incorrect")) -> NA
B237: 231 | C237: Verbal | D237: SC | E237: 107 | G237: =IF(F237="","NA",IF(F237='SC - OG12'!H112,"Correct","Incorrect")) -> NA
B238: 232 | C238: Verbal | D238: SC | E238: 108 | F238: A | G238: =IF(F238="","NA",IF(F238='SC - OG12'!H113,"Correct","Incorrect")) -> Correct
B239: 233 | C239: Verbal | D239: SC | E239: 109 | F239: A | G239: =IF(F239="","NA",IF(F239='SC - OG12'!H114,"Correct","Incorrect")) -> Correct
B240: 234 | C240: Verbal | D240: SC | E240: 110 | F240: A | G240: =IF(F240="","NA",IF(F240='SC - OG12'!H115,"Correct","Incorrect")) -> Incorrect
B241: 235 | C241: Verbal | D241: SC | E241: 111 | F241: A | G241: =IF(F241="","NA",IF(F241='SC - OG12'!H116,"Correct","Incorrect")) -> Incorrect
B242: 236 | C242: Verbal | D242: SC | E242: 112 | F242: A | G242: =IF(F242="","NA",IF(F242='SC - OG12'!H117,"Correct","Incorrect")) -> Incorrect
B243: 237 | C243: Verbal | D243: SC | E243: 113 | F243: A | G243: =IF(F243="","NA",IF(F243='SC - OG12'!H118,"Correct","Incorrect")) -> Incorrect
B244: 238 | C244: Verbal | D244: SC | E244: 114 | F244: A | G244: =IF(F244="","NA",IF(F244='SC - OG12'!H119,"Correct","Incorrect")) -> Incorrect
B245: 239 | C245: Verbal | D245: SC | E245: 115 | F245: A | G245: =IF(F245="","NA",IF(F245='SC - OG12'!H120,"Correct","Incorrect")) -> Incorrect
B246: 240 | C246: Verbal | D246: SC | E246: 116 | F246: A | G246: =IF(F246="","NA",IF(F246='SC - OG12'!H121,"Correct","Incorrect")) -> Incorrect
B247: 241 | C247: Verbal | D247: SC | E247: 117 | F247: A | G247: =IF(F247="","NA",IF(F247='SC - OG12'!H122,"Correct","Incorrect")) -> Incorrect
B248: 242 | C248: Verbal | D248: SC | E248: 118 | F248: A | G248: =IF(F248="","NA",IF(F248='SC - OG12'!H123,"Correct","Incorrect")) -> Incorrect
B249: 243 | C249: Verbal | D249: SC | E249: 119 | F249: A | G249: =IF(F249="","NA",IF(F249='SC - OG12'!H124,"Correct","Incorrect")) -> Incorrect
... B270: 264 | C270: Verbal | D270: SC | E270: 140 | F270: A | G270: =IF(F270="","NA",IF(F270='SC - OG12'!H145,"Correct","Incorrect")) -> Incorrect
B271: 265 | C271: Verbal | D271: RC | E271: 1 | F271: A | G271: =IF(F271="","NA",IF(F271='RC - OG12'!F6,"Correct","Incorrect")) -> Incorrect
B272: 266 | C272: Verbal | D272: RC | E272: 2 | F272: A | G272: =IF(F272="","NA",IF(F272='RC - OG12'!F7,"Correct","Incorrect")) -> Incorrect
B273: 267 | C273: Verbal | D273: RC | E273: 3 | F273: A | G273: =IF(F273="","NA",IF(F273='RC - OG12'!F8,"Correct","Incorrect")) -> Incorrect
B274: 268 | C274: Verbal | D274: RC | E274: 4 | F274: A | G274: =IF(F274="","NA",IF(F274='RC - OG12'!F9,"Correct","Incorrect")) -> Incorrect
B275: 269 | C275: Verbal | D275: RC | E275: 5 | F275: A | G275: =IF(F275="","NA",IF(F275='RC - OG12'!F10,"Correct","Incorrect")) -> Incorrect
B276: 270 | C276: Verbal | D276: RC | E276: 6 | F276: A | G276: =IF(F276="","NA",IF(F276='RC - OG12'!F11,"Correct","Incorrect")) -> Incorrect
B277: 271 | C277: Verbal | D277: RC | E277: 7 | F277: A | G277: =IF(F277="","NA",IF(F277='RC - OG12'!F12,"Correct","Incorrect")) -> Incorrect
B278: 272 | C278: Verbal | D278: RC | E278: 8 | F278: A | G278: =IF(F278="","NA",IF(F278='RC - OG12'!F13,"Correct","Incorrect")) -> Correct
B279: 273 | C279: Verbal | D279: RC | E279: 9 | F279: A | G279: =IF(F279="","NA",IF(F279='RC - OG12'!F14,"Correct","Incorrect")) -> Incorrect
B280: 274 | C280: Verbal | D280: RC | E280: 10 | F280: A | G280: =IF(F280="","NA",IF(F280='RC - OG12'!F15,"Correct","Incorrect")) -> Incorrect
B281: 275 | C281: Verbal | D281: RC | E281: 11 | F281: A | G281: =IF(F281="","NA",IF(F281='RC - OG12'!F16,"Correct","Incorrect")) -> Incorrect
B282: 276 | C282: Verbal | D282: RC | E282: 12 | F282: A | G282: =IF(F282="","NA",IF(F282='RC - OG12'!F17,"Correct","Incorrect")) -> Incorrect
... B331: 325 | C331: Verbal | D331: RC | E331: 61 | F331: A | G331: =IF(F331="","NA",IF(F331='RC - OG12'!F66,"Correct","Incorrect")) -> Correct
B332: 326 | C332: Verbal | D332: RC | E332: 62 | G332: =IF(F332="","NA",IF(F332='RC - OG12'!F67,"Correct","Incorrect")) -> NA
B333: 327 | C333: Verbal | D333: RC | E333: 63 | G333: =IF(F333="","NA",IF(F333='RC - OG12'!F68,"Correct","Incorrect")) -> NA
B334: 328 | C334: Verbal | D334: RC | E334: 64 | G334: =IF(F334="","NA",IF(F334='RC - OG12'!F69,"Correct","Incorrect")) -> NA
B335: 329 | C335: Verbal | D335: RC | E335: 65 | G335: =IF(F335="","NA",IF(F335='RC - OG12'!F70,"Correct","Incorrect")) -> NA
B336: 330 | C336: Verbal | D336: RC | E336: 66 | F336: A | G336: =IF(F336="","NA",IF(F336='RC - OG12'!F71,"Correct","Incorrect")) -> Incorrect
B337: 331 | C337: Verbal | D337: RC | E337: 67 | F337: A | G337: =IF(F337="","NA",IF(F337='RC - OG12'!F72,"Correct","Incorrect")) -> Incorrect
B338: 332 | C338: Verbal | D338: RC | E338: 68 | F338: A | G338: =IF(F338="","NA",IF(F338='RC - OG12'!F73,"Correct","Incorrect")) -> Incorrect
B339: 333 | C339: Verbal | D339: RC | E339: 69 | F339: A | G339: =IF(F339="","NA",IF(F339='RC - OG12'!F74,"Correct","Incorrect")) -> Incorrect
B340: 334 | C340: Verbal | D340: RC | E340: 70 | F340: A | G340: =IF(F340="","NA",IF(F340='RC - OG12'!F75,"Correct","Incorrect")) -> Incorrect
B341: 335 | C341: Verbal | D341: RC | E341: 71 | F341: A | G341: =IF(F341="","NA",IF(F341='RC - OG12'!F76,"Correct","Incorrect")) -> Incorrect
B342: 336 | C342: Verbal | D342: RC | E342: 72 | F342: A | G342: =IF(F342="","NA",IF(F342='RC - OG12'!F77,"Correct","Incorrect")) -> Incorrect
B343: 337 | C343: Verbal | D343: RC | E343: 73 | F343: A | G343: =IF(F343="","NA",IF(F343='RC - OG12'!F78,"Correct","Incorrect")) -> Incorrect
B344: 338 | C344: Verbal | D344: RC | E344: 74 | F344: A | G344: =IF(F344="","NA",IF(F344='RC - OG12'!F79,"Correct","Incorrect")) -> Incorrect
B345: 339 | C345: Verbal | D345: RC | E345: 75 | F345: A | G345: =IF(F345="","NA",IF(F345='RC - OG12'!F80,"Correct","Incorrect")) -> Incorrect
B346: 340 | C346: Verbal | D346: RC | E346: 76 | F346: A | G346: =IF(F346="","NA",IF(F346='RC - OG12'!F81,"Correct","Incorrect")) -> Incorrect
B347: 341 | C347: Verbal | D347: RC | E347: 77 | F347: A | G347: =IF(F347="","NA",IF(F347='RC - OG12'!F82,"Correct","Incorrect")) -> Incorrect
... B409: 403 | C409: Verbal | D409: RC | E409: 139 | F409: A | G409: =IF(F409="","NA",IF(F409='RC - OG12'!F144,"Correct","Incorrect")) -> Incorrect
B410: 404 | C410: Quant | D410: PS | E410: 1 | G410: =IF(F410="","NA",IF(F410='PS - OG12'!F6,"Correct","Incorrect")) -> NA
B411: 405 | C411: Quant | D411: PS | E411: 2 | G411: =IF(F411="","NA",IF(F411='PS - OG12'!F7,"Correct","Incorrect")) -> NA
B412: 406 | C412: Quant | D412: PS | E412: 3 | G412: =IF(F412="","NA",IF(F412='PS - OG12'!F8,"Correct","Incorrect")) -> NA
B413: 407 | C413: Quant | D413: PS | E413: 4 | G413: =IF(F413="","NA",IF(F413='PS - OG12'!F9,"Correct","Incorrect")) -> NA
...

Sheet Analysis
B4: Count | D4: Result
B5: Section | C5: Sub-Section | D5: Correct | E5: Incorrect | F5: NA | G5: Grand Total
B6: Quant | C6: DS | D6: 39 | E6: 135 | G6: 174
C7: PS | D7: 36 | E7: 190 | F7: 4 | G7: 230
B8: Quant Total | D8: 75 | E8: 325 | F8: 4 | G8: 404
B9: Verbal | C9: CR | D9: 25 | E9: 91 | F9: 8 | G9: 124
C10: RC | D10: 26 | E10: 109 | F10: 4 | G10: 139
C11: SC | D11: 26 | E11: 110 | F11: 4 | G11: 140
B12: Verbal Total | D12: 77 | E12: 310 | F12: 16 | G12: 403
B13: Grand Total | D13: 152 | E13: 635 | F13: 20 | G13: 807
