Workbook

Sheet Prep Summary
D2: PS | F2: DS | H2: RC | J2: CR | L2: SC | N2: Quant | P2: Verbal | R2: Total
B3: Aggregate | D3: =SUM(D6,D8,D10) -> 76.9 | E3: =SUM(E6,E8,E10) -> 396.8 | F3: =SUM(F6,F8,F10) -> 18.1 | G3: =SUM(G6,G8,G10) -> 84.2 | H3: =SUM(H6,H8,H10) -> 22 | I3: =SUM(I6,I8,I10) -> 24 | J3: =SUM(J6,J8,J10) -> 66 | K3: =SUM(K6,K8,K10) -> 77 | ... M3: =SUM(M6,M8,M10) -> 229 | N3: =SUM(D3,F3) -> 95 | O3: =SUM(E3,G3) -> 481 | P3: =SUM(H3,J3,L3) -> 111 | Q3: =SUM(I3,K3,M3) -> 330 | R3: =SUM(N3,P3) -> 206 | S3: =SUM(O3,Q3) -> 811
C4: % | D4: =IFERROR(D3/E3,"") -> 0.1938004 | F4: =IFERROR(F3/G3,"") -> 0.21496437 | H4: =IFERROR(H3/I3,"") -> 0.91666667 | J4: =IFERROR(J3/K3,"") -> 0.85714286 | L4: =IFERROR(L3/M3,"") -> 0.10043668 | N4: =IFERROR(N3/O3,"") -> 0.1975052 | P4: =IFERROR(P3/Q3,"") -> 0.33636364 | R4: =IFERROR(R3/S3,"") -> 0.2540074
B6: CATs | D6: =CATs!N12 -> 31 | E6: =CATs!M12 -> 44 | F6: =CATs!Q12 -> 13 | G6: =CATs!P12 -> 30 | H6: =CATs!T12 -> 22 | I6: =CATs!S12 -> 24 | J6: =CATs!W12 -> 20 | K6: =CATs!V12 -> 28 | L6: =CATs!Z12 -> 23 | M6: =CATs!Y12 -> 30 | N6: =SUM(D6,F6) -> 44 | O6: =SUM(E6,G6) -> 74 | P6: =SUM(H6,J6,L6) -> 65 | Q6: =SUM(I6,K6,M6) -> 82 | R6: =SUM(N6,P6) -> 109 | S6: =SUM(O6,Q6) -> 156
C7: % | D7: =IFERROR(D6/E6,"") -> 0.70454545 | F7: =IFERROR(F6/G6,"") -> 0.43333333 | H7: =IFERROR(H6/I6,"") -> 0.91666667 | J7: =IFERROR(J6/K6,"") -> 0.71428571 | L7: =IFERROR(L6/M6,"") -> 0.76666667 | N7: =IFERROR(N6/O6,"") -> 0.59459459 | P7: =IFERROR(P6/Q6,"") -> 0.79268293 | R7: =IFERROR(R6/S6,"") -> 0.69871795
B8: Manhattan | D8: =90%*SUM(psets!F4,psets!F20,psets!F45,psets!F53,psets!F62,psets!F75,psets!F76) -> 45.9 | E8: =90%*SUM(psets!E4,psets!E20,psets!E45,psets!E53,psets!E62,psets!E75,psets!E76) -> 352.8 | F8: =10%*SUM(psets!F4,psets!F20,psets!F45,psets!F53,psets!F62,psets!F75,psets!F76) -> 5.1 | G8: =10%*SUM(psets!E4,psets!E20,psets!E45,psets!E53,psets!E62,psets!E75,psets!E76) -> 39.2 | J8: =psets!F12 -> 46 | K8: =psets!E12 -> 49 | L8: =psets!F32 -> 0 | M8: =psets!E32 -> 184 | N8: =SUM(D8,F8) -> 51 | O8: =SUM(E8,G8) -> 392 | P8: =SUM(H8,J8,L8) -> 46 | Q8: =SUM(I8,K8,M8) -> 233 | R8: =SUM(N8,P8) -> 97 | S8: =SUM(O8,Q8) -> 625
C9: % | D9: =IFERROR(D8/E8,"") -> 0.13010204 | F9: =IFERROR(F8/G8,"") -> 0.13010204 | H9: =IFERROR(H8/I8,"") | J9: =IFERROR(J8/K8,"") -> 0.93877551 | L9: =IFERROR(L8/M8,"") -> 0 | N9: =IFERROR(N8/O8,"") -> 0.13010204 | P9: =IFERROR(P8/Q8,"") -> 0.19742489 | R9: =IFERROR(R8/S8,"") -> 0.1552
B10: OG/GMATPrep | D10: =SUM(psets!F70) -> 0 | E10: =SUM(psets!E70) -> 0 | F10: =SUM(psets!F71,psets!F78) -> 0 | G10: =SUM(psets!E71,psets!E78) -> 15 | H10: =SUM(psets!F72) -> 0 | I10: =SUM(psets!E72) -> 0 | J10: =SUM(psets!F73) -> 0 | K10: =SUM(psets!E73) -> 0 | L10: =SUM(psets!F74,psets!F81) -> 0 | M10: =SUM(psets!E74,psets!E81) -> 15 | N10: =SUM(D10,F10) -> 0 | O10: =SUM(E10,G10) -> 15 | P10: =SUM(H10,J10,L10) -> 0 | Q10: =SUM(I10,K10,M10) -> 15 | R10: =SUM(N10,P10) -> 0 | S10: =SUM(O10,Q10) -> 30
C11: % | D11: =IFERROR(D10/E10,"") | F11: =IFERROR(F10/G10,"") -> 0 | H11: =IFERROR(H10/I10,"") | J11: =IFERROR(J10/K10,"") | L11: =IFERROR(L10/M10,"") -> 0 | N11: =IFERROR(N10/O10,"") -> 0 | P11: =IFERROR(P10/Q10,"") -> 0 | R11: =IFERROR(R10/S10,"") -> 0

Sheet CATs
B2: CAT Tracking | M2: PS | P2: DS | S2: RC | V2: CR | Y2: SC | AC2: Quant | AF2: Verbal | AI2: IR
B3: Date | C3: Test | D3: AWA | E3: IR | F3: Quant | G3: %ile | H3: Verbal | I3: %ile | J3: Total | K3: %ile | M3: # | N3: Right | O3: % | P3: # | Q3: Right | R3: % | S3: # | T3: Right | U3: % | V3: # | W3: Right | X3: % | Y3: # | Z3: Right | AA3: % | AC3: # | AD3: Right | AE3: % | AF3: # | AG3: Right | AH3: % | AI3: # | AJ3: Right | AK3: %
B4: 41423 | C4: MGMAT CAT 1 | D4: n/a | E4: 5.9 | F4: 47 | G4: 73 | H4: 45 | I4: 99 | J4: 740 | K4: 97 | M4: 22 | N4: 16 | O4: =IFERROR(N4/M4,"") -> 0.72727273 | P4: 15 | Q4: 7 | R4: =IFERROR(Q4/P4,"") -> 0.46666667 | S4: 12 | T4: 11 | U4: =IFERROR(T4/S4,"") -> 0.91666667 | V4: 14 | W4: 10 | X4: =IFERROR(W4/V4,"") -> 0.71428571 | Y4: 15 | Z4: 11 | AA4: =IFERROR(Z4/Y4,"") -> 0.73333333 | AC4: =M4+P4 -> 37 | AD4: =N4+Q4 -> 23 | AE4: =IFERROR(AD4/AC4,"") -> 0.62162162 | AF4: =S4+V4+Y4 -> 41 | AG4: =T4+W4+Z4 -> 32 | AH4: =IFERROR(AG4/AF4,"") -> 0.7804878 | AI4: 12 | AJ4: 8 | AK4: =IFERROR(AJ4/AI4,"") -> 0.66666667
B5: 41431 | C5: MGMAT CAT 2 | D5: n/a | E5: 6.46 | F5: 45 | G5: 68 | H5: 44 | I5: 97 | J5: 730 | K5: 96 | M5: 22 | N5: 15 | O5: =IFERROR(N5/M5,"") -> 0.68181818 | P5: 15 | Q5: 6 | R5: =IFERROR(Q5/P5,"") -> 0.4 | S5: 12 | T5: 11 | U5: =IFERROR(T5/S5,"") -> 0.91666667 | V5: 14 | W5: 10 | X5: =IFERROR(W5/V5,"") -> 0.71428571 | Y5: 15 | Z5: 12 | AA5: =IFERROR(Z5/Y5,"") -> 0.8 | AC5: =M5+P5 -> 37 | AD5: =N5+Q5 -> 21 | AE5: =IFERROR(AD5/AC5,"") -> 0.56756757 | AF5: =S5+V5+Y5 -> 41 | AG5: =T5+W5+Z5 -> 33 | AH5: =IFERROR(AG5/AF5,"") -> 0.80487805 | AI5: 12 | AJ5: 9 | AK5: =IFERROR(AJ5/AI5,"") -> 0.75
B6: 41436 | C6: MGMAT CAT 3 | D6: n/a | E6: 5.9 | F6: 48 | G6: 78 | H6: 44 | I6: 97 | J6: 750 | K6: 98 | O6: =IFERROR(N6/M6,"") | R6: =IFERROR(Q6/P6,"") | U6: =IFERROR(T6/S6,"") | X6: =IFERROR(W6/V6,"") | AA6: =IFERROR(Z6/Y6,"") | AC6: =M6+P6 -> 0 | AD6: =N6+Q6 -> 0 | AE6: =IFERROR(AD6/AC6,"") | AF6: =S6+V6+Y6 -> 0 | AG6: =T6+W6+Z6 -> 0 | AH6: =IFERROR(AG6/AF6,"") | AK6: =IFERROR(AJ6/AI6,"")
B7: 41440 | C7: MGMAT CAT 4 | D7: n/a | E7: 7.01 | F7: 48 | G7: 78 | H7: 40 | I7: 90 | J7: 720 | K7: 94 | O7: =IFERROR(N7/M7,"") | R7: =IFERROR(Q7/P7,"") | U7: =IFERROR(T7/S7,"") | X7: =IFERROR(W7/V7,"") | AA7: =IFERROR(Z7/Y7,"") | AC7: =M7+P7 -> 0 | AD7: =N7+Q7 -> 0 | AE7: =IFERROR(AD7/AC7,"") | AF7: =S7+V7+Y7 -> 0 | AG7: =T7+W7+Z7 -> 0 | AH7: =IFERROR(AG7/AF7,"") | AK7: =IFERROR(AJ7/AI7,"")
B8: 41443 | C8: MGMAT CAT 5 | D8: n/a | E8: 8 | F8: 48 | G8: 78 | H8: 44 | I8: 97 | J8: 750 | K8: 98 | O8: =IFERROR(N8/M8,"") | R8: =IFERROR(Q8/P8,"") | U8: =IFERROR(T8/S8,"") | X8: =IFERROR(W8/V8,"") | AA8: =IFERROR(Z8/Y8,"") | AC8: =M8+P8 -> 0 | AD8: =N8+Q8 -> 0 | AE8: =IFERROR(AD8/AC8,"") | AF8: =S8+V8+Y8 -> 0 | AG8: =T8+W8+Z8 -> 0 | AH8: =IFERROR(AG8/AF8,"") | AK8: =IFERROR(AJ8/AI8,"")
B9: 41445 | C9: MGMAT CAT 6 | D9: n/a | E9: 5.83 | F9: 51 | G9: 98 | H9: 45 | I9: 99 | J9: 780 | K9: 99 | O9: =IFERROR(N9/M9,"") | R9: =IFERROR(Q9/P9,"") | U9: =IFERROR(T9/S9,"") | X9: =IFERROR(W9/V9,"") | AA9: =IFERROR(Z9/Y9,"") | AC9: =M9+P9 -> 0 | AD9: =N9+Q9 -> 0 | AE9: =IFERROR(AD9/AC9,"") | AF9: =S9+V9+Y9 -> 0 | AG9: =T9+W9+Z9 -> 0 | AH9: =IFERROR(AG9/AF9,"") | AK9: =IFERROR(AJ9/AI9,"")
B10: 41448 | C10: GMATPrep 1 | D10: n/a | E10: 8 | F10: 50 | G10: 90 | H10: 44 | I10: 97 | J10: 770 | K10: 99 | O10: =IFERROR(N10/M10,"") | R10: =IFERROR(Q10/P10,"") | U10: =IFERROR(T10/S10,"") | X10: =IFERROR(W10/V10,"") | AA10: =IFERROR(Z10/Y10,"") | AC10: =M10+P10 -> 0 | AD10: =N10+Q10 -> 0 | AE10: =IFERROR(AD10/AC10,"") | AF10: =S10+V10+Y10 -> 0 | AG10: =T10+W10+Z10 -> 0 | AH10: =IFERROR(AG10/AF10,"") | AK10: =IFERROR(AJ10/AI10,"")
B11: 41452 | C11: GMATPrep 2 | D11: n/a | E11: n/a | F11: 50 | G11: 90 | H11: 42 | I11: 96 | J11: 760 | K11: 99 | O11: =IFERROR(N11/M11,"") | R11: =IFERROR(Q11/P11,"") | U11: =IFERROR(T11/S11,"") | X11: =IFERROR(W11/V11,"") | AA11: =IFERROR(Z11/Y11,"") | AC11: =M11+P11 -> 0 | AD11: =N11+Q11 -> 0 | AE11: =IFERROR(AD11/AC11,"") | AF11: =S11+V11+Y11 -> 0 | AG11: =T11+W11+Z11 -> 0 | AH11: =IFERROR(AG11/AF11,"") | AK11: =IFERROR(AJ11/AI11,"")
B12: 41454 | C12: Real GMAT | F12: 50 | G12: 90 | H12: 45 | I12: 99 | J12: 770 | K12: 99 | M12: =SUM(M4:M11) -> 44 | N12: =SUM(N4:N11) -> 31 | O12: =IFERROR(N12/M12,"") -> 0.70454545 | P12: =SUM(P4:P11) -> 30 | Q12: =SUM(Q4:Q11) -> 13 | R12: =IFERROR(Q12/P12,"") -> 0.43333333 | S12: =SUM(S4:S11) -> 24 | T12: =SUM(T4:T11) -> 22 | U12: =IFERROR(T12/S12,"") -> 0.91666667 | V12: =SUM(V4:V11) -> 28 | W12: =SUM(W4:W11) -> 20 | X12: =IFERROR(W12/V12,"") -> 0.71428571 | Y12: =SUM(Y4:Y11) -> 30 | Z12: =SUM(Z4:Z11) -> 23 | AA12: =IFERROR(Z12/Y12,"") -> 0.76666667 | AC12: =SUM(AC4:AC11) -> 74 | AD12: =SUM(AD4:AD11) -> 44 | AE12: =IFERROR(AD12/AC12,"") -> 0.59459459 | AF12: =SUM(AF4:AF11) -> 82 | AG12: =SUM(AG4:AG11) -> 65 | AH12: =IFERROR(AG12/AF12,"") -> 0.79268293 | AI12: =SUM(AI4:AI11) -> 24 | AJ12: =SUM(AJ4:AJ11) -> 17 | AK12: =IFERROR(AJ12/AI12,"") -> 0.70833333

Sheet psets
B2: Pset Tracking
B3: Date | C3: Pset | D3: Type | E3: # Questions | F3: Right | G3: Wrong | H3: %
C4: MGMAT 5: Number Properties | D4: PS/DS | E4: =SUM(E5:E11) -> 54 | F4: =SUM(F5:F11) -> 51 | G4: =E4-F4 -> 3 | H4: =IFERROR(F4/E4,"") -> 0.94444444
B5: 41435 | C5: 1. Divisibility & Primes | D5: PS/DS | E5: 9 | F5: 9 | G5: =E5-F5 -> 0 | H5: =IFERROR(F5/E5,"") -> 1
C6: 2. O, E, +ve, -ve | D6: PS/DS | E6: 9 | F6: 9 | G6: =E6-F6 -> 0 | H6: =IFERROR(F6/E6,"") -> 1
C7: 3. Combinatorics | D7: PS/DS | E7: 6 | F7: 6 | G7: =E7-F7 -> 0 | H7: =IFERROR(F7/E7,"") -> 1
C8: 4. Probability | D8: PS/DS | E8: 5 | F8: 5 | G8: =E8-F8 -> 0 | H8: =IFERROR(F8/E8,"") -> 1
C9: 5. Number Properties Strategies | D9: PS/DS | E9: 6 | F9: 6 | G9: =E9-F9 -> 0 | H9: =IFERROR(F9/E9,"") -> 1
C10: 6. Extra Divisibility & Primes | D10: PS/DS | E10: 12 | F10: 11 | G10: =E10-F10 -> 1 | H10: =IFERROR(F10/E10,"") -> 0.91666667
C11: 7. Extra Combinatorics & Probability | D11: PS/DS | E11: 7 | F11: 5 | G11: =E11-F11 -> 2 | H11: =IFERROR(F11/E11,"") -> 0.71428571
C12: MGMAT 6: Critical Reasoning | D12: CR | E12: =SUM(E13:E19) -> 49 | F12: =SUM(F13:F19) -> 46 | G12: =E12-F12 -> 3 | H12: =IFERROR(F12/E12,"") -> 0.93877551
B13: 41437 | C13: 1. Argument Structure | D13: CR | E13: 5 | F13: 5 | G13: =E13-F13 -> 0 | H13: =IFERROR(F13/E13,"") -> 1
C14: 2. Methodology | D14: CR | E14: 5 | F14: 5 | G14: =E14-F14 -> 0 | H14: =IFERROR(F14/E14,"") -> 1
C15: 3. Structure-Based Family | D15: CR | E15: 7 | F15: 7 | G15: =E15-F15 -> 0 | H15: =IFERROR(F15/E15,"") -> 1
C16: 4. Assumptions | D16: CR | E16: 9 | F16: 8 | G16: =E16-F16 -> 1 | H16: =IFERROR(F16/E16,"") -> 0.88888889
B17: 41438 | C17: 5. Strengthen and Weaken | D17: CR | E17: 10 | F17: 9 | G17: =E17-F17 -> 1 | H17: =IFERROR(F17/E17,"") -> 0.9
B18: 41439 | C18: 6. Evidence Family | D18: CR | E18: 8 | F18: 7 | G18: =E18-F18 -> 1 | H18: =IFERROR(F18/E18,"") -> 0.875
C19: 7. Complete the Argument | D19: CR | E19: 5 | F19: 5 | G19: =E19-F19 -> 0 | H19: =IFERROR(F19/E19,"") -> 1
C20: MGMAT 2: Algebra | D20: PS/DS | E20: =SUM(E21:E31) -> 98 | F20: =SUM(F21:F31) -> 0 | G20: =E20-F20 -> 98 | H20: =IFERROR(F20/E20,"") -> 0
B21: 41438 | C21: 1. PEMDAS | D21: PS | E21: 5 | G21: =E21-F21 -> 5 | H21: =IFERROR(F21/E21,"") -> 0
C22: 2. Linear Equations | D22: PS | E22: 8 | G22: =E22-F22 -> 8 | H22: =IFERROR(F22/E22,"") -> 0
C23: 3. Exponents | D23: PS | E23: 10 | G23: =E23-F23 -> 10 | H23: =IFERROR(F23/E23,"") -> 0
C24: 4. Roots | D24: PS | E24: 13 | G24: =E24-F24 -> 13 | H24: =IFERROR(F24/E24,"") -> 0
C25: 5. Quadratic Equations | D25: PS/DS | E25: 10 | G25: =E25-F25 -> 10 | H25: =IFERROR(F25/E25,"") -> 0
B26: 41439 | C26: 6. Formulas | D26: PS | E26: 10 | G26: =E26-F26 -> 10 | H26: =IFERROR(F26/E26,"") -> 0
C27: 7. Inequalities | D27: PS/DS | E27: 10 | G27: =E27-F27 -> 10 | H27: =IFERROR(F27/E27,"") -> 0
C28: 8. Algebra Strategies | D28: PS/DS | E28: 10 | G28: =E28-F28 -> 10 | H28: =IFERROR(F28/E28,"") -> 0
C29: 9. Extra Equations Strategies | D29: PS | E29: 7 | G29: =E29-F29 -> 7 | H29: =IFERROR(F29/E29,"") -> 0
C30: 10. Extra Functions Strategies | D30: PS | E30: 10 | G30: =E30-F30 -> 10 | H30: =IFERROR(F30/E30,"") -> 0
C31: 11. Extra Inequalities Strategies | D31: PS/DS | E31: 5 | G31: =E31-F31 -> 5 | H31: =IFERROR(F31/E31,"") -> 0
C32: MGMAT 8: Sentence Correction | D32: SC | E32: =SUM(E33:E44) -> 184 | F32: =SUM(F33:F44) -> 0 | G32: =E32-F32 -> 184 | H32: =IFERROR(F32/E32,"") -> 0
B33: 41441 | C33: 2. Grammar & Meaning | D33: SC | E33: 8 | G33: =E33-F33 -> 8 | H33: =IFERROR(F33/E33,"") -> 0
C34: 3. Subject-Verb Agreement | D34: SC | E34: 15 | G34: =E34-F34 -> 15 | H34: =IFERROR(F34/E34,"") -> 0
C35: 4. Parallelism | D35: SC | E35: 15 | G35: =E35-F35 -> 15 | H35: =IFERROR(F35/E35,"") -> 0
C36: 5. Pronouns | D36: SC | E36: 15 | G36: =E36-F36 -> 15 | H36: =IFERROR(F36/E36,"") -> 0
C37: 6. Modifiers | D37: SC | E37: 15 | G37: =E37-F37 -> 15 | H37: =IFERROR(F37/E37,"") -> 0
C38: 7. Verb Tense, Mood, Voice | D38: SC | E38: 15 | G38: =E38-F38 -> 15 | H38: =IFERROR(F38/E38,"") -> 0
B39: 41442 | C39: 8. Comparisons | D39: SC | E39: 15 | G39: =E39-F39 -> 15 | H39: =IFERROR(F39/E39,"") -> 0
C40: 9. Idioms | D40: SC | E40: 15 | G40: =E40-F40 -> 15 | H40: =IFERROR(F40/E40,"") -> 0
C41: 10. Odds & Evens | D41: SC | E41: 15 | G41: =E41-F41 -> 15 | H41: =IFERROR(F41/E41,"") -> 0
B42: 41444 | C42: 11. GM/S-V/Parallelism: Extra | D42: SC | E42: 18 | G42: =E42-F42 -> 18 | H42: =IFERROR(F42/E42,"") -> 0
C43: 12. Pronouns & Modifiers: Extra | D43: SC | E43: 9 | G43: =E43-F43 -> 9 | H43: =IFERROR(F43/E43,"") -> 0
C44: 13. Verbs & Comparisons: Extra | D44: SC | E44: 29 | G44: =E44-F44 -> 29 | H44: =IFERROR(F44/E44,"") -> 0
C45: MGMAT 4: Geometry | D45: PS/DS | E45: =SUM(E46:E52) -> 62 | F45: =SUM(F46:F52) -> 0 | G45: =E45-F45 -> 62 | H45: =IFERROR(F45/E45,"") -> 0
B46: 41441 | C46: 1. Polygons | D46: PS | E46: 10 | G46: =E46-F46 -> 10 | H46: =IFERROR(F46/E46,"") -> 0
B47: 41442 | C47: 2. Triangles & Giagonals | D47: PS | E47: 10 | G47: =E47-F47 -> 10 | H47: =IFERROR(F47/E47,"") -> 0
C48: 3. Circles & Cylinders | D48: PS | E48: 8 | G48: =E48-F48 -> 8 | H48: =IFERROR(F48/E48,"") -> 0
C49: 4. Lines & Angles | D49: PS | E49: 7 | G49: =E49-F49 -> 7 | H49: =IFERROR(F49/E49,"") -> 0
C50: 5. Coordinate Plane | D50: PS | E50: 8 | G50: =E50-F50 -> 8 | H50: =IFERROR(F50/E50,"") -> 0
C51: 6. Geometry Strategies | D51: PS/DS | E51: 9 | G51: =E51-F51 -> 9 | H51: =IFERROR(F51/E51,"") -> 0
C52: 7. Extra Geometry | D52: PS | E52: 10 | G52: =E52-F52 -> 10 | H52: =IFERROR(F52/E52,"") -> 0
C53: MGMAT 3: Word Problems | D53: PS/DS | E53: =SUM(E54:E61) -> 60 | F53: =SUM(F54:F61) -> 0 | G53: =E53-F53 -> 60 | H53: =IFERROR(F53/E53,"") -> 0
B54: 41444 | C54: 1. Algebraic Translations | D54: PS/DS | E54: 9 | G54: =E54-F54 -> 9 | H54: =IFERROR(F54/E54,"") -> 0
C55: 2. Rates & Work | D55: PS/DS | E55: 8 | G55: =E55-F55 -> 8 | H55: =IFERROR(F55/E55,"") -> 0
C56: 3. Statistics | D56: PS/DS | E56: 9 | G56: =E56-F56 -> 9 | H56: =IFERROR(F56/E56,"") -> 0
B57: 41445 | C57: 4. Consecutive Integers | D57: PS | E57: 8 | G57: =E57-F57 -> 8 | H57: =IFERROR(F57/E57,"") -> 0
B58: 41446 | C58: 5. Overlapping Sets | D58: PS | E58: 8 | G58: =E58-F58 -> 8 | H58: =IFERROR(F58/E58,"") -> 0
C59: 6. Word Problem Strategies | D59: PS/DS | E59: 6 | G59: =E59-F59 -> 6 | H59: =IFERROR(F59/E59,"") -> 0
C60: 7. Extra Problem Types | D60: PS | E60: 6 | G60: =E60-F60 -> 6 | H60: =IFERROR(F60/E60,"") -> 0
C61: 8. Extra Consecutive Integers | D61: PS/DS | E61: 6 | G61: =E61-F61 -> 6 | H61: =IFERROR(F61/E61,"") -> 0
C62: MGMAT 1: Fractions, Decimals, & Percents | D62: PS/DS | E62: =SUM(E63:E69) -> 68 | F62: =SUM(F63:F69) -> 0 | G62: =E62-F62 -> 68 | H62: =IFERROR(F62/E62,"") -> 0
B63: 41446 | C63: 1. Digits & Decimals | D63: PS | E63: 8 | G63: =E63-F63 -> 8 | H63: =IFERROR(F63/E63,"") -> 0
C64: 2. Fractions | D64: PS | E64: 10 | G64: =E64-F64 -> 10 | H64: =IFERROR(F64/E64,"") -> 0
C65: 3. Percents | D65: PS | E65: 10 | G65: =E65-F65 -> 10 | H65: =IFERROR(F65/E65,"") -> 0
C66: 4. Ratios | D66: PS | E66: 7 | G66: =E66-F66 -> 7 | H66: =IFERROR(F66/E66,"") -> 0
C67: 5. FDPs | D67: PS | E67: 10 | G67: =E67-F67 -> 10 | H67: =IFERROR(F67/E67,"") -> 0
C68: 6. FDP Strategies | D68: PS/DS | E68: 9 | G68: =E68-F68 -> 9 | H68: =IFERROR(F68/E68,"") -> 0
C69: 7. Extra FDPs | D69: PS/DS | E69: 14 | G69: =E69-F69 -> 14 | H69: =IFERROR(F69/E69,"") -> 0
C70: OG 13 | D70: PS | G70: =E70-F70 -> 0 | H70: =IFERROR(F70/E70,"")
D71: DS | G71: =E71-F71 -> 0 | H71: =IFERROR(F71/E71,"")
D72: RC | G72: =E72-F72 -> 0 | H72: =IFERROR(F72/E72,"")
D73: CR | G73: =E73-F73 -> 0 | H73: =IFERROR(F73/E73,"")
D74: SC | G74: =E74-F74 -> 0 | H74: =IFERROR(F74/E74,"")
B75: 41449 | C75: MGMAT Number Properties Question Bank | D75: PS/DS | E75: 25 | G75: =E75-F75 -> 25 | H75: =IFERROR(F75/E75,"") -> 0
B76: 41450 | C76: MGMAT Geometry Question Bank | D76: PS/DS | E76: 25 | G76: =E76-F76 -> 25 | H76: =IFERROR(F76/E76,"") -> 0
C77: GMAT Prep Question Bank | D77: PS | G77: =E77-F77 -> 0 | H77: =IFERROR(F77/E77,"")
D78: DS | E78: 15 | G78: =E78-F78 -> 15 | H78: =IFERROR(F78/E78,"") -> 0
D79: RC | G79: =E79-F79 -> 0 | H79: =IFERROR(F79/E79,"")
D80: CR | G80: =E80-F80 -> 0 | H80: =IFERROR(F80/E80,"")
D81: SC | E81: 15 | G81: =E81-F81 -> 15 | H81: =IFERROR(F81/E81,"") -> 0

Sheet error log
E1: Counter | F1: RC | G1: 700 - 800 | I1: Overlapping Sets
F2: =COUNTIF(F5:F74,F1) -> 2 | G2: =COUNTIF(G5:G74,G1) -> 42 | I2: =COUNTIF(I5:I74,I1) -> 2
B3: Error Log
B4: Date | C4: CAT/Pset | D4: Q# | E4: Question Name | F4: Type | G4: Difficulty | H4: Time | I4: Content Area | J4: Nature of Error | K4: Why Did I Make the Error
B5: 41423 | C5: MGMAT CAT 1 | D5: 9 | E5: Olympic Funding 3 | F5: IR | G5: Medium | H5: 0.084722222 | I5: Percents | J5: calculation wrong | K5: didn't actually calculate
D6: 10 | E6: Declarations | F6: IR | G6: Medium | H6: 0.11111111 | I6: Ratios | J6: calculation wrong | K6: didn't actually calculate, time
D7: 11 | E7: Male BP | F7: IR | G7: Medium | H7: 0.1375 | I7: Inference | J7: calculation wrong | K7: logic fuzzy, time
D8: 12 | E8: French and Spanish | F8: IR | G8: Easy | H8: 0.0048611111 | I8: Overlapping Sets | J8: never attempted | K8: time
D9: 4 | E9: Reverse Primes | F9: DS | G9: 700 - 800 | H9: 0.079861111 | I9: Divisibility & Primes | J9: missed p and q are prime | K9: misread
D10: 6 | E10: Fractions and Decimals | F10: DS | G10: 700 - 800 | H10: 0.034027778 | I10: FDPs | J10: z can be negative | K10: didn't think of it
D11: 8 | E11: Quadratic Intercepts | F11: DS | G11: 700 - 800 | H11: 0.071527778 | I11: Coordinate Plane | J11: can express y as f(m,n) | K11: didn't think of it
D12: 9 | E12: Sixth Power (2) | F12: PS | G12: 700 - 800 | H12: 0.15694444 | I12: Quadratic Equations | J12: right steps, didn't finish solving | K12: already spent too much time
D13: 11 | E13: Acme Computer (2) | F13: DS | G13: 700 - 800 | H13: 0.05 | I13: Ratios | J13: ratios don't lead to quantities | K13: too optimistic
D14: 13 | E14: Consecutive? Multiple? Average? | F14: DS | G14: 700 - 800 | H14: 0.095833333 | I14: Consecutive Integers | J14: (2) means n-1 can't be factor of 3 | K14: didn't think of it
D15: 15 | E15: Newspaper Conference | F15: PS | G15: 700 - 800 | H15: 0.081944444 | I15: Overlapping Sets | J15: x < 17, not x = 17 | K15: misread "more than 38"
D16: 21 | E16: Triangle ABC | F16: DS | G16: 700 - 800 | H16: 0.048611111 | I16: Triangles & Diagonals | J16: D does not bisect BC | K16: bad assumption
D17: 24 | E17: Bad Investing | F17: PS | G17: 700 - 800 | H17: 0.069444444 | I17: Percents | J17: couldn't solve fully | K17: needed to express x/y over 100
... D31: 35 | E31: Adolescent Comedy | F31: SC | G31: 700 - 800 | H31: 0.042361111 | I31: Verbs | J31: subjunctive -> use were | K31: didn't know rule…went with singular
C32: Guess/Unsure: | D32: Q: | E32: 5, 7, 9, 24, 28, 32
D33: V: | E33: 19, 21, 26, 31, 32, 35
B34: 41431 | C34: MGMAT CAT 2 | D34: 4 | E34: Semantic Network | F34: IR | G34: Hard | H34: 0.16319444 | I34: Inference | J34: missed func/spatial associations | K34: didn't realize outlined on bottom chart
D35: 6 | E35: Medical Supplies - 1 | F35: IR | G35: Medium | H35: 0.09375 | I35: Inference | J35: offered vol discount on pumps | K35: thought discount would have to be on syringes
D36: 8 | E36: Medical Supplies - 3 | F36: IR | G36: Hard | H36: 0.11666667 | I36: Algebraic Translations | J36: syringes are $20… | K36: misread i, too lazy to calculate ii
D37: 3 | E37: Tens and Ones | F37: DS | G37: 700 - 800 | H37: 0.063888889 | I37: Digits & Decimals | J37: for (2): 19, 29, 39, 49, etc | K37: didn't think of it
D38: 4 | E38: Is PQRS A Parallelogram | F38: DS | G38: 700 - 800 | H38: 0.049305556 | I38: Polygons | J38: (2) could end up being trapezoid | K38: too optimistic
D39: 7 | E39: Divisible by the Dozen | F39: DS | G39: 700 - 800 | H39: 0.10277778 | I39: Divisibility & Primes | J39: (2) ensures x is even | K39: didn't realize easier to analyze factored
D40: 8 | E40: X-ponents | F40: PS | G40: 600 - 700 | H40: 0.097222222 | I40: Exponents and Roots | J40: couldn't solve fully | K40: too much time invested
D41: 11 | E41: XYZ Powers | F41: DS | G41: 700 - 800 | H41: 0.14027778 | I41: Exponents & Roots | J41: (1) already tells us y = z; y - z = 0 | K41: too invested in algebra…didn't realize
D42: 12 | E42: Trains Meet | F42: PS | G42: 700 - 800 | H42: 0.15208333 | I42: Rates & Work | J42: couldn't solve fully | K42: couldn't set up equation
D43: 13 | E43: The Root of the Roots | F43: PS | G43: 600 - 700 | H43: 0.13819444 | I43: Exponents & Roots | J43: couldn't solve fully | K43: didn't think of using conjugate
D44: 18 | E44: Abominable ABs | F44: DS | G44: 700 - 800 | H44: 0.08125 | I44: Inequalities | J44: (2) still ambiguous | K44: didn't reason out fully
D45: 19 | E45: Probability Triangle | F45: PS | G45: 700 - 800 | H45: 0.10763889 | I45: Triangles & Diagonals | J45: couldn't solve fully | K45: can calculate r^2 directly
D46: 21 | E46: Tricky Divisors | F46: DS | G46: 700 - 800 | H46: 0.027777778 | I46: Divisibility & Primes | J46: (1) is definitely no | K46: didn't realize +6 term restricts GCD
... D51: 36 | E51: Triangle in Circle | F51: PS | G51: 700 - 800 | H51: 0.094444444 | I51: Circles & Cylinders | J51: ratio of angles = ratios of arcs | K51: didn't know concept
D52: 37 | E52: Useful Life | F52: PS | G52: 700 - 800 | I52: Formulas | J52: test didn't record response | K52: Got it right, didn't click confirm
D53: 4 | E53: Samples for Charity | F53: CR | G53: 700 - 800 | H53: 0.093055556 | I53: Weaken the Argument | J53: e) portion donated is irrelevant | K53: need to attack advertising will increase sales
D54: 8 | E54: Retirement Plans | F54: SC | G54: 700 - 800 | H54: 0.064583333 | I54: Meaning | J54: d) not parallel; it's study that finds | K54: intensely busy wording
D55: 13 | E55: Bowerbirds | F55: SC | G55: 700 - 800 | H55: 0.041666667 | I55: Meaning | J55: "the fact that" is improper | K55: didn't know
D56: 22 | E56: Talent Insourcing | F56: CR | G56: 700 - 800 | H56: 0.11736111 | I56: Evaluate the Argument | J56: gov pol a bit off from arg | K56: thought interaction was only one aspect
D57: 29 | E57: Brainy Students (2) | F57: CR | G57: 700 - 800 | H57: 0.069444444 | I57: Draw a Conclusion | J57: obscure exception to d) | K57: c) "possible" is safe word
D58: 30 | E58: Female Grad Students | F58: SC | G58: 700 - 800 | H58: 0.05 | I58: Quantity | J58: "what is was" is awk and unclear | K58: colloquial
D59: 35 | E59: Work At Home | F59: CR | G59: 700 - 800 | H59: 0.12847222 | I59: Draw a Conclusion | J59: can work less + be more productive | K59: didn't like c)
D60: 38 | E60: Antibiotic (2) - Infer | F60: RC | G60: 700 - 800 | H60: 0.03125 | I60: Inference | J60: c) we have no info | K60: too optimistic, disregarded e) too quickly
C61: Guess/Unsure: | D61: Q: | E61: 7, 8, 10, 12, 13, 19, 22, 36
D62: V: | E62: 21, 25, 30, 31

Sheet GMATPrep tracking
B2: GMATPrep 1 | J2: GMATPrep 1.5 | R2: GMATPrep 2
B3: Quant | C3: R | D3: W | F3: Verbal | G3: R | H3: W | J3: Quant | K3: R | L3: W | N3: Verbal | O3: R | P3: W | R3: Quant | S3: R | T3: W | V3: Verbal | W3: R | X3: W
B4: PS | C4: =COUNTIFS($C$9:$C$49,B4,$D$9:$D$49,C$3) -> 19 | D4: =COUNTIFS($C$9:$C$49,B4,$D$9:$D$49,D$3) -> 1 | F4: RC | G4: =COUNTIFS($G$9:$G$49,F4,$H$9:$H$49,G$3) -> 0 | H4: =COUNTIFS($G$9:$G$49,F4,$H$9:$H$49,H$3) -> 0 | J4: PS | K4: =COUNTIFS($K$9:$K$49,J4,$L$9:$L$49,K$3) -> 2 | L4: =COUNTIFS($K$9:$K$49,J4,$L$9:$L$49,L$3) -> 0 | N4: RC | O4: =COUNTIFS($O$9:$O$49,N4,$P$9:$P$49,O$3) -> 12 | P4: =COUNTIFS($O$9:$O$49,N4,$P$9:$P$49,P$3) -> 1 | R4: PS | S4: =COUNTIFS($S$9:$S$49,R4,$T$9:$T$49,S$3) -> 16 | T4: =COUNTIFS($S$9:$S$49,R4,$T$9:$T$49,T$3) -> 3 | V4: RC | W4: =COUNTIFS($W$9:$W$49,V4,$X$9:$X$49,W$3) -> 12 | X4: =COUNTIFS($W$9:$W$49,V4,$X$9:$X$49,X$3) -> 1
B5: DS | C5: =COUNTIFS($C$9:$C$49,B5,$D$9:$D$49,C$3) -> 11 | D5: =COUNTIFS($C$9:$C$49,B5,$D$9:$D$49,D$3) -> 6 | F5: CR | G5: =COUNTIFS($G$9:$G$49,F5,$H$9:$H$49,G$3) -> 0 | H5: =COUNTIFS($G$9:$G$49,F5,$H$9:$H$49,H$3) -> 0 | J5: DS | K5: =COUNTIFS($K$9:$K$49,J5,$L$9:$L$49,K$3) -> 14 | L5: =COUNTIFS($K$9:$K$49,J5,$L$9:$L$49,L$3) -> 4 | N5: CR | O5: =COUNTIFS($O$9:$O$49,N5,$P$9:$P$49,O$3) -> 10 | P5: =COUNTIFS($O$9:$O$49,N5,$P$9:$P$49,P$3) -> 1 | R5: DS | S5: =COUNTIFS($S$9:$S$49,R5,$T$9:$T$49,S$3) -> 15 | T5: =COUNTIFS($S$9:$S$49,R5,$T$9:$T$49,T$3) -> 3 | V5: CR | W5: =COUNTIFS($W$9:$W$49,V5,$X$9:$X$49,W$3) -> 9 | X5: =COUNTIFS($W$9:$W$49,V5,$X$9:$X$49,X$3) -> 1
F6: SC | G6: =COUNTIFS($G$9:$G$49,F6,$H$9:$H$49,G$3) -> 0 | H6: =COUNTIFS($G$9:$G$49,F6,$H$9:$H$49,H$3) -> 0 | J6: only filling in questions that I actually answered | N6: SC | O6: =COUNTIFS($O$9:$O$49,N6,$P$9:$P$49,O$3) -> 13 | P6: =COUNTIFS($O$9:$O$49,N6,$P$9:$P$49,P$3) -> 4 | V6: SC | W6: =COUNTIFS($W$9:$W$49,V6,$X$9:$X$49,W$3) -> 14 | X6: =COUNTIFS($W$9:$W$49,V6,$X$9:$X$49,X$3) -> 4
B8: # | C8: Type | D8: R/W | F8: # | G8: Type | H8: R/W | J8: # | K8: Type | L8: R/W | N8: # | O8: Type | P8: R/W | R8: # | S8: Type | T8: R/W | V8: # | W8: Type | X8: R/W
B9: 1 | C9: PS | D9: R | F9: 1 | H9: R | J9: 1 | N9: 1 | O9: CR | P9: R | R9: 1 | S9: PS | T9: R | V9: 1 | W9: SC | X9: W
B10: =B9+1 -> 2 | C10: PS | D10: R | F10: =F9+1 -> 2 | H10: R | J10: =J9+1 -> 2 | N10: 2 | O10: CR | P10: R | R10: =R9+1 -> 2 | S10: DS | T10: R | V10: 2 | W10: SC | X10: R
B11: =B10+1 -> 3 | C11: PS | D11: R | F11: =F10+1 -> 3 | H11: R | J11: =J10+1 -> 3 | N11: 3 | O11: SC | P11: R | R11: =R10+1 -> 3 | S11: DS | T11: R | V11: 3 | W11: CR | X11: W
B12: =B11+1 -> 4 | C12: DS | D12: W | F12: =F11+1 -> 4 | H12: R | J12: =J11+1 -> 4 | N12: 4 | O12: CR | P12: R | R12: =R11+1 -> 4 | S12: PS | T12: R | V12: 4 | W12: CR | X12: R
B13: =B12+1 -> 5 | C13: DS | D13: R | F13: =F12+1 -> 5 | H13: R | J13: =J12+1 -> 5 | K13: DS | L13: R | N13: 5 | O13: SC | P13: W | R13: =R12+1 -> 5 | S13: PS | T13: R | V13: 5 | W13: CR | X13: R
B14: =B13+1 -> 6 | C14: DS | D14: R | F14: =F13+1 -> 6 | H14: R | J14: =J13+1 -> 6 | K14: PS | L14: R | N14: 6 | O14: SC | P14: R | R14: =R13+1 -> 6 | S14: DS | T14: W | V14: 6 | W14: RC | X14: R
B15: =B14+1 -> 7 | C15: PS | D15: R | F15: =F14+1 -> 7 | H15: R | J15: =J14+1 -> 7 | K15: DS | L15: W | N15: 7 | O15: RC | P15: R | R15: =R14+1 -> 7 | S15: PS | T15: W | V15: 7 | W15: RC | X15: R
B16: =B15+1 -> 8 | C16: PS | D16: W | F16: =F15+1 -> 8 | H16: R | J16: =J15+1 -> 8 | K16: DS | L16: R | N16: 8 | O16: RC | P16: R | R16: =R15+1 -> 8 | S16: PS | T16: R | V16: 8 | W16: RC | X16: R
B17: =B16+1 -> 9 | C17: PS | D17: R | F17: =F16+1 -> 9 | H17: R | J17: =J16+1 -> 9 | K17: PS | L17: R | N17: 9 | O17: RC | P17: R | R17: =R16+1 -> 9 | S17: PS | T17: R | V17: 9 | W17: RC | X17: R
B18: =B17+1 -> 10 | C18: DS | D18: R | F18: =F17+1 -> 10 | H18: R | J18: =J17+1 -> 10 | K18: DS | L18: R | N18: 10 | O18: SC | P18: W | R18: =R17+1 -> 10 | S18: DS | T18: R | V18: 10 | W18: RC | X18: R
B19: =B18+1 -> 11 | C19: PS | D19: R | F19: =F18+1 -> 11 | H19: W | J19: =J18+1 -> 11 | K19: DS | L19: W | N19: 11 | O19: SC | P19: R | R19: =R18+1 -> 11 | S19: DS | T19: R | V19: 11 | W19: RC | X19: R
B20: =B19+1 -> 12 | C20: PS | D20: R | F20: =F19+1 -> 12 | H20: W | J20: =J19+1 -> 12 | N20: 12 | O20: CR | P20: R | R20: =R19+1 -> 12 | S20: DS | T20: R | V20: 12 | W20: SC | X20: R
B21: =B20+1 -> 13 | C21: DS | D21: W | F21: =F20+1 -> 13 | H21: R | J21: =J20+1 -> 13 | K21: DS | L21: W | N21: 13 | O21: CR | P21: R | R21: =R20+1 -> 13 | S21: PS | T21: R | V21: 13 | W21: RC | X21: R
B22: =B21+1 -> 14 | C22: DS | D22: R | F22: =F21+1 -> 14 | H22: W | J22: =J21+1 -> 14 | K22: DS | L22: R | N22: 14 | O22: CR | P22: W | R22: =R21+1 -> 14 | S22: PS | T22: W | V22: 14 | W22: RC | X22: R
B23: =B22+1 -> 15 | C23: PS | D23: R | F23: =F22+1 -> 15 | H23: R | J23: =J22+1 -> 15 | N23: 15 | O23: CR | P23: R | R23: =R22+1 -> 15 | S23: PS | T23: R | V23: 15 | W23: RC | X23: R
B24: =B23+1 -> 16 | C24: PS | D24: R | F24: =F23+1 -> 16 | H24: R | J24: =J23+1 -> 16 | N24: 16 | O24: CR | P24: R | R24: =R23+1 -> 16 | S24: PS | T24: R | V24: 16 | W24: CR | X24: R
B25: =B24+1 -> 17 | C25: PS | D25: R | F25: =F24+1 -> 17 | H25: R | J25: =J24+1 -> 17 | N25: 17 | O25: RC | P25: R | R25: =R24+1 -> 17 | S25: DS | T25: W | V25: 17 | W25: RC | X25: W
B26: =B25+1 -> 18 | C26: DS | D26: R | F26: =F25+1 -> 18 | H26: R | J26: =J25+1 -> 18 | K26: DS | L26: R | N26: 18 | O26: RC | P26: R | R26: =R25+1 -> 18 | S26: DS | T26: R | V26: 18 | W26: RC | X26: R
B27: =B26+1 -> 19 | C27: PS | D27: R | F27: =F26+1 -> 19 | H27: R | J27: =J26+1 -> 19 | N27: 19 | O27: RC | P27: R | R27: =R26+1 -> 19 | S27: PS | T27: R | V27: 19 | W27: RC | X27: R
B28: =B27+1 -> 20 | C28: DS | D28: W | F28: =F27+1 -> 20 | H28: R | J28: =J27+1 -> 20 | N28: 20 | O28: RC | P28: R | R28: =R27+1 -> 20 | S28: DS | T28: R | V28: 20 | W28: RC | X28: R
B29: =B28+1 -> 21 | C29: DS | D29: W | F29: =F28+1 -> 21 | H29: R | J29: =J28+1 -> 21 | K29: DS | L29: R | N29: 21 | O29: SC | P29: R | R29: =R28+1 -> 21 | S29: DS | T29: W | V29: 21 | W29: SC | X29: R
B30: =B29+1 -> 22 | C30: PS | D30: R | F30: =F29+1 -> 22 | H30: R | J30: =J29+1 -> 22 | N30: 22 | O30: RC | P30: R | R30: =R29+1 -> 22 | S30: DS | T30: R | V30: 22 | W30: SC | X30: R
B31: =B30+1 -> 23 | C31: DS | D31: R | F31: =F30+1 -> 23 | H31: R | J31: =J30+1 -> 23 | K31: DS | L31: W | N31: 23 | O31: RC | P31: R | R31: =R30+1 -> 23 | S31: PS | T31: R | V31: 23 | W31: CR | X31: R
B32: =B31+1 -> 24 | C32: PS | D32: R | F32: =F31+1 -> 24 | H32: R | J32: =J31+1 -> 24 | K32: DS | L32: R | N32: 24 | O32: RC | P32: R | R32: =R31+1 -> 24 | S32: DS | T32: R | V32: 24 | W32: CR | X32: R
B33: =B32+1 -> 25 | C33: DS | D33: W | F33: =F32+1 -> 25 | H33: R | J33: =J32+1 -> 25 | K33: DS | L33: R | N33: 25 | O33: SC | P33: R | R33: =R32+1 -> 25 | S33: PS | T33: R | V33: 25 | W33: SC | X33: R
B34: =B33+1 -> 26 | C34: DS | D34: W | F34: =F33+1 -> 26 | H34: R | J34: =J33+1 -> 26 | K34: DS | L34: R | N34: 26 | O34: SC | P34: W | R34: =R33+1 -> 26 | S34: PS | T34: W | V34: 26 | W34: SC | X34: W
B35: =B34+1 -> 27 | C35: DS | D35: R | F35: =F34+1 -> 27 | H35: R | J35: =J34+1 -> 27 | N35: 27 | O35: CR | P35: R | R35: =R34+1 -> 27 | S35: DS | T35: R | V35: 27 | W35: SC | X35: R
B36: =B35+1 -> 28 | C36: DS | D36: R | F36: =F35+1 -> 28 | H36: R | J36: =J35+1 -> 28 | N36: 28 | O36: SC | P36: R | R36: =R35+1 -> 28 | S36: PS | T36: R | V36: 28 | W36: CR | X36: R
B37: =B36+1 -> 29 | C37: PS | D37: R | F37: =F36+1 -> 29 | H37: R | J37: =J36+1 -> 29 | N37: 29 | O37: SC | P37: R | R37: =R36+1 -> 29 | S37: DS | T37: R | V37: 29 | W37: SC | X37: R
B38: =B37+1 -> 30 | C38: PS | D38: R | F38: =F37+1 -> 30 | H38: W | J38: =J37+1 -> 30 | K38: DS | L38: R | N38: 30 | O38: SC | P38: R | R38: =R37+1 -> 30 | S38: DS | T38: R | V38: 30 | W38: SC | X38: R
B39: =B38+1 -> 31 | C39: PS | D39: R | F39: =F38+1 -> 31 | H39: R | J39: =J38+1 -> 31 | K39: DS | L39: R | N39: 31 | O39: CR | P39: R | R39: =R38+1 -> 31 | S39: PS | T39: R | V39: 31 | W39: SC | X39: R
B40: =B39+1 -> 32 | C40: DS | D40: R | F40: =F39+1 -> 32 | H40: R | J40: =J39+1 -> 32 | N40: 32 | O40: RC | P40: R | R40: =R39+1 -> 32 | S40: PS | T40: R | V40: 32 | W40: SC | X40: W
B41: =B40+1 -> 33 | C41: PS | D41: R | F41: =F40+1 -> 33 | H41: R | J41: =J40+1 -> 33 | K41: DS | L41: R | N41: 33 | O41: RC | P41: R | R41: =R40+1 -> 33 | S41: DS | T41: R | V41: 33 | W41: CR | X41: R
B42: =B41+1 -> 34 | C42: PS | D42: R | F42: =F41+1 -> 34 | H42: R | J42: =J41+1 -> 34 | N42: 34 | O42: RC | P42: W | R42: =R41+1 -> 34 | S42: DS | T42: R | V42: 34 | W42: SC | X42: W
B43: =B42+1 -> 35 | C43: PS | D43: R | F43: =F42+1 -> 35 | H43: W | J43: =J42+1 -> 35 | K43: DS | L43: R | N43: 35 | O43: SC | P43: W | R43: =R42+1 -> 35 | S43: PS | T43: R | V43: 35 | W43: SC | X43: R
B44: =B43+1 -> 36 | C44: DS | D44: R | F44: =F43+1 -> 36 | H44: W | J44: =J43+1 -> 36 | N44: 36 | O44: SC | P44: R | R44: =R43+1 -> 36 | S44: PS | T44: R | V44: 36 | W44: SC | X44: R
B45: =B44+1 -> 37 | C45: DS | D45: R | F45: =F44+1 -> 37 | H45: R | J45: =J44+1 -> 37 | K45: DS | L45: R | N45: 37 | O45: SC | P45: R | R45: =R44+1 -> 37 | S45: DS | T45: R | V45: 37 | W45: CR | X45: R
F46: =F45+1 -> 38 | H46: R | N46: 38 | O46: CR | P46: R | V46: 38 | W46: SC | X46: R
F47: =F46+1 -> 39 | H47: R | N47: 39 | O47: SC | P47: R | V47: 39 | W47: CR | X47: R
F48: =F47+1 -> 40 | H48: W | N48: 40 | O48: SC | P48: R | V48: 40 | W48: SC | X48: R
F49: =F48+1 -> 41 | H49: W | N49: 41 | O49: SC | P49: R | V49: 41 | W49: SC | X49: R
