Workbook

Sheet Sheet1
B1: The most comprehensive of everything official GMATclub
B4: Question Type | D4: # answered | E4: # correct | F4: % correct
B5: Reading Comprehension | D5: =COUNTIF(C$13:C$413,">""") -> 0 | E5: =SUM(AX:AX) -> 0 | F5: =IF(D5=0,"",E5/D5)
B6: Critical Reasoning | D6: =COUNTIF(K$13:K$430,">""") -> 0 | E6: =SUM(AY:AY) -> 0 | F6: =IF(D6=0,"",E6/D6)
B7: Sentence Correction | D7: =COUNTIF(S$13:S$660,">""") -> 0 | E7: =SUM(AZ:AZ) -> 0 | F7: =IF(D7=0,"",E7/D7)
B11: Reading Comprehension | J11: Critical Reasoning | R11: Sentence Correction
B12: Question | C12: Your answer | D12: Correct Answer | E12: Flag question | F12: Types | G12: Notes | J12: Question | K12: Your answer | L12: Correct Answer | M12: Flag question | N12: Types | O12: Notes | R12: Question | S12: Your answer | T12: Correct Answer | U12: Flag question | V12: Types | W12: Notes | AX12: RC | AY12: CR | AZ12: SC
A13: Part 1 | B13: 1 | D13: =IF(AND(C13>="A",C13<="E"),VLOOKUP(B13,Key!$B$2:$C$62,2,FALSE),"") | I13: Part 1 | J13: 1 | L13: =IF(AND(K13>="A",K13<="E"),VLOOKUP(J13,Key!$E$2:$F$73,2,FALSE),"") | Q13: Part 1 | R13: 1 | T13: =IF(AND(S13>="A",S13<="E"),VLOOKUP(R13,Key!$H$2:$I$278,2,FALSE),"") | AX13: =IF(AND(C13>"",C13=D13),1,0) -> 0 | AY13: =IF(AND(K13>"",K13=L13),1,0) -> 0 | AZ13: =IF(AND(S13>"",S13=T13),1,0) -> 0
B14: =B13+1 -> 2 | D14: =IF(AND(C14>="A",C14<="E"),VLOOKUP(B14,Key!$B$2:$C$62,2,FALSE),"") | J14: =J13+1 -> 2 | L14: =IF(AND(K14>="A",K14<="E"),VLOOKUP(J14,Key!$E$2:$F$73,2,FALSE),"") | R14: =R13+1 -> 2 | T14: =IF(AND(S14>="A",S14<="E"),VLOOKUP(R14,Key!$H$2:$I$278,2,FALSE),"") | AX14: =IF(AND(C14>"",C14=D14),1,0) -> 0 | AY14: =IF(AND(K14>"",K14=L14),1,0) -> 0 | AZ14: =IF(AND(S14>"",S14=T14),1,0) -> 0
B15: =B14+1 -> 3 | D15: =IF(AND(C15>="A",C15<="E"),VLOOKUP(B15,Key!$B$2:$C$62,2,FALSE),"") | J15: =J14+1 -> 3 | L15: =IF(AND(K15>="A",K15<="E"),VLOOKUP(J15,Key!$E$2:$F$73,2,FALSE),"") | R15: =R14+1 -> 3 | T15: =IF(AND(S15>="A",S15<="E"),VLOOKUP(R15,Key!$H$2:$I$278,2,FALSE),"") | AX15: =IF(AND(C15>"",C15=D15),1,0) -> 0 | AY15: =IF(AND(K15>"",K15=L15),1,0) -> 0 | AZ15: =IF(AND(S15>"",S15=T15),1,0) -> 0
B16: =B15+1 -> 4 | D16: =IF(AND(C16>="A",C16<="E"),VLOOKUP(B16,Key!$B$2:$C$62,2,FALSE),"") | J16: =J15+1 -> 4 | L16: =IF(AND(K16>="A",K16<="E"),VLOOKUP(J16,Key!$E$2:$F$73,2,FALSE),"") | R16: =R15+1 -> 4 | T16: =IF(AND(S16>="A",S16<="E"),VLOOKUP(R16,Key!$H$2:$I$278,2,FALSE),"") | AX16: =IF(AND(C16>"",C16=D16),1,0) -> 0 | AY16: =IF(AND(K16>"",K16=L16),1,0) -> 0 | AZ16: =IF(AND(S16>"",S16=T16),1,0) -> 0
B17: =B16+1 -> 5 | D17: =IF(AND(C17>="A",C17<="E"),VLOOKUP(B17,Key!$B$2:$C$62,2,FALSE),"") | J17: =J16+1 -> 5 | L17: =IF(AND(K17>="A",K17<="E"),VLOOKUP(J17,Key!$E$2:$F$73,2,FALSE),"") | R17: =R16+1 -> 5 | T17: =IF(AND(S17>="A",S17<="E"),VLOOKUP(R17,Key!$H$2:$I$278,2,FALSE),"") | AX17: =IF(AND(C17>"",C17=D17),1,0) -> 0 | AY17: =IF(AND(K17>"",K17=L17),1,0) -> 0 | AZ17: =IF(AND(S17>"",S17=T17),1,0) -> 0
B18: =B17+1 -> 6 | D18: =IF(AND(C18>="A",C18<="E"),VLOOKUP(B18,Key!$B$2:$C$62,2,FALSE),"") | J18: =J17+1 -> 6 | L18: =IF(AND(K18>="A",K18<="E"),VLOOKUP(J18,Key!$E$2:$F$73,2,FALSE),"") | R18: =R17+1 -> 6 | T18: =IF(AND(S18>="A",S18<="E"),VLOOKUP(R18,Key!$H$2:$I$278,2,FALSE),"") | AX18: =IF(AND(C18>"",C18=D18),1,0) -> 0 | AY18: =IF(AND(K18>"",K18=L18),1,0) -> 0 | AZ18: =IF(AND(S18>"",S18=T18),1,0) -> 0
B19: =B18+1 -> 7 | D19: =IF(AND(C19>="A",C19<="E"),VLOOKUP(B19,Key!$B$2:$C$62,2,FALSE),"") | J19: =J18+1 -> 7 | L19: =IF(AND(K19>="A",K19<="E"),VLOOKUP(J19,Key!$E$2:$F$73,2,FALSE),"") | R19: =R18+1 -> 7 | T19: =IF(AND(S19>="A",S19<="E"),VLOOKUP(R19,Key!$H$2:$I$278,2,FALSE),"") | AX19: =IF(AND(C19>"",C19=D19),1,0) -> 0 | AY19: =IF(AND(K19>"",K19=L19),1,0) -> 0 | AZ19: =IF(AND(S19>"",S19=T19),1,0) -> 0
B20: =B19+1 -> 8 | D20: =IF(AND(C20>="A",C20<="E"),VLOOKUP(B20,Key!$B$2:$C$62,2,FALSE),"") | J20: =J19+1 -> 8 | L20: =IF(AND(K20>="A",K20<="E"),VLOOKUP(J20,Key!$E$2:$F$73,2,FALSE),"") | R20: =R19+1 -> 8 | T20: =IF(AND(S20>="A",S20<="E"),VLOOKUP(R20,Key!$H$2:$I$278,2,FALSE),"") | AX20: =IF(AND(C20>"",C20=D20),1,0) -> 0 | AY20: =IF(AND(K20>"",K20=L20),1,0) -> 0 | AZ20: =IF(AND(S20>"",S20=T20),1,0) -> 0
B21: =B20+1 -> 9 | D21: =IF(AND(C21>="A",C21<="E"),VLOOKUP(B21,Key!$B$2:$C$62,2,FALSE),"") | J21: =J20+1 -> 9 | L21: =IF(AND(K21>="A",K21<="E"),VLOOKUP(J21,Key!$E$2:$F$73,2,FALSE),"") | R21: =R20+1 -> 9 | T21: =IF(AND(S21>="A",S21<="E"),VLOOKUP(R21,Key!$H$2:$I$278,2,FALSE),"") | AX21: =IF(AND(C21>"",C21=D21),1,0) -> 0 | AY21: =IF(AND(K21>"",K21=L21),1,0) -> 0 | AZ21: =IF(AND(S21>"",S21=T21),1,0) -> 0
B22: =B21+1 -> 10 | D22: =IF(AND(C22>="A",C22<="E"),VLOOKUP(B22,Key!$B$2:$C$62,2,FALSE),"") | J22: =J21+1 -> 10 | L22: =IF(AND(K22>="A",K22<="E"),VLOOKUP(J22,Key!$E$2:$F$73,2,FALSE),"") | R22: =R21+1 -> 10 | T22: =IF(AND(S22>="A",S22<="E"),VLOOKUP(R22,Key!$H$2:$I$278,2,FALSE),"") | AX22: =IF(AND(C22>"",C22=D22),1,0) -> 0 | AY22: =IF(AND(K22>"",K22=L22),1,0) -> 0 | AZ22: =IF(AND(S22>"",S22=T22),1,0) -> 0
B23: =B22+1 -> 11 | D23: =IF(AND(C23>="A",C23<="E"),VLOOKUP(B23,Key!$B$2:$C$62,2,FALSE),"") | J23: =J22+1 -> 11 | L23: =IF(AND(K23>="A",K23<="E"),VLOOKUP(J23,Key!$E$2:$F$73,2,FALSE),"") | R23: =R22+1 -> 11 | T23: =IF(AND(S23>="A",S23<="E"),VLOOKUP(R23,Key!$H$2:$I$278,2,FALSE),"") | AX23: =IF(AND(C23>"",C23=D23),1,0) -> 0 | AY23: =IF(AND(K23>"",K23=L23),1,0) -> 0 | AZ23: =IF(AND(S23>"",S23=T23),1,0) -> 0
B24: =B23+1 -> 12 | D24: =IF(AND(C24>="A",C24<="E"),VLOOKUP(B24,Key!$B$2:$C$62,2,FALSE),"") | J24: =J23+1 -> 12 | L24: =IF(AND(K24>="A",K24<="E"),VLOOKUP(J24,Key!$E$2:$F$73,2,FALSE),"") | R24: =R23+1 -> 12 | T24: =IF(AND(S24>="A",S24<="E"),VLOOKUP(R24,Key!$H$2:$I$278,2,FALSE),"") | AX24: =IF(AND(C24>"",C24=D24),1,0) -> 0 | AY24: =IF(AND(K24>"",K24=L24),1,0) -> 0 | AZ24: =IF(AND(S24>"",S24=T24),1,0) -> 0
B25: =B24+1 -> 13 | D25: =IF(AND(C25>="A",C25<="E"),VLOOKUP(B25,Key!$B$2:$C$62,2,FALSE),"") | J25: =J24+1 -> 13 | L25: =IF(AND(K25>="A",K25<="E"),VLOOKUP(J25,Key!$E$2:$F$73,2,FALSE),"") | R25: =R24+1 -> 13 | T25: =IF(AND(S25>="A",S25<="E"),VLOOKUP(R25,Key!$H$2:$I$278,2,FALSE),"") | AX25: =IF(AND(C25>"",C25=D25),1,0) -> 0 | AY25: =IF(AND(K25>"",K25=L25),1,0) -> 0 | AZ25: =IF(AND(S25>"",S25=T25),1,0) -> 0
... B73: =B72+1 -> 61 | D73: =IF(AND(C73>="A",C73<="E"),VLOOKUP(B73,Key!$B$2:$C$62,2,FALSE),"") | J73: =J72+1 -> 61 | L73: =IF(AND(K73>="A",K73<="E"),VLOOKUP(J73,Key!$E$2:$F$73,2,FALSE),"") | R73: =R72+1 -> 61 | T73: =IF(AND(S73>="A",S73<="E"),VLOOKUP(R73,Key!$H$2:$I$278,2,FALSE),"") | AX73: =IF(AND(C73>"",C73=D73),1,0) -> 0 | AY73: =IF(AND(K73>"",K73=L73),1,0) -> 0 | AZ73: =IF(AND(S73>"",S73=T73),1,0) -> 0
A74: Part 2 | B74: 1 | D74: =IF(AND(C74>="A",C74<="E"),VLOOKUP(B74,Key!$B$63:$C$127,2,FALSE),"") | J74: =J73+1 -> 62 | L74: =IF(AND(K74>="A",K74<="E"),VLOOKUP(J74,Key!$E$2:$F$73,2,FALSE),"") | R74: =R73+1 -> 62 | T74: =IF(AND(S74>="A",S74<="E"),VLOOKUP(R74,Key!$H$2:$I$278,2,FALSE),"") | AX74: =IF(AND(C74>"",C74=D74),1,0) -> 0 | AY74: =IF(AND(K74>"",K74=L74),1,0) -> 0 | AZ74: =IF(AND(S74>"",S74=T74),1,0) -> 0
B75: 2 | D75: =IF(AND(C75>="A",C75<="E"),VLOOKUP(B75,Key!$B$63:$C$127,2,FALSE),"") | J75: =J74+1 -> 63 | L75: =IF(AND(K75>="A",K75<="E"),VLOOKUP(J75,Key!$E$2:$F$73,2,FALSE),"") | R75: =R74+1 -> 63 | T75: =IF(AND(S75>="A",S75<="E"),VLOOKUP(R75,Key!$H$2:$I$278,2,FALSE),"") | AX75: =IF(AND(C75>"",C75=D75),1,0) -> 0 | AY75: =IF(AND(K75>"",K75=L75),1,0) -> 0 | AZ75: =IF(AND(S75>"",S75=T75),1,0) -> 0
B76: =B75+1 -> 3 | D76: =IF(AND(C76>="A",C76<="E"),VLOOKUP(B76,Key!$B$63:$C$127,2,FALSE),"") | J76: =J75+1 -> 64 | L76: =IF(AND(K76>="A",K76<="E"),VLOOKUP(J76,Key!$E$2:$F$73,2,FALSE),"") | R76: =R75+1 -> 64 | T76: =IF(AND(S76>="A",S76<="E"),VLOOKUP(R76,Key!$H$2:$I$278,2,FALSE),"") | AX76: =IF(AND(C76>"",C76=D76),1,0) -> 0 | AY76: =IF(AND(K76>"",K76=L76),1,0) -> 0 | AZ76: =IF(AND(S76>"",S76=T76),1,0) -> 0
B77: =B76+1 -> 4 | D77: =IF(AND(C77>="A",C77<="E"),VLOOKUP(B77,Key!$B$63:$C$127,2,FALSE),"") | J77: =J76+1 -> 65 | L77: =IF(AND(K77>="A",K77<="E"),VLOOKUP(J77,Key!$E$2:$F$73,2,FALSE),"") | R77: =R76+1 -> 65 | T77: =IF(AND(S77>="A",S77<="E"),VLOOKUP(R77,Key!$H$2:$I$278,2,FALSE),"") | AX77: =IF(AND(C77>"",C77=D77),1,0) -> 0 | AY77: =IF(AND(K77>"",K77=L77),1,0) -> 0 | AZ77: =IF(AND(S77>"",S77=T77),1,0) -> 0
B78: =B77+1 -> 5 | D78: =IF(AND(C78>="A",C78<="E"),VLOOKUP(B78,Key!$B$63:$C$127,2,FALSE),"") | J78: =J77+1 -> 66 | L78: =IF(AND(K78>="A",K78<="E"),VLOOKUP(J78,Key!$E$2:$F$73,2,FALSE),"") | R78: =R77+1 -> 66 | T78: =IF(AND(S78>="A",S78<="E"),VLOOKUP(R78,Key!$H$2:$I$278,2,FALSE),"") | AX78: =IF(AND(C78>"",C78=D78),1,0) -> 0 | AY78: =IF(AND(K78>"",K78=L78),1,0) -> 0 | AZ78: =IF(AND(S78>"",S78=T78),1,0) -> 0
B79: =B78+1 -> 6 | D79: =IF(AND(C79>="A",C79<="E"),VLOOKUP(B79,Key!$B$63:$C$127,2,FALSE),"") | J79: =J78+1 -> 67 | L79: =IF(AND(K79>="A",K79<="E"),VLOOKUP(J79,Key!$E$2:$F$73,2,FALSE),"") | R79: =R78+1 -> 67 | T79: =IF(AND(S79>="A",S79<="E"),VLOOKUP(R79,Key!$H$2:$I$278,2,FALSE),"") | AX79: =IF(AND(C79>"",C79=D79),1,0) -> 0 | AY79: =IF(AND(K79>"",K79=L79),1,0) -> 0 | AZ79: =IF(AND(S79>"",S79=T79),1,0) -> 0
B80: =B79+1 -> 7 | D80: =IF(AND(C80>="A",C80<="E"),VLOOKUP(B80,Key!$B$63:$C$127,2,FALSE),"") | J80: =J79+1 -> 68 | L80: =IF(AND(K80>="A",K80<="E"),VLOOKUP(J80,Key!$E$2:$F$73,2,FALSE),"") | R80: =R79+1 -> 68 | T80: =IF(AND(S80>="A",S80<="E"),VLOOKUP(R80,Key!$H$2:$I$278,2,FALSE),"") | AX80: =IF(AND(C80>"",C80=D80),1,0) -> 0 | AY80: =IF(AND(K80>"",K80=L80),1,0) -> 0 | AZ80: =IF(AND(S80>"",S80=T80),1,0) -> 0
B81: =B80+1 -> 8 | D81: =IF(AND(C81>="A",C81<="E"),VLOOKUP(B81,Key!$B$63:$C$127,2,FALSE),"") | J81: =J80+1 -> 69 | L81: =IF(AND(K81>="A",K81<="E"),VLOOKUP(J81,Key!$E$2:$F$73,2,FALSE),"") | R81: =R80+1 -> 69 | T81: =IF(AND(S81>="A",S81<="E"),VLOOKUP(R81,Key!$H$2:$I$278,2,FALSE),"") | AX81: =IF(AND(C81>"",C81=D81),1,0) -> 0 | AY81: =IF(AND(K81>"",K81=L81),1,0) -> 0 | AZ81: =IF(AND(S81>"",S81=T81),1,0) -> 0
B82: =B81+1 -> 9 | D82: =IF(AND(C82>="A",C82<="E"),VLOOKUP(B82,Key!$B$63:$C$127,2,FALSE),"") | J82: =J81+1 -> 70 | L82: =IF(AND(K82>="A",K82<="E"),VLOOKUP(J82,Key!$E$2:$F$73,2,FALSE),"") | R82: =R81+1 -> 70 | T82: =IF(AND(S82>="A",S82<="E"),VLOOKUP(R82,Key!$H$2:$I$278,2,FALSE),"") | AX82: =IF(AND(C82>"",C82=D82),1,0) -> 0 | AY82: =IF(AND(K82>"",K82=L82),1,0) -> 0 | AZ82: =IF(AND(S82>"",S82=T82),1,0) -> 0
B83: =B82+1 -> 10 | D83: =IF(AND(C83>="A",C83<="E"),VLOOKUP(B83,Key!$B$63:$C$127,2,FALSE),"") | J83: =J82+1 -> 71 | L83: =IF(AND(K83>="A",K83<="E"),VLOOKUP(J83,Key!$E$2:$F$73,2,FALSE),"") | R83: =R82+1 -> 71 | T83: =IF(AND(S83>="A",S83<="E"),VLOOKUP(R83,Key!$H$2:$I$278,2,FALSE),"") | AX83: =IF(AND(C83>"",C83=D83),1,0) -> 0 | AY83: =IF(AND(K83>"",K83=L83),1,0) -> 0 | AZ83: =IF(AND(S83>"",S83=T83),1,0) -> 0
B84: =B83+1 -> 11 | D84: =IF(AND(C84>="A",C84<="E"),VLOOKUP(B84,Key!$B$63:$C$127,2,FALSE),"") | J84: =J83+1 -> 72 | L84: =IF(AND(K84>="A",K84<="E"),VLOOKUP(J84,Key!$E$2:$F$73,2,FALSE),"") | R84: =R83+1 -> 72 | T84: =IF(AND(S84>="A",S84<="E"),VLOOKUP(R84,Key!$H$2:$I$278,2,FALSE),"") | AX84: =IF(AND(C84>"",C84=D84),1,0) -> 0 | AY84: =IF(AND(K84>"",K84=L84),1,0) -> 0 | AZ84: =IF(AND(S84>"",S84=T84),1,0) -> 0
B85: =B84+1 -> 12 | D85: =IF(AND(C85>="A",C85<="E"),VLOOKUP(B85,Key!$B$63:$C$127,2,FALSE),"") | I85: Part 2 | J85: 1 | L85: =IF(AND(K85>="A",K85<="E"),VLOOKUP(J85,Key!$E$74:$F$141,2,FALSE),"") | R85: =R84+1 -> 73 | T85: =IF(AND(S85>="A",S85<="E"),VLOOKUP(R85,Key!$H$2:$I$278,2,FALSE),"") | AX85: =IF(AND(C85>"",C85=D85),1,0) -> 0 | AY85: =IF(AND(K85>"",K85=L85),1,0) -> 0 | AZ85: =IF(AND(S85>"",S85=T85),1,0) -> 0
B86: =B85+1 -> 13 | D86: =IF(AND(C86>="A",C86<="E"),VLOOKUP(B86,Key!$B$63:$C$127,2,FALSE),"") | J86: =J85+1 -> 2 | L86: =IF(AND(K86>="A",K86<="E"),VLOOKUP(J86,Key!$E$74:$F$141,2,FALSE),"") | R86: =R85+1 -> 74 | T86: =IF(AND(S86>="A",S86<="E"),VLOOKUP(R86,Key!$H$2:$I$278,2,FALSE),"") | AX86: =IF(AND(C86>"",C86=D86),1,0) -> 0 | AY86: =IF(AND(K86>"",K86=L86),1,0) -> 0 | AZ86: =IF(AND(S86>"",S86=T86),1,0) -> 0
B87: =B86+1 -> 14 | D87: =IF(AND(C87>="A",C87<="E"),VLOOKUP(B87,Key!$B$63:$C$127,2,FALSE),"") | J87: =J86+1 -> 3 | L87: =IF(AND(K87>="A",K87<="E"),VLOOKUP(J87,Key!$E$74:$F$141,2,FALSE),"") | R87: =R86+1 -> 75 | T87: =IF(AND(S87>="A",S87<="E"),VLOOKUP(R87,Key!$H$2:$I$278,2,FALSE),"") | AX87: =IF(AND(C87>"",C87=D87),1,0) -> 0 | AY87: =IF(AND(K87>"",K87=L87),1,0) -> 0 | AZ87: =IF(AND(S87>"",S87=T87),1,0) -> 0
B88: =B87+1 -> 15 | D88: =IF(AND(C88>="A",C88<="E"),VLOOKUP(B88,Key!$B$63:$C$127,2,FALSE),"") | J88: =J87+1 -> 4 | L88: =IF(AND(K88>="A",K88<="E"),VLOOKUP(J88,Key!$E$74:$F$141,2,FALSE),"") | R88: =R87+1 -> 76 | T88: =IF(AND(S88>="A",S88<="E"),VLOOKUP(R88,Key!$H$2:$I$278,2,FALSE),"") | AX88: =IF(AND(C88>"",C88=D88),1,0) -> 0 | AY88: =IF(AND(K88>"",K88=L88),1,0) -> 0 | AZ88: =IF(AND(S88>"",S88=T88),1,0) -> 0
B89: =B88+1 -> 16 | D89: =IF(AND(C89>="A",C89<="E"),VLOOKUP(B89,Key!$B$63:$C$127,2,FALSE),"") | J89: =J88+1 -> 5 | L89: =IF(AND(K89>="A",K89<="E"),VLOOKUP(J89,Key!$E$74:$F$141,2,FALSE),"") | R89: =R88+1 -> 77 | T89: =IF(AND(S89>="A",S89<="E"),VLOOKUP(R89,Key!$H$2:$I$278,2,FALSE),"") | AX89: =IF(AND(C89>"",C89=D89),1,0) -> 0 | AY89: =IF(AND(K89>"",K89=L89),1,0) -> 0 | AZ89: =IF(AND(S89>"",S89=T89),1,0) -> 0
B90: =B89+1 -> 17 | D90: =IF(AND(C90>="A",C90<="E"),VLOOKUP(B90,Key!$B$63:$C$127,2,FALSE),"") | J90: =J89+1 -> 6 | L90: =IF(AND(K90>="A",K90<="E"),VLOOKUP(J90,Key!$E$74:$F$141,2,FALSE),"") | R90: =R89+1 -> 78 | T90: =IF(AND(S90>="A",S90<="E"),VLOOKUP(R90,Key!$H$2:$I$278,2,FALSE),"") | AX90: =IF(AND(C90>"",C90=D90),1,0) -> 0 | AY90: =IF(AND(K90>"",K90=L90),1,0) -> 0 | AZ90: =IF(AND(S90>"",S90=T90),1,0) -> 0
B91: =B90+1 -> 18 | D91: =IF(AND(C91>="A",C91<="E"),VLOOKUP(B91,Key!$B$63:$C$127,2,FALSE),"") | J91: =J90+1 -> 7 | L91: =IF(AND(K91>="A",K91<="E"),VLOOKUP(J91,Key!$E$74:$F$141,2,FALSE),"") | R91: =R90+1 -> 79 | T91: =IF(AND(S91>="A",S91<="E"),VLOOKUP(R91,Key!$H$2:$I$278,2,FALSE),"") | AX91: =IF(AND(C91>"",C91=D91),1,0) -> 0 | AY91: =IF(AND(K91>"",K91=L91),1,0) -> 0 | AZ91: =IF(AND(S91>"",S91=T91),1,0) -> 0
B92: =B91+1 -> 19 | D92: =IF(AND(C92>="A",C92<="E"),VLOOKUP(B92,Key!$B$63:$C$127,2,FALSE),"") | J92: =J91+1 -> 8 | L92: =IF(AND(K92>="A",K92<="E"),VLOOKUP(J92,Key!$E$74:$F$141,2,FALSE),"") | R92: =R91+1 -> 80 | T92: =IF(AND(S92>="A",S92<="E"),VLOOKUP(R92,Key!$H$2:$I$278,2,FALSE),"") | AX92: =IF(AND(C92>"",C92=D92),1,0) -> 0 | AY92: =IF(AND(K92>"",K92=L92),1,0) -> 0 | AZ92: =IF(AND(S92>"",S92=T92),1,0) -> 0
...

Sheet Key
B1: RC | E1: CR | H1: SC
A2: Part 1 | B2: 1 | C2: C | D2: Part 1 | E2: 1 | F2: D | G2: Part 1 | H2: 1 | I2: C | K2: Flag
B3: 2 | C3: D | E3: 2 | F3: C | H3: 2 | I3: D
B4: 3 | C4: B | E4: 3 | F4: E | H4: 3 | I4: E
B5: 4 | C5: D | E5: 4 | F5: E | H5: 4 | I5: D
B6: 5 | C6: C | E6: 5 | F6: D | H6: 5 | I6: A
B7: 6 | C7: A | E7: 6 | F7: E | H7: 6 | I7: D
B8: 7 | C8: E | E8: 7 | F8: B | H8: 7 | I8: E
B9: 8 | C9: A | E9: 8 | F9: C | H9: 8 | I9: B
B10: 9 | C10: C | E10: 9 | F10: B | H10: 9 | I10: A
B11: 10 | C11: C | E11: 10 | F11: E | H11: 10 | I11: C
B12: 11 | C12: D | E12: 11 | F12: D | H12: 11 | I12: E
B13: 12 | C13: C | E13: 12 | F13: E | H13: 12 | I13: E
B14: 13 | C14: A | E14: 13 | F14: C | H14: 13 | I14: D
... B45: 44 | C45: B | E45: 44 | F45: D | H45: 44 | I45: B
B46: 45 | E46: 45 | F46: B | H46: 45 | I46: D
B47: 46 | C47: D | E47: 46 | F47: B | H47: 46 | I47: A
B48: 47 | C48: D | E48: 47 | F48: E | H48: 47 | I48: A
B49: 48 | C49: D | E49: 48 | F49: A | H49: 48 | I49: D
B50: 49 | C50: E | E50: 49 | F50: D | H50: 49 | I50: E
B51: 50 | C51: A | E51: 50 | F51: D | H51: 50 | I51: D
B52: 51 | C52: E | E52: 51 | F52: C | H52: 51 | I52: C
B53: 52 | C53: C | E53: 52 | F53: C | H53: 52 | I53: D
B54: 53 | C54: C | E54: 53 | F54: C | H54: 53 | I54: A
B55: 54 | C55: D | E55: 54 | F55: B | H55: 54 | I55: A
B56: 55 | C56: A | E56: 55 | F56: D | H56: 55 | I56: B
B57: 56 | C57: C | E57: 56 | F57: D | H57: 56 | I57: B
B58: 57 | C58: D | E58: 57 | F58: A | H58: 57 | I58: A
... B62: 61 | C62: A | E62: 61 | F62: B | H62: 61 | I62: A
A63: Part 2 | B63: 1 | C63: C | E63: 62 | F63: C | H63: 62 | I63: E
B64: 2 | C64: B | E64: 63 | F64: B | H64: 63 | I64: D
B65: 3 | C65: E | E65: 64 | F65: E | H65: 64 | I65: C
B66: 4 | C66: A | E66: 65 | F66: E | H66: 65 | I66: C
B67: 5 | C67: D | E67: 66 | F67: E | H67: 66 | I67: A
B68: 6 | C68: C | E68: 67 | F68: D | H68: 67 | I68: C
B69: 7 | C69: A | E69: 68 | F69: D | H69: 68 | I69: D
B70: 8 | C70: E | E70: 69 | F70: B | H70: 69 | I70: E
B71: 9 | C71: B | E71: 70 | F71: E | H71: 70 | I71: E
B72: 10 | C72: C | E72: 71 | F72: A | H72: 71 | I72: B
B73: 11 | C73: D | E73: 72 | F73: B | H73: 72 | I73: C
...
