Workbook

Sheet Sheet1
B1: The most comprehensive of everything official GMATclub
B4: Question Type | D4: # answered | E4: # correct | F4: % correct
B5: Reading Comprehension | D5: =COUNTIF(C$13:C$413,">""") -> 0 | E5: =SUM(AX:AX) -> 0 | F5: =IF(D5=0,"",E5/D5)
B6: Critical Reasoning | D6: =COUNTIF(K$13:K$430,">""") -> 0 | E6: =SUM(AY:AY) -> 0 | F6: =IF(D6=0,"",E6/D6)
B7: Sentence Correction | D7: =COUNTIF(S$13:S$660,">""") -> 0 | E7: =SUM(AZ:AZ) -> 0 | F7: =IF(D7=0,"",E7/D7)
B11: Reading Comprehension | J11: Critical Reasoning | R11: Sentence Correction
B12: Question | C12: Your answer | D12: Correct Answer | E12: Flag question | F12: Types | G12: Notes | J12: Question | K12: Your answer | L12: Correct Answer | M12: Flag question | N12: Types | O12: Notes | R12: Question | S12: Your answer | T12: Correct Answer | U12: Flag question | V12: Types | W12: Notes | AX12: RC | AY12: CR | AZ12: SC
A13: Part 1 | B13: 1 | D13: =IF(AND(C13>="A",C13<="E"),VLOOKUP(B13,Key!$B$2:$C$62,2,FALSE),"") | I13: Part 1 | J13: 1 | L13: =IF(AND(K13>="A",K13<="E"),VLOOKUP(J13,Key!$E$2:$F$73,2,FALSE),"") | Q13: Part 1 | R13: 1 | T13: =IF(AND(S13>="A",S13<="E"),VLOOKUP(R13,Key!$H$2:$I$278,2,FALSE),"") | AX13: =IF(AND(C13>"",C13=D13),1,0) -> 0 | AY13: =IF(AND(K13>"",K13=L13),1,0) -> 0 | AZ13: =IF(AND(S13>"",S13=T13),1,0) -> 0
B14: =B13+1 -> 2 | D14: =IF(AND(C14>="A",C14<="E"),VLOOKUP(B14,Key!$B$2:$C$62,2,FALSE),"") | J14: =J13+1 -> 2 | L14: =IF(AND(K14>="A",K14<="E"),VLOOKUP(J14,Key!$E$2:$F$73,2,FALSE),"") | R14: =R13+1 -> 2 | T14: =IF(AND(S14>="A",S14<="E"),VLOOKUP(R14,Key!$H$2:$I$278,2,FALSE),"") | AX14: =IF(AND(C14>"",C14=D14),1,0) -> 0 | AY14: =IF(AND(K14>"",K14=L14),1,0) -> 0 | AZ14: =IF(AND(S14>"",S14=T14),1,0) -> 0
B15: =B14+1 -> 3 | D15: =IF(AND(C15>="A",C15<="E"),VLOOKUP(B15,Key!$B$2:$C$62,2,FALSE),"") | J15: =J14+1 -> 3 | L15: =IF(AND(K15>="A",K15<="E"),VLOOKUP(J15,Key!$E$2:$F$73,2,FALSE),"") | R15: =R14+1 -> 3 | T15: =IF(AND(S15>="A",S15<="E"),VLOOKUP(R15,Key!$H$2:$I$278,2,FALSE),"") | AX15: =IF(AND(C15>"",C15=D15),1,0) -> 0 | AY15: =IF(AND(K15>"",K15=L15),1,0) -> 0 | AZ15: =IF(AND(S15>"",S15=T15),1,0) -> 0
B16: =B15+1 -> 4 | D16: =IF(AND(C16>="A",C16<="E"),VLOOKUP(B16,Key!$B$2:$C$62,2,FALSE),"") | J16: =J15+1 -> 4 | L16: =IF(AND(K16>="A",K16<="E"),VLOOKUP(J16,Key!$E$2:$F$73,2,FALSE),"") | R16: =R15+1 -> 4 | T16: =IF(AND(S16>="A",S16<="E"),VLOOKUP(R16,Key!$H$2:$I$278,2,FALSE),"") | AX16: =IF(AND(C16>"",C16=D16),1,0) -> 0 | AY16: =IF(AND(K16>"",K16=L16),1,0) -> 0 | AZ16: =IF(AND(S16>"",S16=T16),1,0) -> 0
B17: =B16+1 -> 5 | D17: =IF(AND(C17>="A",C17<="E"),VLOOKUP(B17,Key!$B$2:$C$62,2,FALSE),"") | J17: =J16+1 -> 5 | L17: =IF(AND(K17>="A",K17<="E"),VLOOKUP(J17,Key!$E$2:$F$73,2,FALSE),"") | R17: =R16+1 -> 5 | T17: =IF(AND(S17>="A",S17<="E"),VLOOKUP(R17,Key!$H$2:$I$278,2,FALSE),"") | AX17: =IF(AND(C17>"",C17=D17),1,0) -> 0 | AY17: =IF(AND(K17>"",K17=L17),1,0) -> 0 | AZ17: =IF(AND(S17>"",S17=T17),1,0) -> 0
B18: =B17+1 -> 6 | D18: =IF(AND(C18>="A",C18<="E"),VLOOKUP(B18,Key!$B$2:$C$62,2,FALSE),"") | J18: =J17+1 -> 6 | L18: =IF(AND(K18>="A",K18<="E"),VLOOKUP(J18,Key!$E$2:$F$73,2,FALSE),"") | R18: =R17+1 -> 6 | T18: =IF(AND(S18>="A",S18<="E"),VLOOKUP(R18,Key!$H$2:$I$278,2,FALSE),"") | AX18: =IF(AND(C18>"",C18=D18),1,0) -> 0 | AY18: =IF(AND(K18>"",K18=L18),1,0) -> 0 | AZ18: =IF(AND(S18>"",S18=T18),1,0) -> 0
B19: =B18+1 -> 7 | D19: =IF(AND(C19>="A",C19<="E"),VLOOKUP(B19,Key!$B$2:$C$62,2,FALSE),"") | J19: =J18+1 -> 7 | L19: =IF(AND(K19>="A",K19<="E"),VLOOKUP(J19,Key!$E$2:$F$73,2,FALSE),"") | R19: =R18+1 -> 7 | T19: =IF(AND(S19>="A",S19<="E"),VLOOKUP(R19,Key!$H$2:$I$278,2,FALSE),"") | AX19: =IF(AND(C19>"",C19=D19),1,0) -> 0 | AY19: =IF(AND(K19>"",K19=L19),1,0) -> 0 | AZ19: =IF(AND(S19>"",S19=T19),1,0) -> 0
B20: =B19+1 -> 8 | D20: =IF(AND(C20>="A",C20<="E"),VLOOKUP(B20,Key!$B$2:$C$62,2,FALSE),"") | J20: =J19+1 -> 8 | L20: =IF(AND(K20>="A",K20<="E"),VLOOKUP(J20,Key!$E$2:$F$73,2,FALSE),"") | R20: =R19+1 -> 8 | T20: =IF(AND(S20>="A",S20<="E"),VLOOKUP(R20,Key!$H$2:$I$278,2,FALSE),"") | AX20: =IF(AND(C20>"",C20=D20),1,0) -> 0 | AY20: =IF(AND(K20>"",K20=L20),1,0) -> 0 | AZ20: =IF(AND(S20>"",S20=T20),1,0) -> 0
B21: =B20+1 -> 9 | D21: =IF(AND(C21>="A",C21<="E"),VLOOKUP(B21,Key!$B$2:$C$62,2,FALSE),"") | J21: =J20+1 -> 9 | L21: =IF(AND(K21>="A",K21<="E"),VLOOKUP(J21,Key!$E$2:$F$73,2,FALSE),"") | R21: =R20+1 -> 9 | T21: =IF(AND(S21>="A",S21<="E"),VLOOKUP(R21,Key!$H$2:$I$278,2,FALSE),"") | AX21: =IF(AND(C21>"",C21=D21),1,0) -> 0 | AY21: =IF(AND(K21>"",K21=L21),1,0) -> 0 | AZ21: =IF(AND(S21>"",S21=T21),1,0) -> 0
B22: =B21+1 -> 10 | D22: =IF(AND(C22>="A",C22<="E"),VLOOKUP(B22,Key!$B$2:$C$62,2,FALSE),"") | J22: =J21+1 -> 10 | L22: =IF(AND(K22>="A",K22<="E"),VLOOKUP(J22,Key!$E$2:$F$73,2,FALSE),"") | R22: =R21+1 -> 10 | T22: =IF(AND(S22>="A",S22<="E"),VLOOKUP(R22,Key!$H$2:$I$278,2,FALSE),"") | AX22: =IF(AND(C22>"",C22=D22),1,0) -> 0 | AY22: =IF(AND(K22>"",K22=L22),1,0) -> 0 | AZ22: =IF(AND(S22>"",S22=T22),1,0) -> 0
B23: =B22+1 -> 11 | D23: =IF(AND(C23>="A",C23<="E"),VLOOKUP(B23,Key!$B$2:$C$62,2,FALSE),"") | J23: =J22+1 -> 11 | L23: =IF(AND(K23>="A",K23<="E"),VLOOKUP(J23,Key!$E$2:$F$73,2,FALSE),"") | R23: =R22+1 -> 11 | T23: =IF(AND(S23>="A",S23<="E"),VLOOKUP(R23,Key!$H$2:$I$278,2,FALSE),"") | AX23: =IF(AND(C23>"",C23=D23),1,0) -> 0 | AY23: =IF(AND(K23>"",K23=L23),1,0) -> 0 | AZ23: =IF(AND(S23>"",S23=T23),1,0) -> 0
B24: =B23+1 -> 12 | D24: =IF(AND(C24>="A",C24<="E"),VLOOKUP(B24,Key!$B$2:$C$62,2,FALSE),"") | J24: =J23+1 -> 12 | L24: =IF(AND(K24>="A",K24<="E"),VLOOKUP(J24,Key!$E$2:$F$73,2,FALSE),"") | R24: =R23+1 -> 12 | T24: =IF(AND(S24>="A",S24<="E"),VLOOKUP(R24,Key!$H$2:$I$278,2,FALSE),"") | AX24: =IF(AND(C24>"",C24=D24),1,0) -> 0 | AY24: =IF(AND(K24>"",K24=L24),1,0) -> 0 | AZ24: =IF(AND(S24>"",S24=T24),1,0) -> 0
B25: =B24+1 -> 13 | D25: =IF(AND(C25>="A",C25<="E"),VLOOKUP(B25,Key!$B$2:$C$62,2,FALSE),"") | J25: =J24+1 -> 13 | L25: =IF(AND(K25>="A",K25<="E"),VLOOKUP(J25,Key!$E$2:$F$73,2,FALSE),"") | R25: =R24+1 -> 13 | T25: =IF(AND(S25>="A",S25<="E"),VLOOKUP(R25,Key!$H$2:$I$278,2,FALSE),"") | AX25: =IF(AND(C25>"",C25=D25),1,0) -> 0 | AY25: =IF(AND(K25>"",K25=L25),1,0) -> 0 | AZ25: =IF(AND(S25>"",S25=T25),1,0) -> 0
... B73: =B72+1 -> 61 | D73: =IF(AND(C73>="A",C73<="E"),VLOOKUP(B73,Key!$B$2:$C$62,2,FALSE),"") | J73: =J72+1 -> 61 | L73: =IF(AND(K73>="A",K73<="E"),VLOOKUP(J73,Key!$E$2:$F$73,2,FALSE),"") | R73: =R72+1 -> 61 | T73: =IF(AND(S73>="A",S73<="E"),VLOOKUP(R73,Key!$H$2:$I$278,2,FALSE),"") | AX73: =IF(AND(C73>"",C73=D73),1,0) -> 0 | AY73: =IF(AND(K73>"",K73=L73),1,0) -> 0 | AZ73: =IF(AND(S73>"",S73=T73),1,0) -> 0
A74: Part 2 | B74: 1 | D74: =IF(AND(C74>="A",C74<="E"),VLOOKUP(B74,Key!$B$63:$C$127,2,FALSE),"") | J74: =J73+1 -> 62 | L74: =IF(AND(K74>="A",K74<="E"),VLOOKUP(J74,Key!$E$2:$F$73,2,FALSE),"") | R74: =R73+1 -> 62 | T74: =IF(AND(S74>="A",S74<="E"),VLOOKUP(R74,Key!$H$2:$I$278,2,FALSE),"") | AX74: =IF(AND(C74>"",C74=D74),1,0) -> 0 | AY74: =IF(AND(K74>"",K74=L74),1,0) -> 0 | AZ74: =IF(AND(S74>"",S74=T74),1,0) -> 0
B75: 2 | D75: =IF(AND(C75>="A",C75<="E"),VLOOKUP(B75,Key!$B$63:$C$127,2,FALSE),"") | J75: =J74+1 -> 63 | L75: =IF(AND(K75>="A",K75<="E"),VLOOKUP(J75,Key!$E$2:$F$73,2,FALSE),"") | R75: =R74+1 -> 63 | T75: =IF(AND(S75>="A",S75<="E"),VLOOKUP(R75,Key!$H$2:$I$278,2,FALSE),"") | AX75: =IF(AND(C75>"",C75=D75),1,0) -> 0 | AY75: =IF(AND(K75>"",K75=L75),1,0) -> 0 | AZ75: =IF(AND(S75>"",S75=T75),1,0) -> 0
B76: =B75+1 -> 3 | D76: =IF(AND(C76>="A",C76<="E"),VLOOKUP(B76,Key!$B$63:$C$127,2,FALSE),"") | J76: =J75+1 -> 64 | L76: =IF(AND(K76>="A",K76<="E"),VLOOKUP(J76,Key!$E$2:$F$73,2,FALSE),"") | R76: =R75+1 -> 64 | T76: =IF(AND(S76>="A",S76<="E"),VLOOKUP(R76,Key!$H$2:$I$278,2,FALSE),"") | AX76: =IF(AND(C76>"",C76=D76),1,0) -> 0 | AY76: =IF(AND(K76>"",K76=L76),1,0) -> 0 | AZ76: =IF(AND(S76>"",S76=T76),1,0) -> 0
B77: =B76+1 -> 4 | D77: =IF(AND(C77>="A",C77<="E"),VLOOKUP(B77,Key!$B$63:$C$127,2,FALSE),"") | J77: =J76+1 -> 65 | L77: =IF(AND(K77>="A",K77<="E"),VLOOKUP(J77,Key!$E$2:$F$73,2,FALSE),"") | R77: =R76+1 -> 65 | T77: =IF(AND(S77>="A",S77<="E"),VLOOKUP(R77,Key!$H$2:$I$278,2,FALSE),"") | AX77: =IF(AND(C77>"",C77=D77),1,0) -> 0 | AY77: =IF(AND(K77>"",K77=L77),1,0) -> 0 | AZ77: =IF(AND(S77>"",S77=T77),1,0) -> 0
B78: =B77+1 -> 5 | D78: =IF(AND(C78>="A",C78<="E"),VLOOKUP(B78,Key!$B$63:$C$127,2,FALSE),"") | J78: =J77+1 -> 66 | L78: =IF(AND(K78>="A",K78<="E"),VLOOKUP(J78,Key!$E$2:$F$73,2,FALSE),"") | R78: =R77+1 -> 66 | T78: =IF(AND(S78>="A",S78<="E"),VLOOKUP(R78,Key!$H$2:$I$278,2,FALSE),"") | AX78: =IF(AND(C78>"",C78=D78),1,0) -> 0 | AY78: =IF(AND(K78>"",K78=L78),1,0) -> 0 | AZ78: =IF(AND(S78>"",S78=T78),1,0) -> 0
B79: =B78+1 -> 6 | D79: =IF(AND(C79>="A",C79<="E"),VLOOKUP(B79,Key!$B$63:$C$127,2,FALSE),"") | J79: =J78+1 -> 67 | L79: =IF(AND(K79>="A",K79<="E"),VLOOKUP(J79,Key!$E$2:$F$73,2,FALSE),"") | R79: =R78+1 -> 67 | T79: =IF(AND(S79>="A",S79<="E"),VLOOKUP(R79,Key!$H$2:$I$278,2,FALSE),"") | AX79: =IF(AND(C79>"",C79=D79),1,0) -> 0 | AY79: =IF(AND(K79>"",K79=L79),1,0) -> 0 | AZ79: =IF(AND(S79>"",S79=T79),1,0) -> 0
B80: =B79+1 -> 7 | D80: =IF(AND(C80>="A",C80<="E"),VLOOKUP(B80,Key!$B$63:$C$127,2,FALSE),"") | J80: =J79+1 -> 68 | L80: =IF(AND(K80>="A",K80<="E"),VLOOKUP(J80,Key!$E$2:$F$73,2,FALSE),"") | R80: =R79+1 -> 68 | T80: =IF(AND(S80>="A",S80<="E"),VLOOKUP(R80,Key!$H$2:$I$278,2,FALSE),"") | AX80: =IF(AND(C80>"",C80=D80),1,0) -> 0 | AY80: =IF(AND(K80>"",K80=L80),1,0) -> 0 | AZ80: =IF(AND(S80>"",S80=T80),1,0) -> 0
B81: =B80+1 -> 8 | D81: =IF(AND(C81>="A",C81<="E"),VLOOKUP(B81,Key!$B$63:$C$127,2,FALSE),"") | J81: =J80+1 -> 69 | L81: =IF(AND(K81>="A",K81<="E"),VLOOKUP(J81,Key!$E$2:$F$73,2,FALSE),"") | R81: =R80+1 -> 69 | T81: =IF(AND(S81>="A",S81<="E"),VLOOKUP(R81,Key!$H$2:$I$278,2,FALSE),"") | AX81: =IF(AND(C81>"",C81=D81),1,0) -> 0 | AY81: =IF(AND(K81>"",K81=L81),1,0) -> 0 | AZ81: =IF(AND(S81>"",S81=T81),1,0) -> 0
B82: =B81+1 -> 9 | D82: =IF(AND(C82>="A",C82<="E"),VLOOKUP(B82,Key!$B$63:$C$127,2,FALSE),"") | J82: =J81+1 -> 70 | L82: =IF(AND(K82>="A",K82<="E"),VLOOKUP(J82,Key!$E$2:$F$73,2,FALSE),"") | R82: =R81+1 -> 70 | T82: =IF(AND(S82>="A",S82<="E"),VLOOKUP(R82,Key!$H$2:$I$278,2,FALSE),"") | AX82: =IF(AND(C82>"",C82=D82),1,0) -> 0 | AY82: =IF(AND(K82>"",K82=L82),1,0) -> 0 | AZ82: =IF(AND(S82>"",S82=T82),1,0) -> 0
B83: =B82+1 -> 10 | D83: =IF(AND(C83>="A",C83<="E"),VLOOKUP(B83,Key!$B$63:$C$127,2,FALSE),"") | J83: =J82+1 -> 71 | L83: =IF(AND(K83>="A",K83<="E"),VLOOKUP(J83,Key!$E$2:$F$73,2,FALSE),"") | R83: =R82+1 -> 71 | T83: =IF(AND(S83>="A",S83<="E"),VLOOKUP(R83,Key!$H$2:$I$278,2,FALSE),"") | AX83: =IF(AND(C83>"",C83=D83),1,0) -> 0 | AY83: =IF(AND(K83>"",K83=L83),1,0) -> 0 | AZ83: =IF(AND(S83>"",S83=T83),1,0) -> 0
B84: =B83+1 -> 11 | D84: =IF(AND(C84>="A",C84<="E"),VLOOKUP(B84,Key!$B$63:$C$127,2,FALSE),"") | J84: =J83+1 -> 72 | L84: =IF(AND(K84>="A",K84<="E"),VLOOKUP(J84,Key!$E$2:$F$73,2,FALSE),"") | R84: =R83+1 -> 72 | T84: =IF(AND(S84>="A",S84<="E"),VLOOKUP(R84,Key!$H$2:$I$278,2,FALSE),"") | AX84: =IF(AND(C84>"",C84=D84),1,0) -> 0 | AY84: =IF(AND(K84>"",K84=L84),1,0) -> 0 | AZ84: =IF(AND(S84>"",S84=T84),1,0) -> 0
B85: =B84+1 -> 12 | D85: =IF(AND(C85>="A",C85<="E"),VLOOKUP(B85,Key!$B$63:$C$127,2,FALSE),"") | I85: Part 2 | J85: 1 | L85: =IF(AND(K85>="A",K85<="E"),VLOOKUP(J85,Key!$E$74:$F$141,2,FALSE),"") | R85: =R84+1 -> 73 | T85: =IF(AND(S85>="A",S85<="E"),VLOOKUP(R85,Key!$H$2:$I$278,2,FALSE),"") | AX85: =IF(AND(C85>"",C85=D85),1,0) -> 0 | AY85: =IF(AND(K85>"",K85=L85),1,0) -> 0 | AZ85: =IF(AND(S85>"",S85=T85),1,0) -> 0
B86: =B85+1 -> 13 | D86: =IF(AND(C86>="A",C86<="E"),VLOOKUP(B86,Key!$B$63:$C$127,2,FALSE),"") | J86: =J85+1 -> 2 | L86: =IF(AND(K86>="A",K86<="E"),VLOOKUP(J86,Key!$E$74:$F$141,2,FALSE),"") | R86: =R85+1 -> 74 | T86: =IF(AND(S86>="A",S86<="E"),VLOOKUP(R86,Key!$H$2:$I$278,2,FALSE),"") | AX86: =IF(AND(C86>"",C86=D86),1,0) -> 0 | AY86: =IF(AND(K86>"",K86=L86),1,0) -> 0 | AZ86: =IF(AND(S86>"",S86=T86),1,0) -> 0
B87: =B86+1 -> 14 | D87: =IF(AND(C87>="A",C87<="E"),VLOOKUP(B87,Key!$B$63:$C$127,2,FALSE),"") | J87: =J86+1 -> 3 | L87: =IF(AND(K87>="A",K87<="E"),VLOOKUP(J87,Key!$E$74:$F$141,2,FALSE),"") | R87: =R86+1 -> 75 | T87: =IF(AND(S87>="A",S87<="E"),VLOOKUP(R87,Key!$H$2:$I$278,2,FALSE),"") | AX87: =IF(AND(C87>"",C87=D87),1,0) -> 0 | AY87: =IF(AND(K87>"",K87=L87),1,0) -> 0 | AZ87: =IF(AND(S87>"",S87=T87),1,0) -> 0
B88: =B87+1 -> 15 | D88: =IF(AND(C88>="A",C88<="E"),VLOOKUP(B88,Key!$B$63:$C$127,2,FALSE),"") | J88: =J87+1 -> 4 | L88: =IF(AND(K88>="A",K88<="E"),VLOOKUP(J88,Key!$E$74:$F$141,2,FALSE),"") | R88: =R87+1 -> 76 | T88: =IF(AND(S88>="A",S88<="E"),VLOOKUP(R88,Key!$H$2:$I$278,2,FALSE),"") | AX88: =IF(AND(C88>"",C88=D88),1,0) -> 0 | AY88: =IF(AND(K88>"",K88=L88),1,0) -> 0 | AZ88: =IF(AND(S88>"",S88=T88),1,0) -> 0
B89: =B88+1 -> 16 | D89: =IF(AND(C89>="A",C89<="E"),VLOOKUP(B89,Key!$B$63:$C$127,2,FALSE),"") | J89: =J88+1 -> 5 | L89: =IF(AND(K89>="A",K89<="E"),VLOOKUP(J89,Key!$E$74:$F$141,2,FALSE),"") | R89: =R88+1 -> 77 | T89: =IF(AND(S89>="A",S89<="E"),VLOOKUP(R89,Key!$H$2:$I$278,2,FALSE),"") | AX89: =IF(AND(C89>"",C89=D89),1,0) -> 0 | AY89: =IF(AND(K89>"",K89=L89),1,0) -> 0 | AZ89: =IF(AND(S89>"",S89=T89),1,0) -> 0
B90: =B89+1 -> 17 | D90: =IF(AND(C90>="A",C90<="E"),VLOOKUP(B90,Key!$B$63:$C$127,2,FALSE),"") | J90: =J89+1 -> 6 | L90: =IF(AND(K90>="A",K90<="E"),VLOOKUP(J90,Key!$E$74:$F$141,2,FALSE),"") | R90: =R89+1 -> 78 | T90: =IF(AND(S90>="A",S90<="E"),VLOOKUP(R90,Key!$H$2:$I$278,2,FALSE),"") | AX90: =IF(AND(C90>"",C90=D90),1,0) -> 0 | AY90: =IF(AND(K90>"",K90=L90),1,0) -> 0 | AZ90: =IF(AND(S90>"",S90=T90),1,0) -> 0
B91: =B90+1 -> 18 | D91: =IF(AND(C91>="A",C91<="E"),VLOOKUP(B91,Key!$B$63:$C$127,2,FALSE),"") | J91: =J90+1 -> 7 | L91: =IF(AND(K91>="A",K91<="E"),VLOOKUP(J91,Key!$E$74:$F$141,2,FALSE),"") | R91: =R90+1 -> 79 | T91: =IF(AND(S91>="A",S91<="E"),VLOOKUP(R91,Key!$H$2:$I$278,2,FALSE),"") | AX91: =IF(AND(C91>"",C91=D91),1,0) -> 0 | AY91: =IF(AND(K91>"",K91=L91),1,0) -> 0 | AZ91: =IF(AND(S91>"",S91=T91),1,0) -> 0
B92: =B91+1 -> 19 | D92: =IF(AND(C92>="A",C92<="E"),VLOOKUP(B92,Key!$B$63:$C$127,2,FALSE),"") | J92: =J91+1 -> 8 | L92: =IF(AND(K92>="A",K92<="E"),VLOOKUP(J92,Key!$E$74:$F$141,2,FALSE),"") | R92: =R91+1 -> 80 | T92: =IF(AND(S92>="A",S92<="E"),VLOOKUP(R92,Key!$H$2:$I$278,2,FALSE),"") | AX92: =IF(AND(C92>"",C92=D92),1,0) -> 0 | AY92: =IF(AND(K92>"",K92=L92),1,0) -> 0 | AZ92: =IF(AND(S92>"",S92=T92),1,0) -> 0
B93: =B92+1 -> 20 | D93: =IF(AND(C93>="A",C93<="E"),VLOOKUP(B93,Key!$B$63:$C$127,2,FALSE),"") | J93: =J92+1 -> 9 | L93: =IF(AND(K93>="A",K93<="E"),VLOOKUP(J93,Key!$E$74:$F$141,2,FALSE),"") | R93: =R92+1 -> 81 | T93: =IF(AND(S93>="A",S93<="E"),VLOOKUP(R93,Key!$H$2:$I$278,2,FALSE),"") | AX93: =IF(AND(C93>"",C93=D93),1,0) -> 0 | AY93: =IF(AND(K93>"",K93=L93),1,0) -> 0 | AZ93: =IF(AND(S93>"",S93=T93),1,0) -> 0
B94: =B93+1 -> 21 | D94: =IF(AND(C94>="A",C94<="E"),VLOOKUP(B94,Key!$B$63:$C$127,2,FALSE),"") | J94: =J93+1 -> 10 | L94: =IF(AND(K94>="A",K94<="E"),VLOOKUP(J94,Key!$E$74:$F$141,2,FALSE),"") | R94: =R93+1 -> 82 | T94: =IF(AND(S94>="A",S94<="E"),VLOOKUP(R94,Key!$H$2:$I$278,2,FALSE),"") | AX94: =IF(AND(C94>"",C94=D94),1,0) -> 0 | AY94: =IF(AND(K94>"",K94=L94),1,0) -> 0 | AZ94: =IF(AND(S94>"",S94=T94),1,0) -> 0
B95: =B94+1 -> 22 | D95: =IF(AND(C95>="A",C95<="E"),VLOOKUP(B95,Key!$B$63:$C$127,2,FALSE),"") | J95: =J94+1 -> 11 | L95: =IF(AND(K95>="A",K95<="E"),VLOOKUP(J95,Key!$E$74:$F$141,2,FALSE),"") | R95: =R94+1 -> 83 | T95: =IF(AND(S95>="A",S95<="E"),VLOOKUP(R95,Key!$H$2:$I$278,2,FALSE),"") | AX95: =IF(AND(C95>"",C95=D95),1,0) -> 0 | AY95: =IF(AND(K95>"",K95=L95),1,0) -> 0 | AZ95: =IF(AND(S95>"",S95=T95),1,0) -> 0
B96: =B95+1 -> 23 | D96: =IF(AND(C96>="A",C96<="E"),VLOOKUP(B96,Key!$B$63:$C$127,2,FALSE),"") | J96: =J95+1 -> 12 | L96: =IF(AND(K96>="A",K96<="E"),VLOOKUP(J96,Key!$E$74:$F$141,2,FALSE),"") | R96: =R95+1 -> 84 | T96: =IF(AND(S96>="A",S96<="E"),VLOOKUP(R96,Key!$H$2:$I$278,2,FALSE),"") | AX96: =IF(AND(C96>"",C96=D96),1,0) -> 0 | AY96: =IF(AND(K96>"",K96=L96),1,0) -> 0 | AZ96: =IF(AND(S96>"",S96=T96),1,0) -> 0
B97: =B96+1 -> 24 | D97: =IF(AND(C97>="A",C97<="E"),VLOOKUP(B97,Key!$B$63:$C$127,2,FALSE),"") | J97: =J96+1 -> 13 | L97: =IF(AND(K97>="A",K97<="E"),VLOOKUP(J97,Key!$E$74:$F$141,2,FALSE),"") | R97: =R96+1 -> 85 | T97: =IF(AND(S97>="A",S97<="E"),VLOOKUP(R97,Key!$H$2:$I$278,2,FALSE),"") | AX97: =IF(AND(C97>"",C97=D97),1,0) -> 0 | AY97: =IF(AND(K97>"",K97=L97),1,0) -> 0 | AZ97: =IF(AND(S97>"",S97=T97),1,0) -> 0
... B138: =B137+1 -> 65 | D138: =IF(AND(C138>="A",C138<="E"),VLOOKUP(B138,Key!$B$63:$C$127,2,FALSE),"") | J138: =J137+1 -> 54 | L138: =IF(AND(K138>="A",K138<="E"),VLOOKUP(J138,Key!$E$74:$F$141,2,FALSE),"") | R138: =R137+1 -> 126 | T138: =IF(AND(S138>="A",S138<="E"),VLOOKUP(R138,Key!$H$2:$I$278,2,FALSE),"") | AX138: =IF(AND(C138>"",C138=D138),1,0) -> 0 | AY138: =IF(AND(K138>"",K138=L138),1,0) -> 0 | AZ138: =IF(AND(S138>"",S138=T138),1,0) -> 0
A139: Part 3 | B139: 1 | D139: =IF(AND(C139>="A",C139<="E"),VLOOKUP(B139,Key!$B$128:$C$402,2,FALSE),"") | J139: =J138+1 -> 55 | L139: =IF(AND(K139>="A",K139<="E"),VLOOKUP(J139,Key!$E$74:$F$141,2,FALSE),"") | R139: =R138+1 -> 127 | T139: =IF(AND(S139>="A",S139<="E"),VLOOKUP(R139,Key!$H$2:$I$278,2,FALSE),"") | AX139: =IF(AND(C139>"",C139=D139),1,0) -> 0 | AY139: =IF(AND(K139>"",K139=L139),1,0) -> 0 | AZ139: =IF(AND(S139>"",S139=T139),1,0) -> 0
B140: =B139+1 -> 2 | D140: =IF(AND(C140>="A",C140<="E"),VLOOKUP(B140,Key!$B$128:$C$402,2,FALSE),"") | J140: =J139+1 -> 56 | L140: =IF(AND(K140>="A",K140<="E"),VLOOKUP(J140,Key!$E$74:$F$141,2,FALSE),"") | R140: =R139+1 -> 128 | T140: =IF(AND(S140>="A",S140<="E"),VLOOKUP(R140,Key!$H$2:$I$278,2,FALSE),"") | AX140: =IF(AND(C140>"",C140=D140),1,0) -> 0 | AY140: =IF(AND(K140>"",K140=L140),1,0) -> 0 | AZ140: =IF(AND(S140>"",S140=T140),1,0) -> 0
B141: =B140+1 -> 3 | D141: =IF(AND(C141>="A",C141<="E"),VLOOKUP(B141,Key!$B$128:$C$402,2,FALSE),"") | J141: =J140+1 -> 57 | L141: =IF(AND(K141>="A",K141<="E"),VLOOKUP(J141,Key!$E$74:$F$141,2,FALSE),"") | R141: =R140+1 -> 129 | T141: =IF(AND(S141>="A",S141<="E"),VLOOKUP(R141,Key!$H$2:$I$278,2,FALSE),"") | AX141: =IF(AND(C141>"",C141=D141),1,0) -> 0 | AY141: =IF(AND(K141>"",K141=L141),1,0) -> 0 | AZ141: =IF(AND(S141>"",S141=T141),1,0) -> 0
B142: =B141+1 -> 4 | D142: =IF(AND(C142>="A",C142<="E"),VLOOKUP(B142,Key!$B$128:$C$402,2,FALSE),"") | J142: =J141+1 -> 58 | L142: =IF(AND(K142>="A",K142<="E"),VLOOKUP(J142,Key!$E$74:$F$141,2,FALSE),"") | R142: =R141+1 -> 130 | T142: =IF(AND(S142>="A",S142<="E"),VLOOKUP(R142,Key!$H$2:$I$278,2,FALSE),"") | AX142: =IF(AND(C142>"",C142=D142),1,0) -> 0 | AY142: =IF(AND(K142>"",K142=L142),1,0) -> 0 | AZ142: =IF(AND(S142>"",S142=T142),1,0) -> 0
B143: =B142+1 -> 5 | D143: =IF(AND(C143>="A",C143<="E"),VLOOKUP(B143,Key!$B$128:$C$402,2,FALSE),"") | J143: =J142+1 -> 59 | L143: =IF(AND(K143>="A",K143<="E"),VLOOKUP(J143,Key!$E$74:$F$141,2,FALSE),"") | R143: =R142+1 -> 131 | T143: =IF(AND(S143>="A",S143<="E"),VLOOKUP(R143,Key!$H$2:$I$278,2,FALSE),"") | AX143: =IF(AND(C143>"",C143=D143),1,0) -> 0 | AY143: =IF(AND(K143>"",K143=L143),1,0) -> 0 | AZ143: =IF(AND(S143>"",S143=T143),1,0) -> 0
B144: =B143+1 -> 6 | D144: =IF(AND(C144>="A",C144<="E"),VLOOKUP(B144,Key!$B$128:$C$402,2,FALSE),"") | J144: =J143+1 -> 60 | L144: =IF(AND(K144>="A",K144<="E"),VLOOKUP(J144,Key!$E$74:$F$141,2,FALSE),"") | R144: =R143+1 -> 132 | T144: =IF(AND(S144>="A",S144<="E"),VLOOKUP(R144,Key!$H$2:$I$278,2,FALSE),"") | AX144: =IF(AND(C144>"",C144=D144),1,0) -> 0 | AY144: =IF(AND(K144>"",K144=L144),1,0) -> 0 | AZ144: =IF(AND(S144>"",S144=T144),1,0) -> 0
B145: =B144+1 -> 7 | D145: =IF(AND(C145>="A",C145<="E"),VLOOKUP(B145,Key!$B$128:$C$402,2,FALSE),"") | J145: =J144+1 -> 61 | L145: =IF(AND(K145>="A",K145<="E"),VLOOKUP(J145,Key!$E$74:$F$141,2,FALSE),"") | R145: =R144+1 -> 133 | T145: =IF(AND(S145>="A",S145<="E"),VLOOKUP(R145,Key!$H$2:$I$278,2,FALSE),"") | AX145: =IF(AND(C145>"",C145=D145),1,0) -> 0 | AY145: =IF(AND(K145>"",K145=L145),1,0) -> 0 | AZ145: =IF(AND(S145>"",S145=T145),1,0) -> 0
B146: =B145+1 -> 8 | D146: =IF(AND(C146>="A",C146<="E"),VLOOKUP(B146,Key!$B$128:$C$402,2,FALSE),"") | J146: =J145+1 -> 62 | L146: =IF(AND(K146>="A",K146<="E"),VLOOKUP(J146,Key!$E$74:$F$141,2,FALSE),"") | R146: =R145+1 -> 134 | T146: =IF(AND(S146>="A",S146<="E"),VLOOKUP(R146,Key!$H$2:$I$278,2,FALSE),"") | AX146: =IF(AND(C146>"",C146=D146),1,0) -> 0 | AY146: =IF(AND(K146>"",K146=L146),1,0) -> 0 | AZ146: =IF(AND(S146>"",S146=T146),1,0) -> 0
B147: =B146+1 -> 9 | D147: =IF(AND(C147>="A",C147<="E"),VLOOKUP(B147,Key!$B$128:$C$402,2,FALSE),"") | J147: =J146+1 -> 63 | L147: =IF(AND(K147>="A",K147<="E"),VLOOKUP(J147,Key!$E$74:$F$141,2,FALSE),"") | R147: =R146+1 -> 135 | T147: =IF(AND(S147>="A",S147<="E"),VLOOKUP(R147,Key!$H$2:$I$278,2,FALSE),"") | AX147: =IF(AND(C147>"",C147=D147),1,0) -> 0 | AY147: =IF(AND(K147>"",K147=L147),1,0) -> 0 | AZ147: =IF(AND(S147>"",S147=T147),1,0) -> 0
B148: =B147+1 -> 10 | D148: =IF(AND(C148>="A",C148<="E"),VLOOKUP(B148,Key!$B$128:$C$402,2,FALSE),"") | J148: =J147+1 -> 64 | L148: =IF(AND(K148>="A",K148<="E"),VLOOKUP(J148,Key!$E$74:$F$141,2,FALSE),"") | R148: =R147+1 -> 136 | T148: =IF(AND(S148>="A",S148<="E"),VLOOKUP(R148,Key!$H$2:$I$278,2,FALSE),"") | AX148: =IF(AND(C148>"",C148=D148),1,0) -> 0 | AY148: =IF(AND(K148>"",K148=L148),1,0) -> 0 | AZ148: =IF(AND(S148>"",S148=T148),1,0) -> 0
B149: =B148+1 -> 11 | D149: =IF(AND(C149>="A",C149<="E"),VLOOKUP(B149,Key!$B$128:$C$402,2,FALSE),"") | J149: =J148+1 -> 65 | L149: =IF(AND(K149>="A",K149<="E"),VLOOKUP(J149,Key!$E$74:$F$141,2,FALSE),"") | R149: =R148+1 -> 137 | T149: =IF(AND(S149>="A",S149<="E"),VLOOKUP(R149,Key!$H$2:$I$278,2,FALSE),"") | AX149: =IF(AND(C149>"",C149=D149),1,0) -> 0 | AY149: =IF(AND(K149>"",K149=L149),1,0) -> 0 | AZ149: =IF(AND(S149>"",S149=T149),1,0) -> 0
B150: =B149+1 -> 12 | D150: =IF(AND(C150>="A",C150<="E"),VLOOKUP(B150,Key!$B$128:$C$402,2,FALSE),"") | J150: =J149+1 -> 66 | L150: =IF(AND(K150>="A",K150<="E"),VLOOKUP(J150,Key!$E$74:$F$141,2,FALSE),"") | R150: =R149+1 -> 138 | T150: =IF(AND(S150>="A",S150<="E"),VLOOKUP(R150,Key!$H$2:$I$278,2,FALSE),"") | AX150: =IF(AND(C150>"",C150=D150),1,0) -> 0 | AY150: =IF(AND(K150>"",K150=L150),1,0) -> 0 | AZ150: =IF(AND(S150>"",S150=T150),1,0) -> 0
B151: =B150+1 -> 13 | D151: =IF(AND(C151>="A",C151<="E"),VLOOKUP(B151,Key!$B$128:$C$402,2,FALSE),"") | J151: =J150+1 -> 67 | L151: =IF(AND(K151>="A",K151<="E"),VLOOKUP(J151,Key!$E$74:$F$141,2,FALSE),"") | R151: =R150+1 -> 139 | T151: =IF(AND(S151>="A",S151<="E"),VLOOKUP(R151,Key!$H$2:$I$278,2,FALSE),"") | AX151: =IF(AND(C151>"",C151=D151),1,0) -> 0 | AY151: =IF(AND(K151>"",K151=L151),1,0) -> 0 | AZ151: =IF(AND(S151>"",S151=T151),1,0) -> 0
B152: =B151+1 -> 14 | D152: =IF(AND(C152>="A",C152<="E"),VLOOKUP(B152,Key!$B$128:$C$402,2,FALSE),"") | J152: =J151+1 -> 68 | L152: =IF(AND(K152>="A",K152<="E"),VLOOKUP(J152,Key!$E$74:$F$141,2,FALSE),"") | R152: =R151+1 -> 140 | T152: =IF(AND(S152>="A",S152<="E"),VLOOKUP(R152,Key!$H$2:$I$278,2,FALSE),"") | AX152: =IF(AND(C152>"",C152=D152),1,0) -> 0 | AY152: =IF(AND(K152>"",K152=L152),1,0) -> 0 | AZ152: =IF(AND(S152>"",S152=T152),1,0) -> 0
B153: =B152+1 -> 15 | D153: =IF(AND(C153>="A",C153<="E"),VLOOKUP(B153,Key!$B$128:$C$402,2,FALSE),"") | I153: Part 3 | J153: 1 | L153: =IF(AND(K153>="A",K153<="E"),VLOOKUP(J153,Key!$E$142:$F$269,2,FALSE),"") | R153: =R152+1 -> 141 | T153: =IF(AND(S153>="A",S153<="E"),VLOOKUP(R153,Key!$H$2:$I$278,2,FALSE),"") | AX153: =IF(AND(C153>"",C153=D153),1,0) -> 0 | AY153: =IF(AND(K153>"",K153=L153),1,0) -> 0 | AZ153: =IF(AND(S153>"",S153=T153),1,0) -> 0
B154: =B153+1 -> 16 | D154: =IF(AND(C154>="A",C154<="E"),VLOOKUP(B154,Key!$B$128:$C$402,2,FALSE),"") | J154: =J153+1 -> 2 | L154: =IF(AND(K154>="A",K154<="E"),VLOOKUP(J154,Key!$E$142:$F$269,2,FALSE),"") | R154: =R153+1 -> 142 | T154: =IF(AND(S154>="A",S154<="E"),VLOOKUP(R154,Key!$H$2:$I$278,2,FALSE),"") | AX154: =IF(AND(C154>"",C154=D154),1,0) -> 0 | AY154: =IF(AND(K154>"",K154=L154),1,0) -> 0 | AZ154: =IF(AND(S154>"",S154=T154),1,0) -> 0
B155: =B154+1 -> 17 | D155: =IF(AND(C155>="A",C155<="E"),VLOOKUP(B155,Key!$B$128:$C$402,2,FALSE),"") | J155: =J154+1 -> 3 | L155: =IF(AND(K155>="A",K155<="E"),VLOOKUP(J155,Key!$E$142:$F$269,2,FALSE),"") | R155: =R154+1 -> 143 | T155: =IF(AND(S155>="A",S155<="E"),VLOOKUP(R155,Key!$H$2:$I$278,2,FALSE),"") | AX155: =IF(AND(C155>"",C155=D155),1,0) -> 0 | AY155: =IF(AND(K155>"",K155=L155),1,0) -> 0 | AZ155: =IF(AND(S155>"",S155=T155),1,0) -> 0
B156: =B155+1 -> 18 | D156: =IF(AND(C156>="A",C156<="E"),VLOOKUP(B156,Key!$B$128:$C$402,2,FALSE),"") | J156: =J155+1 -> 4 | L156: =IF(AND(K156>="A",K156<="E"),VLOOKUP(J156,Key!$E$142:$F$269,2,FALSE),"") | R156: =R155+1 -> 144 | T156: =IF(AND(S156>="A",S156<="E"),VLOOKUP(R156,Key!$H$2:$I$278,2,FALSE),"") | AX156: =IF(AND(C156>"",C156=D156),1,0) -> 0 | AY156: =IF(AND(K156>"",K156=L156),1,0) -> 0 | AZ156: =IF(AND(S156>"",S156=T156),1,0) -> 0
B157: =B156+1 -> 19 | D157: =IF(AND(C157>="A",C157<="E"),VLOOKUP(B157,Key!$B$128:$C$402,2,FALSE),"") | J157: =J156+1 -> 5 | L157: =IF(AND(K157>="A",K157<="E"),VLOOKUP(J157,Key!$E$142:$F$269,2,FALSE),"") | R157: =R156+1 -> 145 | T157: =IF(AND(S157>="A",S157<="E"),VLOOKUP(R157,Key!$H$2:$I$278,2,FALSE),"") | AX157: =IF(AND(C157>"",C157=D157),1,0) -> 0 | AY157: =IF(AND(K157>"",K157=L157),1,0) -> 0 | AZ157: =IF(AND(S157>"",S157=T157),1,0) -> 0
B158: =B157+1 -> 20 | D158: =IF(AND(C158>="A",C158<="E"),VLOOKUP(B158,Key!$B$128:$C$402,2,FALSE),"") | J158: =J157+1 -> 6 | L158: =IF(AND(K158>="A",K158<="E"),VLOOKUP(J158,Key!$E$142:$F$269,2,FALSE),"") | R158: =R157+1 -> 146 | T158: =IF(AND(S158>="A",S158<="E"),VLOOKUP(R158,Key!$H$2:$I$278,2,FALSE),"") | AX158: =IF(AND(C158>"",C158=D158),1,0) -> 0 | AY158: =IF(AND(K158>"",K158=L158),1,0) -> 0 | AZ158: =IF(AND(S158>"",S158=T158),1,0) -> 0
B159: =B158+1 -> 21 | D159: =IF(AND(C159>="A",C159<="E"),VLOOKUP(B159,Key!$B$128:$C$402,2,FALSE),"") | J159: =J158+1 -> 7 | L159: =IF(AND(K159>="A",K159<="E"),VLOOKUP(J159,Key!$E$142:$F$269,2,FALSE),"") | R159: =R158+1 -> 147 | T159: =IF(AND(S159>="A",S159<="E"),VLOOKUP(R159,Key!$H$2:$I$278,2,FALSE),"") | AX159: =IF(AND(C159>"",C159=D159),1,0) -> 0 | AY159: =IF(AND(K159>"",K159=L159),1,0) -> 0 | AZ159: =IF(AND(S159>"",S159=T159),1,0) -> 0
B160: =B159+1 -> 22 | D160: =IF(AND(C160>="A",C160<="E"),VLOOKUP(B160,Key!$B$128:$C$402,2,FALSE),"") | J160: =J159+1 -> 8 | L160: =IF(AND(K160>="A",K160<="E"),VLOOKUP(J160,Key!$E$142:$F$269,2,FALSE),"") | R160: =R159+1 -> 148 | T160: =IF(AND(S160>="A",S160<="E"),VLOOKUP(R160,Key!$H$2:$I$278,2,FALSE),"") | AX160: =IF(AND(C160>"",C160=D160),1,0) -> 0 | AY160: =IF(AND(K160>"",K160=L160),1,0) -> 0 | AZ160: =IF(AND(S160>"",S160=T160),1,0) -> 0
B161: =B160+1 -> 23 | D161: =IF(AND(C161>="A",C161<="E"),VLOOKUP(B161,Key!$B$128:$C$402,2,FALSE),"") | J161: =J160+1 -> 9 | L161: =IF(AND(K161>="A",K161<="E"),VLOOKUP(J161,Key!$E$142:$F$269,2,FALSE),"") | R161: =R160+1 -> 149 | T161: =IF(AND(S161>="A",S161<="E"),VLOOKUP(R161,Key!$H$2:$I$278,2,FALSE),"") | AX161: =IF(AND(C161>"",C161=D161),1,0) -> 0 | AY161: =IF(AND(K161>"",K161=L161),1,0) -> 0 | AZ161: =IF(AND(S161>"",S161=T161),1,0) -> 0
B162: =B161+1 -> 24 | D162: =IF(AND(C162>="A",C162<="E"),VLOOKUP(B162,Key!$B$128:$C$402,2,FALSE),"") | J162: =J161+1 -> 10 | L162: =IF(AND(K162>="A",K162<="E"),VLOOKUP(J162,Key!$E$142:$F$269,2,FALSE),"") | R162: =R161+1 -> 150 | T162: =IF(AND(S162>="A",S162<="E"),VLOOKUP(R162,Key!$H$2:$I$278,2,FALSE),"") | AX162: =IF(AND(C162>"",C162=D162),1,0) -> 0 | AY162: =IF(AND(K162>"",K162=L162),1,0) -> 0 | AZ162: =IF(AND(S162>"",S162=T162),1,0) -> 0
B163: =B162+1 -> 25 | D163: =IF(AND(C163>="A",C163<="E"),VLOOKUP(B163,Key!$B$128:$C$402,2,FALSE),"") | J163: =J162+1 -> 11 | L163: =IF(AND(K163>="A",K163<="E"),VLOOKUP(J163,Key!$E$142:$F$269,2,FALSE),"") | R163: =R162+1 -> 151 | T163: =IF(AND(S163>="A",S163<="E"),VLOOKUP(R163,Key!$H$2:$I$278,2,FALSE),"") | AX163: =IF(AND(C163>"",C163=D163),1,0) -> 0 | AY163: =IF(AND(K163>"",K163=L163),1,0) -> 0 | AZ163: =IF(AND(S163>"",S163=T163),1,0) -> 0
B164: =B163+1 -> 26 | D164: =IF(AND(C164>="A",C164<="E"),VLOOKUP(B164,Key!$B$128:$C$402,2,FALSE),"") | J164: =J163+1 -> 12 | L164: =IF(AND(K164>="A",K164<="E"),VLOOKUP(J164,Key!$E$142:$F$269,2,FALSE),"") | R164: =R163+1 -> 152 | T164: =IF(AND(S164>="A",S164<="E"),VLOOKUP(R164,Key!$H$2:$I$278,2,FALSE),"") | AX164: =IF(AND(C164>"",C164=D164),1,0) -> 0 | AY164: =IF(AND(K164>"",K164=L164),1,0) -> 0 | AZ164: =IF(AND(S164>"",S164=T164),1,0) -> 0
B165: =B164+1 -> 27 | D165: =IF(AND(C165>="A",C165<="E"),VLOOKUP(B165,Key!$B$128:$C$402,2,FALSE),"") | J165: =J164+1 -> 13 | L165: =IF(AND(K165>="A",K165<="E"),VLOOKUP(J165,Key!$E$142:$F$269,2,FALSE),"") | R165: =R164+1 -> 153 | T165: =IF(AND(S165>="A",S165<="E"),VLOOKUP(R165,Key!$H$2:$I$278,2,FALSE),"") | AX165: =IF(AND(C165>"",C165=D165),1,0) -> 0 | AY165: =IF(AND(K165>"",K165=L165),1,0) -> 0 | AZ165: =IF(AND(S165>"",S165=T165),1,0) -> 0
... B280: =B279+1 -> 142 | D280: =IF(AND(C280>="A",C280<="E"),VLOOKUP(B280,Key!$B$128:$C$402,2,FALSE),"") | J280: =J279+1 -> 128 | L280: =IF(AND(K280>="A",K280<="E"),VLOOKUP(J280,Key!$E$142:$F$269,2,FALSE),"") | R280: =R279+1 -> 268 | T280: =IF(AND(S280>="A",S280<="E"),VLOOKUP(R280,Key!$H$2:$I$278,2,FALSE),"") | AX280: =IF(AND(C280>"",C280=D280),1,0) -> 0 | AY280: =IF(AND(K280>"",K280=L280),1,0) -> 0 | AZ280: =IF(AND(S280>"",S280=T280),1,0) -> 0
B281: =B280+1 -> 143 | D281: =IF(AND(C281>="A",C281<="E"),VLOOKUP(B281,Key!$B$128:$C$402,2,FALSE),"") | I281: Part 4 | J281: 1 | L281: =IF(AND(K281>="A",K281<="E"),VLOOKUP(J281,Key!$E$270:$F$419,2,FALSE),"") | R281: =R280+1 -> 269 | T281: =IF(AND(S281>="A",S281<="E"),VLOOKUP(R281,Key!$H$2:$I$278,2,FALSE),"") | AX281: =IF(AND(C281>"",C281=D281),1,0) -> 0 | AY281: =IF(AND(K281>"",K281=L281),1,0) -> 0 | AZ281: =IF(AND(S281>"",S281=T281),1,0) -> 0
B282: =B281+1 -> 144 | D282: =IF(AND(C282>="A",C282<="E"),VLOOKUP(B282,Key!$B$128:$C$402,2,FALSE),"") | J282: =J281+1 -> 2 | L282: =IF(AND(K282>="A",K282<="E"),VLOOKUP(J282,Key!$E$270:$F$419,2,FALSE),"") | R282: =R281+1 -> 270 | T282: =IF(AND(S282>="A",S282<="E"),VLOOKUP(R282,Key!$H$2:$I$278,2,FALSE),"") | AX282: =IF(AND(C282>"",C282=D282),1,0) -> 0 | AY282: =IF(AND(K282>"",K282=L282),1,0) -> 0 | AZ282: =IF(AND(S282>"",S282=T282),1,0) -> 0
B283: =B282+1 -> 145 | D283: =IF(AND(C283>="A",C283<="E"),VLOOKUP(B283,Key!$B$128:$C$402,2,FALSE),"") | J283: =J282+1 -> 3 | L283: =IF(AND(K283>="A",K283<="E"),VLOOKUP(J283,Key!$E$270:$F$419,2,FALSE),"") | R283: =R282+1 -> 271 | T283: =IF(AND(S283>="A",S283<="E"),VLOOKUP(R283,Key!$H$2:$I$278,2,FALSE),"") | AX283: =IF(AND(C283>"",C283=D283),1,0) -> 0 | AY283: =IF(AND(K283>"",K283=L283),1,0) -> 0 | AZ283: =IF(AND(S283>"",S283=T283),1,0) -> 0
B284: =B283+1 -> 146 | D284: =IF(AND(C284>="A",C284<="E"),VLOOKUP(B284,Key!$B$128:$C$402,2,FALSE),"") | J284: =J283+1 -> 4 | L284: =IF(AND(K284>="A",K284<="E"),VLOOKUP(J284,Key!$E$270:$F$419,2,FALSE),"") | R284: =R283+1 -> 272 | T284: =IF(AND(S284>="A",S284<="E"),VLOOKUP(R284,Key!$H$2:$I$278,2,FALSE),"") | AX284: =IF(AND(C284>"",C284=D284),1,0) -> 0 | AY284: =IF(AND(K284>"",K284=L284),1,0) -> 0 | AZ284: =IF(AND(S284>"",S284=T284),1,0) -> 0
B285: =B284+1 -> 147 | D285: =IF(AND(C285>="A",C285<="E"),VLOOKUP(B285,Key!$B$128:$C$402,2,FALSE),"") | J285: =J284+1 -> 5 | L285: =IF(AND(K285>="A",K285<="E"),VLOOKUP(J285,Key!$E$270:$F$419,2,FALSE),"") | R285: =R284+1 -> 273 | T285: =IF(AND(S285>="A",S285<="E"),VLOOKUP(R285,Key!$H$2:$I$278,2,FALSE),"") | AX285: =IF(AND(C285>"",C285=D285),1,0) -> 0 | AY285: =IF(AND(K285>"",K285=L285),1,0) -> 0 | AZ285: =IF(AND(S285>"",S285=T285),1,0) -> 0
B286: =B285+1 -> 148 | D286: =IF(AND(C286>="A",C286<="E"),VLOOKUP(B286,Key!$B$128:$C$402,2,FALSE),"") | J286: =J285+1 -> 6 | L286: =IF(AND(K286>="A",K286<="E"),VLOOKUP(J286,Key!$E$270:$F$419,2,FALSE),"") | R286: =R285+1 -> 274 | T286: =IF(AND(S286>="A",S286<="E"),VLOOKUP(R286,Key!$H$2:$I$278,2,FALSE),"") | AX286: =IF(AND(C286>"",C286=D286),1,0) -> 0 | AY286: =IF(AND(K286>"",K286=L286),1,0) -> 0 | AZ286: =IF(AND(S286>"",S286=T286),1,0) -> 0
B287: =B286+1 -> 149 | D287: =IF(AND(C287>="A",C287<="E"),VLOOKUP(B287,Key!$B$128:$C$402,2,FALSE),"") | J287: =J286+1 -> 7 | L287: =IF(AND(K287>="A",K287<="E"),VLOOKUP(J287,Key!$E$270:$F$419,2,FALSE),"") | R287: =R286+1 -> 275 | T287: =IF(AND(S287>="A",S287<="E"),VLOOKUP(R287,Key!$H$2:$I$278,2,FALSE),"") | AX287: =IF(AND(C287>"",C287=D287),1,0) -> 0 | AY287: =IF(AND(K287>"",K287=L287),1,0) -> 0 | AZ287: =IF(AND(S287>"",S287=T287),1,0) -> 0
B288: =B287+1 -> 150 | D288: =IF(AND(C288>="A",C288<="E"),VLOOKUP(B288,Key!$B$128:$C$402,2,FALSE),"") | J288: =J287+1 -> 8 | L288: =IF(AND(K288>="A",K288<="E"),VLOOKUP(J288,Key!$E$270:$F$419,2,FALSE),"") | R288: =R287+1 -> 276 | T288: =IF(AND(S288>="A",S288<="E"),VLOOKUP(R288,Key!$H$2:$I$278,2,FALSE),"") | AX288: =IF(AND(C288>"",C288=D288),1,0) -> 0 | AY288: =IF(AND(K288>"",K288=L288),1,0) -> 0 | AZ288: =IF(AND(S288>"",S288=T288),1,0) -> 0
B289: =B288+1 -> 151 | D289: =IF(AND(C289>="A",C289<="E"),VLOOKUP(B289,Key!$B$128:$C$402,2,FALSE),"") | J289: =J288+1 -> 9 | L289: =IF(AND(K289>="A",K289<="E"),VLOOKUP(J289,Key!$E$270:$F$419,2,FALSE),"") | R289: =R288+1 -> 277 | T289: =IF(AND(S289>="A",S289<="E"),VLOOKUP(R289,Key!$H$2:$I$278,2,FALSE),"") | AX289: =IF(AND(C289>"",C289=D289),1,0) -> 0 | AY289: =IF(AND(K289>"",K289=L289),1,0) -> 0 | AZ289: =IF(AND(S289>"",S289=T289),1,0) -> 0
B290: =B289+1 -> 152 | D290: =IF(AND(C290>="A",C290<="E"),VLOOKUP(B290,Key!$B$128:$C$402,2,FALSE),"") | J290: =J289+1 -> 10 | L290: =IF(AND(K290>="A",K290<="E"),VLOOKUP(J290,Key!$E$270:$F$419,2,FALSE),"") | Q290: Part 2 | R290: 1 | T290: =IF(AND(S290>="A",S290<="E"),VLOOKUP(R290,Key!$H$279:$I$472,2,FALSE),"") | AX290: =IF(AND(C290>"",C290=D290),1,0) -> 0 | AY290: =IF(AND(K290>"",K290=L290),1,0) -> 0 | AZ290: =IF(AND(S290>"",S290=T290),1,0) -> 0
B291: =B290+1 -> 153 | D291: =IF(AND(C291>="A",C291<="E"),VLOOKUP(B291,Key!$B$128:$C$402,2,FALSE),"") | J291: =J290+1 -> 11 | L291: =IF(AND(K291>="A",K291<="E"),VLOOKUP(J291,Key!$E$270:$F$419,2,FALSE),"") | R291: =R290+1 -> 2 | T291: =IF(AND(S291>="A",S291<="E"),VLOOKUP(R291,Key!$H$279:$I$472,2,FALSE),"") | AX291: =IF(AND(C291>"",C291=D291),1,0) -> 0 | AY291: =IF(AND(K291>"",K291=L291),1,0) -> 0 | AZ291: =IF(AND(S291>"",S291=T291),1,0) -> 0
B292: =B291+1 -> 154 | D292: =IF(AND(C292>="A",C292<="E"),VLOOKUP(B292,Key!$B$128:$C$402,2,FALSE),"") | J292: =J291+1 -> 12 | L292: =IF(AND(K292>="A",K292<="E"),VLOOKUP(J292,Key!$E$270:$F$419,2,FALSE),"") | R292: =R291+1 -> 3 | T292: =IF(AND(S292>="A",S292<="E"),VLOOKUP(R292,Key!$H$279:$I$472,2,FALSE),"") | AX292: =IF(AND(C292>"",C292=D292),1,0) -> 0 | AY292: =IF(AND(K292>"",K292=L292),1,0) -> 0 | AZ292: =IF(AND(S292>"",S292=T292),1,0) -> 0
B293: =B292+1 -> 155 | D293: =IF(AND(C293>="A",C293<="E"),VLOOKUP(B293,Key!$B$128:$C$402,2,FALSE),"") | J293: =J292+1 -> 13 | L293: =IF(AND(K293>="A",K293<="E"),VLOOKUP(J293,Key!$E$270:$F$419,2,FALSE),"") | R293: =R292+1 -> 4 | T293: =IF(AND(S293>="A",S293<="E"),VLOOKUP(R293,Key!$H$279:$I$472,2,FALSE),"") | AX293: =IF(AND(C293>"",C293=D293),1,0) -> 0 | AY293: =IF(AND(K293>"",K293=L293),1,0) -> 0 | AZ293: =IF(AND(S293>"",S293=T293),1,0) -> 0
B294: =B293+1 -> 156 | D294: =IF(AND(C294>="A",C294<="E"),VLOOKUP(B294,Key!$B$128:$C$402,2,FALSE),"") | J294: =J293+1 -> 14 | L294: =IF(AND(K294>="A",K294<="E"),VLOOKUP(J294,Key!$E$270:$F$419,2,FALSE),"") | R294: =R293+1 -> 5 | T294: =IF(AND(S294>="A",S294<="E"),VLOOKUP(R294,Key!$H$279:$I$472,2,FALSE),"") | AX294: =IF(AND(C294>"",C294=D294),1,0) -> 0 | AY294: =IF(AND(K294>"",K294=L294),1,0) -> 0 | AZ294: =IF(AND(S294>"",S294=T294),1,0) -> 0
B295: =B294+1 -> 157 | D295: =IF(AND(C295>="A",C295<="E"),VLOOKUP(B295,Key!$B$128:$C$402,2,FALSE),"") | J295: =J294+1 -> 15 | L295: =IF(AND(K295>="A",K295<="E"),VLOOKUP(J295,Key!$E$270:$F$419,2,FALSE),"") | R295: =R294+1 -> 6 | T295: =IF(AND(S295>="A",S295<="E"),VLOOKUP(R295,Key!$H$279:$I$472,2,FALSE),"") | AX295: =IF(AND(C295>"",C295=D295),1,0) -> 0 | AY295: =IF(AND(K295>"",K295=L295),1,0) -> 0 | AZ295: =IF(AND(S295>"",S295=T295),1,0) -> 0
B296: =B295+1 -> 158 | D296: =IF(AND(C296>="A",C296<="E"),VLOOKUP(B296,Key!$B$128:$C$402,2,FALSE),"") | J296: =J295+1 -> 16 | L296: =IF(AND(K296>="A",K296<="E"),VLOOKUP(J296,Key!$E$270:$F$419,2,FALSE),"") | R296: =R295+1 -> 7 | T296: =IF(AND(S296>="A",S296<="E"),VLOOKUP(R296,Key!$H$279:$I$472,2,FALSE),"") | AX296: =IF(AND(C296>"",C296=D296),1,0) -> 0 | AY296: =IF(AND(K296>"",K296=L296),1,0) -> 0 | AZ296: =IF(AND(S296>"",S296=T296),1,0) -> 0
B297: =B296+1 -> 159 | D297: =IF(AND(C297>="A",C297<="E"),VLOOKUP(B297,Key!$B$128:$C$402,2,FALSE),"") | J297: =J296+1 -> 17 | L297: =IF(AND(K297>="A",K297<="E"),VLOOKUP(J297,Key!$E$270:$F$419,2,FALSE),"") | R297: =R296+1 -> 8 | T297: =IF(AND(S297>="A",S297<="E"),VLOOKUP(R297,Key!$H$279:$I$472,2,FALSE),"") | AX297: =IF(AND(C297>"",C297=D297),1,0) -> 0 | AY297: =IF(AND(K297>"",K297=L297),1,0) -> 0 | AZ297: =IF(AND(S297>"",S297=T297),1,0) -> 0
B298: =B297+1 -> 160 | D298: =IF(AND(C298>="A",C298<="E"),VLOOKUP(B298,Key!$B$128:$C$402,2,FALSE),"") | J298: =J297+1 -> 18 | L298: =IF(AND(K298>="A",K298<="E"),VLOOKUP(J298,Key!$E$270:$F$419,2,FALSE),"") | R298: =R297+1 -> 9 | T298: =IF(AND(S298>="A",S298<="E"),VLOOKUP(R298,Key!$H$279:$I$472,2,FALSE),"") | AX298: =IF(AND(C298>"",C298=D298),1,0) -> 0 | AY298: =IF(AND(K298>"",K298=L298),1,0) -> 0 | AZ298: =IF(AND(S298>"",S298=T298),1,0) -> 0
B299: =B298+1 -> 161 | D299: =IF(AND(C299>="A",C299<="E"),VLOOKUP(B299,Key!$B$128:$C$402,2,FALSE),"") | J299: =J298+1 -> 19 | L299: =IF(AND(K299>="A",K299<="E"),VLOOKUP(J299,Key!$E$270:$F$419,2,FALSE),"") | R299: =R298+1 -> 10 | T299: =IF(AND(S299>="A",S299<="E"),VLOOKUP(R299,Key!$H$279:$I$472,2,FALSE),"") | AX299: =IF(AND(C299>"",C299=D299),1,0) -> 0 | AY299: =IF(AND(K299>"",K299=L299),1,0) -> 0 | AZ299: =IF(AND(S299>"",S299=T299),1,0) -> 0
B300: =B299+1 -> 162 | D300: =IF(AND(C300>="A",C300<="E"),VLOOKUP(B300,Key!$B$128:$C$402,2,FALSE),"") | J300: =J299+1 -> 20 | L300: =IF(AND(K300>="A",K300<="E"),VLOOKUP(J300,Key!$E$270:$F$419,2,FALSE),"") | R300: =R299+1 -> 11 | T300: =IF(AND(S300>="A",S300<="E"),VLOOKUP(R300,Key!$H$279:$I$472,2,FALSE),"") | AX300: =IF(AND(C300>"",C300=D300),1,0) -> 0 | AY300: =IF(AND(K300>"",K300=L300),1,0) -> 0 | AZ300: =IF(AND(S300>"",S300=T300),1,0) -> 0
B301: =B300+1 -> 163 | D301: =IF(AND(C301>="A",C301<="E"),VLOOKUP(B301,Key!$B$128:$C$402,2,FALSE),"") | J301: =J300+1 -> 21 | L301: =IF(AND(K301>="A",K301<="E"),VLOOKUP(J301,Key!$E$270:$F$419,2,FALSE),"") | R301: =R300+1 -> 12 | T301: =IF(AND(S301>="A",S301<="E"),VLOOKUP(R301,Key!$H$279:$I$472,2,FALSE),"") | AX301: =IF(AND(C301>"",C301=D301),1,0) -> 0 | AY301: =IF(AND(K301>"",K301=L301),1,0) -> 0 | AZ301: =IF(AND(S301>"",S301=T301),1,0) -> 0
B302: =B301+1 -> 164 | D302: =IF(AND(C302>="A",C302<="E"),VLOOKUP(B302,Key!$B$128:$C$402,2,FALSE),"") | J302: =J301+1 -> 22 | L302: =IF(AND(K302>="A",K302<="E"),VLOOKUP(J302,Key!$E$270:$F$419,2,FALSE),"") | R302: =R301+1 -> 13 | T302: =IF(AND(S302>="A",S302<="E"),VLOOKUP(R302,Key!$H$279:$I$472,2,FALSE),"") | AX302: =IF(AND(C302>"",C302=D302),1,0) -> 0 | AY302: =IF(AND(K302>"",K302=L302),1,0) -> 0 | AZ302: =IF(AND(S302>"",S302=T302),1,0) -> 0
... B413: =B412+1 -> 275 | D413: =IF(AND(C413>="A",C413<="E"),VLOOKUP(B413,Key!$B$128:$C$402,2,FALSE),"") | J413: =J412+1 -> 133 | L413: =IF(AND(K413>="A",K413<="E"),VLOOKUP(J413,Key!$E$270:$F$419,2,FALSE),"") | R413: =R412+1 -> 124 | T413: =IF(AND(S413>="A",S413<="E"),VLOOKUP(R413,Key!$H$279:$I$472,2,FALSE),"") | AX413: =IF(AND(C413>"",C413=D413),1,0) -> 0 | AY413: =IF(AND(K413>"",K413=L413),1,0) -> 0 | AZ413: =IF(AND(S413>"",S413=T413),1,0) -> 0
J414: =J413+1 -> 134 | L414: =IF(AND(K414>="A",K414<="E"),VLOOKUP(J414,Key!$E$270:$F$419,2,FALSE),"") | R414: =R413+1 -> 125 | T414: =IF(AND(S414>="A",S414<="E"),VLOOKUP(R414,Key!$H$279:$I$472,2,FALSE),"") | AY414: =IF(AND(K414>"",K414=L414),1,0) -> 0 | AZ414: =IF(AND(S414>"",S414=T414),1,0) -> 0
J415: =J414+1 -> 135 | L415: =IF(AND(K415>="A",K415<="E"),VLOOKUP(J415,Key!$E$270:$F$419,2,FALSE),"") | R415: =R414+1 -> 126 | T415: =IF(AND(S415>="A",S415<="E"),VLOOKUP(R415,Key!$H$279:$I$472,2,FALSE),"") | AY415: =IF(AND(K415>"",K415=L415),1,0) -> 0 | AZ415: =IF(AND(S415>"",S415=T415),1,0) -> 0
J416: =J415+1 -> 136 | L416: =IF(AND(K416>="A",K416<="E"),VLOOKUP(J416,Key!$E$270:$F$419,2,FALSE),"") | R416: =R415+1 -> 127 | T416: =IF(AND(S416>="A",S416<="E"),VLOOKUP(R416,Key!$H$279:$I$472,2,FALSE),"") | AY416: =IF(AND(K416>"",K416=L416),1,0) -> 0 | AZ416: =IF(AND(S416>"",S416=T416),1,0) -> 0
...

Sheet Key
B1: RC | E1: CR | H1: SC
A2: Part 1 | B2: 1 | C2: C | D2: Part 1 | E2: 1 | F2: D | G2: Part 1 | H2: 1 | I2: C | K2: Flag
B3: 2 | C3: D | E3: 2 | F3: C | H3: 2 | I3: D
B4: 3 | C4: B | E4: 3 | F4: E | H4: 3 | I4: E
B5: 4 | C5: D | E5: 4 | F5: E | H5: 4 | I5: D
B6: 5 | C6: C | E6: 5 | F6: D | H6: 5 | I6: A
B7: 6 | C7: A | E7: 6 | F7: E | H7: 6 | I7: D
B8: 7 | C8: E | E8: 7 | F8: B | H8: 7 | I8: E
B9: 8 | C9: A | E9: 8 | F9: C | H9: 8 | I9: B
B10: 9 | C10: C | E10: 9 | F10: B | H10: 9 | I10: A
B11: 10 | C11: C | E11: 10 | F11: E | H11: 10 | I11: C
B12: 11 | C12: D | E12: 11 | F12: D | H12: 11 | I12: E
B13: 12 | C13: C | E13: 12 | F13: E | H13: 12 | I13: E
B14: 13 | C14: A | E14: 13 | F14: C | H14: 13 | I14: D
... B45: 44 | C45: B | E45: 44 | F45: D | H45: 44 | I45: B
B46: 45 | E46: 45 | F46: B | H46: 45 | I46: D
B47: 46 | C47: D | E47: 46 | F47: B | H47: 46 | I47: A
B48: 47 | C48: D | E48: 47 | F48: E | H48: 47 | I48: A
B49: 48 | C49: D | E49: 48 | F49: A | H49: 48 | I49: D
B50: 49 | C50: E | E50: 49 | F50: D | H50: 49 | I50: E
B51: 50 | C51: A | E51: 50 | F51: D | H51: 50 | I51: D
B52: 51 | C52: E | E52: 51 | F52: C | H52: 51 | I52: C
B53: 52 | C53: C | E53: 52 | F53: C | H53: 52 | I53: D
B54: 53 | C54: C | E54: 53 | F54: C | H54: 53 | I54: A
B55: 54 | C55: D | E55: 54 | F55: B | H55: 54 | I55: A
B56: 55 | C56: A | E56: 55 | F56: D | H56: 55 | I56: B
B57: 56 | C57: C | E57: 56 | F57: D | H57: 56 | I57: B
B58: 57 | C58: D | E58: 57 | F58: A | H58: 57 | I58: A
... B62: 61 | C62: A | E62: 61 | F62: B | H62: 61 | I62: A
A63: Part 2 | B63: 1 | C63: C | E63: 62 | F63: C | H63: 62 | I63: E
B64: 2 | C64: B | E64: 63 | F64: B | H64: 63 | I64: D
B65: 3 | C65: E | E65: 64 | F65: E | H65: 64 | I65: C
B66: 4 | C66: A | E66: 65 | F66: E | H66: 65 | I66: C
B67: 5 | C67: D | E67: 66 | F67: E | H67: 66 | I67: A
B68: 6 | C68: C | E68: 67 | F68: D | H68: 67 | I68: C
B69: 7 | C69: A | E69: 68 | F69: D | H69: 68 | I69: D
B70: 8 | C70: E | E70: 69 | F70: B | H70: 69 | I70: E
B71: 9 | C71: B | E71: 70 | F71: E | H71: 70 | I71: E
B72: 10 | C72: C | E72: 71 | F72: A | H72: 71 | I72: B
B73: 11 | C73: D | E73: 72 | F73: B | H73: 72 | I73: C
B74: 12 | C74: A | D74: Part 2 | E74: 1 | F74: D | H74: 73 | I74: C
B75: 13 | C75: A | E75: 2 | F75: C | H75: 74 | I75: B
B76: 14 | C76: D | E76: 3 | F76: E | H76: 75 | I76: C
B77: 15 | C77: C | E77: 4 | F77: A | H77: 76 | I77: C
B78: 16 | C78: C | E78: 5 | F78: A | H78: 77 | I78: E
B79: 17 | C79: D | E79: 6 | F79: E | H79: 78 | I79: C
B80: 18 | C80: A | E80: 7 | F80: D | H80: 79 | I80: B
B81: 19 | C81: D | E81: 8 | F81: B | H81: 80 | I81: D
B82: 20 | C82: C | E82: 9 | F82: E | H82: 81 | I82: D
B83: 21 | C83: A | E83: 10 | F83: E | H83: 82 | I83: E
B84: 22 | C84: A | E84: 11 | F84: A | H84: 83 | I84: A
B85: 23 | C85: E | E85: 12 | F85: D | H85: 84 | I85: A
B86: 24 | C86: D | E86: 13 | F86: C | H86: 85 | I86: E
... B127: 65 | C127: E | E127: 54 | F127: B | H127: 126 | I127: B
A128: Part 3 | B128: 1 | C128: A | E128: 55 | F128: A | H128: 127 | I128: D
B129: 2 | C129: C | E129: 56 | F129: E | H129: 128 | I129: D
B130: 3 | C130: D | E130: 57 | F130: A | H130: 129 | I130: E
B131: 4 | C131: C | E131: 58 | F131: E | H131: 130 | I131: C
B132: 5 | C132: E | E132: 59 | F132: B | H132: 131 | I132: A
B133: 6 | C133: B | E133: 60 | F133: C | H133: 132 | I133: B
B134: 7 | C134: E | E134: 61 | F134: B | H134: 133 | I134: C
B135: 8 | C135: C | E135: 62 | F135: B | H135: 134 | I135: C
B136: 9 | C136: E | E136: 63 | F136: E | H136: 135 | I136: E
B137: 10 | C137: D | E137: 64 | F137: A | H137: 136 | I137: B
B138: 11 | C138: A | E138: 65 | F138: A | H138: 137 | I138: D
B139: 12 | C139: D | E139: 66 | F139: B | H139: 138 | I139: B
B140: 13 | C140: E | E140: 67 | F140: C | H140: 139 | I140: C
B141: 14 | C141: E | E141: 68 | F141: E | H141: 140 | I141: D
B142: 15 | C142: A | D142: Part 3 | E142: 1 | F142: D | H142: 141 | I142: B
B143: 16 | C143: B | E143: 2 | F143: D | H143: 142 | I143: B
B144: 17 | C144: D | E144: 3 | F144: C | H144: 143 | I144: C
B145: 18 | C145: D | E145: 4 | F145: C | H145: 144 | I145: B
B146: 19 | C146: C | E146: 5 | F146: C | H146: 145 | I146: D
B147: 20 | C147: A | E147: 6 | F147: A | H147: 146 | I147: B
B148: 21 | C148: D | E148: 7 | F148: A | H148: 147 | I148: B
B149: 22 | C149: E | E149: 8 | F149: E | H149: 148 | I149: D
B150: 23 | C150: C | E150: 9 | F150: C | H150: 149 | I150: E
B151: 24 | C151: D | E151: 10 | F151: A | H151: 150 | I151: C
B152: 25 | C152: E | E152: 11 | F152: C | H152: 151 | I152: D
B153: 26 | C153: C | E153: 12 | F153: D | H153: 152 | I153: E
B154: 27 | C154: D | E154: 13 | F154: A | H154: 153 | I154: E
... B269: 142 | C269: A | E269: 128 | F269: B | H269: 268 | I269: B
B270: 143 | C270: A | D270: Part 4 - Latest | E270: 1 | F270: D | H270: 269 | I270: B
B271: 144 | C271: A | E271: 2 | F271: A | H271: 270 | I271: D
B272: 145 | C272: C | E272: 3 | F272: A | H272: 271 | I272: D
B273: 146 | C273: E | E273: 4 | F273: E | H273: 272 | I273: E
B274: 147 | C274: C | E274: 5 | F274: A | H274: 273 | I274: E
B275: 148 | C275: D | E275: 6 | F275: D | H275: 274 | I275: D
B276: 149 | C276: E | E276: 7 | F276: C | H276: 275 | I276: C
B277: 150 | C277: C | E277: 8 | F277: D | H277: 276 | I277: D
B278: 151 | C278: D | E278: 9 | F278: C | H278: 277 | I278: E
B279: 152 | C279: E | E279: 10 | F279: B | G279: Part 2 | H279: 1 | I279: D
B280: 153 | C280: E | E280: 11 | F280: E | H280: 2 | I280: C
B281: 154 | C281: A | E281: 12 | F281: E | H281: 3 | I281: A
B282: 155 | C282: E | E282: 13 | F282: B | H282: 4 | I282: C
B283: 156 | C283: B | E283: 14 | F283: B | H283: 5 | I283: B
B284: 157 | C284: D | E284: 15 | F284: C | H284: 6 | I284: D
B285: 158 | C285: E | E285: 16 | F285: E | H285: 7 | I285: A
B286: 159 | C286: D | E286: 17 | F286: A | H286: 8 | I286: C
B287: 160 | C287: D | E287: 18 | F287: A | H287: 9 | I287: D
...
