Workbook

Sheet PS
A1: Problem Solving
A4: Difficulty | B4: Question No. | C4: Mi Respuesta | D4: Respuesta Correcta | E4: Resultado | F4: Razón | G4: Category 1 | H4: Category 2 | I4: Subcategory 1 | J4: Subcategory 2 | K4: Comments
A5: Easy | B5: 1 | D5: A | E5: Sí | G5: Word Problem | I5: Rate
A6: Easy | B6: 2 | D6: B | E6: Sí | G6: Algebra | I6: First-degree equations
A7: Easy | B7: 3 | D7: C | E7: Sí | G7: Arithmetic | I7: Properties of numbers
A8: Easy | B8: 4 | D8: E | E8: No | F8: Knowledge gap | G8: Geometry | I8: Area
A9: Easy | B9: 5 | D9: C | E9: Sí | G9: Arithmetic | I9: Statistics
A10: Easy | B10: 6 | D10: C | E10: Sí | G10: Algebra | I10: Simplifying algebraic expressions
A11: Easy | B11: 7 | D11: B | E11: Sí | G11: Arithmetic | I11: Properties of numbers
A12: Easy | B12: 8 | D12: E | E12: Sí | G12: Word Problem | I12: Rate
A13: Easy | B13: 9 | D13: E | E13: Sí | G13: Coordinate Geometry | I13: Interpretation of graphs | J13: Second-degree equations
A14: Easy | B14: 10 | D14: D | E14: Sí | G14: Arithmetic | I14: Percents
A15: Easy | B15: 11 | D15: E | E15: No | F15: Knowledge gap | G15: Arithmetic | I15: Operations on radical expressions
A16: Easy | B16: 12 | D16: A | E16: Sí | G16: Arithmetic | I16: Probability
A17: Easy | B17: 13 | D17: C | E17: Sí | G17: Word Problem | I17: Rate
A18: Easy | B18: 14 | D18: A | E18: Sí | G18: Arithmetic | I18: Statistics
A19: Easy | B19: 15 | D19: B | E19: Sí | G19: Arithmetic | I19: Powers
A20: Easy | B20: 16 | D20: D | E20: Sí | G20: Geometry | I20: Volume
A21: Easy | B21: 17 | D21: D | E21: Sí | G21: Word Problem | I21: Rate
A22: Easy | B22: 18 | D22: E | E22: Sí | G22: Geometry | I22: Quadrilaterals
A23: Easy | B23: 19 | D23: E | E23: Sí | G23: Arithmetic | I23: Percents
A24: Easy | B24: 20 | D24: A | E24: Sí | G24: Arithmetic | I24: Operations on rational numbers
A25: Easy | B25: 21 | D25: B | E25: Sí | G25: Word Problem | I25: Rate
A26: Easy | B26: 22 | D26: A | E26: Sí | G26: Arithmetic | I26: Properties of numbers
A27: Easy | B27: 23 | D27: B | E27: Sí | G27: Arithmetic | I27: Properties of numbers
... A30: Easy | B30: 26 | D30: B | E30: Sí | G30: Algebra | I30: First-degree equations
A31: Easy | B31: 27* | D31: E | E31: No | F31: Careless | G31: Arithmetic | I31: Statistics
A32: Easy | B32: 28* | D32: B | E32: Sí | G32: Arithmetic | I32: Measurement conversion
A33: Easy | B33: 29 | D33: C | E33: Sí | G33: Arithmetic | I33: Properties of numbers
A34: Easy | B34: 30 | D34: B | E34: Sí | G34: Arithmetic | I34: Interpretation of graphs and tables
A35: Easy | B35: 31 | C35: B | D35: B | E35: =IF(LEN(C35)=0,"-",IF(C35=D35,"Sí","No")) -> Sí | G35: Algebra | I35: First-degree equations
A36: Easy | B36: 32 | C36: A | D36: B | E36: =IF(LEN(C36)=0,"-",IF(C36=D36,"Sí","No")) -> No | F36: Knowledge gap | G36: Arithmetic | I36: Operations on radical expressions
A37: Easy | B37: 33 | C37: A | D37: C | E37: =IF(LEN(C37)=0,"-",IF(C37=D37,"Sí","No")) -> No | F37: Careless | G37: Geometry | I37: Circles and area
A38: Easy | B38: 34 | C38: A | D38: A | E38: =IF(LEN(C38)=0,"-",IF(C38=D38,"Sí","No")) -> Sí | G38: Algebra | I38: Applied problems
A39: Easy | B39: 35 | C39: B | D39: B | E39: =IF(LEN(C39)=0,"-",IF(C39=D39,"Sí","No")) -> Sí | G39: Arithmetic | I39: Operations on rational numbers
A40: Easy | B40: 36 | C40: A | D40: A | E40: =IF(LEN(C40)=0,"-",IF(C40=D40,"Sí","No")) -> Sí | G40: Arithmetic | I40: Operations on rational numbers
A41: Easy | B41: 37* | C41: A | D41: A | E41: =IF(LEN(C41)=0,"-",IF(C41=D41,"Sí","No")) -> Sí | G41: Arithmetic | I41: Fractions
A42: Easy | B42: 38 | C42: C | D42: B | E42: =IF(LEN(C42)=0,"-",IF(C42=D42,"Sí","No")) -> No | F42: Careless | G42: Arithmetic | I42: Fractions
A43: Easy | B43: 39 | C43: B | D43: B | E43: =IF(LEN(C43)=0,"-",IF(C43=D43,"Sí","No")) -> Sí | G43: Geometry | I43: Coordinate geometry
A44: Easy | B44: 40* | C44: C | D44: C | E44: =IF(LEN(C44)=0,"-",IF(C44=D44,"Sí","No")) -> Sí | G44: Arithmetic | I44: Properties of integers
A45: Easy | B45: 41 | C45: A | D45: A | E45: =IF(LEN(C45)=0,"-",IF(C45=D45,"Sí","No")) -> Sí | G45: Algebra | I45: Second-degree equations
A46: Easy | B46: 42* | C46: E | D46: E | E46: =IF(LEN(C46)=0,"-",IF(C46=D46,"Sí","No")) -> Sí | G46: Special Operations | I46: Simplifying algebraic expressions
A47: Easy | B47: 43* | C47: B | D47: B | E47: =IF(LEN(C47)=0,"-",IF(C47=D47,"Sí","No")) -> Sí | G47: Arithmetic | I47: Fractions
A48: Easy | B48: 44 | C48: D | D48: D | E48: =IF(LEN(C48)=0,"-",IF(C48=D48,"Sí","No")) -> Sí | G48: Algebra | I48: Simultaneous equations
A49: Easy | B49: 45* | C49: D | D49: B | E49: =IF(LEN(C49)=0,"-",IF(C49=D49,"Sí","No")) -> No | F49: Careless | G49: Arithmetic | I49: Fractions
A50: Easy | B50: 46 | C50: C | D50: C | E50: =IF(LEN(C50)=0,"-",IF(C50=D50,"Sí","No")) -> Sí | G50: Arithmetic | I50: Powers
A51: Easy | B51: 47 | C51: C | D51: C | E51: =IF(LEN(C51)=0,"-",IF(C51=D51,"Sí","No")) -> Sí | G51: Word Problem | I51: Percents
A52: Easy | B52: 48* | C52: C | D52: C | E52: =IF(LEN(C52)=0,"-",IF(C52=D52,"Sí","No")) -> Sí | G52: Geometry | I52: Angle measure in degrees | J52: Triangles
A53: Easy | B53: 49 | C53: C | D53: B | E53: =IF(LEN(C53)=0,"-",IF(C53=D53,"Sí","No")) -> No | F53: Knowledge gap | G53: Algebra | I53: Inequalities
A54: Easy | B54: 50* | C54: B | D54: B | E54: =IF(LEN(C54)=0,"-",IF(C54=D54,"Sí","No")) -> Sí | G54: Arithmetic | I54: Absolute value | J54: Operations with integers
A55: Easy | B55: 51 | C55: C | D55: C | E55: =IF(LEN(C55)=0,"-",IF(C55=D55,"Sí","No")) -> Sí | G55: Arithmetic | I55: Operations with radical expressions
A56: Easy | B56: 52 | C56: E | D56: E | E56: =IF(LEN(C56)=0,"-",IF(C56=D56,"Sí","No")) -> Sí | G56: Word Problem | I56: Ratios
A57: Easy | B57: 53 | C57: E | D57: E | E57: =IF(LEN(C57)=0,"-",IF(C57=D57,"Sí","No")) -> Sí | G57: Geometry | I57: Angle measure in degrees
A58: Easy | B58: 54* | C58: A | D58: A | E58: =IF(LEN(C58)=0,"-",IF(C58=D58,"Sí","No")) -> Sí | G58: Arithmetic | I58: Operations with radical expressions
A59: Easy | B59: 55 | C59: C | D59: E | E59: =IF(LEN(C59)=0,"-",IF(C59=D59,"Sí","No")) -> No | F59: Read the Q | G59: Word Problem | I59: Ratios | J59: Contesté algo que no era
A60: Easy | B60: 56 | C60: B | D60: B | E60: =IF(LEN(C60)=0,"-",IF(C60=D60,"Sí","No")) -> Sí | G60: Arithmetic | I60: Estimation
A61: Easy | B61: 57 | C61: A | D61: A | E61: =IF(LEN(C61)=0,"-",IF(C61=D61,"Sí","No")) -> Sí | G61: Arithmetic | I61: Statistics
A62: Easy | B62: 58* | C62: B | D62: B | E62: =IF(LEN(C62)=0,"-",IF(C62=D62,"Sí","No")) -> Sí | G62: Algebra | I62: First-degree equations
A63: Easy | B63: 59* | C63: E | D63: D | E63: =IF(LEN(C63)=0,"-",IF(C63=D63,"Sí","No")) -> No | F63: Careless | G63: Word Problem | I63: Rate | J63: Tired, thought it was too easy
A64: Easy | B64: 60* | C64: D | D64: D | E64: =IF(LEN(C64)=0,"-",IF(C64=D64,"Sí","No")) -> Sí | G64: Word Problem | I64: Percents
A65: Easy | B65: 61 | C65: E | D65: E | E65: =IF(LEN(C65)=0,"-",IF(C65=D65,"Sí","No")) -> Sí | G65: Word Problem | I65: Mixtures
A66: Easy | B66: 62 | C66: A | D66: A | E66: =IF(LEN(C66)=0,"-",IF(C66=D66,"Sí","No")) -> Sí | G66: Geometry | I66: Polygons
A67: Easy | B67: 63 | C67: A | D67: A | E67: =IF(LEN(C67)=0,"-",IF(C67=D67,"Sí","No")) -> Sí | G67: Arithmetic | I67: Applied problems
A68: Easy | B68: 64 | C68: B | D68: B | E68: =IF(LEN(C68)=0,"-",IF(C68=D68,"Sí","No")) -> Sí | G68: Word Problem | I68: Percents
A69: Easy | B69: 65* | C69: D | D69: B | E69: =IF(LEN(C69)=0,"-",IF(C69=D69,"Sí","No")) -> No | F69: Knowledge gap | G69: Word Problem | I69: Rate | J69: Apurado, algebra
A70: Easy | B70: 66* | C70: E | D70: E | E70: =IF(LEN(C70)=0,"-",IF(C70=D70,"Sí","No")) -> Sí | G70: Word Problem | I70: Ratios
A71: Easy | B71: 67 | C71: B | D71: B | E71: =IF(LEN(C71)=0,"-",IF(C71=D71,"Sí","No")) -> Sí | G71: Arithmetic | H71: Algebra | I71: Probability | J71: Concepts of sets
A72: Easy | B72: 68* | C72: D | D72: D | E72: =IF(LEN(C72)=0,"-",IF(C72=D72,"Sí","No")) -> Sí | G72: Word Problem | I72: Simplifying algebraic expressions
A73: Easy | B73: 69* | C73: C | D73: C | E73: =IF(LEN(C73)=0,"-",IF(C73=D73,"Sí","No")) -> Sí | G73: Arithmetic | I73: Interpretation of graphs and tables | J73: Statistics
A74: Easy | B74: 70 | C74: C | D74: C | E74: =IF(LEN(C74)=0,"-",IF(C74=D74,"Sí","No")) -> Sí | G74: Algebra | I74: First-degree equations
A75: Easy | B75: 71 | C75: A | D75: A | E75: =IF(LEN(C75)=0,"-",IF(C75=D75,"Sí","No")) -> Sí | G75: Algebra | I75: Inequalities
A76: Easy | B76: 72 | C76: B | D76: B | E76: =IF(LEN(C76)=0,"-",IF(C76=D76,"Sí","No")) -> Sí | G76: Word Problem | I76: Min/Max
A77: Easy | B77: 73* | C77: D | D77: D | E77: =IF(LEN(C77)=0,"-",IF(C77=D77,"Sí","No")) -> Sí | G77: Arithmetic | I77: Order
A78: Easy | B78: 74* | C78: B | D78: D | E78: =IF(LEN(C78)=0,"-",IF(C78=D78,"Sí","No")) -> No | F78: Read the Q | G78: Word Problem | I78: Ratios
A79: Easy | B79: 75 | C79: E | D79: E | E79: =IF(LEN(C79)=0,"-",IF(C79=D79,"Sí","No")) -> Sí | G79: Word Problem | I79: Min/Max
A80: Easy | B80: 76 | C80: D | D80: D | E80: =IF(LEN(C80)=0,"-",IF(C80=D80,"Sí","No")) -> Sí | G80: Word Problem | I80: Ratios | J80: Acá podría haber usado división simple
A81: Easy | B81: 77 | C81: D | D81: D | E81: =IF(LEN(C81)=0,"-",IF(C81=D81,"Sí","No")) -> Sí | G81: Word Problem | I81: Ratios
A82: Medium | B82: 78 | C82: C | D82: C | E82: =IF(LEN(C82)=0,"-",IF(C82=D82,"Sí","No")) -> Sí | G82: Word Problem | I82: Percents
A83: Medium | B83: 79* | C83: A | D83: A | E83: =IF(LEN(C83)=0,"-",IF(C83=D83,"Sí","No")) -> Sí | G83: Arithmetic | I83: Fractions | J83: Ver el método que usaron ellos, raro
A84: Medium | B84: 80 | C84: B | D84: B | E84: =IF(LEN(C84)=0,"-",IF(C84=D84,"Sí","No")) -> Sí | G84: Word Problem | I84: Work
A85: Medium | B85: 81* | C85: A | D85: A | E85: =IF(LEN(C85)=0,"-",IF(C85=D85,"Sí","No")) -> Sí | G85: Word Problem | I85: Rate
A86: Medium | B86: 82* | C86: A | D86: A | E86: =IF(LEN(C86)=0,"-",IF(C86=D86,"Sí","No")) -> Sí | G86: Arithmetic | I86: Properties of numbers
A87: Medium | B87: 83* | C87: C | D87: C | E87: =IF(LEN(C87)=0,"-",IF(C87=D87,"Sí","No")) -> Sí | G87: Word Problem | I87: Profit/Loss
A88: Medium | B88: 84 | C88: A | D88: A | E88: =IF(LEN(C88)=0,"-",IF(C88=D88,"Sí","No")) -> Sí | G88: Word Problem | I88: Profit/Loss
A89: Medium | B89: 85 | C89: A | D89: A | E89: =IF(LEN(C89)=0,"-",IF(C89=D89,"Sí","No")) -> Sí | G89: Arithmetic | I89: Sequences
A90: Medium | B90: 86 | C90: A | D90: A | E90: =IF(LEN(C90)=0,"-",IF(C90=D90,"Sí","No")) -> Sí | G90: Word Problem | I90: Work
A91: Medium | B91: 87 | C91: D | D91: E | E91: =IF(LEN(C91)=0,"-",IF(C91=D91,"Sí","No")) -> No | F91: Careless | G91: Word Problem | I91: Applied problems
A92: Medium | B92: 88 | C92: D | D92: D | E92: =IF(LEN(C92)=0,"-",IF(C92=D92,"Sí","No")) -> Sí | F92: Knowledge gap | G92: Geometry | I92: Simple coordinate geometry | J92: Adiviné
A93: Medium | B93: 89* | C93: D | D93: D | E93: =IF(LEN(C93)=0,"-",IF(C93=D93,"Sí","No")) -> Sí | G93: Arithmetic | I93: Fractions
A94: Medium | B94: 90* | C94: E | D94: E | E94: =IF(LEN(C94)=0,"-",IF(C94=D94,"Sí","No")) -> Sí | G94: Word Problem | I94: Rate
A95: Medium | B95: 91* | C95: B | D95: B | E95: =IF(LEN(C95)=0,"-",IF(C95=D95,"Sí","No")) -> Sí | G95: Word Problem | I95: Profit/Loss
A96: Medium | B96: 92* | C96: C | D96: C | E96: =IF(LEN(C96)=0,"-",IF(C96=D96,"Sí","No")) -> Sí | G96: Word Problem | I96: Percents
A97: Medium | B97: 93 | C97: B | D97: B | E97: =IF(LEN(C97)=0,"-",IF(C97=D97,"Sí","No")) -> Sí | G97: Arithmetic | I97: Statistics
A98: Medium | B98: 94 | C98: A | D98: B | E98: =IF(LEN(C98)=0,"-",IF(C98=D98,"Sí","No")) -> No | F98: Careless | G98: Word Problem | I98: Overlapping Sets | K98: Apurado
A99: Medium | B99: 95 | C99: E | D99: E | E99: =IF(LEN(C99)=0,"-",IF(C99=D99,"Sí","No")) -> Sí | G99: Arithmetic | I99: Operations on rational numbers
A100: Medium | B100: 96 | C100: D | D100: D | E100: =IF(LEN(C100)=0,"-",IF(C100=D100,"Sí","No")) -> Sí | G100: Word Problem | I100: Mixtures
A101: Medium | B101: 97 | C101: B | D101: B | E101: =IF(LEN(C101)=0,"-",IF(C101=D101,"Sí","No")) -> Sí | G101: Algebra | I101: Second-degree equations | J101: Simultaneous equations
A102: Medium | B102: 98 | C102: C | D102: C | E102: =IF(LEN(C102)=0,"-",IF(C102=D102,"Sí","No")) -> Sí | G102: Word Problem | I102: Ratios
A103: Medium | B103: 99* | C103: B | D103: B | E103: =IF(LEN(C103)=0,"-",IF(C103=D103,"Sí","No")) -> Sí | G103: Algebra | I103: Statistics
A104: Medium | B104: 100 | C104: D | D104: D | E104: =IF(LEN(C104)=0,"-",IF(C104=D104,"Sí","No")) -> Sí | G104: Algebra | I104: First-degree equations | K104: Simplificá con factores
...

Sheet DS
A1: Data Sufficiency
A4: Difficulty | B4: Question No. | C4: Mi Respuesta | D4: Respuesta Correcta | E4: Resultado | F4: Razón | G4: Category | H4: Subcategory | I4: Comments
A5: Easy | B5: 1 | D5: B | E5: Sí | G5: Arithmetic | H5: Absolute Value
A6: Easy | B6: 2 | D6: E | E6: Sí | G6: Arithmetic | H6: Percents
A7: Easy | B7: 3 | D7: A | E7: Sí | G7: Arithmetic | H7: Probability
A8: Easy | B8: 4* | D8: E | E8: Sí | G8: Arithmetic | H8: Sets (Venn diagrams)
A9: Easy | B9: 5 | D9: E | E9: Sí | G9: Geometry | H9: Lines
A10: Easy | B10: 6 | D10: D | E10: Sí | G10: Arithmetic | H10: Properties of Numbers
A11: Easy | B11: 7* | D11: A | E11: Sí | G11: Arithmetic | H11: Percents
A12: Easy | B12: 8* | D12: C | E12: Sí | G12: Word Problem | H12: Rate
A13: Easy | B13: 9* | D13: A | E13: Sí | G13: Word Problem | H13: Ratios
A14: Easy | B14: 10 | D14: B | E14: Sí | G14: Word Problem | H14: Work
A15: Easy | B15: 11 | D15: A | E15: Sí | G15: Arithmetic | H15: Properties of Numbers
A16: Easy | B16: 12 | D16: B | E16: Sí | G16: Arithmetic | H16: Properties of Numbers
A17: Easy | B17: 13* | D17: D | E17: Sí | G17: Word Problem | H17: First Degree Equations
A18: Easy | B18: 14* | D18: C | E18: Sí | G18: Word Problem | H18: Rate
A19: Easy | B19: 15 | D19: B | E19: No | F19: Careless | G19: Algebra | H19: First and Second Degree Equations
A20: Easy | B20: 16 | D20: A | E20: Sí | G20: Arithmetic | H20: Properties of Numbers
A21: Easy | B21: 17* | D21: D | E21: Sí | G21: Arithmetic | H21: Properties of Numbers
A22: Easy | B22: 18* | D22: B | E22: Sí | G22: Geometry | H22: Volume
A23: Easy | B23: 19* | D23: C | E23: Sí | G23: Arithmetic | H23: Sequences
A24: Easy | B24: 20 | D24: A | E24: Sí | G24: Geometry | H24: Triangles
A25: Easy | B25: 21* | C25: E | D25: E | E25: =IF(LEN(C25)=0,"-",IF(C25=D25,"Sí","No")) -> Sí | G25: Word Problem | H25: Overlapping Sets
A26: Easy | B26: 22* | C26: E | D26: E | E26: =IF(LEN(C26)=0,"-",IF(C26=D26,"Sí","No")) -> Sí | G26: Word Problem | H26: Rate
A27: Easy | B27: 23 | C27: B | D27: B | E27: =IF(LEN(C27)=0,"-",IF(C27=D27,"Sí","No")) -> Sí | G27: Word Problem | H27: Min/Max
A28: Easy | B28: 24* | C28: D | D28: D | E28: =IF(LEN(C28)=0,"-",IF(C28=D28,"Sí","No")) -> Sí | G28: Arithmetic | H28: Properties of Numbers
A29: Easy | B29: 25* | C29: D | D29: D | E29: =IF(LEN(C29)=0,"-",IF(C29=D29,"Sí","No")) -> Sí | G29: Word Problem | H29: Rate
A30: Easy | B30: 26* | C30: D | D30: D | E30: =IF(LEN(C30)=0,"-",IF(C30=D30,"Sí","No")) -> Sí | G30: Word Problem | H30: Rate
A31: Easy | B31: 27* | C31: D | D31: D | E31: =IF(LEN(C31)=0,"-",IF(C31=D31,"Sí","No")) -> Sí | G31: Word Problem | H31: Ratios
A32: Easy | B32: 28* | C32: A | D32: E | E32: =IF(LEN(C32)=0,"-",IF(C32=D32,"Sí","No")) -> No | F32: Read the Q | G32: Arithmetic | H32: Statistics | I32: Read the Q
A33: Easy | B33: 29 | C33: E | D33: E | E33: =IF(LEN(C33)=0,"-",IF(C33=D33,"Sí","No")) -> Sí | G33: Geometry | H33: Surface Area
A34: Easy | B34: 30 | C34: D | D34: B | E34: =IF(LEN(C34)=0,"-",IF(C34=D34,"Sí","No")) -> No | F34: Knowledge gap | G34: Arithmetic | H34: First and Second Degree Equations | I34: Algebra concept, two solutions for equation are not "What's the value of x variable?", Must practice algebra
A35: Easy | B35: 31* | C35: E | D35: B | E35: =IF(LEN(C35)=0,"-",IF(C35=D35,"Sí","No")) -> No | F35: Careless | G35: Arithmetic | H35: Rounding, Place Value | I35: Though Q was easy, should have read solutions carefully
A36: Easy | B36: 32* | C36: E | D36: E | E36: =IF(LEN(C36)=0,"-",IF(C36=D36,"Sí","No")) -> Sí | G36: Word Problem | H36: Min/Max
A37: Easy | B37: 33* | C37: E | D37: C | E37: =IF(LEN(C37)=0,"-",IF(C37=D37,"Sí","No")) -> No | F37: Read the Q | G37: Word Problem | H37: Profit/Loss | I37: Thought Q was asking something else, careless and read the Q
A38: Easy | B38: 34 | C38: D | D38: D | E38: =IF(LEN(C38)=0,"-",IF(C38=D38,"Sí","No")) -> Sí | G38: Geometry | H38: Circles
A39: Easy | B39: 35 | C39: D | D39: D | E39: =IF(LEN(C39)=0,"-",IF(C39=D39,"Sí","No")) -> Sí | G39: Algebra | H39: First and Second Degree Equations
A40: Easy | B40: 36* | C40: D | D40: B | E40: =IF(LEN(C40)=0,"-",IF(C40=D40,"Sí","No")) -> No | F40: Not sure | G40: Algebra | H40: Functions | I40: Practice functions and algebra
A41: Easy | B41: 37* | C41: A | D41: A | E41: =IF(LEN(C41)=0,"-",IF(C41=D41,"Sí","No")) -> Sí | G41: Word Problem | H41: Percents
A42: Easy | B42: 38* | C42: C | D42: C | E42: =IF(LEN(C42)=0,"-",IF(C42=D42,"Sí","No")) -> Sí | G42: Word Problem | H42: Ratios
A43: Easy | B43: 39* | C43: D | D43: D | E43: =IF(LEN(C43)=0,"-",IF(C43=D43,"Sí","No")) -> Sí | G43: Word Problem | H43: Ratios
A44: Easy | B44: 40 | C44: D | D44: B | E44: =IF(LEN(C44)=0,"-",IF(C44=D44,"Sí","No")) -> No | F44: Knowledge gap | G44: Arithmetic | H44: Tables | I44: Have to study distance matrices
A45: Easy | B45: 41 | C45: E | D45: E | E45: =IF(LEN(C45)=0,"-",IF(C45=D45,"Sí","No")) -> Sí | G45: Arithmetic | H45: Properties of Numbers
A46: Easy | B46: 42* | C46: A | D46: A | E46: =IF(LEN(C46)=0,"-",IF(C46=D46,"Sí","No")) -> Sí | G46: Geometry | H46: Circles
A47: Easy | B47: 43 | C47: E | D47: E | E47: =IF(LEN(C47)=0,"-",IF(C47=D47,"Sí","No")) -> Sí | G47: Arithmetic | H47: Properties of Numbers
A48: Easy | B48: 44* | C48: C | D48: C | E48: =IF(LEN(C48)=0,"-",IF(C48=D48,"Sí","No")) -> Sí | G48: Word Problem | H48: Rate
A49: Easy | B49: 45* | C49: D | D49: D | E49: =IF(LEN(C49)=0,"-",IF(C49=D49,"Sí","No")) -> Sí | G49: Arithmetic | H49: Sequences
A50: Easy | B50: 46* | C50: B | D50: B | E50: =IF(LEN(C50)=0,"-",IF(C50=D50,"Sí","No")) -> Sí | G50: Arithmetic | H50: Place Value
A51: Easy | B51: 47 | C51: A | D51: A | E51: =IF(LEN(C51)=0,"-",IF(C51=D51,"Sí","No")) -> Sí | G51: Arithmetic | H51: Arithmetic Operations
A52: Easy | B52: 48* | C52: C | D52: C | E52: =IF(LEN(C52)=0,"-",IF(C52=D52,"Sí","No")) -> Sí | G52: Word Problem | H52: Percents
A53: Easy | B53: 49* | C53: B | D53: B | E53: =IF(LEN(C53)=0,"-",IF(C53=D53,"Sí","No")) -> Sí | G53: Algebra | H53: Inequalities
A54: Easy | B54: 50 | C54: E | D54: C | E54: =IF(LEN(C54)=0,"-",IF(C54=D54,"Sí","No")) -> No | F54: Read the Q | G54: Algebra | H54: Sets | I54: Leer capítulo de sets de Manhattan
A55: Easy | B55: 51 | C55: B | D55: B | E55: =IF(LEN(C55)=0,"-",IF(C55=D55,"Sí","No")) -> Sí | G55: Algebra | H55: Inequalities | I55: Bien, pero aprender a hacer inequalities de forma algebraica
A56: Easy | B56: 52* | C56: B | D56: B | E56: =IF(LEN(C56)=0,"-",IF(C56=D56,"Sí","No")) -> Sí | G56: Word Problem | H56: Profit/Loss
A57: Easy | B57: 53* | C57: C | D57: A | E57: =IF(LEN(C57)=0,"-",IF(C57=D57,"Sí","No")) -> No | G57: Arithmetic | H57: Statistics | I57: Debí haberlo expresado de forma algebraica
A58: Easy | B58: 54* | C58: D | D58: C | E58: =IF(LEN(C58)=0,"-",IF(C58=D58,"Sí","No")) -> No | G58: Arithmetic | H58: Applied Problems | I58: Apurado, parecía muy fácil
A59: Easy | B59: 55* | C59: E | D59: E | E59: =IF(LEN(C59)=0,"-",IF(C59=D59,"Sí","No")) -> Sí | G59: Word Problem | H59: Percents
A60: Easy | B60: 56 | C60: A | D60: A | E60: =IF(LEN(C60)=0,"-",IF(C60=D60,"Sí","No")) -> Sí | G60: Geometry | H60: Triangles
A61: Easy | B61: 57* | C61: D | D61: D | E61: =IF(LEN(C61)=0,"-",IF(C61=D61,"Sí","No")) -> Sí | G61: Arithmetic | H61: Operations with Integers
A62: Easy | B62: 58* | C62: E | D62: E | E62: =IF(LEN(C62)=0,"-",IF(C62=D62,"Sí","No")) -> Sí | G62: Word Problem | H62: Ratios
A63: Medium | B63: 59* | C63: E | D63: E | E63: =IF(LEN(C63)=0,"-",IF(C63=D63,"Sí","No")) -> Sí | G63: Word Problem | H63: Overlapping Sets
A64: Medium | B64: 60 | C64: D | D64: D | E64: =IF(LEN(C64)=0,"-",IF(C64=D64,"Sí","No")) -> Sí | G64: Algebra | H64: First and Second Degree Equations
A65: Medium | B65: 61 | C65: C | D65: C | E65: =IF(LEN(C65)=0,"-",IF(C65=D65,"Sí","No")) -> Sí | G65: Word Problem | H65: Percents
A66: Medium | B66: 62* | C66: A | D66: D | E66: =IF(LEN(C66)=0,"-",IF(C66=D66,"Sí","No")) -> No | G66: Word Problem | H66: Rate | I66: Tried copying solution of similar problem, instead of using algebra
A67: Medium | B67: 63* | C67: C | D67: C | E67: =IF(LEN(C67)=0,"-",IF(C67=D67,"Sí","No")) -> Sí | G67: Word Problem | H67: Percents
A68: Medium | B68: 64 | C68: B | D68: B | E68: =IF(LEN(C68)=0,"-",IF(C68=D68,"Sí","No")) -> Sí | G68: Arithmetic | H68: Rounding
A69: Medium | B69: 65 | C69: D | D69: D | E69: =IF(LEN(C69)=0,"-",IF(C69=D69,"Sí","No")) -> Sí | G69: Arithmetic | H69: Properties of Numbers
A70: Medium | B70: 66* | C70: B | D70: C | E70: =IF(LEN(C70)=0,"-",IF(C70=D70,"Sí","No")) -> No | G70: Algebra | H70: Exponents
A71: Medium | B71: 67* | C71: D | D71: D | E71: =IF(LEN(C71)=0,"-",IF(C71=D71,"Sí","No")) -> Sí | G71: Word Problem | H71: Overlapping Sets
A72: Medium | B72: 68* | C72: A | D72: A | E72: =IF(LEN(C72)=0,"-",IF(C72=D72,"Sí","No")) -> Sí | G72: Word Problem | H72: Work
A73: Medium | B73: 69* | C73: E | D73: A | E73: =IF(LEN(C73)=0,"-",IF(C73=D73,"Sí","No")) -> No | G73: Algebra | H73: Order | I73: Desconcentrado
A74: Medium | B74: 70* | C74: D | D74: D | E74: =IF(LEN(C74)=0,"-",IF(C74=D74,"Sí","No")) -> Sí | G74: Word Problem | H74: Simultaneous Equations
A75: Medium | B75: 71 | C75: C | D75: C | E75: =IF(LEN(C75)=0,"-",IF(C75=D75,"Sí","No")) -> Sí | G75: Word Problem | H75: Rate
A76: Medium | B76: 72 | C76: A | D76: A | E76: =IF(LEN(C76)=0,"-",IF(C76=D76,"Sí","No")) -> Sí | G76: Algebra | H76: Inequalities
A77: Medium | B77: 73 | C77: D | D77: B | E77: =IF(LEN(C77)=0,"-",IF(C77=D77,"Sí","No")) -> No | F77: Knowledge gap | G77: Arithmetic | H77: Number Properties
A78: Medium | B78: 74 | C78: C | D78: A | E78: =IF(LEN(C78)=0,"-",IF(C78=D78,"Sí","No")) -> No | F78: Careless | G78: Geometry | H78: Triangles
A79: Medium | B79: 75* | C79: E | D79: A | E79: =IF(LEN(C79)=0,"-",IF(C79=D79,"Sí","No")) -> No | F79: Knowledge gap | G79: Arithmetic | H79: Coordinate Geometry
A80: Medium | B80: 76* | C80: C | D80: E | E80: =IF(LEN(C80)=0,"-",IF(C80=D80,"Sí","No")) -> No | G80: Arithmetic | H80: Properties of Numbers
A81: Medium | B81: 77* | C81: D | D81: D | E81: =IF(LEN(C81)=0,"-",IF(C81=D81,"Sí","No")) -> Sí | G81: Word Problem | H81: Profit/Loss
A82: Medium | B82: 78* | C82: D | D82: C | E82: =IF(LEN(C82)=0,"-",IF(C82=D82,"Sí","No")) -> No | G82: Word Problem | H82: Percents
A83: Medium | B83: 79* | C83: E | D83: E | E83: =IF(LEN(C83)=0,"-",IF(C83=D83,"Sí","No")) -> Sí | G83: Word Problem | H83: Rate
A84: Medium | B84: 80* | C84: D | D84: D | E84: =IF(LEN(C84)=0,"-",IF(C84=D84,"Sí","No")) -> Sí | G84: Algebra | H84: Ratios
A85: Medium | B85: 81* | C85: C | D85: C | E85: =IF(LEN(C85)=0,"-",IF(C85=D85,"Sí","No")) -> Sí | G85: Arithmetic | H85: Statistics
A86: Medium | B86: 82* | C86: B | D86: B | E86: =IF(LEN(C86)=0,"-",IF(C86=D86,"Sí","No")) -> Sí | G86: Arithmetic | H86: Properties of Numbers
A87: Medium | B87: 83 | C87: C | D87: C | E87: =IF(LEN(C87)=0,"-",IF(C87=D87,"Sí","No")) -> Sí | G87: Algebra | H87: first and Second Degree Equations
A88: Medium | B88: 84 | C88: B | D88: D | E88: =IF(LEN(C88)=0,"-",IF(C88=D88,"Sí","No")) -> No | G88: Arithmetic | H88: Statistics | I88: Hace el algebra
A89: Medium | B89: 85 | C89: A | D89: A | E89: =IF(LEN(C89)=0,"-",IF(C89=D89,"Sí","No")) -> Sí | G89: Word Problem | H89: Ratios
A90: Medium | B90: 86 | C90: A | D90: A | E90: =IF(LEN(C90)=0,"-",IF(C90=D90,"Sí","No")) -> Sí | G90: Word Problem | H90: Min/Max
A91: Medium | B91: 87* | C91: C | D91: E | E91: =IF(LEN(C91)=0,"-",IF(C91=D91,"Sí","No")) -> No | G91: Word Problem | H91: Rate
A92: Medium | B92: 88* | C92: B | D92: B | E92: =IF(LEN(C92)=0,"-",IF(C92=D92,"Sí","No")) -> Sí | G92: Word Problem | H92: Percents
A93: Medium | B93: 89* | C93: E | D93: C | E93: =IF(LEN(C93)=0,"-",IF(C93=D93,"Sí","No")) -> No | F93: Knowledge gap | G93: Word Problem | H93: Overlapping Sets | I93: Peor ya lo entendí
A94: Medium | B94: 90* | C94: C | D94: A | E94: =IF(LEN(C94)=0,"-",IF(C94=D94,"Sí","No")) -> No | F94: Knowledge gap | G94: Arithmetic | H94: Properties of Numbers
A95: Medium | B95: 91 | C95: E | D95: E | E95: =IF(LEN(C95)=0,"-",IF(C95=D95,"Sí","No")) -> Sí | G95: Geometry | H95: Lines
A96: Medium | B96: 92 | C96: E | D96: A | E96: =IF(LEN(C96)=0,"-",IF(C96=D96,"Sí","No")) -> No | F96: Careless | G96: Word Problem | H96: Overlapping Sets | I96: Apurado
A97: Medium | B97: 93* | C97: D | D97: D | E97: =IF(LEN(C97)=0,"-",IF(C97=D97,"Sí","No")) -> Sí | G97: Word Problem | H97: Properties of Numbers
A98: Medium | B98: 94* | C98: A | D98: A | E98: =IF(LEN(C98)=0,"-",IF(C98=D98,"Sí","No")) -> Sí | G98: Algebra | H98: Coordinate Geometry
A99: Medium | B99: 95 | C99: E | D99: E | E99: =IF(LEN(C99)=0,"-",IF(C99=D99,"Sí","No")) -> Sí | G99: Arithmetic | H99: Properties of Numbers
A100: Medium | B100: 96 | C100: A | D100: A | E100: =IF(LEN(C100)=0,"-",IF(C100=D100,"Sí","No")) -> Sí | G100: Geometry | H100: Circles
A101: Medium | B101: 97* | C101: A | D101: A | E101: =IF(LEN(C101)=0,"-",IF(C101=D101,"Sí","No")) -> Sí | G101: Arithmetic | H101: Properties of Numbers
A102: Medium | B102: 98* | C102: C | D102: B | E102: =IF(LEN(C102)=0,"-",IF(C102=D102,"Sí","No")) -> No | F102: Knowledge gap | G102: Arithmetic | H102: Properties of Numbers
...

Sheet CR
A1: Critical Reasoning
A4: Difficulty | B4: Question No. | C4: Mi Respuesta | D4: Respuesta Correcta | E4: Resultado | F4: Razón | G4: Category | H4: Subcategory | I4: Comments
A5: Easy | B5: 1 | C5: B | D5: B | E5: =IF(LEN(C5)=0,"-",IF(C5=D5,"Sí","No")) -> Sí | G5: Argument Evaluation | H5: Weaken
A6: Easy | B6: 2* | C6: C | D6: C | E6: =IF(LEN(C6)=0,"-",IF(C6=D6,"Sí","No")) -> Sí | G6: Evaluation of a Plan | H6: Assumption
A7: Easy | B7: 3 | C7: A | D7: A | E7: =IF(LEN(C7)=0,"-",IF(C7=D7,"Sí","No")) -> Sí | G7: Argument Evaluation | H7: Argument Evaluation
A8: Easy | B8: 4* | C8: C | D8: D | E8: =IF(LEN(C8)=0,"-",IF(C8=D8,"Sí","No")) -> No | G8: Evaluation of a Plan | H8: Logical Flaw
A9: Easy | B9: 5 | C9: D | D9: D | E9: =IF(LEN(C9)=0,"-",IF(C9=D9,"Sí","No")) -> Sí | G9: Evaluation of a Plan | H9: Inference
A10: Easy | B10: 6 | C10: A | D10: E | E10: =IF(LEN(C10)=0,"-",IF(C10=D10,"Sí","No")) -> No | G10: Evaluation of a Plan | H10: Evaluation of a Plan
A11: Easy | B11: 7* | C11: A | D11: A | E11: =IF(LEN(C11)=0,"-",IF(C11=D11,"Sí","No")) -> Sí | G11: Evaluation of a Plan | H11: Assumption
A12: Easy | B12: 8 | C12: A | D12: A | E12: =IF(LEN(C12)=0,"-",IF(C12=D12,"Sí","No")) -> Sí | G12: Argument Construction | H12: Resolve Paradox
A13: Easy | B13: 9* | C13: B | D13: B | E13: =IF(LEN(C13)=0,"-",IF(C13=D13,"Sí","No")) -> Sí | G13: Evaluation of a Plan | H13: Evaluation of a Plan
A14: Easy | B14: 10 | C14: A | D14: D | E14: =IF(LEN(C14)=0,"-",IF(C14=D14,"Sí","No")) -> No | G14: Argument Evaluation | H14: Weaken
A15: Easy | B15: 11 | C15: E | D15: E | E15: =IF(LEN(C15)=0,"-",IF(C15=D15,"Sí","No")) -> Sí | G15: Argument Construction | H15: Additional Evidence
A16: Easy | B16: 12* | C16: A | D16: A | E16: =IF(LEN(C16)=0,"-",IF(C16=D16,"Sí","No")) -> Sí | G16: Evaluation of a Plan | H16: Evaluation of a Plan
A17: Easy | B17: 13 | C17: E | D17: E | E17: =IF(LEN(C17)=0,"-",IF(C17=D17,"Sí","No")) -> Sí | G17: Argument Evaluation | H17: Additional Evidence
A18: Easy | B18: 14* | C18: A | D18: A | E18: =IF(LEN(C18)=0,"-",IF(C18=D18,"Sí","No")) -> Sí | G18: Evaluation of a Plan | H18: Resolve Paradox
A19: Easy | B19: 15 | C19: D | D19: D | E19: =IF(LEN(C19)=0,"-",IF(C19=D19,"Sí","No")) -> Sí | G19: Argument Evaluation | H19: Weaken
A20: Easy | B20: 16 | C20: B | D20: B | E20: =IF(LEN(C20)=0,"-",IF(C20=D20,"Sí","No")) -> Sí | G20: Argument Construction | H20: Complete the Passage
A21: Easy | B21: 17* | C21: E | D21: E | E21: =IF(LEN(C21)=0,"-",IF(C21=D21,"Sí","No")) -> Sí | G21: Argument Construction | H21: Bold Face CR
A22: Easy | B22: 18 | C22: C | D22: C | E22: =IF(LEN(C22)=0,"-",IF(C22=D22,"Sí","No")) -> Sí | G22: Argument Construction | H22: Resolve Paradox
A23: Easy | B23: 19* | C23: E | D23: E | E23: =IF(LEN(C23)=0,"-",IF(C23=D23,"Sí","No")) -> Sí | G23: Argument Evaluation | H23: Argument Evaluation
A24: Easy | B24: 20 | C24: D | D24: D | E24: =IF(LEN(C24)=0,"-",IF(C24=D24,"Sí","No")) -> Sí | G24: Argument Construction | H24: Assumption
A25: Easy | B25: 21 | C25: B | D25: B | E25: =IF(LEN(C25)=0,"-",IF(C25=D25,"Sí","No")) -> Sí | G25: Argument Evaluation | H25: Strengthen
A26: Easy | B26: 22* | C26: C | D26: C | E26: =IF(LEN(C26)=0,"-",IF(C26=D26,"Sí","No")) -> Sí | G26: Evaluation of a Plan | H26: Evaluation of a Plan
A27: Easy | B27: 23 | C27: D | D27: D | E27: =IF(LEN(C27)=0,"-",IF(C27=D27,"Sí","No")) -> Sí | G27: Argument Evaluation | H27: Weaken
A28: Easy | B28: 24* | C28: C | D28: C | E28: =IF(LEN(C28)=0,"-",IF(C28=D28,"Sí","No")) -> Sí | G28: Argument Construction | H28: Additional Evidence
A29: Easy | B29: 25 | C29: A | D29: A | E29: =IF(LEN(C29)=0,"-",IF(C29=D29,"Sí","No")) -> Sí | G29: Argument Evaluation | H29: Strengthen
A30: Easy | B30: 26 | C30: B | D30: C | E30: =IF(LEN(C30)=0,"-",IF(C30=D30,"Sí","No")) -> No | G30: Argument Construction | H30: Conclusion | I30: Tenía identificada la buena, fallé en juzgar
A31: Easy | B31: 27* | C31: B | D31: B | E31: =IF(LEN(C31)=0,"-",IF(C31=D31,"Sí","No")) -> Sí | G31: Argument Evaluation | H31: Assumption
A32: Easy | B32: 28 | C32: C | D32: C | E32: =IF(LEN(C32)=0,"-",IF(C32=D32,"Sí","No")) -> Sí | G32: Argument Construction | H32: Assumption
A33: Easy | B33: 29* | C33: A | D33: A | E33: =IF(LEN(C33)=0,"-",IF(C33=D33,"Sí","No")) -> Sí | G33: Argument Construction | H33: Bold Face CR
A34: Easy | B34: 30 | C34: E | D34: E | E34: =IF(LEN(C34)=0,"-",IF(C34=D34,"Sí","No")) -> Sí | G34: Argument Evaluation | H34: Weaken
A35: Easy | B35: 31 | C35: C | D35: C | E35: =IF(LEN(C35)=0,"-",IF(C35=D35,"Sí","No")) -> Sí | G35: Argument Construction | H35: Inference
A36: Easy | B36: 32* | C36: C | D36: C | E36: =IF(LEN(C36)=0,"-",IF(C36=D36,"Sí","No")) -> Sí | G36: Evaluation of a Plan | H36: Strengthen
A37: Easy | B37: 33 | C37: E | D37: C | E37: =IF(LEN(C37)=0,"-",IF(C37=D37,"Sí","No")) -> No | G37: Argument Construction | H37: Must Be True | I37: No asumas lo que el passage no dice
A38: Easy | B38: 34* | C38: D | D38: D | E38: =IF(LEN(C38)=0,"-",IF(C38=D38,"Sí","No")) -> Sí | G38: Argument Construction | H38: Complete the Passage
A39: Easy | B39: 35 | C39: B | D39: B | E39: =IF(LEN(C39)=0,"-",IF(C39=D39,"Sí","No")) -> Sí | G39: Argument Evaluation | H39: Weaken
A40: Easy | B40: 36 | C40: A | D40: A | E40: =IF(LEN(C40)=0,"-",IF(C40=D40,"Sí","No")) -> Sí | G40: Argument Evaluation | H40: Weaken
A41: Easy | B41: 37* | C41: D | D41: D | E41: =IF(LEN(C41)=0,"-",IF(C41=D41,"Sí","No")) -> Sí | G41: Argument Construction | H41: Argument Construction
A42: Easy | B42: 38 | C42: B | D42: B | E42: =IF(LEN(C42)=0,"-",IF(C42=D42,"Sí","No")) -> Sí | G42: Argument Construction | H42: Complete the Passage
A43: Easy | B43: 39* | C43: E | D43: E | E43: =IF(LEN(C43)=0,"-",IF(C43=D43,"Sí","No")) -> Sí | G43: Argument Evaluation | H43: Argument Evaluation
A44: Easy | B44: 40 | C44: E | D44: E | E44: =IF(LEN(C44)=0,"-",IF(C44=D44,"Sí","No")) -> Sí | G44: Argument Evaluation | H44: Weaken
A45: Easy | B45: 41 | C45: C | D45: C | E45: =IF(LEN(C45)=0,"-",IF(C45=D45,"Sí","No")) -> Sí | G45: Argument Construction | H45: Complete the Passage
A46: Medium | B46: 42* | C46: D | D46: D | E46: =IF(LEN(C46)=0,"-",IF(C46=D46,"Sí","No")) -> Sí | G46: Argument Construction | H46: Strengthen
A47: Medium | B47: 43 | C47: D | D47: D | E47: =IF(LEN(C47)=0,"-",IF(C47=D47,"Sí","No")) -> Sí | G47: Argument Construction | H47: Assumption
A48: Medium | B48: 44* | C48: C | D48: C | E48: =IF(LEN(C48)=0,"-",IF(C48=D48,"Sí","No")) -> Sí | G48: Evaluation of a Plan | H48: Evaluation of a Plan
A49: Medium | B49: 45 | C49: D | D49: A | E49: =IF(LEN(C49)=0,"-",IF(C49=D49,"Sí","No")) -> No | G49: Argument Evaluation | H49: Weaken | I49: Did not follow my gut
A50: Medium | B50: 46 | C50: A | D50: A | E50: =IF(LEN(C50)=0,"-",IF(C50=D50,"Sí","No")) -> Sí | G50: Argument Construction | H50: Additional Evidence
A51: Medium | B51: 47* | C51: C | D51: A | E51: =IF(LEN(C51)=0,"-",IF(C51=D51,"Sí","No")) -> No | G51: Argument Construction | H51: Complete the Passage | I51: Compara términos complicados y es larga
A52: Medium | B52: 48 | C52: C | D52: C | E52: =IF(LEN(C52)=0,"-",IF(C52=D52,"Sí","No")) -> Sí | G52: Argument Construction | H52: Assumption
A53: Medium | B53: 49* | C53: C | D53: C | E53: =IF(LEN(C53)=0,"-",IF(C53=D53,"Sí","No")) -> Sí | G53: Argument Evaluation | H53: Argument Evaluation
A54: Medium | B54: 50 | C54: C | D54: C | E54: =IF(LEN(C54)=0,"-",IF(C54=D54,"Sí","No")) -> Sí | G54: Argument Construction | H54: Assumption
A55: Medium | B55: 51 | C55: A | D55: B | E55: =IF(LEN(C55)=0,"-",IF(C55=D55,"Sí","No")) -> No | G55: Argument Evaluation | H55: Strengthen | I55: Estaba cansado, forcé hacerlas
A56: Medium | B56: 52* | C56: D | D56: D | E56: =IF(LEN(C56)=0,"-",IF(C56=D56,"Sí","No")) -> Sí | G56: Argument Evaluation | H56: Logical Flaw | I56: Estaba cansado, forcé hacerlas
A57: Medium | B57: 53 | C57: D | D57: B | E57: =IF(LEN(C57)=0,"-",IF(C57=D57,"Sí","No")) -> No | G57: Argument Evaluation | H57: Additional Evidence | I57: Estaba cansado, forcé hacerlas
A58: Medium | B58: 54* | C58: B | D58: B | E58: =IF(LEN(C58)=0,"-",IF(C58=D58,"Sí","No")) -> Sí | G58: Argument Construction | H58: Argument Construction
A59: Medium | B59: 55 | C59: E | D59: A | E59: =IF(LEN(C59)=0,"-",IF(C59=D59,"Sí","No")) -> No | G59: Evaluation of a Plan | H59: Evaluation of a Plan | I59: Si es la única, es esa
A60: Medium | B60: 56 | C60: C | D60: C | E60: =IF(LEN(C60)=0,"-",IF(C60=D60,"Sí","No")) -> Sí | G60: Argument Construction | H60: Must Be True
A61: Medium | B61: 57* | C61: D | D61: D | E61: =IF(LEN(C61)=0,"-",IF(C61=D61,"Sí","No")) -> Sí | G61: Argument Construction | H61: Complete the Passage
A62: Medium | B62: 58 | C62: E | D62: E | E62: =IF(LEN(C62)=0,"-",IF(C62=D62,"Sí","No")) -> Sí | G62: Argument Construction | H62: Additional Evidence
A63: Medium | B63: 59* | C63: D | D63: E | E63: =IF(LEN(C63)=0,"-",IF(C63=D63,"Sí","No")) -> No | G63: Argument Construction | H63: Resolve Paradox | I63: No entendí los términos
A64: Medium | B64: 60 | C64: D | D64: D | E64: =IF(LEN(C64)=0,"-",IF(C64=D64,"Sí","No")) -> Sí | G64: Argument Evaluation | H64: Weaken
A65: Medium | B65: 61 | C65: A | D65: A | E65: =IF(LEN(C65)=0,"-",IF(C65=D65,"Sí","No")) -> Sí | G65: Argument Evaluation | H65: Inference
A66: Medium | B66: 62* | C66: D | D66: D | E66: =IF(LEN(C66)=0,"-",IF(C66=D66,"Sí","No")) -> Sí | G66: Argument Construction | H66: Resolve Paradox
A67: Medium | B67: 63 | C67: A | D67: A | E67: =IF(LEN(C67)=0,"-",IF(C67=D67,"Sí","No")) -> Sí | G67: Argument Evaluation | H67: Weaken
A68: Medium | B68: 64* | C68: A | D68: C | E68: =IF(LEN(C68)=0,"-",IF(C68=D68,"Sí","No")) -> No | G68: Argument Evaluation | H68: Bold Face CR | I68: Me apuré, take one at a time
A69: Medium | B69: 65 | C69: B | D69: B | E69: =IF(LEN(C69)=0,"-",IF(C69=D69,"Sí","No")) -> Sí | G69: Argument Evaluation | H69: Strengthen
A70: Medium | B70: 66 | C70: A | D70: A | E70: =IF(LEN(C70)=0,"-",IF(C70=D70,"Sí","No")) -> Sí | G70: Argument Construction | H70: Conclusion
A71: Medium | B71: 67* | C71: E | D71: E | E71: =IF(LEN(C71)=0,"-",IF(C71=D71,"Sí","No")) -> Sí | G71: Argument Evaluation | H71: Strengthen
A72: Medium | B72: 68 | C72: E | D72: E | E72: =IF(LEN(C72)=0,"-",IF(C72=D72,"Sí","No")) -> Sí | G72: Evaluation of a Plan | H72: Evaluation of a Plan
A73: Medium | B73: 69* | C73: D | D73: D | E73: =IF(LEN(C73)=0,"-",IF(C73=D73,"Sí","No")) -> Sí | G73: Argument Evaluation | H73: Argument Evaluation
A74: Medium | B74: 70 | C74: C | D74: B | E74: =IF(LEN(C74)=0,"-",IF(C74=D74,"Sí","No")) -> No | G74: Argument Construction | H74: Conclusion | I74: Tough
A75: Medium | B75: 71 | C75: B | D75: B | E75: =IF(LEN(C75)=0,"-",IF(C75=D75,"Sí","No")) -> Sí | G75: Argument Construction | H75: Assumption
A76: Medium | B76: 72* | C76: C | D76: C | E76: =IF(LEN(C76)=0,"-",IF(C76=D76,"Sí","No")) -> Sí | G76: Argument Evaluation | H76: Argument Evaluation
A77: Medium | B77: 73 | C77: D | D77: D | E77: =IF(LEN(C77)=0,"-",IF(C77=D77,"Sí","No")) -> Sí | G77: Argument Evaluation | H77: Weaken
A78: Medium | B78: 74* | C78: A | D78: D | E78: =IF(LEN(C78)=0,"-",IF(C78=D78,"Sí","No")) -> No | G78: Argument Evaluation | H78: Argument Evaluation
A79: Medium | B79: 75 | C79: D | D79: D | E79: =IF(LEN(C79)=0,"-",IF(C79=D79,"Sí","No")) -> Sí | G79: Argument Evaluation | H79: Weaken
A80: Medium | B80: 76 | C80: D | D80: D | E80: =IF(LEN(C80)=0,"-",IF(C80=D80,"Sí","No")) -> Sí | G80: Argument Construction | H80: Assumption
A81: Medium | B81: 77* | C81: D | D81: D | E81: =IF(LEN(C81)=0,"-",IF(C81=D81,"Sí","No")) -> Sí | G81: Argument Evaluation | H81: Bold Face CR
A82: Medium | B82: 78 | C82: A | D82: B | E82: =IF(LEN(C82)=0,"-",IF(C82=D82,"Sí","No")) -> No | G82: Argument Construction | H82: Assumption
A83: Medium | B83: 79* | C83: B | D83: D | E83: =IF(LEN(C83)=0,"-",IF(C83=D83,"Sí","No")) -> No | G83: Argument Evaluation | H83: Bold Face CR
A84: Medium | B84: 80 | C84: A | D84: A | E84: =IF(LEN(C84)=0,"-",IF(C84=D84,"Sí","No")) -> Sí | G84: Argument Evaluation | H84: Resolve Paradox
A85: Medium | B85: 81 | C85: B | D85: B | E85: =IF(LEN(C85)=0,"-",IF(C85=D85,"Sí","No")) -> Sí | G85: Argument Evaluation | H85: Weaken
A86: Medium | B86: 82* | C86: D | D86: D | E86: =IF(LEN(C86)=0,"-",IF(C86=D86,"Sí","No")) -> Sí | G86: Argument Evaluation | H86: Strengthen
A87: Hard | B87: 83 | C87: E | D87: E | E87: =IF(LEN(C87)=0,"-",IF(C87=D87,"Sí","No")) -> Sí | G87: Argument Evaluation | H87: Weaken
A88: Hard | B88: 84* | C88: E | D88: E | E88: =IF(LEN(C88)=0,"-",IF(C88=D88,"Sí","No")) -> Sí | G88: Argument Construction | H88: Assumption
A89: Hard | B89: 85 | C89: C | D89: C | E89: =IF(LEN(C89)=0,"-",IF(C89=D89,"Sí","No")) -> Sí | G89: Argument Evaluation | H89: Argument Evaluation
A90: Hard | B90: 86 | C90: C | D90: C | E90: =IF(LEN(C90)=0,"-",IF(C90=D90,"Sí","No")) -> Sí | G90: Argument Construction | H90: Argument Construction
A91: Hard | B91: 87* | C91: C | D91: C | E91: =IF(LEN(C91)=0,"-",IF(C91=D91,"Sí","No")) -> Sí | G91: Argument Evaluation | H91: Weaken
A92: Hard | B92: 88 | C92: A | D92: A | E92: =IF(LEN(C92)=0,"-",IF(C92=D92,"Sí","No")) -> Sí | G92: Evaluation of a Plan | H92: Evaluation of a Plan
A93: Hard | B93: 89* | C93: B | D93: A | E93: =IF(LEN(C93)=0,"-",IF(C93=D93,"Sí","No")) -> No | G93: Argument Evaluation | H93: Bold Face CR
A94: Hard | B94: 90 | C94: A | D94: D | E94: =IF(LEN(C94)=0,"-",IF(C94=D94,"Sí","No")) -> No | G94: Evaluation of a Plan | H94: Evaluation of a Plan
A95: Hard | B95: 91 | C95: E | D95: E | E95: =IF(LEN(C95)=0,"-",IF(C95=D95,"Sí","No")) -> Sí | G95: Argument Construction | H95: Conclusion
A96: Hard | B96: 92* | C96: D | D96: C | E96: =IF(LEN(C96)=0,"-",IF(C96=D96,"Sí","No")) -> No | G96: Argument Evaluation | H96: Resolve Paradox
A97: Hard | B97: 93 | C97: E | D97: D | E97: =IF(LEN(C97)=0,"-",IF(C97=D97,"Sí","No")) -> No | G97: Argument Construction | H97: Assumption
A98: Hard | B98: 94* | C98: B | D98: B | E98: =IF(LEN(C98)=0,"-",IF(C98=D98,"Sí","No")) -> Sí | G98: Argument Evaluation | H98: Strengthen
A99: Hard | B99: 95 | C99: D | D99: D | E99: =IF(LEN(C99)=0,"-",IF(C99=D99,"Sí","No")) -> Sí | G99: Argument Construction | H99: Assumption
A100: Hard | B100: 96 | C100: E | D100: E | E100: =IF(LEN(C100)=0,"-",IF(C100=D100,"Sí","No")) -> Sí | G100: Evaluation of a Plan | H100: Evaluation of a Plan
A101: Hard | B101: 97* | C101: D | D101: B | E101: =IF(LEN(C101)=0,"-",IF(C101=D101,"Sí","No")) -> No | G101: Argument Evaluation | H101: Bold Face CR
A102: Hard | B102: 98 | C102: C | D102: C | E102: =IF(LEN(C102)=0,"-",IF(C102=D102,"Sí","No")) -> Sí | G102: Argument Construction | H102: Inference
...

Sheet SC
A1: Critical Reasoning
A4: Difficulty | B4: Question No. | C4: Mi Respuesta | D4: Respuesta Correcta | E4: Resultado | F4: Razón | G4: Category | H4: Category 2 | I4: Comments
A5: Easy | B5: 1* | C5: D | D5: D | E5: =IF(LEN(C5)=0,"-",IF(C5=D5,"Sí","No")) -> Sí | G5: Verb Voice | H5: Pronouns
A6: Easy | B6: 2 | C6: D | D6: D | E6: =IF(LEN(C6)=0,"-",IF(C6=D6,"Sí","No")) -> Sí | G6: Subject Verb Agreement | H6: Rhetorical Construction
A7: Easy | B7: 3* | C7: E | D7: E | E7: =IF(LEN(C7)=0,"-",IF(C7=D7,"Sí","No")) -> Sí | G7: Verb Tense / Form | H7: Rhetorical Construction
A8: Easy | B8: 4 | C8: A | D8: E | E8: =IF(LEN(C8)=0,"-",IF(C8=D8,"Sí","No")) -> No | G8: Idiom | H8: Comparisons
A9: Easy | B9: 5 | C9: A | D9: A | E9: =IF(LEN(C9)=0,"-",IF(C9=D9,"Sí","No")) -> Sí | G9: Subject Verb Agreement | H9: Modifiers
A10: Easy | B10: 6* | C10: E | D10: E | E10: =IF(LEN(C10)=0,"-",IF(C10=D10,"Sí","No")) -> Sí | G10: Pronouns | H10: Parallel Structure
A11: Easy | B11: 7 | C11: E | D11: E | E11: =IF(LEN(C11)=0,"-",IF(C11=D11,"Sí","No")) -> Sí | G11: Pronouns | H11: Rhetorical Construction
A12: Easy | B12: 8* | C12: A | D12: A | E12: =IF(LEN(C12)=0,"-",IF(C12=D12,"Sí","No")) -> Sí | G12: Verb Tense / Form | H12: Modifiers
A13: Easy | B13: 9 | C13: E | D13: E | E13: =IF(LEN(C13)=0,"-",IF(C13=D13,"Sí","No")) -> Sí | G13: Comparisons
A14: Easy | B14: 10 | C14: B | D14: B | E14: =IF(LEN(C14)=0,"-",IF(C14=D14,"Sí","No")) -> Sí | G14: Which / That | H14: Verb Tense
A15: Easy | B15: 11* | C15: A | D15: D | E15: =IF(LEN(C15)=0,"-",IF(C15=D15,"Sí","No")) -> No | G15: Parallel Structure | H15: Verb Tense
A16: Easy | B16: 12 | C16: A | D16: E | E16: =IF(LEN(C16)=0,"-",IF(C16=D16,"Sí","No")) -> No | G16: Subject Verb Agreement | H16: Diction
A17: Easy | B17: 13* | C17: A | D17: A | E17: =IF(LEN(C17)=0,"-",IF(C17=D17,"Sí","No")) -> Sí | G17: Subject Verb Agreement | H17: Grammatical Construction
A18: Easy | B18: 14 | C18: A | D18: A | E18: =IF(LEN(C18)=0,"-",IF(C18=D18,"Sí","No")) -> Sí | G18: Parallel Structure | H18: Modifiers
A19: Easy | B19: 15 | C19: E | D19: E | E19: =IF(LEN(C19)=0,"-",IF(C19=D19,"Sí","No")) -> Sí | G19: Parallel Structure | H19: Idiom
A20: Easy | B20: 16* | C20: B | D20: B | E20: =IF(LEN(C20)=0,"-",IF(C20=D20,"Sí","No")) -> Sí | G20: Verb Tense / Form | H20: Style
A21: Easy | B21: 17 | C21: D | D21: D | E21: =IF(LEN(C21)=0,"-",IF(C21=D21,"Sí","No")) -> Sí | G21: Idiom
A22: Easy | B22: 18* | C22: C | D22: C | E22: =IF(LEN(C22)=0,"-",IF(C22=D22,"Sí","No")) -> Sí | G22: Comparisons | H22: Grammatical Construction
A23: Easy | B23: 19 | C23: D | D23: D | E23: =IF(LEN(C23)=0,"-",IF(C23=D23,"Sí","No")) -> Sí | G23: Comparisons | H23: Modifiers
A24: Easy | B24: 20 | C24: E | D24: E | E24: =IF(LEN(C24)=0,"-",IF(C24=D24,"Sí","No")) -> Sí | G24: Idiom | H24: Parallel Structure
A25: Easy | B25: 21* | C25: A | D25: A | E25: =IF(LEN(C25)=0,"-",IF(C25=D25,"Sí","No")) -> Sí | G25: Grammatical Construction | H25: Subject Verb Agreement
A26: Easy | B26: 22 | C26: A | D26: D | E26: =IF(LEN(C26)=0,"-",IF(C26=D26,"Sí","No")) -> No | G26: Verb Tense / Form | H26: Parallel Structure
A27: Easy | B27: 23* | C27: C | D27: C | E27: =IF(LEN(C27)=0,"-",IF(C27=D27,"Sí","No")) -> Sí | G27: Verb Tense / Form | H27: Pronouns
A28: Easy | B28: 24 | C28: E | D28: E | E28: =IF(LEN(C28)=0,"-",IF(C28=D28,"Sí","No")) -> Sí | G28: Diction | H28: Style
A29: Easy | B29: 25 | C29: A | D29: E | E29: =IF(LEN(C29)=0,"-",IF(C29=D29,"Sí","No")) -> No | G29: Modifiers | H29: Style
A30: Easy | B30: 26* | C30: E | D30: E | E30: =IF(LEN(C30)=0,"-",IF(C30=D30,"Sí","No")) -> Sí | G30: Parallel Structure | H30: Subject Verb Agreement
A31: Easy | B31: 27 | C31: D | D31: D | E31: =IF(LEN(C31)=0,"-",IF(C31=D31,"Sí","No")) -> Sí | G31: Idiom | H31: Subject Verb Agreement
A32: Easy | B32: 28* | C32: B | D32: B | E32: =IF(LEN(C32)=0,"-",IF(C32=D32,"Sí","No")) -> Sí | G32: Parallel Structure | H32: Such As / Like
A33: Easy | B33: 29 | C33: C | D33: C | E33: =IF(LEN(C33)=0,"-",IF(C33=D33,"Sí","No")) -> Sí | G33: Parallel Structure
A34: Easy | B34: 30 | C34: C | D34: C | E34: =IF(LEN(C34)=0,"-",IF(C34=D34,"Sí","No")) -> Sí | G34: Modifiers | H34: Style
A35: Easy | B35: 31* | C35: D | D35: D | E35: =IF(LEN(C35)=0,"-",IF(C35=D35,"Sí","No")) -> Sí | G35: Comparisons | H35: Idiom
A36: Easy | B36: 32 | C36: B | D36: B | E36: =IF(LEN(C36)=0,"-",IF(C36=D36,"Sí","No")) -> Sí | G36: Idiom | H36: Parallel Structure
A37: Easy | B37: 33* | C37: D | D37: A | E37: =IF(LEN(C37)=0,"-",IF(C37=D37,"Sí","No")) -> No | G37: Subject Verb Agreement | H37: Style
A38: Easy | B38: 34 | C38: B | D38: B | E38: =IF(LEN(C38)=0,"-",IF(C38=D38,"Sí","No")) -> Sí | G38: Idiom | H38: Style
A39: Easy | B39: 35 | C39: C | D39: C | E39: =IF(LEN(C39)=0,"-",IF(C39=D39,"Sí","No")) -> Sí | G39: Such As / Like | H39: Subject Verb Agreement
A40: Easy | B40: 36* | C40: A | D40: A | E40: =IF(LEN(C40)=0,"-",IF(C40=D40,"Sí","No")) -> Sí | G40: Verb Voice | H40: Parallel Structure
A41: Easy | B41: 37 | C41: A | D41: A | E41: =IF(LEN(C41)=0,"-",IF(C41=D41,"Sí","No")) -> Sí | G41: Idiom | H41: Style
A42: Easy | B42: 38* | C42: E | D42: E | E42: =IF(LEN(C42)=0,"-",IF(C42=D42,"Sí","No")) -> Sí | G42: Style | H42: Parallel Structure
A43: Easy | B43: 39 | C43: D | D43: D | E43: =IF(LEN(C43)=0,"-",IF(C43=D43,"Sí","No")) -> Sí | G43: Idiom
A44: Easy | B44: 40 | C44: E | D44: E | E44: =IF(LEN(C44)=0,"-",IF(C44=D44,"Sí","No")) -> Sí | G44: Diction | H44: Idiom
A45: Easy | B45: 41* | C45: D | D45: D | E45: =IF(LEN(C45)=0,"-",IF(C45=D45,"Sí","No")) -> Sí | G45: Comparisons | H45: Verb Tense
A46: Easy | B46: 42 | C46: B | D46: A | E46: =IF(LEN(C46)=0,"-",IF(C46=D46,"Sí","No")) -> No | G46: Parallel Structure | H46: Verb Tense
A47: Easy | B47: 43* | C47: E | D47: E | E47: =IF(LEN(C47)=0,"-",IF(C47=D47,"Sí","No")) -> Sí | G47: Comparisons | H47: Pronouns
A48: Easy | B48: 44 | C48: C | D48: C | E48: =IF(LEN(C48)=0,"-",IF(C48=D48,"Sí","No")) -> Sí | G48: Idiom
A49: Easy | B49: 45 | C49: B | D49: B | E49: =IF(LEN(C49)=0,"-",IF(C49=D49,"Sí","No")) -> Sí | G49: Grammatical Construction
A50: Easy | B50: 46* | C50: B | D50: B | E50: =IF(LEN(C50)=0,"-",IF(C50=D50,"Sí","No")) -> Sí | G50: Idiom | H50: Parallel Structure
A51: Medium | B51: 47 | C51: E | D51: A | E51: =IF(LEN(C51)=0,"-",IF(C51=D51,"Sí","No")) -> No | G51: Verb Tense / Form | H51: Pronouns
A52: Medium | B52: 48* | C52: D | D52: B | E52: =IF(LEN(C52)=0,"-",IF(C52=D52,"Sí","No")) -> No | G52: Subject Verb Agreement | H52: Grammatical Construction
A53: Medium | B53: 49 | C53: D | D53: D | E53: =IF(LEN(C53)=0,"-",IF(C53=D53,"Sí","No")) -> Sí | G53: Idiom | H53: Style
A54: Medium | B54: 50 | C54: A | D54: A | E54: =IF(LEN(C54)=0,"-",IF(C54=D54,"Sí","No")) -> Sí | G54: Which / That | H54: Grammatical Construction
A55: Medium | B55: 51* | C55: B | D55: B | E55: =IF(LEN(C55)=0,"-",IF(C55=D55,"Sí","No")) -> Sí | G55: Parallel Structure | H55: Diction
A56: Medium | B56: 52 | C56: D | D56: D | E56: =IF(LEN(C56)=0,"-",IF(C56=D56,"Sí","No")) -> Sí | G56: Style | H56: Parallel Structure
A57: Medium | B57: 53* | C57: A | D57: A | E57: =IF(LEN(C57)=0,"-",IF(C57=D57,"Sí","No")) -> Sí | G57: Parallel Structure
A58: Medium | B58: 54 | C58: E | D58: E | E58: =IF(LEN(C58)=0,"-",IF(C58=D58,"Sí","No")) -> Sí | G58: Parallel Structure | H58: Style
A59: Medium | B59: 55 | C59: B | D59: B | E59: =IF(LEN(C59)=0,"-",IF(C59=D59,"Sí","No")) -> Sí | G59: Punctuation | H59: Parallel Structure
A60: Medium | B60: 56* | C60: E | D60: E | E60: =IF(LEN(C60)=0,"-",IF(C60=D60,"Sí","No")) -> Sí | G60: Parallel Structure | H60: Modifiers
A61: Medium | B61: 57 | C61: D | D61: D | E61: =IF(LEN(C61)=0,"-",IF(C61=D61,"Sí","No")) -> Sí | G61: Grammatical Construction
A62: Medium | B62: 58* | C62: E | D62: E | E62: =IF(LEN(C62)=0,"-",IF(C62=D62,"Sí","No")) -> Sí | G62: Modifiers | H62: Idiom
A63: Medium | B63: 59 | C63: A | D63: D | E63: =IF(LEN(C63)=0,"-",IF(C63=D63,"Sí","No")) -> No | G63: Conjunctions | H63: Style
A64: Medium | B64: 60 | C64: E | D64: E | E64: =IF(LEN(C64)=0,"-",IF(C64=D64,"Sí","No")) -> Sí | G64: Subject Verb Agreement | H64: Punctuation
A65: Medium | B65: 61* | C65: E | D65: A | E65: =IF(LEN(C65)=0,"-",IF(C65=D65,"Sí","No")) -> No | G65: Modifiers
A66: Medium | B66: 62 | C66: E | D66: E | E66: =IF(LEN(C66)=0,"-",IF(C66=D66,"Sí","No")) -> Sí | G66: Idiom | H66: Verb Voice
A67: Medium | B67: 63* | C67: B | D67: B | E67: =IF(LEN(C67)=0,"-",IF(C67=D67,"Sí","No")) -> Sí | G67: Parallel Structure | H67: Verb Tense / Form
A68: Medium | B68: 64 | C68: A | D68: A | E68: =IF(LEN(C68)=0,"-",IF(C68=D68,"Sí","No")) -> Sí | G68: Parallel Structure | H68: Idiom
A69: Medium | B69: 65 | C69: C | D69: C | E69: =IF(LEN(C69)=0,"-",IF(C69=D69,"Sí","No")) -> Sí | G69: Idiom | H69: Parallel Structure
A70: Medium | B70: 66* | C70: A | D70: A | E70: =IF(LEN(C70)=0,"-",IF(C70=D70,"Sí","No")) -> Sí | G70: Subject Verb Agreement | H70: Style
A71: Medium | B71: 67 | C71: B | D71: B | E71: =IF(LEN(C71)=0,"-",IF(C71=D71,"Sí","No")) -> Sí | G71: Verb Tense / Form
A72: Medium | B72: 68* | C72: E | D72: E | E72: =IF(LEN(C72)=0,"-",IF(C72=D72,"Sí","No")) -> Sí | G72: Subject Verb Agreement | H72: Style
A73: Medium | B73: 69 | C73: E | D73: E | E73: =IF(LEN(C73)=0,"-",IF(C73=D73,"Sí","No")) -> Sí | G73: Verb Tense / Form | H73: Diction
A74: Medium | B74: 70 | C74: B | D74: B | E74: =IF(LEN(C74)=0,"-",IF(C74=D74,"Sí","No")) -> Sí | G74: Verb Tense / Form | H74: Style
A75: Medium | B75: 71* | C75: D | D75: D | E75: =IF(LEN(C75)=0,"-",IF(C75=D75,"Sí","No")) -> Sí | G75: Which / That | H75: Modifiers
A76: Medium | B76: 72 | C76: A | D76: A | E76: =IF(LEN(C76)=0,"-",IF(C76=D76,"Sí","No")) -> Sí | G76: Idiom | H76: Parallel Structure
A77: Medium | B77: 73* | C77: B | D77: B | E77: =IF(LEN(C77)=0,"-",IF(C77=D77,"Sí","No")) -> Sí | G77: Verb Tense / Form | H77: Diction
A78: Medium | B78: 74 | C78: E | D78: D | E78: =IF(LEN(C78)=0,"-",IF(C78=D78,"Sí","No")) -> No | G78: Verb Tense / Form | I78: Agreement in the past, past
A79: Medium | B79: 75 | C79: C | D79: C | E79: =IF(LEN(C79)=0,"-",IF(C79=D79,"Sí","No")) -> Sí | G79: Verb Tense / Form
A80: Medium | B80: 76* | C80: C | D80: D | E80: =IF(LEN(C80)=0,"-",IF(C80=D80,"Sí","No")) -> No | G80: Style | H80: Parallel Structure | I80: As much because x as because y
A81: Medium | B81: 77 | C81: E | D81: E | E81: =IF(LEN(C81)=0,"-",IF(C81=D81,"Sí","No")) -> Sí | G81: Parallel Structure | H81: Pronouns
A82: Medium | B82: 78* | C82: D | D82: D | E82: =IF(LEN(C82)=0,"-",IF(C82=D82,"Sí","No")) -> Sí | G82: Pronouns | H82: Subject Verb Agreement
A83: Medium | B83: 79 | C83: D | D83: B | E83: =IF(LEN(C83)=0,"-",IF(C83=D83,"Sí","No")) -> No | G83: Modifiers | H83: Idiom
A84: Medium | B84: 80 | C84: B | D84: E | E84: =IF(LEN(C84)=0,"-",IF(C84=D84,"Sí","No")) -> No | G84: Nouns | I84: Usar más la estrategia 2/3
A85: Medium | B85: 81* | C85: C | D85: C | E85: =IF(LEN(C85)=0,"-",IF(C85=D85,"Sí","No")) -> Sí | G85: Parallel Structure | H85: Idiom
A86: Medium | B86: 82 | C86: E | D86: E | E86: =IF(LEN(C86)=0,"-",IF(C86=D86,"Sí","No")) -> Sí | G86: Parallel Structure
A87: Medium | B87: 83* | C87: D | D87: B | E87: =IF(LEN(C87)=0,"-",IF(C87=D87,"Sí","No")) -> No | G87: Parallel Structure | H87: Idiom
A88: Medium | B88: 84 | C88: B | D88: B | E88: =IF(LEN(C88)=0,"-",IF(C88=D88,"Sí","No")) -> Sí | G88: Subject Verb Agreement
A89: Medium | B89: 85 | C89: A | D89: A | E89: =IF(LEN(C89)=0,"-",IF(C89=D89,"Sí","No")) -> Sí | G89: Verb Tense / Form | H89: Pronouns
A90: Medium | B90: 86* | C90: E | D90: C | E90: =IF(LEN(C90)=0,"-",IF(C90=D90,"Sí","No")) -> No | G90: Verb Tense / Form | H90: Conjunctions
A91: Medium | B91: 87 | C91: C | D91: C | E91: =IF(LEN(C91)=0,"-",IF(C91=D91,"Sí","No")) -> Sí | G91: Verb Tense / Form
A92: Medium | B92: 88* | C92: A | D92: D | E92: =IF(LEN(C92)=0,"-",IF(C92=D92,"Sí","No")) -> No | G92: Style
A93: Medium | B93: 89 | C93: B | D93: B | E93: =IF(LEN(C93)=0,"-",IF(C93=D93,"Sí","No")) -> Sí | G93: Comparisons | H93: Parallel Structure
A94: Medium | B94: 90 | C94: B | D94: B | E94: =IF(LEN(C94)=0,"-",IF(C94=D94,"Sí","No")) -> Sí | G94: Parallel Structure | H94: Verb Tense / Form
A95: Medium | B95: 91* | C95: A | D95: A | E95: =IF(LEN(C95)=0,"-",IF(C95=D95,"Sí","No")) -> Sí | G95: Subject Verb Agreement | H95: Pronouns
A96: Medium | B96: 92 | C96: B | D96: B | E96: =IF(LEN(C96)=0,"-",IF(C96=D96,"Sí","No")) -> Sí | G96: Grammatical Construction | H96: Punctuation
A97: Hard | B97: 93* | C97: E | D97: A | E97: =IF(LEN(C97)=0,"-",IF(C97=D97,"Sí","No")) -> No | G97: Parallel Structure | H97: Comparisons
A98: Hard | B98: 94 | C98: E | D98: E | E98: =IF(LEN(C98)=0,"-",IF(C98=D98,"Sí","No")) -> Sí | G98: Parallel Structure | H98: Diction
A99: Hard | B99: 95 | C99: A | D99: C | E99: =IF(LEN(C99)=0,"-",IF(C99=D99,"Sí","No")) -> No | G99: Subject Verb Agreement
A100: Hard | B100: 96* | C100: E | D100: C | E100: =IF(LEN(C100)=0,"-",IF(C100=D100,"Sí","No")) -> No | G100: Diction | H100: Idiom
A101: Hard | B101: 97 | C101: C | D101: C | E101: =IF(LEN(C101)=0,"-",IF(C101=D101,"Sí","No")) -> Sí | G101: Comparisons
A102: Hard | B102: 98* | C102: C | D102: A | E102: =IF(LEN(C102)=0,"-",IF(C102=D102,"Sí","No")) -> No | G102: Verb Tense / Form | H102: Grammatical Construction
...

Sheet RC
A1: Reading comprehension
A4: Difficulty | B4: Question No. | C4: Mi Respuesta | D4: Respuesta Correcta | E4: Resultado | F4: Razón | G4: Category | H4: Comments
A5: Easy | B5: 1* | C5: C | D5: C | E5: =IF(LEN(C5)=0,"-",IF(C5=D5,"Sí","No")) -> Sí | G5: Main Idea
A6: Easy | B6: 2* | C6: D | D6: D | E6: =IF(LEN(C6)=0,"-",IF(C6=D6,"Sí","No")) -> Sí | G6: Supporting Ideas
A7: Easy | B7: 3* | C7: B | D7: B | E7: =IF(LEN(C7)=0,"-",IF(C7=D7,"Sí","No")) -> Sí | G7: Inference
A8: Easy | B8: 4 | C8: E | D8: E | E8: =IF(LEN(C8)=0,"-",IF(C8=D8,"Sí","No")) -> Sí | G8: Main Idea
A9: Easy | B9: 5 | C9: E | D9: B | E9: =IF(LEN(C9)=0,"-",IF(C9=D9,"Sí","No")) -> No | G9: Supporting Ideas
A10: Easy | B10: 6 | C10: D | D10: D | E10: =IF(LEN(C10)=0,"-",IF(C10=D10,"Sí","No")) -> Sí | G10: Supporting Ideas
A11: Easy | B11: 7 | C11: D | D11: D | E11: =IF(LEN(C11)=0,"-",IF(C11=D11,"Sí","No")) -> Sí | G11: Logical Structure
A12: Easy | B12: 8 | C12: A | D12: A | E12: =IF(LEN(C12)=0,"-",IF(C12=D12,"Sí","No")) -> Sí | G12: Logical Structure
A13: Easy | B13: 9 | C13: B | D13: B | E13: =IF(LEN(C13)=0,"-",IF(C13=D13,"Sí","No")) -> Sí | G13: Main Idea
A14: Easy | B14: 10 | C14: A | D14: E | E14: =IF(LEN(C14)=0,"-",IF(C14=D14,"Sí","No")) -> No | G14: Inference
A15: Easy | B15: 11 | C15: E | D15: E | E15: =IF(LEN(C15)=0,"-",IF(C15=D15,"Sí","No")) -> Sí | G15: Supporting Ideas
A16: Easy | B16: 12 | C16: D | D16: D | E16: =IF(LEN(C16)=0,"-",IF(C16=D16,"Sí","No")) -> Sí | G16: Main Idea
A17: Easy | B17: 13 | C17: E | D17: E | E17: =IF(LEN(C17)=0,"-",IF(C17=D17,"Sí","No")) -> Sí | G17: Supporting Ideas
A18: Easy | B18: 14 | C18: D | D18: D | E18: =IF(LEN(C18)=0,"-",IF(C18=D18,"Sí","No")) -> Sí | G18: Supporting Ideas
A19: Easy | B19: 15 | C19: A | D19: D | E19: =IF(LEN(C19)=0,"-",IF(C19=D19,"Sí","No")) -> No | G19: Inference
... A21: Easy | B21: 17 | C21: E | D21: A | E21: =IF(LEN(C21)=0,"-",IF(C21=D21,"Sí","No")) -> No | G21: Logical Structure
A22: Easy | B22: 18* | C22: B | D22: B | E22: =IF(LEN(C22)=0,"-",IF(C22=D22,"Sí","No")) -> Sí | G22: Application
A23: Easy | B23: 19* | C23: B | D23: B | E23: =IF(LEN(C23)=0,"-",IF(C23=D23,"Sí","No")) -> Sí | G23: Supporting Ideas
A24: Easy | B24: 20* | C24: B | D24: B | E24: =IF(LEN(C24)=0,"-",IF(C24=D24,"Sí","No")) -> Sí | G24: Inference
A25: Easy | B25: 21* | C25: A | D25: A | E25: =IF(LEN(C25)=0,"-",IF(C25=D25,"Sí","No")) -> Sí | G25: Evaluation
A26: Easy | B26: 22* | C26: D | D26: D | E26: =IF(LEN(C26)=0,"-",IF(C26=D26,"Sí","No")) -> Sí | G26: Inference
A27: Easy | B27: 23* | C27: E | D27: E | E27: =IF(LEN(C27)=0,"-",IF(C27=D27,"Sí","No")) -> Sí | G27: Inference
A28: Easy | B28: 24* | C28: D | D28: D | E28: =IF(LEN(C28)=0,"-",IF(C28=D28,"Sí","No")) -> Sí | G28: Evaluation
A29: Easy | B29: 25* | C29: A | D29: A | E29: =IF(LEN(C29)=0,"-",IF(C29=D29,"Sí","No")) -> Sí | G29: Main Idea
A30: Easy | B30: 26 | C30: E | D30: E | E30: =IF(LEN(C30)=0,"-",IF(C30=D30,"Sí","No")) -> Sí | G30: Main Idea
A31: Easy | B31: 27 | C31: C | D31: C | E31: =IF(LEN(C31)=0,"-",IF(C31=D31,"Sí","No")) -> Sí | G31: Inference
A32: Easy | B32: 28 | C32: C | D32: C | E32: =IF(LEN(C32)=0,"-",IF(C32=D32,"Sí","No")) -> Sí | G32: Tone
A33: Easy | B33: 29 | C33: C | D33: C | E33: =IF(LEN(C33)=0,"-",IF(C33=D33,"Sí","No")) -> Sí | G33: Supporting Ideas
A34: Easy | B34: 30 | C34: E | D34: E | E34: =IF(LEN(C34)=0,"-",IF(C34=D34,"Sí","No")) -> Sí | G34: Supporting Ideas
A35: Easy | B35: 31 | C35: C | D35: C | E35: =IF(LEN(C35)=0,"-",IF(C35=D35,"Sí","No")) -> Sí | G35: Main Idea
A36: Easy | B36: 32 | C36: C | D36: B | E36: =IF(LEN(C36)=0,"-",IF(C36=D36,"Sí","No")) -> No | G36: Inference
A37: Easy | B37: 33 | C37: A | D37: A | E37: =IF(LEN(C37)=0,"-",IF(C37=D37,"Sí","No")) -> Sí | G37: Inference
A38: Easy | B38: 34 | C38: C | D38: C | E38: =IF(LEN(C38)=0,"-",IF(C38=D38,"Sí","No")) -> Sí | G38: Supporting Ideas
A39: Easy | B39: 35 | C39: B | D39: B | E39: =IF(LEN(C39)=0,"-",IF(C39=D39,"Sí","No")) -> Sí | G39: Logical Structure
A40: Easy | B40: 36* | C40: C | D40: C | E40: =IF(LEN(C40)=0,"-",IF(C40=D40,"Sí","No")) -> Sí | G40: Main Idea
A41: Easy | B41: 37* | C41: A | D41: B | E41: =IF(LEN(C41)=0,"-",IF(C41=D41,"Sí","No")) -> No | G41: Supporting Ideas
A42: Easy | B42: 38* | C42: D | D42: D | E42: =IF(LEN(C42)=0,"-",IF(C42=D42,"Sí","No")) -> Sí | G42: Application
A43: Easy | B43: 39* | C43: C | D43: B | E43: =IF(LEN(C43)=0,"-",IF(C43=D43,"Sí","No")) -> No | G43: Evaluation
A44: Easy | B44: 40* | C44: E | D44: E | E44: =IF(LEN(C44)=0,"-",IF(C44=D44,"Sí","No")) -> Sí | G44: Inference
A45: Easy | B45: 41* | C45: C | D45: C | E45: =IF(LEN(C45)=0,"-",IF(C45=D45,"Sí","No")) -> Sí | G45: Supporting Ideas
A46: Easy | B46: 42 | C46: C | D46: C | E46: =IF(LEN(C46)=0,"-",IF(C46=D46,"Sí","No")) -> Sí | G46: Main Idea
A47: Easy | B47: 43 | C47: D | D47: D | E47: =IF(LEN(C47)=0,"-",IF(C47=D47,"Sí","No")) -> Sí | G47: Logical Structure
A48: Easy | B48: 44 | C48: A | D48: D | E48: =IF(LEN(C48)=0,"-",IF(C48=D48,"Sí","No")) -> No | G48: Inference
A49: Easy | B49: 45 | C49: A | D49: A | E49: =IF(LEN(C49)=0,"-",IF(C49=D49,"Sí","No")) -> Sí | G49: Inference
A50: Easy | B50: 46 | C50: A | D50: E | E50: =IF(LEN(C50)=0,"-",IF(C50=D50,"Sí","No")) -> No | G50: Supporting Ideas
A51: Medium | B51: 47 | C51: B | D51: B | E51: =IF(LEN(C51)=0,"-",IF(C51=D51,"Sí","No")) -> Sí | G51: Inference
A52: Medium | B52: 48 | C52: A | D52: A | E52: =IF(LEN(C52)=0,"-",IF(C52=D52,"Sí","No")) -> Sí | G52: Logical Structure
A53: Medium | B53: 49 | C53: A | D53: A | E53: =IF(LEN(C53)=0,"-",IF(C53=D53,"Sí","No")) -> Sí | G53: Logical Structure
A54: Medium | B54: 50 | C54: C | D54: C | E54: =IF(LEN(C54)=0,"-",IF(C54=D54,"Sí","No")) -> Sí | G54: Main Idea
A55: Medium | B55: 51 | C55: B | D55: B | E55: =IF(LEN(C55)=0,"-",IF(C55=D55,"Sí","No")) -> Sí | G55: Supporting Ideas
A56: Medium | B56: 52 | C56: E | D56: E | E56: =IF(LEN(C56)=0,"-",IF(C56=D56,"Sí","No")) -> Sí | G56: Inference
A57: Medium | B57: 53 | C57: E | D57: E | E57: =IF(LEN(C57)=0,"-",IF(C57=D57,"Sí","No")) -> Sí | G57: Inference
... A60: Medium | B60: 56 | C60: D | D60: D | E60: =IF(LEN(C60)=0,"-",IF(C60=D60,"Sí","No")) -> Sí | G60: Supporting Ideas
A61: Medium | B61: 57* | D61: D | E61: =IF(LEN(C61)=0,"-",IF(C61=D61,"Sí","No")) -> - | G61: Supporting Ideas
A62: Medium | B62: 58* | D62: C | E62: =IF(LEN(C62)=0,"-",IF(C62=D62,"Sí","No")) -> - | G62: Inference
A63: Medium | B63: 59* | D63: B | E63: =IF(LEN(C63)=0,"-",IF(C63=D63,"Sí","No")) -> - | G63: Inference
A64: Medium | B64: 60* | D64: A | E64: =IF(LEN(C64)=0,"-",IF(C64=D64,"Sí","No")) -> - | G64: Supporting Ideas
A65: Medium | B65: 61* | D65: A | E65: =IF(LEN(C65)=0,"-",IF(C65=D65,"Sí","No")) -> - | G65: Evaluation
A66: Medium | B66: 62* | D66: B | E66: =IF(LEN(C66)=0,"-",IF(C66=D66,"Sí","No")) -> - | G66: Main Idea
A67: Medium | B67: 63* | D67: E | E67: =IF(LEN(C67)=0,"-",IF(C67=D67,"Sí","No")) -> - | G67: Inference
A68: Medium | B68: 64 | D68: B | E68: =IF(LEN(C68)=0,"-",IF(C68=D68,"Sí","No")) -> - | G68: Main Idea
A69: Medium | B69: 65 | D69: D | E69: =IF(LEN(C69)=0,"-",IF(C69=D69,"Sí","No")) -> - | G69: Inference
A70: Medium | B70: 66 | D70: E | E70: =IF(LEN(C70)=0,"-",IF(C70=D70,"Sí","No")) -> - | G70: Logical Structure
A71: Medium | B71: 67 | D71: D | E71: =IF(LEN(C71)=0,"-",IF(C71=D71,"Sí","No")) -> - | G71: Supporting Ideas
A72: Medium | B72: 68 | D72: D | E72: =IF(LEN(C72)=0,"-",IF(C72=D72,"Sí","No")) -> - | G72: Inference
A73: Medium | B73: 69 | D73: B | E73: =IF(LEN(C73)=0,"-",IF(C73=D73,"Sí","No")) -> - | G73: Inference
A74: Medium | B74: 70 | D74: D | E74: =IF(LEN(C74)=0,"-",IF(C74=D74,"Sí","No")) -> - | G74: Main Idea
A75: Medium | B75: 71 | D75: D | E75: =IF(LEN(C75)=0,"-",IF(C75=D75,"Sí","No")) -> - | G75: Application
A76: Medium | B76: 72 | D76: B | E76: =IF(LEN(C76)=0,"-",IF(C76=D76,"Sí","No")) -> - | G76: Inference
A77: Medium | B77: 73 | D77: C | E77: =IF(LEN(C77)=0,"-",IF(C77=D77,"Sí","No")) -> - | G77: Supporting Ideas
A78: Medium | B78: 74 | D78: B | E78: =IF(LEN(C78)=0,"-",IF(C78=D78,"Sí","No")) -> - | G78: Inference
A79: Medium | B79: 75 | D79: E | E79: =IF(LEN(C79)=0,"-",IF(C79=D79,"Sí","No")) -> - | G79: Inference
A80: Medium | B80: 76* | D80: D | E80: =IF(LEN(C80)=0,"-",IF(C80=D80,"Sí","No")) -> - | G80: Main Idea
A81: Medium | B81: 77* | D81: E | E81: =IF(LEN(C81)=0,"-",IF(C81=D81,"Sí","No")) -> - | G81: Evaluation
A82: Medium | B82: 78* | D82: B | E82: =IF(LEN(C82)=0,"-",IF(C82=D82,"Sí","No")) -> - | G82: Supporting Ideas
A83: Medium | B83: 79* | D83: D | E83: =IF(LEN(C83)=0,"-",IF(C83=D83,"Sí","No")) -> - | G83: Supporting Ideas
A84: Medium | B84: 80* | D84: C | E84: =IF(LEN(C84)=0,"-",IF(C84=D84,"Sí","No")) -> - | G84: Inference
A85: Medium | B85: 81* | D85: C | E85: =IF(LEN(C85)=0,"-",IF(C85=D85,"Sí","No")) -> - | G85: Inference
A86: Medium | B86: 82 | D86: E | E86: =IF(LEN(C86)=0,"-",IF(C86=D86,"Sí","No")) -> - | G86: Main Idea
A87: Medium | B87: 83 | D87: A | E87: =IF(LEN(C87)=0,"-",IF(C87=D87,"Sí","No")) -> - | G87: Supporting Ideas
A88: Medium | B88: 84 | D88: E | E88: =IF(LEN(C88)=0,"-",IF(C88=D88,"Sí","No")) -> - | G88: Supporting Ideas
A89: Medium | B89: 85 | D89: C | E89: =IF(LEN(C89)=0,"-",IF(C89=D89,"Sí","No")) -> - | G89: Supporting Ideas
A90: Medium | B90: 86 | D90: B | E90: =IF(LEN(C90)=0,"-",IF(C90=D90,"Sí","No")) -> - | G90: Supporting Ideas
A91: Medium | B91: 87 | D91: C | E91: =IF(LEN(C91)=0,"-",IF(C91=D91,"Sí","No")) -> - | G91: Logical Structure
A92: Medium | B92: 88 | D92: D | E92: =IF(LEN(C92)=0,"-",IF(C92=D92,"Sí","No")) -> - | G92: Supporting Ideas
A93: Medium | B93: 89 | D93: A | E93: =IF(LEN(C93)=0,"-",IF(C93=D93,"Sí","No")) -> - | G93: Inference
A94: Medium | B94: 90 | D94: A | E94: =IF(LEN(C94)=0,"-",IF(C94=D94,"Sí","No")) -> - | G94: Inference
A95: Medium | B95: 91 | D95: A | E95: =IF(LEN(C95)=0,"-",IF(C95=D95,"Sí","No")) -> - | G95: Main Idea
A96: Medium | B96: 92 | D96: A | E96: =IF(LEN(C96)=0,"-",IF(C96=D96,"Sí","No")) -> - | G96: Supporting Ideas
A97: Hard | B97: 93 | D97: D | E97: =IF(LEN(C97)=0,"-",IF(C97=D97,"Sí","No")) -> - | G97: Inference
... A106: Hard | B106: 102 | D106: E | E106: =IF(LEN(C106)=0,"-",IF(C106=D106,"Sí","No")) -> - | G106: Logical Structure
A107: Hard | B107: 103* | D107: D | E107: =IF(LEN(C107)=0,"-",IF(C107=D107,"Sí","No")) -> - | G107: Main Idea
A108: Hard | B108: 104* | D108: A | E108: =IF(LEN(C108)=0,"-",IF(C108=D108,"Sí","No")) -> - | G108: Inference
A109: Hard | B109: 105* | D109: C | E109: =IF(LEN(C109)=0,"-",IF(C109=D109,"Sí","No")) -> - | G109: Inference
A110: Hard | B110: 106* | D110: D | E110: =IF(LEN(C110)=0,"-",IF(C110=D110,"Sí","No")) -> - | G110: Evaluation
A111: Hard | B111: 107* | D111: A | E111: =IF(LEN(C111)=0,"-",IF(C111=D111,"Sí","No")) -> - | G111: Supporting Ideas
A112: Hard | B112: 108 | D112: B | E112: =IF(LEN(C112)=0,"-",IF(C112=D112,"Sí","No")) -> - | G112: Main Idea
A113: Hard | B113: 109 | D113: A | E113: =IF(LEN(C113)=0,"-",IF(C113=D113,"Sí","No")) -> - | G113: Supporting Ideas
...

Sheet Analysis
A1: Analysis
A3: PS | D3: DS | G3: CR | J3: SC | M3: RC
A5: Overall rate | B5: =COUNTIF(PS!$E$5:$E$234,"Sí")/(COUNTIF(PS!$E$5:$E$234,"Sí")+(COUNTIF(PS!$E$5:$E$234,"No"))) -> 0.73478261 | D5: Overall rate | E5: =COUNTIF(DS!$E$5:$E$178,"Sí")/(COUNTIF(DS!$E$5:$E$178,"Sí")+(COUNTIF(DS!$E$5:$E$178,"No"))) -> 0.72988506 | G5: Overall rate | H5: =IFERROR(COUNTIF(CR!$E$5:$E$178,"Sí")/(COUNTIF(CR!$E$5:$E$178,"Sí")+(COUNTIF(CR!$E$5:$E$178,"No"))),"-") -> 0.76612903 | J5: Overall rate | K5: =IFERROR(COUNTIF(SC!$E$5:$E$178,"Sí")/(COUNTIF(SC!$E$5:$E$178,"Sí")+(COUNTIF(SC!$E$5:$E$178,"No"))),"-") -> 0.77857143 | M5: Overall rate | N5: =IFERROR(COUNTIF('RC'!$E$5:$E$178,"Sí")/(COUNTIF('RC'!$E$5:$E$178,"Sí")+(COUNTIF('RC'!$E$5:$E$178,"No"))),"-") -> 0.82142857
A7: Category | D7: Category | G7: Category | J7: Category | M7: Category
A8: Word Problem | B8: =IFERROR((COUNTIFS(PS!$G$5:$G$234,Analysis!A8,PS!$E$5:$E$234,"Sí")+COUNTIFS(PS!$H$5:$H$234,Analysis!A8,PS!$E$5:$E$234,"Sí"))/(COUNTIFS(PS!$G$5:$G$234,Analysis!A8,PS!$E$5:$E$234,"Sí")+COUNTIFS(PS!$G$5:$G$234,Analysis!A8,PS!$E$5:$E$234,"No")+COUNTIFS(PS!$H$5:$H$234,Analysis!A8,PS!$E$5:$E$234,"Sí")+COUNTIFS(PS!$H$5:$H$234,Analysis!A8,PS!$E$5:$E$234,"No")),"-") -> 0.74074074 | D8: Arithmetic | E8: =IFERROR(COUNTIFS(PS!$G$5:$G$300,Analysis!D8,PS!$E$5:$E$300,"Sí")/(COUNTIFS(PS!$G$5:$G$300,Analysis!D8,PS!$E$5:$E$300,"Sí")+COUNTIFS(PS!$G$5:$G$300,Analysis!D8,PS!$E$5:$E$300,"No")),"-") -> 0.73809524 | G8: Argument Evaluation | H8: =IFERROR(COUNTIFS(CR!$G$5:$G$300,Analysis!G8,CR!$E$5:$E$300,"Sí")/(COUNTIFS(CR!$G$5:$G$300,Analysis!G8,CR!$E$5:$E$300,"Sí")+COUNTIFS(CR!$G$5:$G$300,Analysis!G8,CR!$E$5:$E$300,"No")),"-") -> 0.75409836 | J8: Verb Voice | K8: =IFERROR((COUNTIFS(SC!$G$5:$G$300,Analysis!J8,SC!$E$5:$E$300,"Sí")+COUNTIFS(SC!$H$5:$H$300,Analysis!J8,SC!$E$5:$E$300,"Sí"))/(COUNTIFS(SC!$G$5:$G$300,Analysis!J8,SC!$E$5:$E$300,"Sí")+COUNTIFS(SC!$G$5:$G$300,Analysis!J8,SC!$E$5:$E$300,"No")+COUNTIFS(SC!$H$5:$H$300,Analysis!J8,SC!$E$5:$E$300,"Sí")+COUNTIFS(SC!$H$5:$H$300,Analysis!J8,SC!$E$5:$E$300,"No")),"-") -> 1 | M8: Main Idea | N8: =IFERROR(COUNTIFS('RC'!$G$5:$G$300,Analysis!M8,'RC'!$E$5:$E$300,"Sí")/(COUNTIFS('RC'!$G$5:$G$300,Analysis!M8,'RC'!$E$5:$E$300,"Sí")+COUNTIFS('RC'!$G$5:$G$300,Analysis!M8,'RC'!$E$5:$E$300,"No")),"-") -> 1
A9: Algebra | B9: =IFERROR((COUNTIFS(PS!$G$5:$G$234,Analysis!A9,PS!$E$5:$E$234,"Sí")+COUNTIFS(PS!$H$5:$H$234,Analysis!A9,PS!$E$5:$E$234,"Sí"))/(COUNTIFS(PS!$G$5:$G$234,Analysis!A9,PS!$E$5:$E$234,"Sí")+COUNTIFS(PS!$G$5:$G$234,Analysis!A9,PS!$E$5:$E$234,"No")+COUNTIFS(PS!$H$5:$H$234,Analysis!A9,PS!$E$5:$E$234,"Sí")+COUNTIFS(PS!$H$5:$H$234,Analysis!A9,PS!$E$5:$E$234,"No")),"-") -> 0.67567568 | D9: Geometry | E9: =IFERROR(COUNTIFS(PS!$G$5:$G$300,Analysis!D9,PS!$E$5:$E$300,"Sí")/(COUNTIFS(PS!$G$5:$G$300,Analysis!D9,PS!$E$5:$E$300,"Sí")+COUNTIFS(PS!$G$5:$G$300,Analysis!D9,PS!$E$5:$E$300,"No")),"-") -> 0.76923077 | G9: Evaluation of a Plan | H9: =IFERROR(COUNTIFS(CR!$G$5:$G$300,Analysis!G9,CR!$E$5:$E$300,"Sí")/(COUNTIFS(CR!$G$5:$G$300,Analysis!G9,CR!$E$5:$E$300,"Sí")+COUNTIFS(CR!$G$5:$G$300,Analysis!G9,CR!$E$5:$E$300,"No")),"-") -> 0.76470588 | J9: Subject Verb Agreement | K9: =IFERROR((COUNTIFS(SC!$G$5:$G$300,Analysis!J9,SC!$E$5:$E$300,"Sí")+COUNTIFS(SC!$H$5:$H$300,Analysis!J9,SC!$E$5:$E$300,"Sí"))/(COUNTIFS(SC!$G$5:$G$300,Analysis!J9,SC!$E$5:$E$300,"Sí")+COUNTIFS(SC!$G$5:$G$300,Analysis!J9,SC!$E$5:$E$300,"No")+COUNTIFS(SC!$H$5:$H$300,Analysis!J9,SC!$E$5:$E$300,"Sí")+COUNTIFS(SC!$H$5:$H$300,Analysis!J9,SC!$E$5:$E$300,"No")),"-") -> 0.76 | M9: Supporting Ideas | N9: =IFERROR(COUNTIFS('RC'!$G$5:$G$300,Analysis!M9,'RC'!$E$5:$E$300,"Sí")/(COUNTIFS('RC'!$G$5:$G$300,Analysis!M9,'RC'!$E$5:$E$300,"Sí")+COUNTIFS('RC'!$G$5:$G$300,Analysis!M9,'RC'!$E$5:$E$300,"No")),"-") -> 0.8
A10: Arithmetic | B10: =IFERROR((COUNTIFS(PS!$G$5:$G$234,Analysis!A10,PS!$E$5:$E$234,"Sí")+COUNTIFS(PS!$H$5:$H$234,Analysis!A10,PS!$E$5:$E$234,"Sí"))/(COUNTIFS(PS!$G$5:$G$234,Analysis!A10,PS!$E$5:$E$234,"Sí")+COUNTIFS(PS!$G$5:$G$234,Analysis!A10,PS!$E$5:$E$234,"No")+COUNTIFS(PS!$H$5:$H$234,Analysis!A10,PS!$E$5:$E$234,"Sí")+COUNTIFS(PS!$H$5:$H$234,Analysis!A10,PS!$E$5:$E$234,"No")),"-") -> 0.73255814 | D10: Word Problem | E10: =IFERROR(COUNTIFS(PS!$G$5:$G$300,Analysis!D10,PS!$E$5:$E$300,"Sí")/(COUNTIFS(PS!$G$5:$G$300,Analysis!D10,PS!$E$5:$E$300,"Sí")+COUNTIFS(PS!$G$5:$G$300,Analysis!D10,PS!$E$5:$E$300,"No")),"-") -> 0.74074074 | G10: Argument Construction | H10: =IFERROR(COUNTIFS(CR!$G$5:$G$300,Analysis!G10,CR!$E$5:$E$300,"Sí")/(COUNTIFS(CR!$G$5:$G$300,Analysis!G10,CR!$E$5:$E$300,"Sí")+COUNTIFS(CR!$G$5:$G$300,Analysis!G10,CR!$E$5:$E$300,"No")),"-") -> 0.7826087 | J10: Verb Tense / Form | K10: =IFERROR((COUNTIFS(SC!$G$5:$G$300,Analysis!J10,SC!$E$5:$E$300,"Sí")+COUNTIFS(SC!$H$5:$H$300,Analysis!J10,SC!$E$5:$E$300,"Sí"))/(COUNTIFS(SC!$G$5:$G$300,Analysis!J10,SC!$E$5:$E$300,"Sí")+COUNTIFS(SC!$G$5:$G$300,Analysis!J10,SC!$E$5:$E$300,"No")+COUNTIFS(SC!$H$5:$H$300,Analysis!J10,SC!$E$5:$E$300,"Sí")+COUNTIFS(SC!$H$5:$H$300,Analysis!J10,SC!$E$5:$E$300,"No")),"-") -> 0.7826087 | M10: Inference | N10: =IFERROR(COUNTIFS('RC'!$G$5:$G$300,Analysis!M10,'RC'!$E$5:$E$300,"Sí")/(COUNTIFS('RC'!$G$5:$G$300,Analysis!M10,'RC'!$E$5:$E$300,"Sí")+COUNTIFS('RC'!$G$5:$G$300,Analysis!M10,'RC'!$E$5:$E$300,"No")),"-") -> 0.73333333
A11: Geometry | B11: =IFERROR((COUNTIFS(PS!$G$5:$G$234,Analysis!A11,PS!$E$5:$E$234,"Sí")+COUNTIFS(PS!$H$5:$H$234,Analysis!A11,PS!$E$5:$E$234,"Sí"))/(COUNTIFS(PS!$G$5:$G$234,Analysis!A11,PS!$E$5:$E$234,"Sí")+COUNTIFS(PS!$G$5:$G$234,Analysis!A11,PS!$E$5:$E$234,"No")+COUNTIFS(PS!$H$5:$H$234,Analysis!A11,PS!$E$5:$E$234,"Sí")+COUNTIFS(PS!$H$5:$H$234,Analysis!A11,PS!$E$5:$E$234,"No")),"-") -> 0.76923077 | D11: Algebra | E11: =IFERROR(COUNTIFS(PS!$G$5:$G$300,Analysis!D11,PS!$E$5:$E$300,"Sí")/(COUNTIFS(PS!$G$5:$G$300,Analysis!D11,PS!$E$5:$E$300,"Sí")+COUNTIFS(PS!$G$5:$G$300,Analysis!D11,PS!$E$5:$E$300,"No")),"-") -> 0.67741935 | J11: Idiom | K11: =IFERROR((COUNTIFS(SC!$G$5:$G$300,Analysis!J11,SC!$E$5:$E$300,"Sí")+COUNTIFS(SC!$H$5:$H$300,Analysis!J11,SC!$E$5:$E$300,"Sí"))/(COUNTIFS(SC!$G$5:$G$300,Analysis!J11,SC!$E$5:$E$300,"Sí")+COUNTIFS(SC!$G$5:$G$300,Analysis!J11,SC!$E$5:$E$300,"No")+COUNTIFS(SC!$H$5:$H$300,Analysis!J11,SC!$E$5:$E$300,"Sí")+COUNTIFS(SC!$H$5:$H$300,Analysis!J11,SC!$E$5:$E$300,"No")),"-") -> 0.73529412 | M11: Logical Structure | N11: =IFERROR(COUNTIFS('RC'!$G$5:$G$300,Analysis!M11,'RC'!$E$5:$E$300,"Sí")/(COUNTIFS('RC'!$G$5:$G$300,Analysis!M11,'RC'!$E$5:$E$300,"Sí")+COUNTIFS('RC'!$G$5:$G$300,Analysis!M11,'RC'!$E$5:$E$300,"No")),"-") -> 0.875
A12: Coordinate Geometry | B12: =IFERROR((COUNTIFS(PS!$G$5:$G$234,Analysis!A12,PS!$E$5:$E$234,"Sí")+COUNTIFS(PS!$H$5:$H$234,Analysis!A12,PS!$E$5:$E$234,"Sí"))/(COUNTIFS(PS!$G$5:$G$234,Analysis!A12,PS!$E$5:$E$234,"Sí")+COUNTIFS(PS!$G$5:$G$234,Analysis!A12,PS!$E$5:$E$234,"No")+COUNTIFS(PS!$H$5:$H$234,Analysis!A12,PS!$E$5:$E$234,"Sí")+COUNTIFS(PS!$H$5:$H$234,Analysis!A12,PS!$E$5:$E$234,"No")),"-") -> 1 | D12: Special Operations | E12: =IFERROR(COUNTIFS(PS!$G$5:$G$300,Analysis!D12,PS!$E$5:$E$300,"Sí")/(COUNTIFS(PS!$G$5:$G$300,Analysis!D12,PS!$E$5:$E$300,"Sí")+COUNTIFS(PS!$G$5:$G$300,Analysis!D12,PS!$E$5:$E$300,"No")),"-") -> 0.8 | J12: Pronouns | K12: =IFERROR((COUNTIFS(SC!$G$5:$G$300,Analysis!J12,SC!$E$5:$E$300,"Sí")+COUNTIFS(SC!$H$5:$H$300,Analysis!J12,SC!$E$5:$E$300,"Sí"))/(COUNTIFS(SC!$G$5:$G$300,Analysis!J12,SC!$E$5:$E$300,"Sí")+COUNTIFS(SC!$G$5:$G$300,Analysis!J12,SC!$E$5:$E$300,"No")+COUNTIFS(SC!$H$5:$H$300,Analysis!J12,SC!$E$5:$E$300,"Sí")+COUNTIFS(SC!$H$5:$H$300,Analysis!J12,SC!$E$5:$E$300,"No")),"-") -> 0.85714286 | M12: Application | N12: =IFERROR(COUNTIFS('RC'!$G$5:$G$300,Analysis!M12,'RC'!$E$5:$E$300,"Sí")/(COUNTIFS('RC'!$G$5:$G$300,Analysis!M12,'RC'!$E$5:$E$300,"Sí")+COUNTIFS('RC'!$G$5:$G$300,Analysis!M12,'RC'!$E$5:$E$300,"No")),"-") -> 0.75
A13: Special Operations | B13: =IFERROR((COUNTIFS(PS!$G$5:$G$234,Analysis!A13,PS!$E$5:$E$234,"Sí")+COUNTIFS(PS!$H$5:$H$234,Analysis!A13,PS!$E$5:$E$234,"Sí"))/(COUNTIFS(PS!$G$5:$G$234,Analysis!A13,PS!$E$5:$E$234,"Sí")+COUNTIFS(PS!$G$5:$G$234,Analysis!A13,PS!$E$5:$E$234,"No")+COUNTIFS(PS!$H$5:$H$234,Analysis!A13,PS!$E$5:$E$234,"Sí")+COUNTIFS(PS!$H$5:$H$234,Analysis!A13,PS!$E$5:$E$234,"No")),"-") -> 0.8 | J13: Comparisons | K13: =IFERROR((COUNTIFS(SC!$G$5:$G$300,Analysis!J13,SC!$E$5:$E$300,"Sí")+COUNTIFS(SC!$H$5:$H$300,Analysis!J13,SC!$E$5:$E$300,"Sí"))/(COUNTIFS(SC!$G$5:$G$300,Analysis!J13,SC!$E$5:$E$300,"Sí")+COUNTIFS(SC!$G$5:$G$300,Analysis!J13,SC!$E$5:$E$300,"No")+COUNTIFS(SC!$H$5:$H$300,Analysis!J13,SC!$E$5:$E$300,"Sí")+COUNTIFS(SC!$H$5:$H$300,Analysis!J13,SC!$E$5:$E$300,"No")),"-") -> 0.76470588 | M13: Evaluation | N13: =IFERROR(COUNTIFS('RC'!$G$5:$G$300,Analysis!M13,'RC'!$E$5:$E$300,"Sí")/(COUNTIFS('RC'!$G$5:$G$300,Analysis!M13,'RC'!$E$5:$E$300,"Sí")+COUNTIFS('RC'!$G$5:$G$300,Analysis!M13,'RC'!$E$5:$E$300,"No")),"-") -> 0.66666667
A14: Combinations | B14: =IFERROR((COUNTIFS(PS!$G$5:$G$234,Analysis!A14,PS!$E$5:$E$234,"Sí")+COUNTIFS(PS!$H$5:$H$234,Analysis!A14,PS!$E$5:$E$234,"Sí"))/(COUNTIFS(PS!$G$5:$G$234,Analysis!A14,PS!$E$5:$E$234,"Sí")+COUNTIFS(PS!$G$5:$G$234,Analysis!A14,PS!$E$5:$E$234,"No")+COUNTIFS(PS!$H$5:$H$234,Analysis!A14,PS!$E$5:$E$234,"Sí")+COUNTIFS(PS!$H$5:$H$234,Analysis!A14,PS!$E$5:$E$234,"No")),"-") -> 0.5 | J14: Which / That | K14: =IFERROR((COUNTIFS(SC!$G$5:$G$300,Analysis!J14,SC!$E$5:$E$300,"Sí")+COUNTIFS(SC!$H$5:$H$300,Analysis!J14,SC!$E$5:$E$300,"Sí"))/(COUNTIFS(SC!$G$5:$G$300,Analysis!J14,SC!$E$5:$E$300,"Sí")+COUNTIFS(SC!$G$5:$G$300,Analysis!J14,SC!$E$5:$E$300,"No")+COUNTIFS(SC!$H$5:$H$300,Analysis!J14,SC!$E$5:$E$300,"Sí")+COUNTIFS(SC!$H$5:$H$300,Analysis!J14,SC!$E$5:$E$300,"No")),"-") -> 1 | M14: Tone | N14: =IFERROR(COUNTIFS('RC'!$G$5:$G$300,Analysis!M14,'RC'!$E$5:$E$300,"Sí")/(COUNTIFS('RC'!$G$5:$G$300,Analysis!M14,'RC'!$E$5:$E$300,"Sí")+COUNTIFS('RC'!$G$5:$G$300,Analysis!M14,'RC'!$E$5:$E$300,"No")),"-") -> 1
J15: Parallel Structure | K15: =IFERROR((COUNTIFS(SC!$G$5:$G$300,Analysis!J15,SC!$E$5:$E$300,"Sí")+COUNTIFS(SC!$H$5:$H$300,Analysis!J15,SC!$E$5:$E$300,"Sí"))/(COUNTIFS(SC!$G$5:$G$300,Analysis!J15,SC!$E$5:$E$300,"Sí")+COUNTIFS(SC!$G$5:$G$300,Analysis!J15,SC!$E$5:$E$300,"No")+COUNTIFS(SC!$H$5:$H$300,Analysis!J15,SC!$E$5:$E$300,"Sí")+COUNTIFS(SC!$H$5:$H$300,Analysis!J15,SC!$E$5:$E$300,"No")),"-") -> 0.82222222
A16: Subcategory | D16: Subcategory | G16: Subcategory | J16: Grammatical Construction | K16: =IFERROR((COUNTIFS(SC!$G$5:$G$300,Analysis!J16,SC!$E$5:$E$300,"Sí")+COUNTIFS(SC!$H$5:$H$300,Analysis!J16,SC!$E$5:$E$300,"Sí"))/(COUNTIFS(SC!$G$5:$G$300,Analysis!J16,SC!$E$5:$E$300,"Sí")+COUNTIFS(SC!$G$5:$G$300,Analysis!J16,SC!$E$5:$E$300,"No")+COUNTIFS(SC!$H$5:$H$300,Analysis!J16,SC!$E$5:$E$300,"Sí")+COUNTIFS(SC!$H$5:$H$300,Analysis!J16,SC!$E$5:$E$300,"No")),"-") -> 0.83333333
A17: Properties of numbers | B17: =IFERROR((COUNTIFS(PS!$I$5:$I$234,Analysis!A17,PS!$E$5:$E$234,"Sí")+COUNTIFS(PS!$J$5:$J$234,Analysis!A17,PS!$E$5:$E$234,"Sí"))/(COUNTIFS(PS!$I$5:$I$234,Analysis!A17,PS!$E$5:$E$234,"Sí")+COUNTIFS(PS!$I$5:$I$234,Analysis!A17,PS!$E$5:$E$234,"No")+COUNTIFS(PS!$J$5:$J$234,Analysis!A17,PS!$E$5:$E$234,"Sí")+COUNTIFS(PS!$J$5:$J$234,Analysis!A17,PS!$E$5:$E$234,"No")),"-") -> 0.70588235 | D17: Properties of Numbers | E17: =IFERROR(COUNTIFS(DS!$H$5:$H$234,Analysis!D17,DS!$E$5:$E$234,"Sí")/(COUNTIFS(DS!$H$5:$H$234,Analysis!D17,DS!$E$5:$E$234,"Sí")+COUNTIFS(DS!$H$5:$H$234,Analysis!D17,DS!$E$5:$E$234,"No")),"-") -> 0.74193548 | G17: Weaken | H17: =IFERROR(COUNTIFS(CR!$H$5:$H$234,Analysis!G17,CR!$E$5:$E$234,"Sí")/(COUNTIFS(CR!$H$5:$H$234,Analysis!G17,CR!$E$5:$E$234,"Sí")+COUNTIFS(CR!$H$5:$H$234,Analysis!G17,CR!$E$5:$E$234,"No")),"-") -> 0.77272727 | J17: Diction | K17: =IFERROR((COUNTIFS(SC!$G$5:$G$300,Analysis!J17,SC!$E$5:$E$300,"Sí")+COUNTIFS(SC!$H$5:$H$300,Analysis!J17,SC!$E$5:$E$300,"Sí"))/(COUNTIFS(SC!$G$5:$G$300,Analysis!J17,SC!$E$5:$E$300,"Sí")+COUNTIFS(SC!$G$5:$G$300,Analysis!J17,SC!$E$5:$E$300,"No")+COUNTIFS(SC!$H$5:$H$300,Analysis!J17,SC!$E$5:$E$300,"Sí")+COUNTIFS(SC!$H$5:$H$300,Analysis!J17,SC!$E$5:$E$300,"No")),"-") -> 0.77777778
A18: Percents | B18: =IFERROR((COUNTIFS(PS!$I$5:$I$234,Analysis!A18,PS!$E$5:$E$234,"Sí")+COUNTIFS(PS!$J$5:$J$234,Analysis!A18,PS!$E$5:$E$234,"Sí"))/(COUNTIFS(PS!$I$5:$I$234,Analysis!A18,PS!$E$5:$E$234,"Sí")+COUNTIFS(PS!$I$5:$I$234,Analysis!A18,PS!$E$5:$E$234,"No")+COUNTIFS(PS!$J$5:$J$234,Analysis!A18,PS!$E$5:$E$234,"Sí")+COUNTIFS(PS!$J$5:$J$234,Analysis!A18,PS!$E$5:$E$234,"No")),"-") -> 0.75 | D18: Statistics | E18: =IFERROR(COUNTIFS(DS!$H$5:$H$234,Analysis!D18,DS!$E$5:$E$234,"Sí")/(COUNTIFS(DS!$H$5:$H$234,Analysis!D18,DS!$E$5:$E$234,"Sí")+COUNTIFS(DS!$H$5:$H$234,Analysis!D18,DS!$E$5:$E$234,"No")),"-") -> 0.61538462 | G18: Assumption | H18: =IFERROR(COUNTIFS(CR!$H$5:$H$234,Analysis!G18,CR!$E$5:$E$234,"Sí")/(COUNTIFS(CR!$H$5:$H$234,Analysis!G18,CR!$E$5:$E$234,"Sí")+COUNTIFS(CR!$H$5:$H$234,Analysis!G18,CR!$E$5:$E$234,"No")),"-") -> 0.875 | J18: Modifiers | K18: =IFERROR((COUNTIFS(SC!$G$5:$G$300,Analysis!J18,SC!$E$5:$E$300,"Sí")+COUNTIFS(SC!$H$5:$H$300,Analysis!J18,SC!$E$5:$E$300,"Sí"))/(COUNTIFS(SC!$G$5:$G$300,Analysis!J18,SC!$E$5:$E$300,"Sí")+COUNTIFS(SC!$G$5:$G$300,Analysis!J18,SC!$E$5:$E$300,"No")+COUNTIFS(SC!$H$5:$H$300,Analysis!J18,SC!$E$5:$E$300,"Sí")+COUNTIFS(SC!$H$5:$H$300,Analysis!J18,SC!$E$5:$E$300,"No")),"-") -> 0.81818182
A19: Rate | B19: =IFERROR((COUNTIFS(PS!$I$5:$I$234,Analysis!A19,PS!$E$5:$E$234,"Sí")+COUNTIFS(PS!$J$5:$J$234,Analysis!A19,PS!$E$5:$E$234,"Sí"))/(COUNTIFS(PS!$I$5:$I$234,Analysis!A19,PS!$E$5:$E$234,"Sí")+COUNTIFS(PS!$I$5:$I$234,Analysis!A19,PS!$E$5:$E$234,"No")+COUNTIFS(PS!$J$5:$J$234,Analysis!A19,PS!$E$5:$E$234,"Sí")+COUNTIFS(PS!$J$5:$J$234,Analysis!A19,PS!$E$5:$E$234,"No")),"-") -> 0.73333333 | D19: Percents | E19: =IFERROR(COUNTIFS(DS!$H$5:$H$234,Analysis!D19,DS!$E$5:$E$234,"Sí")/(COUNTIFS(DS!$H$5:$H$234,Analysis!D19,DS!$E$5:$E$234,"Sí")+COUNTIFS(DS!$H$5:$H$234,Analysis!D19,DS!$E$5:$E$234,"No")),"-") -> 0.75 | G19: Argument Evaluation | H19: =IFERROR(COUNTIFS(CR!$H$5:$H$234,Analysis!G19,CR!$E$5:$E$234,"Sí")/(COUNTIFS(CR!$H$5:$H$234,Analysis!G19,CR!$E$5:$E$234,"Sí")+COUNTIFS(CR!$H$5:$H$234,Analysis!G19,CR!$E$5:$E$234,"No")),"-") -> 0.8 | J19: Such As / Like | K19: =IFERROR((COUNTIFS(SC!$G$5:$G$300,Analysis!J19,SC!$E$5:$E$300,"Sí")+COUNTIFS(SC!$H$5:$H$300,Analysis!J19,SC!$E$5:$E$300,"Sí"))/(COUNTIFS(SC!$G$5:$G$300,Analysis!J19,SC!$E$5:$E$300,"Sí")+COUNTIFS(SC!$G$5:$G$300,Analysis!J19,SC!$E$5:$E$300,"No")+COUNTIFS(SC!$H$5:$H$300,Analysis!J19,SC!$E$5:$E$300,"Sí")+COUNTIFS(SC!$H$5:$H$300,Analysis!J19,SC!$E$5:$E$300,"No")),"-") -> 1
A20: Statistics | B20: =IFERROR((COUNTIFS(PS!$I$5:$I$234,Analysis!A20,PS!$E$5:$E$234,"Sí")+COUNTIFS(PS!$J$5:$J$234,Analysis!A20,PS!$E$5:$E$234,"Sí"))/(COUNTIFS(PS!$I$5:$I$234,Analysis!A20,PS!$E$5:$E$234,"Sí")+COUNTIFS(PS!$I$5:$I$234,Analysis!A20,PS!$E$5:$E$234,"No")+COUNTIFS(PS!$J$5:$J$234,Analysis!A20,PS!$E$5:$E$234,"Sí")+COUNTIFS(PS!$J$5:$J$234,Analysis!A20,PS!$E$5:$E$234,"No")),"-") -> 0.85714286 | D20: Rate | E20: =IFERROR(COUNTIFS(DS!$H$5:$H$234,Analysis!D20,DS!$E$5:$E$234,"Sí")/(COUNTIFS(DS!$H$5:$H$234,Analysis!D20,DS!$E$5:$E$234,"Sí")+COUNTIFS(DS!$H$5:$H$234,Analysis!D20,DS!$E$5:$E$234,"No")),"-") -> 0.83333333 | G20: Logical Flaw | H20: =IFERROR(COUNTIFS(CR!$H$5:$H$234,Analysis!G20,CR!$E$5:$E$234,"Sí")/(COUNTIFS(CR!$H$5:$H$234,Analysis!G20,CR!$E$5:$E$234,"Sí")+COUNTIFS(CR!$H$5:$H$234,Analysis!G20,CR!$E$5:$E$234,"No")),"-") -> 0.66666667 | J20: Style | K20: =IFERROR((COUNTIFS(SC!$G$5:$G$300,Analysis!J20,SC!$E$5:$E$300,"Sí")+COUNTIFS(SC!$H$5:$H$300,Analysis!J20,SC!$E$5:$E$300,"Sí"))/(COUNTIFS(SC!$G$5:$G$300,Analysis!J20,SC!$E$5:$E$300,"Sí")+COUNTIFS(SC!$G$5:$G$300,Analysis!J20,SC!$E$5:$E$300,"No")+COUNTIFS(SC!$H$5:$H$300,Analysis!J20,SC!$E$5:$E$300,"Sí")+COUNTIFS(SC!$H$5:$H$300,Analysis!J20,SC!$E$5:$E$300,"No")),"-") -> 0.72727273
A21: Ratios | B21: =IFERROR((COUNTIFS(PS!$I$5:$I$234,Analysis!A21,PS!$E$5:$E$234,"Sí")+COUNTIFS(PS!$J$5:$J$234,Analysis!A21,PS!$E$5:$E$234,"Sí"))/(COUNTIFS(PS!$I$5:$I$234,Analysis!A21,PS!$E$5:$E$234,"Sí")+COUNTIFS(PS!$I$5:$I$234,Analysis!A21,PS!$E$5:$E$234,"No")+COUNTIFS(PS!$J$5:$J$234,Analysis!A21,PS!$E$5:$E$234,"Sí")+COUNTIFS(PS!$J$5:$J$234,Analysis!A21,PS!$E$5:$E$234,"No")),"-") -> 0.71428571 | D21: Ratios | E21: =IFERROR(COUNTIFS(DS!$H$5:$H$234,Analysis!D21,DS!$E$5:$E$234,"Sí")/(COUNTIFS(DS!$H$5:$H$234,Analysis!D21,DS!$E$5:$E$234,"Sí")+COUNTIFS(DS!$H$5:$H$234,Analysis!D21,DS!$E$5:$E$234,"No")),"-") -> 1 | G21: Inference | H21: =IFERROR(COUNTIFS(CR!$H$5:$H$234,Analysis!G21,CR!$E$5:$E$234,"Sí")/(COUNTIFS(CR!$H$5:$H$234,Analysis!G21,CR!$E$5:$E$234,"Sí")+COUNTIFS(CR!$H$5:$H$234,Analysis!G21,CR!$E$5:$E$234,"No")),"-") -> 1 | J21: Punctuation | K21: =IFERROR((COUNTIFS(SC!$G$5:$G$300,Analysis!J21,SC!$E$5:$E$300,"Sí")+COUNTIFS(SC!$H$5:$H$300,Analysis!J21,SC!$E$5:$E$300,"Sí"))/(COUNTIFS(SC!$G$5:$G$300,Analysis!J21,SC!$E$5:$E$300,"Sí")+COUNTIFS(SC!$G$5:$G$300,Analysis!J21,SC!$E$5:$E$300,"No")+COUNTIFS(SC!$H$5:$H$300,Analysis!J21,SC!$E$5:$E$300,"Sí")+COUNTIFS(SC!$H$5:$H$300,Analysis!J21,SC!$E$5:$E$300,"No")),"-") -> 1
A22: Operations on rational numbers | B22: =IFERROR((COUNTIFS(PS!$I$5:$I$234,Analysis!A22,PS!$E$5:$E$234,"Sí")+COUNTIFS(PS!$J$5:$J$234,Analysis!A22,PS!$E$5:$E$234,"Sí"))/(COUNTIFS(PS!$I$5:$I$234,Analysis!A22,PS!$E$5:$E$234,"Sí")+COUNTIFS(PS!$I$5:$I$234,Analysis!A22,PS!$E$5:$E$234,"No")+COUNTIFS(PS!$J$5:$J$234,Analysis!A22,PS!$E$5:$E$234,"Sí")+COUNTIFS(PS!$J$5:$J$234,Analysis!A22,PS!$E$5:$E$234,"No")),"-") -> 0.83333333 | D22: Overlapping Sets | E22: =IFERROR(COUNTIFS(DS!$H$5:$H$234,Analysis!D22,DS!$E$5:$E$234,"Sí")/(COUNTIFS(DS!$H$5:$H$234,Analysis!D22,DS!$E$5:$E$234,"Sí")+COUNTIFS(DS!$H$5:$H$234,Analysis!D22,DS!$E$5:$E$234,"No")),"-") -> 0.44444444 | G22: Evaluation of a Plan | H22: =IFERROR(COUNTIFS(CR!$H$5:$H$234,Analysis!G22,CR!$E$5:$E$234,"Sí")/(COUNTIFS(CR!$H$5:$H$234,Analysis!G22,CR!$E$5:$E$234,"Sí")+COUNTIFS(CR!$H$5:$H$234,Analysis!G22,CR!$E$5:$E$234,"No")),"-") -> 0.72727273 | J22: Conjunctions | K22: =IFERROR((COUNTIFS(SC!$G$5:$G$300,Analysis!J22,SC!$E$5:$E$300,"Sí")+COUNTIFS(SC!$H$5:$H$300,Analysis!J22,SC!$E$5:$E$300,"Sí"))/(COUNTIFS(SC!$G$5:$G$300,Analysis!J22,SC!$E$5:$E$300,"Sí")+COUNTIFS(SC!$G$5:$G$300,Analysis!J22,SC!$E$5:$E$300,"No")+COUNTIFS(SC!$H$5:$H$300,Analysis!J22,SC!$E$5:$E$300,"Sí")+COUNTIFS(SC!$H$5:$H$300,Analysis!J22,SC!$E$5:$E$300,"No")),"-") -> 0
A23: Applied problems | B23: =IFERROR((COUNTIFS(PS!$I$5:$I$234,Analysis!A23,PS!$E$5:$E$234,"Sí")+COUNTIFS(PS!$J$5:$J$234,Analysis!A23,PS!$E$5:$E$234,"Sí"))/(COUNTIFS(PS!$I$5:$I$234,Analysis!A23,PS!$E$5:$E$234,"Sí")+COUNTIFS(PS!$I$5:$I$234,Analysis!A23,PS!$E$5:$E$234,"No")+COUNTIFS(PS!$J$5:$J$234,Analysis!A23,PS!$E$5:$E$234,"Sí")+COUNTIFS(PS!$J$5:$J$234,Analysis!A23,PS!$E$5:$E$234,"No")),"-") -> 0.6 | D23: Circles | E23: =IFERROR(COUNTIFS(DS!$H$5:$H$234,Analysis!D23,DS!$E$5:$E$234,"Sí")/(COUNTIFS(DS!$H$5:$H$234,Analysis!D23,DS!$E$5:$E$234,"Sí")+COUNTIFS(DS!$H$5:$H$234,Analysis!D23,DS!$E$5:$E$234,"No")),"-") -> 1 | G23: Resolve Paradox | H23: =IFERROR(COUNTIFS(CR!$H$5:$H$234,Analysis!G23,CR!$E$5:$E$234,"Sí")/(COUNTIFS(CR!$H$5:$H$234,Analysis!G23,CR!$E$5:$E$234,"Sí")+COUNTIFS(CR!$H$5:$H$234,Analysis!G23,CR!$E$5:$E$234,"No")),"-") -> 0.71428571 | J23: Nouns | K23: =IFERROR((COUNTIFS(SC!$G$5:$G$300,Analysis!J23,SC!$E$5:$E$300,"Sí")+COUNTIFS(SC!$H$5:$H$300,Analysis!J23,SC!$E$5:$E$300,"Sí"))/(COUNTIFS(SC!$G$5:$G$300,Analysis!J23,SC!$E$5:$E$300,"Sí")+COUNTIFS(SC!$G$5:$G$300,Analysis!J23,SC!$E$5:$E$300,"No")+COUNTIFS(SC!$H$5:$H$300,Analysis!J23,SC!$E$5:$E$300,"Sí")+COUNTIFS(SC!$H$5:$H$300,Analysis!J23,SC!$E$5:$E$300,"No")),"-") -> 0
A24: Simplifying algebraic expressions | B24: =IFERROR((COUNTIFS(PS!$I$5:$I$234,Analysis!A24,PS!$E$5:$E$234,"Sí")+COUNTIFS(PS!$J$5:$J$234,Analysis!A24,PS!$E$5:$E$234,"Sí"))/(COUNTIFS(PS!$I$5:$I$234,Analysis!A24,PS!$E$5:$E$234,"Sí")+COUNTIFS(PS!$I$5:$I$234,Analysis!A24,PS!$E$5:$E$234,"No")+COUNTIFS(PS!$J$5:$J$234,Analysis!A24,PS!$E$5:$E$234,"Sí")+COUNTIFS(PS!$J$5:$J$234,Analysis!A24,PS!$E$5:$E$234,"No")),"-") -> 0.66666667 | D24: Inequalities | E24: =IFERROR(COUNTIFS(DS!$H$5:$H$234,Analysis!D24,DS!$E$5:$E$234,"Sí")/(COUNTIFS(DS!$H$5:$H$234,Analysis!D24,DS!$E$5:$E$234,"Sí")+COUNTIFS(DS!$H$5:$H$234,Analysis!D24,DS!$E$5:$E$234,"No")),"-") -> 0.85714286 | G24: Additional Evidence | H24: =IFERROR(COUNTIFS(CR!$H$5:$H$234,Analysis!G24,CR!$E$5:$E$234,"Sí")/(COUNTIFS(CR!$H$5:$H$234,Analysis!G24,CR!$E$5:$E$234,"Sí")+COUNTIFS(CR!$H$5:$H$234,Analysis!G24,CR!$E$5:$E$234,"No")),"-") -> 0.71428571 | J24: Rhetorical Construction | K24: =IFERROR((COUNTIFS(SC!$G$5:$G$300,Analysis!J24,SC!$E$5:$E$300,"Sí")+COUNTIFS(SC!$H$5:$H$300,Analysis!J24,SC!$E$5:$E$300,"Sí"))/(COUNTIFS(SC!$G$5:$G$300,Analysis!J24,SC!$E$5:$E$300,"Sí")+COUNTIFS(SC!$G$5:$G$300,Analysis!J24,SC!$E$5:$E$300,"No")+COUNTIFS(SC!$H$5:$H$300,Analysis!J24,SC!$E$5:$E$300,"Sí")+COUNTIFS(SC!$H$5:$H$300,Analysis!J24,SC!$E$5:$E$300,"No")),"-") -> 1
A25: First-degree equations | B25: =IFERROR((COUNTIFS(PS!$I$5:$I$234,Analysis!A25,PS!$E$5:$E$234,"Sí")+COUNTIFS(PS!$J$5:$J$234,Analysis!A25,PS!$E$5:$E$234,"Sí"))/(COUNTIFS(PS!$I$5:$I$234,Analysis!A25,PS!$E$5:$E$234,"Sí")+COUNTIFS(PS!$I$5:$I$234,Analysis!A25,PS!$E$5:$E$234,"No")+COUNTIFS(PS!$J$5:$J$234,Analysis!A25,PS!$E$5:$E$234,"Sí")+COUNTIFS(PS!$J$5:$J$234,Analysis!A25,PS!$E$5:$E$234,"No")),"-") -> 1 | D25: First and Second Degree Equations | E25: =IFERROR(COUNTIFS(DS!$H$5:$H$234,Analysis!D25,DS!$E$5:$E$234,"Sí")/(COUNTIFS(DS!$H$5:$H$234,Analysis!D25,DS!$E$5:$E$234,"Sí")+COUNTIFS(DS!$H$5:$H$234,Analysis!D25,DS!$E$5:$E$234,"No")),"-") -> 0.66666667 | G25: Complete the Passage | H25: =IFERROR(COUNTIFS(CR!$H$5:$H$234,Analysis!G25,CR!$E$5:$E$234,"Sí")/(COUNTIFS(CR!$H$5:$H$234,Analysis!G25,CR!$E$5:$E$234,"Sí")+COUNTIFS(CR!$H$5:$H$234,Analysis!G25,CR!$E$5:$E$234,"No")),"-") -> 0.85714286 | J25: Verb Tense | K25: =IFERROR((COUNTIFS(SC!$G$5:$G$300,Analysis!J25,SC!$E$5:$E$300,"Sí")+COUNTIFS(SC!$H$5:$H$300,Analysis!J25,SC!$E$5:$E$300,"Sí"))/(COUNTIFS(SC!$G$5:$G$300,Analysis!J25,SC!$E$5:$E$300,"Sí")+COUNTIFS(SC!$G$5:$G$300,Analysis!J25,SC!$E$5:$E$300,"No")+COUNTIFS(SC!$H$5:$H$300,Analysis!J25,SC!$E$5:$E$300,"Sí")+COUNTIFS(SC!$H$5:$H$300,Analysis!J25,SC!$E$5:$E$300,"No")),"-") -> 0.5
A26: Second-degree equations | B26: =IFERROR((COUNTIFS(PS!$I$5:$I$234,Analysis!A26,PS!$E$5:$E$234,"Sí")+COUNTIFS(PS!$J$5:$J$234,Analysis!A26,PS!$E$5:$E$234,"Sí"))/(COUNTIFS(PS!$I$5:$I$234,Analysis!A26,PS!$E$5:$E$234,"Sí")+COUNTIFS(PS!$I$5:$I$234,Analysis!A26,PS!$E$5:$E$234,"No")+COUNTIFS(PS!$J$5:$J$234,Analysis!A26,PS!$E$5:$E$234,"Sí")+COUNTIFS(PS!$J$5:$J$234,Analysis!A26,PS!$E$5:$E$234,"No")),"-") -> 0.75 | D26: Triangles | E26: =IFERROR(COUNTIFS(DS!$H$5:$H$234,Analysis!D26,DS!$E$5:$E$234,"Sí")/(COUNTIFS(DS!$H$5:$H$234,Analysis!D26,DS!$E$5:$E$234,"Sí")+COUNTIFS(DS!$H$5:$H$234,Analysis!D26,DS!$E$5:$E$234,"No")),"-") -> 0.66666667 | G26: Bold Face CR | H26: =IFERROR(COUNTIFS(CR!$H$5:$H$234,Analysis!G26,CR!$E$5:$E$234,"Sí")/(COUNTIFS(CR!$H$5:$H$234,Analysis!G26,CR!$E$5:$E$234,"Sí")+COUNTIFS(CR!$H$5:$H$234,Analysis!G26,CR!$E$5:$E$234,"No")),"-") -> 0.55555556 | J26: Articles | K26: =IFERROR((COUNTIFS(SC!$G$5:$G$300,Analysis!J26,SC!$E$5:$E$300,"Sí")+COUNTIFS(SC!$H$5:$H$300,Analysis!J26,SC!$E$5:$E$300,"Sí"))/(COUNTIFS(SC!$G$5:$G$300,Analysis!J26,SC!$E$5:$E$300,"Sí")+COUNTIFS(SC!$G$5:$G$300,Analysis!J26,SC!$E$5:$E$300,"No")+COUNTIFS(SC!$H$5:$H$300,Analysis!J26,SC!$E$5:$E$300,"Sí")+COUNTIFS(SC!$H$5:$H$300,Analysis!J26,SC!$E$5:$E$300,"No")),"-") -> 0
A27: Min/Max | B27: =IFERROR((COUNTIFS(PS!$I$5:$I$234,Analysis!A27,PS!$E$5:$E$234,"Sí")+COUNTIFS(PS!$J$5:$J$234,Analysis!A27,PS!$E$5:$E$234,"Sí"))/(COUNTIFS(PS!$I$5:$I$234,Analysis!A27,PS!$E$5:$E$234,"Sí")+COUNTIFS(PS!$I$5:$I$234,Analysis!A27,PS!$E$5:$E$234,"No")+COUNTIFS(PS!$J$5:$J$234,Analysis!A27,PS!$E$5:$E$234,"Sí")+COUNTIFS(PS!$J$5:$J$234,Analysis!A27,PS!$E$5:$E$234,"No")),"-") -> 0.625 | D27: Arithmetic Operations | E27: =IFERROR(COUNTIFS(DS!$H$5:$H$234,Analysis!D27,DS!$E$5:$E$234,"Sí")/(COUNTIFS(DS!$H$5:$H$234,Analysis!D27,DS!$E$5:$E$234,"Sí")+COUNTIFS(DS!$H$5:$H$234,Analysis!D27,DS!$E$5:$E$234,"No")),"-") -> 0.83333333 | G27: Strengthen | H27: =IFERROR(COUNTIFS(CR!$H$5:$H$234,Analysis!G27,CR!$E$5:$E$234,"Sí")/(COUNTIFS(CR!$H$5:$H$234,Analysis!G27,CR!$E$5:$E$234,"Sí")+COUNTIFS(CR!$H$5:$H$234,Analysis!G27,CR!$E$5:$E$234,"No")),"-") -> 0.86666667
A28: Fractions | B28: =IFERROR((COUNTIFS(PS!$I$5:$I$234,Analysis!A28,PS!$E$5:$E$234,"Sí")+COUNTIFS(PS!$J$5:$J$234,Analysis!A28,PS!$E$5:$E$234,"Sí"))/(COUNTIFS(PS!$I$5:$I$234,Analysis!A28,PS!$E$5:$E$234,"Sí")+COUNTIFS(PS!$I$5:$I$234,Analysis!A28,PS!$E$5:$E$234,"No")+COUNTIFS(PS!$J$5:$J$234,Analysis!A28,PS!$E$5:$E$234,"Sí")+COUNTIFS(PS!$J$5:$J$234,Analysis!A28,PS!$E$5:$E$234,"No")),"-") -> 0.71428571 | D28: Coordinate Geometry | E28: =IFERROR(COUNTIFS(DS!$H$5:$H$234,Analysis!D28,DS!$E$5:$E$234,"Sí")/(COUNTIFS(DS!$H$5:$H$234,Analysis!D28,DS!$E$5:$E$234,"Sí")+COUNTIFS(DS!$H$5:$H$234,Analysis!D28,DS!$E$5:$E$234,"No")),"-") -> 0.4 | G28: Conclusion | H28: =IFERROR(COUNTIFS(CR!$H$5:$H$234,Analysis!G28,CR!$E$5:$E$234,"Sí")/(COUNTIFS(CR!$H$5:$H$234,Analysis!G28,CR!$E$5:$E$234,"Sí")+COUNTIFS(CR!$H$5:$H$234,Analysis!G28,CR!$E$5:$E$234,"No")),"-") -> 0.5
A29: Mixtures | B29: =IFERROR((COUNTIFS(PS!$I$5:$I$234,Analysis!A29,PS!$E$5:$E$234,"Sí")+COUNTIFS(PS!$J$5:$J$234,Analysis!A29,PS!$E$5:$E$234,"Sí"))/(COUNTIFS(PS!$I$5:$I$234,Analysis!A29,PS!$E$5:$E$234,"Sí")+COUNTIFS(PS!$I$5:$I$234,Analysis!A29,PS!$E$5:$E$234,"No")+COUNTIFS(PS!$J$5:$J$234,Analysis!A29,PS!$E$5:$E$234,"Sí")+COUNTIFS(PS!$J$5:$J$234,Analysis!A29,PS!$E$5:$E$234,"No")),"-") -> 0.71428571 | D29: Profit/Loss | E29: =IFERROR(COUNTIFS(DS!$H$5:$H$234,Analysis!D29,DS!$E$5:$E$234,"Sí")/(COUNTIFS(DS!$H$5:$H$234,Analysis!D29,DS!$E$5:$E$234,"Sí")+COUNTIFS(DS!$H$5:$H$234,Analysis!D29,DS!$E$5:$E$234,"No")),"-") -> 0.75 | G29: Must Be True | H29: =IFERROR(COUNTIFS(CR!$H$5:$H$234,Analysis!G29,CR!$E$5:$E$234,"Sí")/(COUNTIFS(CR!$H$5:$H$234,Analysis!G29,CR!$E$5:$E$234,"Sí")+COUNTIFS(CR!$H$5:$H$234,Analysis!G29,CR!$E$5:$E$234,"No")),"-") -> 0.5
A30: Probability | B30: =IFERROR((COUNTIFS(PS!$I$5:$I$234,Analysis!A30,PS!$E$5:$E$234,"Sí")+COUNTIFS(PS!$J$5:$J$234,Analysis!A30,PS!$E$5:$E$234,"Sí"))/(COUNTIFS(PS!$I$5:$I$234,Analysis!A30,PS!$E$5:$E$234,"Sí")+COUNTIFS(PS!$I$5:$I$234,Analysis!A30,PS!$E$5:$E$234,"No")+COUNTIFS(PS!$J$5:$J$234,Analysis!A30,PS!$E$5:$E$234,"Sí")+COUNTIFS(PS!$J$5:$J$234,Analysis!A30,PS!$E$5:$E$234,"No")),"-") -> 0.83333333 | D30: Probability | E30: =IFERROR(COUNTIFS(DS!$H$5:$H$234,Analysis!D30,DS!$E$5:$E$234,"Sí")/(COUNTIFS(DS!$H$5:$H$234,Analysis!D30,DS!$E$5:$E$234,"Sí")+COUNTIFS(DS!$H$5:$H$234,Analysis!D30,DS!$E$5:$E$234,"No")),"-") -> 1 | G30: Argument Construction | H30: =IFERROR(COUNTIFS(CR!$H$5:$H$234,Analysis!G30,CR!$E$5:$E$234,"Sí")/(COUNTIFS(CR!$H$5:$H$234,Analysis!G30,CR!$E$5:$E$234,"Sí")+COUNTIFS(CR!$H$5:$H$234,Analysis!G30,CR!$E$5:$E$234,"No")),"-") -> 0.75
A31: Powers | B31: =IFERROR((COUNTIFS(PS!$I$5:$I$234,Analysis!A31,PS!$E$5:$E$234,"Sí")+COUNTIFS(PS!$J$5:$J$234,Analysis!A31,PS!$E$5:$E$234,"Sí"))/(COUNTIFS(PS!$I$5:$I$234,Analysis!A31,PS!$E$5:$E$234,"Sí")+COUNTIFS(PS!$I$5:$I$234,Analysis!A31,PS!$E$5:$E$234,"No")+COUNTIFS(PS!$J$5:$J$234,Analysis!A31,PS!$E$5:$E$234,"Sí")+COUNTIFS(PS!$J$5:$J$234,Analysis!A31,PS!$E$5:$E$234,"No")),"-") -> 0.66666667 | D31: Work | E31: =IFERROR(COUNTIFS(DS!$H$5:$H$234,Analysis!D31,DS!$E$5:$E$234,"Sí")/(COUNTIFS(DS!$H$5:$H$234,Analysis!D31,DS!$E$5:$E$234,"Sí")+COUNTIFS(DS!$H$5:$H$234,Analysis!D31,DS!$E$5:$E$234,"No")),"-") -> 1
A32: Work | B32: =IFERROR((COUNTIFS(PS!$I$5:$I$234,Analysis!A32,PS!$E$5:$E$234,"Sí")+COUNTIFS(PS!$J$5:$J$234,Analysis!A32,PS!$E$5:$E$234,"Sí"))/(COUNTIFS(PS!$I$5:$I$234,Analysis!A32,PS!$E$5:$E$234,"Sí")+COUNTIFS(PS!$I$5:$I$234,Analysis!A32,PS!$E$5:$E$234,"No")+COUNTIFS(PS!$J$5:$J$234,Analysis!A32,PS!$E$5:$E$234,"Sí")+COUNTIFS(PS!$J$5:$J$234,Analysis!A32,PS!$E$5:$E$234,"No")),"-") -> 1 | D32: Min/Max | E32: =IFERROR(COUNTIFS(DS!$H$5:$H$234,Analysis!D32,DS!$E$5:$E$234,"Sí")/(COUNTIFS(DS!$H$5:$H$234,Analysis!D32,DS!$E$5:$E$234,"Sí")+COUNTIFS(DS!$H$5:$H$234,Analysis!D32,DS!$E$5:$E$234,"No")),"-") -> 1
A33: Simple coordinate geometry | B33: =IFERROR((COUNTIFS(PS!$I$5:$I$234,Analysis!A33,PS!$E$5:$E$234,"Sí")+COUNTIFS(PS!$J$5:$J$234,Analysis!A33,PS!$E$5:$E$234,"Sí"))/(COUNTIFS(PS!$I$5:$I$234,Analysis!A33,PS!$E$5:$E$234,"Sí")+COUNTIFS(PS!$I$5:$I$234,Analysis!A33,PS!$E$5:$E$234,"No")+COUNTIFS(PS!$J$5:$J$234,Analysis!A33,PS!$E$5:$E$234,"Sí")+COUNTIFS(PS!$J$5:$J$234,Analysis!A33,PS!$E$5:$E$234,"No")),"-") -> 0.83333333 | D33: Exponents | E33: =IFERROR(COUNTIFS(DS!$H$5:$H$234,Analysis!D33,DS!$E$5:$E$234,"Sí")/(COUNTIFS(DS!$H$5:$H$234,Analysis!D33,DS!$E$5:$E$234,"Sí")+COUNTIFS(DS!$H$5:$H$234,Analysis!D33,DS!$E$5:$E$234,"No")),"-") -> 0
A34: Overlapping Sets | B34: =IFERROR((COUNTIFS(PS!$I$5:$I$234,Analysis!A34,PS!$E$5:$E$234,"Sí")+COUNTIFS(PS!$J$5:$J$234,Analysis!A34,PS!$E$5:$E$234,"Sí"))/(COUNTIFS(PS!$I$5:$I$234,Analysis!A34,PS!$E$5:$E$234,"Sí")+COUNTIFS(PS!$I$5:$I$234,Analysis!A34,PS!$E$5:$E$234,"No")+COUNTIFS(PS!$J$5:$J$234,Analysis!A34,PS!$E$5:$E$234,"Sí")+COUNTIFS(PS!$J$5:$J$234,Analysis!A34,PS!$E$5:$E$234,"No")),"-") -> 0.66666667 | D34: Simultaneous Equations | E34: =IFERROR(COUNTIFS(DS!$H$5:$H$234,Analysis!D34,DS!$E$5:$E$234,"Sí")/(COUNTIFS(DS!$H$5:$H$234,Analysis!D34,DS!$E$5:$E$234,"Sí")+COUNTIFS(DS!$H$5:$H$234,Analysis!D34,DS!$E$5:$E$234,"No")),"-") -> 0.66666667
A35: Inequalities | B35: =IFERROR((COUNTIFS(PS!$I$5:$I$234,Analysis!A35,PS!$E$5:$E$234,"Sí")+COUNTIFS(PS!$J$5:$J$234,Analysis!A35,PS!$E$5:$E$234,"Sí"))/(COUNTIFS(PS!$I$5:$I$234,Analysis!A35,PS!$E$5:$E$234,"Sí")+COUNTIFS(PS!$I$5:$I$234,Analysis!A35,PS!$E$5:$E$234,"No")+COUNTIFS(PS!$J$5:$J$234,Analysis!A35,PS!$E$5:$E$234,"Sí")+COUNTIFS(PS!$J$5:$J$234,Analysis!A35,PS!$E$5:$E$234,"No")),"-") -> 0.4 | D35: Lines | E35: =IFERROR(COUNTIFS(DS!$H$5:$H$234,Analysis!D35,DS!$E$5:$E$234,"Sí")/(COUNTIFS(DS!$H$5:$H$234,Analysis!D35,DS!$E$5:$E$234,"Sí")+COUNTIFS(DS!$H$5:$H$234,Analysis!D35,DS!$E$5:$E$234,"No")),"-") -> 1
A36: Sequences | B36: =IFERROR((COUNTIFS(PS!$I$5:$I$234,Analysis!A36,PS!$E$5:$E$234,"Sí")+COUNTIFS(PS!$J$5:$J$234,Analysis!A36,PS!$E$5:$E$234,"Sí"))/(COUNTIFS(PS!$I$5:$I$234,Analysis!A36,PS!$E$5:$E$234,"Sí")+COUNTIFS(PS!$I$5:$I$234,Analysis!A36,PS!$E$5:$E$234,"No")+COUNTIFS(PS!$J$5:$J$234,Analysis!A36,PS!$E$5:$E$234,"Sí")+COUNTIFS(PS!$J$5:$J$234,Analysis!A36,PS!$E$5:$E$234,"No")),"-") -> 0.8 | D36: Volume | E36: =IFERROR(COUNTIFS(DS!$H$5:$H$234,Analysis!D36,DS!$E$5:$E$234,"Sí")/(COUNTIFS(DS!$H$5:$H$234,Analysis!D36,DS!$E$5:$E$234,"Sí")+COUNTIFS(DS!$H$5:$H$234,Analysis!D36,DS!$E$5:$E$234,"No")),"-") -> 1
A37: Profit/Loss | B37: =IFERROR((COUNTIFS(PS!$I$5:$I$234,Analysis!A37,PS!$E$5:$E$234,"Sí")+COUNTIFS(PS!$J$5:$J$234,Analysis!A37,PS!$E$5:$E$234,"Sí"))/(COUNTIFS(PS!$I$5:$I$234,Analysis!A37,PS!$E$5:$E$234,"Sí")+COUNTIFS(PS!$I$5:$I$234,Analysis!A37,PS!$E$5:$E$234,"No")+COUNTIFS(PS!$J$5:$J$234,Analysis!A37,PS!$E$5:$E$234,"Sí")+COUNTIFS(PS!$J$5:$J$234,Analysis!A37,PS!$E$5:$E$234,"No")),"-") -> 1 | D37: Sequences | E37: =IFERROR(COUNTIFS(DS!$H$5:$H$234,Analysis!D37,DS!$E$5:$E$234,"Sí")/(COUNTIFS(DS!$H$5:$H$234,Analysis!D37,DS!$E$5:$E$234,"Sí")+COUNTIFS(DS!$H$5:$H$234,Analysis!D37,DS!$E$5:$E$234,"No")),"-") -> 1
A38: Area | B38: =IFERROR((COUNTIFS(PS!$I$5:$I$234,Analysis!A38,PS!$E$5:$E$234,"Sí")+COUNTIFS(PS!$J$5:$J$234,Analysis!A38,PS!$E$5:$E$234,"Sí"))/(COUNTIFS(PS!$I$5:$I$234,Analysis!A38,PS!$E$5:$E$234,"Sí")+COUNTIFS(PS!$I$5:$I$234,Analysis!A38,PS!$E$5:$E$234,"No")+COUNTIFS(PS!$J$5:$J$234,Analysis!A38,PS!$E$5:$E$234,"Sí")+COUNTIFS(PS!$J$5:$J$234,Analysis!A38,PS!$E$5:$E$234,"No")),"-") -> 0.66666667 | D38: Area | E38: =IFERROR(COUNTIFS(DS!$H$5:$H$234,Analysis!D38,DS!$E$5:$E$234,"Sí")/(COUNTIFS(DS!$H$5:$H$234,Analysis!D38,DS!$E$5:$E$234,"Sí")+COUNTIFS(DS!$H$5:$H$234,Analysis!D38,DS!$E$5:$E$234,"No")),"-") -> 1
A39: Operations on radical expressions | B39: =IFERROR((COUNTIFS(PS!$I$5:$I$234,Analysis!A39,PS!$E$5:$E$234,"Sí")+COUNTIFS(PS!$J$5:$J$234,Analysis!A39,PS!$E$5:$E$234,"Sí"))/(COUNTIFS(PS!$I$5:$I$234,Analysis!A39,PS!$E$5:$E$234,"Sí")+COUNTIFS(PS!$I$5:$I$234,Analysis!A39,PS!$E$5:$E$234,"No")+COUNTIFS(PS!$J$5:$J$234,Analysis!A39,PS!$E$5:$E$234,"Sí")+COUNTIFS(PS!$J$5:$J$234,Analysis!A39,PS!$E$5:$E$234,"No")),"-") -> 0 | D39: Powers | E39: =IFERROR(COUNTIFS(DS!$H$5:$H$234,Analysis!D39,DS!$E$5:$E$234,"Sí")/(COUNTIFS(DS!$H$5:$H$234,Analysis!D39,DS!$E$5:$E$234,"Sí")+COUNTIFS(DS!$H$5:$H$234,Analysis!D39,DS!$E$5:$E$234,"No")),"-") -> 0.5
A40: Pythagorean theorem | B40: =IFERROR((COUNTIFS(PS!$I$5:$I$234,Analysis!A40,PS!$E$5:$E$234,"Sí")+COUNTIFS(PS!$J$5:$J$234,Analysis!A40,PS!$E$5:$E$234,"Sí"))/(COUNTIFS(PS!$I$5:$I$234,Analysis!A40,PS!$E$5:$E$234,"Sí")+COUNTIFS(PS!$I$5:$I$234,Analysis!A40,PS!$E$5:$E$234,"No")+COUNTIFS(PS!$J$5:$J$234,Analysis!A40,PS!$E$5:$E$234,"Sí")+COUNTIFS(PS!$J$5:$J$234,Analysis!A40,PS!$E$5:$E$234,"No")),"-") -> 0.66666667 | D40: Absolute Value | E40: =IFERROR(COUNTIFS(DS!$H$5:$H$234,Analysis!D40,DS!$E$5:$E$234,"Sí")/(COUNTIFS(DS!$H$5:$H$234,Analysis!D40,DS!$E$5:$E$234,"Sí")+COUNTIFS(DS!$H$5:$H$234,Analysis!D40,DS!$E$5:$E$234,"No")),"-") -> 1
A41: Interpretation | B41: =IFERROR((COUNTIFS(PS!$I$5:$I$234,Analysis!A41,PS!$E$5:$E$234,"Sí")+COUNTIFS(PS!$J$5:$J$234,Analysis!A41,PS!$E$5:$E$234,"Sí"))/(COUNTIFS(PS!$I$5:$I$234,Analysis!A41,PS!$E$5:$E$234,"Sí")+COUNTIFS(PS!$I$5:$I$234,Analysis!A41,PS!$E$5:$E$234,"No")+COUNTIFS(PS!$J$5:$J$234,Analysis!A41,PS!$E$5:$E$234,"Sí")+COUNTIFS(PS!$J$5:$J$234,Analysis!A41,PS!$E$5:$E$234,"No")),"-") -> 0.33333333 | D41: Sets (Venn diagrams) | E41: =IFERROR(COUNTIFS(DS!$H$5:$H$234,Analysis!D41,DS!$E$5:$E$234,"Sí")/(COUNTIFS(DS!$H$5:$H$234,Analysis!D41,DS!$E$5:$E$234,"Sí")+COUNTIFS(DS!$H$5:$H$234,Analysis!D41,DS!$E$5:$E$234,"No")),"-") -> 1
A42: Volume | B42: =IFERROR((COUNTIFS(PS!$I$5:$I$234,Analysis!A42,PS!$E$5:$E$234,"Sí")+COUNTIFS(PS!$J$5:$J$234,Analysis!A42,PS!$E$5:$E$234,"Sí"))/(COUNTIFS(PS!$I$5:$I$234,Analysis!A42,PS!$E$5:$E$234,"Sí")+COUNTIFS(PS!$I$5:$I$234,Analysis!A42,PS!$E$5:$E$234,"No")+COUNTIFS(PS!$J$5:$J$234,Analysis!A42,PS!$E$5:$E$234,"Sí")+COUNTIFS(PS!$J$5:$J$234,Analysis!A42,PS!$E$5:$E$234,"No")),"-") -> 0.5 | D42: First Degree Equations | E42: =IFERROR(COUNTIFS(DS!$H$5:$H$234,Analysis!D42,DS!$E$5:$E$234,"Sí")/(COUNTIFS(DS!$H$5:$H$234,Analysis!D42,DS!$E$5:$E$234,"Sí")+COUNTIFS(DS!$H$5:$H$234,Analysis!D42,DS!$E$5:$E$234,"No")),"-") -> 1
... A60: Estimation | B60: =IFERROR((COUNTIFS(PS!$I$5:$I$234,Analysis!A60,PS!$E$5:$E$234,"Sí")+COUNTIFS(PS!$J$5:$J$234,Analysis!A60,PS!$E$5:$E$234,"Sí"))/(COUNTIFS(PS!$I$5:$I$234,Analysis!A60,PS!$E$5:$E$234,"Sí")+COUNTIFS(PS!$I$5:$I$234,Analysis!A60,PS!$E$5:$E$234,"No")+COUNTIFS(PS!$J$5:$J$234,Analysis!A60,PS!$E$5:$E$234,"Sí")+COUNTIFS(PS!$J$5:$J$234,Analysis!A60,PS!$E$5:$E$234,"No")),"-") -> 1 | D60: Simplifying Algebraic Expressions | E60: =IFERROR(COUNTIFS(DS!$H$5:$H$234,Analysis!D60,DS!$E$5:$E$234,"Sí")/(COUNTIFS(DS!$H$5:$H$234,Analysis!D60,DS!$E$5:$E$234,"Sí")+COUNTIFS(DS!$H$5:$H$234,Analysis!D60,DS!$E$5:$E$234,"No")),"-") -> 1
A61: Polygons | B61: =IFERROR((COUNTIFS(PS!$I$5:$I$234,Analysis!A61,PS!$E$5:$E$234,"Sí")+COUNTIFS(PS!$J$5:$J$234,Analysis!A61,PS!$E$5:$E$234,"Sí"))/(COUNTIFS(PS!$I$5:$I$234,Analysis!A61,PS!$E$5:$E$234,"Sí")+COUNTIFS(PS!$I$5:$I$234,Analysis!A61,PS!$E$5:$E$234,"No")+COUNTIFS(PS!$J$5:$J$234,Analysis!A61,PS!$E$5:$E$234,"Sí")+COUNTIFS(PS!$J$5:$J$234,Analysis!A61,PS!$E$5:$E$234,"No")),"-") -> 1
A62: Order | B62: =IFERROR((COUNTIFS(PS!$I$5:$I$234,Analysis!A62,PS!$E$5:$E$234,"Sí")+COUNTIFS(PS!$J$5:$J$234,Analysis!A62,PS!$E$5:$E$234,"Sí"))/(COUNTIFS(PS!$I$5:$I$234,Analysis!A62,PS!$E$5:$E$234,"Sí")+COUNTIFS(PS!$I$5:$I$234,Analysis!A62,PS!$E$5:$E$234,"No")+COUNTIFS(PS!$J$5:$J$234,Analysis!A62,PS!$E$5:$E$234,"Sí")+COUNTIFS(PS!$J$5:$J$234,Analysis!A62,PS!$E$5:$E$234,"No")),"-") -> 1
A63: Operations with rational numbers | B63: =IFERROR((COUNTIFS(PS!$I$5:$I$234,Analysis!A63,PS!$E$5:$E$234,"Sí")+COUNTIFS(PS!$J$5:$J$234,Analysis!A63,PS!$E$5:$E$234,"Sí"))/(COUNTIFS(PS!$I$5:$I$234,Analysis!A63,PS!$E$5:$E$234,"Sí")+COUNTIFS(PS!$I$5:$I$234,Analysis!A63,PS!$E$5:$E$234,"No")+COUNTIFS(PS!$J$5:$J$234,Analysis!A63,PS!$E$5:$E$234,"Sí")+COUNTIFS(PS!$J$5:$J$234,Analysis!A63,PS!$E$5:$E$234,"No")),"-") -> 0
A64: Equations | B64: =IFERROR((COUNTIFS(PS!$I$5:$I$234,Analysis!A64,PS!$E$5:$E$234,"Sí")+COUNTIFS(PS!$J$5:$J$234,Analysis!A64,PS!$E$5:$E$234,"Sí"))/(COUNTIFS(PS!$I$5:$I$234,Analysis!A64,PS!$E$5:$E$234,"Sí")+COUNTIFS(PS!$I$5:$I$234,Analysis!A64,PS!$E$5:$E$234,"No")+COUNTIFS(PS!$J$5:$J$234,Analysis!A64,PS!$E$5:$E$234,"Sí")+COUNTIFS(PS!$J$5:$J$234,Analysis!A64,PS!$E$5:$E$234,"No")),"-") -> 0
A65: Computation with radical expressions | B65: =IFERROR((COUNTIFS(PS!$I$5:$I$234,Analysis!A65,PS!$E$5:$E$234,"Sí")+COUNTIFS(PS!$J$5:$J$234,Analysis!A65,PS!$E$5:$E$234,"Sí"))/(COUNTIFS(PS!$I$5:$I$234,Analysis!A65,PS!$E$5:$E$234,"Sí")+COUNTIFS(PS!$I$5:$I$234,Analysis!A65,PS!$E$5:$E$234,"No")+COUNTIFS(PS!$J$5:$J$234,Analysis!A65,PS!$E$5:$E$234,"Sí")+COUNTIFS(PS!$J$5:$J$234,Analysis!A65,PS!$E$5:$E$234,"No")),"-") -> 0
A66: Estimation and percents | B66: =IFERROR((COUNTIFS(PS!$I$5:$I$234,Analysis!A66,PS!$E$5:$E$234,"Sí")+COUNTIFS(PS!$J$5:$J$234,Analysis!A66,PS!$E$5:$E$234,"Sí"))/(COUNTIFS(PS!$I$5:$I$234,Analysis!A66,PS!$E$5:$E$234,"Sí")+COUNTIFS(PS!$I$5:$I$234,Analysis!A66,PS!$E$5:$E$234,"No")+COUNTIFS(PS!$J$5:$J$234,Analysis!A66,PS!$E$5:$E$234,"Sí")+COUNTIFS(PS!$J$5:$J$234,Analysis!A66,PS!$E$5:$E$234,"No")),"-") -> 1
A67: computation with integers | B67: =IFERROR((COUNTIFS(PS!$I$5:$I$234,Analysis!A67,PS!$E$5:$E$234,"Sí")+COUNTIFS(PS!$J$5:$J$234,Analysis!A67,PS!$E$5:$E$234,"Sí"))/(COUNTIFS(PS!$I$5:$I$234,Analysis!A67,PS!$E$5:$E$234,"Sí")+COUNTIFS(PS!$I$5:$I$234,Analysis!A67,PS!$E$5:$E$234,"No")+COUNTIFS(PS!$J$5:$J$234,Analysis!A67,PS!$E$5:$E$234,"Sí")+COUNTIFS(PS!$J$5:$J$234,Analysis!A67,PS!$E$5:$E$234,"No")),"-") -> 1
A68: Triangle and Pythagorean theorem | B68: =IFERROR((COUNTIFS(PS!$I$5:$I$234,Analysis!A68,PS!$E$5:$E$234,"Sí")+COUNTIFS(PS!$J$5:$J$234,Analysis!A68,PS!$E$5:$E$234,"Sí"))/(COUNTIFS(PS!$I$5:$I$234,Analysis!A68,PS!$E$5:$E$234,"Sí")+COUNTIFS(PS!$I$5:$I$234,Analysis!A68,PS!$E$5:$E$234,"No")+COUNTIFS(PS!$J$5:$J$234,Analysis!A68,PS!$E$5:$E$234,"Sí")+COUNTIFS(PS!$J$5:$J$234,Analysis!A68,PS!$E$5:$E$234,"No")),"-") -> 1
A69: Area and Pythagorean theorem | B69: =IFERROR((COUNTIFS(PS!$I$5:$I$234,Analysis!A69,PS!$E$5:$E$234,"Sí")+COUNTIFS(PS!$J$5:$J$234,Analysis!A69,PS!$E$5:$E$234,"Sí"))/(COUNTIFS(PS!$I$5:$I$234,Analysis!A69,PS!$E$5:$E$234,"Sí")+COUNTIFS(PS!$I$5:$I$234,Analysis!A69,PS!$E$5:$E$234,"No")+COUNTIFS(PS!$J$5:$J$234,Analysis!A69,PS!$E$5:$E$234,"Sí")+COUNTIFS(PS!$J$5:$J$234,Analysis!A69,PS!$E$5:$E$234,"No")),"-") -> 1
A70: Area (Circles) | B70: =IFERROR((COUNTIFS(PS!$I$5:$I$234,Analysis!A70,PS!$E$5:$E$234,"Sí")+COUNTIFS(PS!$J$5:$J$234,Analysis!A70,PS!$E$5:$E$234,"Sí"))/(COUNTIFS(PS!$I$5:$I$234,Analysis!A70,PS!$E$5:$E$234,"Sí")+COUNTIFS(PS!$I$5:$I$234,Analysis!A70,PS!$E$5:$E$234,"No")+COUNTIFS(PS!$J$5:$J$234,Analysis!A70,PS!$E$5:$E$234,"Sí")+COUNTIFS(PS!$J$5:$J$234,Analysis!A70,PS!$E$5:$E$234,"No")),"-") -> 1
A71: Angle | B71: =IFERROR((COUNTIFS(PS!$I$5:$I$234,Analysis!A71,PS!$E$5:$E$234,"Sí")+COUNTIFS(PS!$J$5:$J$234,Analysis!A71,PS!$E$5:$E$234,"Sí"))/(COUNTIFS(PS!$I$5:$I$234,Analysis!A71,PS!$E$5:$E$234,"Sí")+COUNTIFS(PS!$I$5:$I$234,Analysis!A71,PS!$E$5:$E$234,"No")+COUNTIFS(PS!$J$5:$J$234,Analysis!A71,PS!$E$5:$E$234,"Sí")+COUNTIFS(PS!$J$5:$J$234,Analysis!A71,PS!$E$5:$E$234,"No")),"-") -> 1

Sheet Study Plan
A1: Study Plan
A4: Questions left per category
A5: Categoría | B5: % | C5: Total | D5: Faltantes
A6: PS | B6: =(COUNTIF(PS!E:E,"Sí")+COUNTIF(PS!E:E,"No"))/C6 -> 1 | C6: 230 | D6: =C6*(1-B6) -> 0
A7: DS | B7: =(COUNTIF(DS!E:E,"Sí")+COUNTIF(DS!E:E,"No"))/C7 -> 1 | C7: 174 | D7: =C7*(1-B7) -> 0
A8: CR | B8: =(COUNTIF(CR!E:E,"Sí")+COUNTIF(CR!E:E,"No"))/C8 -> 1 | C8: 124 | D8: =C8*(1-B8) -> 0
A9: SC | B9: =(COUNTIF(SC!E:E,"Sí")+COUNTIF(SC!E:E,"No"))/C9 -> 1 | C9: 140 | D9: =C9*(1-B9) -> 0
A10: RC | B10: =(COUNTIF('RC'!E:E,"Sí")+COUNTIF('RC'!E:E,"No"))/C10 -> 0.4028777 | C10: 139 | D10: =C10*(1-B10) -> 83
A11: Total | B11: =SUMPRODUCT(B6:B10,C6:C10)/C11 -> 0.89714994 | C11: =SUM(C6:C10) -> 807 | D11: =SUM(D6:D10) -> 83

Sheet Data Bases
A1: DataBases for error log
B3: Issues
B4: Careless
B5: Guess
B6: Not sure
B7: Tough
B8: Knowledge gap
B9: Read the Q
