Workbook

Sheet PS
A1: Problem Solving
A4: Difficulty | B4: Question No. | C4: Mi Respuesta | D4: Respuesta Correcta | E4: Resultado | F4: Razón | G4: Category 1 | H4: Category 2 | I4: Subcategory 1 | J4: Subcategory 2 | K4: Comments
A5: Easy | B5: 1 | D5: A | E5: Sí | G5: Word Problem | I5: Rate
A6: Easy | B6: 2 | D6: B | E6: Sí | G6: Algebra | I6: First-degree equations
A7: Easy | B7: 3 | D7: C | E7: Sí | G7: Arithmetic | I7: Properties of numbers
A8: Easy | B8: 4 | D8: E | E8: No | F8: Knowledge gap | G8: Geometry | I8: Area
A9: Easy | B9: 5 | D9: C | E9: Sí | G9: Arithmetic | I9: Statistics
A10: Easy | B10: 6 | D10: C | E10: Sí | G10: Algebra | I10: Simplifying algebraic expressions
A11: Easy | B11: 7 | D11: B | E11: Sí | G11: Arithmetic | I11: Properties of numbers
A12: Easy | B12: 8 | D12: E | E12: Sí | G12: Word Problem | I12: Rate
A13: Easy | B13: 9 | D13: E | E13: Sí | G13: Coordinate Geometry | I13: Interpretation of graphs | J13: Second-degree equations
A14: Easy | B14: 10 | D14: D | E14: Sí | G14: Arithmetic | I14: Percents
A15: Easy | B15: 11 | D15: E | E15: No | F15: Knowledge gap | G15: Arithmetic | I15: Operations on radical expressions
A16: Easy | B16: 12 | D16: A | E16: Sí | G16: Arithmetic | I16: Probability
A17: Easy | B17: 13 | D17: C | E17: Sí | G17: Word Problem | I17: Rate
A18: Easy | B18: 14 | D18: A | E18: Sí | G18: Arithmetic | I18: Statistics
A19: Easy | B19: 15 | D19: B | E19: Sí | G19: Arithmetic | I19: Powers
A20: Easy | B20: 16 | D20: D | E20: Sí | G20: Geometry | I20: Volume
A21: Easy | B21: 17 | D21: D | E21: Sí | G21: Word Problem | I21: Rate
A22: Easy | B22: 18 | D22: E | E22: Sí | G22: Geometry | I22: Quadrilaterals
A23: Easy | B23: 19 | D23: E | E23: Sí | G23: Arithmetic | I23: Percents
A24: Easy | B24: 20 | D24: A | E24: Sí | G24: Arithmetic | I24: Operations on rational numbers
A25: Easy | B25: 21 | D25: B | E25: Sí | G25: Word Problem | I25: Rate
A26: Easy | B26: 22 | D26: A | E26: Sí | G26: Arithmetic | I26: Properties of numbers
A27: Easy | B27: 23 | D27: B | E27: Sí | G27: Arithmetic | I27: Properties of numbers
... A30: Easy | B30: 26 | D30: B | E30: Sí | G30: Algebra | I30: First-degree equations
A31: Easy | B31: 27* | D31: E | E31: No | F31: Careless | G31: Arithmetic | I31: Statistics
A32: Easy | B32: 28* | D32: B | E32: Sí | G32: Arithmetic | I32: Measurement conversion
A33: Easy | B33: 29 | D33: C | E33: Sí | G33: Arithmetic | I33: Properties of numbers
A34: Easy | B34: 30 | D34: B | E34: Sí | G34: Arithmetic | I34: Interpretation of graphs and tables
A35: Easy | B35: 31 | C35: B | D35: B | E35: =IF(LEN(C35)=0,"-",IF(C35=D35,"Sí","No")) -> Sí | G35: Algebra | I35: First-degree equations
A36: Easy | B36: 32 | C36: A | D36: B | E36: =IF(LEN(C36)=0,"-",IF(C36=D36,"Sí","No")) -> No | F36: Knowledge gap | G36: Arithmetic | I36: Operations on radical expressions
A37: Easy | B37: 33 | C37: A | D37: C | E37: =IF(LEN(C37)=0,"-",IF(C37=D37,"Sí","No")) -> No | F37: Careless | G37: Geometry | I37: Circles and area
A38: Easy | B38: 34 | C38: A | D38: A | E38: =IF(LEN(C38)=0,"-",IF(C38=D38,"Sí","No")) -> Sí | G38: Algebra | I38: Applied problems
A39: Easy | B39: 35 | C39: B | D39: B | E39: =IF(LEN(C39)=0,"-",IF(C39=D39,"Sí","No")) -> Sí | G39: Arithmetic | I39: Operations on rational numbers
A40: Easy | B40: 36 | C40: A | D40: A | E40: =IF(LEN(C40)=0,"-",IF(C40=D40,"Sí","No")) -> Sí | G40: Arithmetic | I40: Operations on rational numbers
A41: Easy | B41: 37* | C41: A | D41: A | E41: =IF(LEN(C41)=0,"-",IF(C41=D41,"Sí","No")) -> Sí | G41: Arithmetic | I41: Fractions
A42: Easy | B42: 38 | C42: C | D42: B | E42: =IF(LEN(C42)=0,"-",IF(C42=D42,"Sí","No")) -> No | F42: Careless | G42: Arithmetic | I42: Fractions
A43: Easy | B43: 39 | C43: B | D43: B | E43: =IF(LEN(C43)=0,"-",IF(C43=D43,"Sí","No")) -> Sí | G43: Geometry | I43: Coordinate geometry
A44: Easy | B44: 40* | C44: C | D44: C | E44: =IF(LEN(C44)=0,"-",IF(C44=D44,"Sí","No")) -> Sí | G44: Arithmetic | I44: Properties of integers
...

Sheet DS
A1: Data Sufficiency
A4: Difficulty | B4: Question No. | C4: Mi Respuesta | D4: Respuesta Correcta | E4: Resultado | F4: Razón | G4: Category | H4: Subcategory | I4: Comments
A5: Easy | B5: 1 | D5: B | E5: Sí | G5: Arithmetic | H5: Absolute Value
A6: Easy | B6: 2 | D6: E | E6: Sí | G6: Arithmetic | H6: Percents
A7: Easy | B7: 3 | D7: A | E7: Sí | G7: Arithmetic | H7: Probability
A8: Easy | B8: 4* | D8: E | E8: Sí | G8: Arithmetic | H8: Sets (Venn diagrams)
A9: Easy | B9: 5 | D9: E | E9: Sí | G9: Geometry | H9: Lines
A10: Easy | B10: 6 | D10: D | E10: Sí | G10: Arithmetic | H10: Properties of Numbers
A11: Easy | B11: 7* | D11: A | E11: Sí | G11: Arithmetic | H11: Percents
A12: Easy | B12: 8* | D12: C | E12: Sí | G12: Word Problem | H12: Rate
A13: Easy | B13: 9* | D13: A | E13: Sí | G13: Word Problem | H13: Ratios
A14: Easy | B14: 10 | D14: B | E14: Sí | G14: Word Problem | H14: Work
A15: Easy | B15: 11 | D15: A | E15: Sí | G15: Arithmetic | H15: Properties of Numbers
A16: Easy | B16: 12 | D16: B | E16: Sí | G16: Arithmetic | H16: Properties of Numbers
A17: Easy | B17: 13* | D17: D | E17: Sí | G17: Word Problem | H17: First Degree Equations
A18: Easy | B18: 14* | D18: C | E18: Sí | G18: Word Problem | H18: Rate
A19: Easy | B19: 15 | D19: B | E19: No | F19: Careless | G19: Algebra | H19: First and Second Degree Equations
A20: Easy | B20: 16 | D20: A | E20: Sí | G20: Arithmetic | H20: Properties of Numbers
A21: Easy | B21: 17* | D21: D | E21: Sí | G21: Arithmetic | H21: Properties of Numbers
A22: Easy | B22: 18* | D22: B | E22: Sí | G22: Geometry | H22: Volume
A23: Easy | B23: 19* | D23: C | E23: Sí | G23: Arithmetic | H23: Sequences
A24: Easy | B24: 20 | D24: A | E24: Sí | G24: Geometry | H24: Triangles
A25: Easy | B25: 21* | C25: E | D25: E | E25: =IF(LEN(C25)=0,"-",IF(C25=D25,"Sí","No")) -> Sí | G25: Word Problem | H25: Overlapping Sets
A26: Easy | B26: 22* | C26: E | D26: E | E26: =IF(LEN(C26)=0,"-",IF(C26=D26,"Sí","No")) -> Sí | G26: Word Problem | H26: Rate
A27: Easy | B27: 23 | C27: B | D27: B | E27: =IF(LEN(C27)=0,"-",IF(C27=D27,"Sí","No")) -> Sí | G27: Word Problem | H27: Min/Max
A28: Easy | B28: 24* | C28: D | D28: D | E28: =IF(LEN(C28)=0,"-",IF(C28=D28,"Sí","No")) -> Sí | G28: Arithmetic | H28: Properties of Numbers
A29: Easy | B29: 25* | C29: D | D29: D | E29: =IF(LEN(C29)=0,"-",IF(C29=D29,"Sí","No")) -> Sí | G29: Word Problem | H29: Rate
A30: Easy | B30: 26* | C30: D | D30: D | E30: =IF(LEN(C30)=0,"-",IF(C30=D30,"Sí","No")) -> Sí | G30: Word Problem | H30: Rate
A31: Easy | B31: 27* | C31: D | D31: D | E31: =IF(LEN(C31)=0,"-",IF(C31=D31,"Sí","No")) -> Sí | G31: Word Problem | H31: Ratios
A32: Easy | B32: 28* | C32: A | D32: E | E32: =IF(LEN(C32)=0,"-",IF(C32=D32,"Sí","No")) -> No | F32: Read the Q | G32: Arithmetic | H32: Statistics | I32: Read the Q
A33: Easy | B33: 29 | C33: E | D33: E | E33: =IF(LEN(C33)=0,"-",IF(C33=D33,"Sí","No")) -> Sí | G33: Geometry | H33: Surface Area
A34: Easy | B34: 30 | C34: D | D34: B | E34: =IF(LEN(C34)=0,"-",IF(C34=D34,"Sí","No")) -> No | F34: Knowledge gap | G34: Arithmetic | H34: First and Second Degree Equations | I34: Algebra concept, two solutions for equation are not "What's the value of x variable?", Must practice algebra
A35: Easy | B35: 31* | C35: E | D35: B | E35: =IF(LEN(C35)=0,"-",IF(C35=D35,"Sí","No")) -> No | F35: Careless | G35: Arithmetic | H35: Rounding, Place Value | I35: Though Q was easy, should have read solutions carefully
A36: Easy | B36: 32* | C36: E | D36: E | E36: =IF(LEN(C36)=0,"-",IF(C36=D36,"Sí","No")) -> Sí | G36: Word Problem | H36: Min/Max
A37: Easy | B37: 33* | C37: E | D37: C | E37: =IF(LEN(C37)=0,"-",IF(C37=D37,"Sí","No")) -> No | F37: Read the Q | G37: Word Problem | H37: Profit/Loss | I37: Thought Q was asking something else, careless and read the Q
A38: Easy | B38: 34 | C38: D | D38: D | E38: =IF(LEN(C38)=0,"-",IF(C38=D38,"Sí","No")) -> Sí | G38: Geometry | H38: Circles
A39: Easy | B39: 35 | C39: D | D39: D | E39: =IF(LEN(C39)=0,"-",IF(C39=D39,"Sí","No")) -> Sí | G39: Algebra | H39: First and Second Degree Equations
A40: Easy | B40: 36* | C40: D | D40: B | E40: =IF(LEN(C40)=0,"-",IF(C40=D40,"Sí","No")) -> No | F40: Not sure | G40: Algebra | H40: Functions | I40: Practice functions and algebra
A41: Easy | B41: 37* | C41: A | D41: A | E41: =IF(LEN(C41)=0,"-",IF(C41=D41,"Sí","No")) -> Sí | G41: Word Problem | H41: Percents
A42: Easy | B42: 38* | C42: C | D42: C | E42: =IF(LEN(C42)=0,"-",IF(C42=D42,"Sí","No")) -> Sí | G42: Word Problem | H42: Ratios
...

Sheet CR
A1: Critical Reasoning
A4: Difficulty | B4: Question No. | C4: Mi Respuesta | D4: Respuesta Correcta | E4: Resultado | F4: Razón | G4: Category | H4: Subcategory | I4: Comments
A5: Easy | B5: 1 | C5: B | D5: B | E5: =IF(LEN(C5)=0,"-",IF(C5=D5,"Sí","No")) -> Sí | G5: Argument Evaluation | H5: Weaken
A6: Easy | B6: 2* | C6: C | D6: C | E6: =IF(LEN(C6)=0,"-",IF(C6=D6,"Sí","No")) -> Sí | G6: Evaluation of a Plan | H6: Assumption
A7: Easy | B7: 3 | C7: A | D7: A | E7: =IF(LEN(C7)=0,"-",IF(C7=D7,"Sí","No")) -> Sí | G7: Argument Evaluation | H7: Argument Evaluation
A8: Easy | B8: 4* | C8: C | D8: D | E8: =IF(LEN(C8)=0,"-",IF(C8=D8,"Sí","No")) -> No | G8: Evaluation of a Plan | H8: Logical Flaw
A9: Easy | B9: 5 | C9: D | D9: D | E9: =IF(LEN(C9)=0,"-",IF(C9=D9,"Sí","No")) -> Sí | G9: Evaluation of a Plan | H9: Inference
A10: Easy | B10: 6 | C10: A | D10: E | E10: =IF(LEN(C10)=0,"-",IF(C10=D10,"Sí","No")) -> No | G10: Evaluation of a Plan | H10: Evaluation of a Plan
A11: Easy | B11: 7* | C11: A | D11: A | E11: =IF(LEN(C11)=0,"-",IF(C11=D11,"Sí","No")) -> Sí | G11: Evaluation of a Plan | H11: Assumption
A12: Easy | B12: 8 | C12: A | D12: A | E12: =IF(LEN(C12)=0,"-",IF(C12=D12,"Sí","No")) -> Sí | G12: Argument Construction | H12: Resolve Paradox
A13: Easy | B13: 9* | C13: B | D13: B | E13: =IF(LEN(C13)=0,"-",IF(C13=D13,"Sí","No")) -> Sí | G13: Evaluation of a Plan | H13: Evaluation of a Plan
A14: Easy | B14: 10 | C14: A | D14: D | E14: =IF(LEN(C14)=0,"-",IF(C14=D14,"Sí","No")) -> No | G14: Argument Evaluation | H14: Weaken
A15: Easy | B15: 11 | C15: E | D15: E | E15: =IF(LEN(C15)=0,"-",IF(C15=D15,"Sí","No")) -> Sí | G15: Argument Construction | H15: Additional Evidence
A16: Easy | B16: 12* | C16: A | D16: A | E16: =IF(LEN(C16)=0,"-",IF(C16=D16,"Sí","No")) -> Sí | G16: Evaluation of a Plan | H16: Evaluation of a Plan
A17: Easy | B17: 13 | C17: E | D17: E | E17: =IF(LEN(C17)=0,"-",IF(C17=D17,"Sí","No")) -> Sí | G17: Argument Evaluation | H17: Additional Evidence
A18: Easy | B18: 14* | C18: A | D18: A | E18: =IF(LEN(C18)=0,"-",IF(C18=D18,"Sí","No")) -> Sí | G18: Evaluation of a Plan | H18: Resolve Paradox
A19: Easy | B19: 15 | C19: D | D19: D | E19: =IF(LEN(C19)=0,"-",IF(C19=D19,"Sí","No")) -> Sí | G19: Argument Evaluation | H19: Weaken
A20: Easy | B20: 16 | C20: B | D20: B | E20: =IF(LEN(C20)=0,"-",IF(C20=D20,"Sí","No")) -> Sí | G20: Argument Construction | H20: Complete the Passage
A21: Easy | B21: 17* | C21: E | D21: E | E21: =IF(LEN(C21)=0,"-",IF(C21=D21,"Sí","No")) -> Sí | G21: Argument Construction | H21: Bold Face CR
A22: Easy | B22: 18 | C22: C | D22: C | E22: =IF(LEN(C22)=0,"-",IF(C22=D22,"Sí","No")) -> Sí | G22: Argument Construction | H22: Resolve Paradox
A23: Easy | B23: 19* | C23: E | D23: E | E23: =IF(LEN(C23)=0,"-",IF(C23=D23,"Sí","No")) -> Sí | G23: Argument Evaluation | H23: Argument Evaluation
A24: Easy | B24: 20 | C24: D | D24: D | E24: =IF(LEN(C24)=0,"-",IF(C24=D24,"Sí","No")) -> Sí | G24: Argument Construction | H24: Assumption
A25: Easy | B25: 21 | C25: B | D25: B | E25: =IF(LEN(C25)=0,"-",IF(C25=D25,"Sí","No")) -> Sí | G25: Argument Evaluation | H25: Strengthen
A26: Easy | B26: 22* | C26: C | D26: C | E26: =IF(LEN(C26)=0,"-",IF(C26=D26,"Sí","No")) -> Sí | G26: Evaluation of a Plan | H26: Evaluation of a Plan
A27: Easy | B27: 23 | C27: D | D27: D | E27: =IF(LEN(C27)=0,"-",IF(C27=D27,"Sí","No")) -> Sí | G27: Argument Evaluation | H27: Weaken
A28: Easy | B28: 24* | C28: C | D28: C | E28: =IF(LEN(C28)=0,"-",IF(C28=D28,"Sí","No")) -> Sí | G28: Argument Construction | H28: Additional Evidence
A29: Easy | B29: 25 | C29: A | D29: A | E29: =IF(LEN(C29)=0,"-",IF(C29=D29,"Sí","No")) -> Sí | G29: Argument Evaluation | H29: Strengthen
A30: Easy | B30: 26 | C30: B | D30: C | E30: =IF(LEN(C30)=0,"-",IF(C30=D30,"Sí","No")) -> No | G30: Argument Construction | H30: Conclusion | I30: Tenía identificada la buena, fallé en juzgar
A31: Easy | B31: 27* | C31: B | D31: B | E31: =IF(LEN(C31)=0,"-",IF(C31=D31,"Sí","No")) -> Sí | G31: Argument Evaluation | H31: Assumption
A32: Easy | B32: 28 | C32: C | D32: C | E32: =IF(LEN(C32)=0,"-",IF(C32=D32,"Sí","No")) -> Sí | G32: Argument Construction | H32: Assumption
A33: Easy | B33: 29* | C33: A | D33: A | E33: =IF(LEN(C33)=0,"-",IF(C33=D33,"Sí","No")) -> Sí | G33: Argument Construction | H33: Bold Face CR
A34: Easy | B34: 30 | C34: E | D34: E | E34: =IF(LEN(C34)=0,"-",IF(C34=D34,"Sí","No")) -> Sí | G34: Argument Evaluation | H34: Weaken
A35: Easy | B35: 31 | C35: C | D35: C | E35: =IF(LEN(C35)=0,"-",IF(C35=D35,"Sí","No")) -> Sí | G35: Argument Construction | H35: Inference
A36: Easy | B36: 32* | C36: C | D36: C | E36: =IF(LEN(C36)=0,"-",IF(C36=D36,"Sí","No")) -> Sí | G36: Evaluation of a Plan | H36: Strengthen
A37: Easy | B37: 33 | C37: E | D37: C | E37: =IF(LEN(C37)=0,"-",IF(C37=D37,"Sí","No")) -> No | G37: Argument Construction | H37: Must Be True | I37: No asumas lo que el passage no dice
A38: Easy | B38: 34* | C38: D | D38: D | E38: =IF(LEN(C38)=0,"-",IF(C38=D38,"Sí","No")) -> Sí | G38: Argument Construction | H38: Complete the Passage
A39: Easy | B39: 35 | C39: B | D39: B | E39: =IF(LEN(C39)=0,"-",IF(C39=D39,"Sí","No")) -> Sí | G39: Argument Evaluation | H39: Weaken
A40: Easy | B40: 36 | C40: A | D40: A | E40: =IF(LEN(C40)=0,"-",IF(C40=D40,"Sí","No")) -> Sí | G40: Argument Evaluation | H40: Weaken
A41: Easy | B41: 37* | C41: D | D41: D | E41: =IF(LEN(C41)=0,"-",IF(C41=D41,"Sí","No")) -> Sí | G41: Argument Construction | H41: Argument Construction
A42: Easy | B42: 38 | C42: B | D42: B | E42: =IF(LEN(C42)=0,"-",IF(C42=D42,"Sí","No")) -> Sí | G42: Argument Construction | H42: Complete the Passage
...

Sheet SC
A1: Critical Reasoning
A4: Difficulty | B4: Question No. | C4: Mi Respuesta | D4: Respuesta Correcta | E4: Resultado | F4: Razón | G4: Category | H4: Category 2 | I4: Comments
A5: Easy | B5: 1* | C5: D | D5: D | E5: =IF(LEN(C5)=0,"-",IF(C5=D5,"Sí","No")) -> Sí | G5: Verb Voice | H5: Pronouns
A6: Easy | B6: 2 | C6: D | D6: D | E6: =IF(LEN(C6)=0,"-",IF(C6=D6,"Sí","No")) -> Sí | G6: Subject Verb Agreement | H6: Rhetorical Construction
A7: Easy | B7: 3* | C7: E | D7: E | E7: =IF(LEN(C7)=0,"-",IF(C7=D7,"Sí","No")) -> Sí | G7: Verb Tense / Form | H7: Rhetorical Construction
A8: Easy | B8: 4 | C8: A | D8: E | E8: =IF(LEN(C8)=0,"-",IF(C8=D8,"Sí","No")) -> No | G8: Idiom | H8: Comparisons
A9: Easy | B9: 5 | C9: A | D9: A | E9: =IF(LEN(C9)=0,"-",IF(C9=D9,"Sí","No")) -> Sí | G9: Subject Verb Agreement | H9: Modifiers
A10: Easy | B10: 6* | C10: E | D10: E | E10: =IF(LEN(C10)=0,"-",IF(C10=D10,"Sí","No")) -> Sí | G10: Pronouns | H10: Parallel Structure
A11: Easy | B11: 7 | C11: E | D11: E | E11: =IF(LEN(C11)=0,"-",IF(C11=D11,"Sí","No")) -> Sí | G11: Pronouns | H11: Rhetorical Construction
A12: Easy | B12: 8* | C12: A | D12: A | E12: =IF(LEN(C12)=0,"-",IF(C12=D12,"Sí","No")) -> Sí | G12: Verb Tense / Form | H12: Modifiers
A13: Easy | B13: 9 | C13: E | D13: E | E13: =IF(LEN(C13)=0,"-",IF(C13=D13,"Sí","No")) -> Sí | G13: Comparisons
A14: Easy | B14: 10 | C14: B | D14: B | E14: =IF(LEN(C14)=0,"-",IF(C14=D14,"Sí","No")) -> Sí | G14: Which / That | H14: Verb Tense
A15: Easy | B15: 11* | C15: A | D15: D | E15: =IF(LEN(C15)=0,"-",IF(C15=D15,"Sí","No")) -> No | G15: Parallel Structure | H15: Verb Tense
A16: Easy | B16: 12 | C16: A | D16: E | E16: =IF(LEN(C16)=0,"-",IF(C16=D16,"Sí","No")) -> No | G16: Subject Verb Agreement | H16: Diction
A17: Easy | B17: 13* | C17: A | D17: A | E17: =IF(LEN(C17)=0,"-",IF(C17=D17,"Sí","No")) -> Sí | G17: Subject Verb Agreement | H17: Grammatical Construction
A18: Easy | B18: 14 | C18: A | D18: A | E18: =IF(LEN(C18)=0,"-",IF(C18=D18,"Sí","No")) -> Sí | G18: Parallel Structure | H18: Modifiers
A19: Easy | B19: 15 | C19: E | D19: E | E19: =IF(LEN(C19)=0,"-",IF(C19=D19,"Sí","No")) -> Sí | G19: Parallel Structure | H19: Idiom
A20: Easy | B20: 16* | C20: B | D20: B | E20: =IF(LEN(C20)=0,"-",IF(C20=D20,"Sí","No")) -> Sí | G20: Verb Tense / Form | H20: Style
A21: Easy | B21: 17 | C21: D | D21: D | E21: =IF(LEN(C21)=0,"-",IF(C21=D21,"Sí","No")) -> Sí | G21: Idiom
A22: Easy | B22: 18* | C22: C | D22: C | E22: =IF(LEN(C22)=0,"-",IF(C22=D22,"Sí","No")) -> Sí | G22: Comparisons | H22: Grammatical Construction
A23: Easy | B23: 19 | C23: D | D23: D | E23: =IF(LEN(C23)=0,"-",IF(C23=D23,"Sí","No")) -> Sí | G23: Comparisons | H23: Modifiers
A24: Easy | B24: 20 | C24: E | D24: E | E24: =IF(LEN(C24)=0,"-",IF(C24=D24,"Sí","No")) -> Sí | G24: Idiom | H24: Parallel Structure
A25: Easy | B25: 21* | C25: A | D25: A | E25: =IF(LEN(C25)=0,"-",IF(C25=D25,"Sí","No")) -> Sí | G25: Grammatical Construction | H25: Subject Verb Agreement
A26: Easy | B26: 22 | C26: A | D26: D | E26: =IF(LEN(C26)=0,"-",IF(C26=D26,"Sí","No")) -> No | G26: Verb Tense / Form | H26: Parallel Structure
A27: Easy | B27: 23* | C27: C | D27: C | E27: =IF(LEN(C27)=0,"-",IF(C27=D27,"Sí","No")) -> Sí | G27: Verb Tense / Form | H27: Pronouns
A28: Easy | B28: 24 | C28: E | D28: E | E28: =IF(LEN(C28)=0,"-",IF(C28=D28,"Sí","No")) -> Sí | G28: Diction | H28: Style
A29: Easy | B29: 25 | C29: A | D29: E | E29: =IF(LEN(C29)=0,"-",IF(C29=D29,"Sí","No")) -> No | G29: Modifiers | H29: Style
A30: Easy | B30: 26* | C30: E | D30: E | E30: =IF(LEN(C30)=0,"-",IF(C30=D30,"Sí","No")) -> Sí | G30: Parallel Structure | H30: Subject Verb Agreement
A31: Easy | B31: 27 | C31: D | D31: D | E31: =IF(LEN(C31)=0,"-",IF(C31=D31,"Sí","No")) -> Sí | G31: Idiom | H31: Subject Verb Agreement
A32: Easy | B32: 28* | C32: B | D32: B | E32: =IF(LEN(C32)=0,"-",IF(C32=D32,"Sí","No")) -> Sí | G32: Parallel Structure | H32: Such As / Like
A33: Easy | B33: 29 | C33: C | D33: C | E33: =IF(LEN(C33)=0,"-",IF(C33=D33,"Sí","No")) -> Sí | G33: Parallel Structure
A34: Easy | B34: 30 | C34: C | D34: C | E34: =IF(LEN(C34)=0,"-",IF(C34=D34,"Sí","No")) -> Sí | G34: Modifiers | H34: Style
A35: Easy | B35: 31* | C35: D | D35: D | E35: =IF(LEN(C35)=0,"-",IF(C35=D35,"Sí","No")) -> Sí | G35: Comparisons | H35: Idiom
A36: Easy | B36: 32 | C36: B | D36: B | E36: =IF(LEN(C36)=0,"-",IF(C36=D36,"Sí","No")) -> Sí | G36: Idiom | H36: Parallel Structure
A37: Easy | B37: 33* | C37: D | D37: A | E37: =IF(LEN(C37)=0,"-",IF(C37=D37,"Sí","No")) -> No | G37: Subject Verb Agreement | H37: Style
A38: Easy | B38: 34 | C38: B | D38: B | E38: =IF(LEN(C38)=0,"-",IF(C38=D38,"Sí","No")) -> Sí | G38: Idiom | H38: Style
A39: Easy | B39: 35 | C39: C | D39: C | E39: =IF(LEN(C39)=0,"-",IF(C39=D39,"Sí","No")) -> Sí | G39: Such As / Like | H39: Subject Verb Agreement
A40: Easy | B40: 36* | C40: A | D40: A | E40: =IF(LEN(C40)=0,"-",IF(C40=D40,"Sí","No")) -> Sí | G40: Verb Voice | H40: Parallel Structure
A41: Easy | B41: 37 | C41: A | D41: A | E41: =IF(LEN(C41)=0,"-",IF(C41=D41,"Sí","No")) -> Sí | G41: Idiom | H41: Style
A42: Easy | B42: 38* | C42: E | D42: E | E42: =IF(LEN(C42)=0,"-",IF(C42=D42,"Sí","No")) -> Sí | G42: Style | H42: Parallel Structure
...

Sheet RC
A1: Reading comprehension
A4: Difficulty | B4: Question No. | C4: Mi Respuesta | D4: Respuesta Correcta | E4: Resultado | F4: Razón | G4: Category | H4: Comments
A5: Easy | B5: 1* | C5: C | D5: C | E5: =IF(LEN(C5)=0,"-",IF(C5=D5,"Sí","No")) -> Sí | G5: Main Idea
A6: Easy | B6: 2* | C6: D | D6: D | E6: =IF(LEN(C6)=0,"-",IF(C6=D6,"Sí","No")) -> Sí | G6: Supporting Ideas
A7: Easy | B7: 3* | C7: B | D7: B | E7: =IF(LEN(C7)=0,"-",IF(C7=D7,"Sí","No")) -> Sí | G7: Inference
A8: Easy | B8: 4 | C8: E | D8: E | E8: =IF(LEN(C8)=0,"-",IF(C8=D8,"Sí","No")) -> Sí | G8: Main Idea
A9: Easy | B9: 5 | C9: E | D9: B | E9: =IF(LEN(C9)=0,"-",IF(C9=D9,"Sí","No")) -> No | G9: Supporting Ideas
A10: Easy | B10: 6 | C10: D | D10: D | E10: =IF(LEN(C10)=0,"-",IF(C10=D10,"Sí","No")) -> Sí | G10: Supporting Ideas
A11: Easy | B11: 7 | C11: D | D11: D | E11: =IF(LEN(C11)=0,"-",IF(C11=D11,"Sí","No")) -> Sí | G11: Logical Structure
A12: Easy | B12: 8 | C12: A | D12: A | E12: =IF(LEN(C12)=0,"-",IF(C12=D12,"Sí","No")) -> Sí | G12: Logical Structure
A13: Easy | B13: 9 | C13: B | D13: B | E13: =IF(LEN(C13)=0,"-",IF(C13=D13,"Sí","No")) -> Sí | G13: Main Idea
A14: Easy | B14: 10 | C14: A | D14: E | E14: =IF(LEN(C14)=0,"-",IF(C14=D14,"Sí","No")) -> No | G14: Inference
A15: Easy | B15: 11 | C15: E | D15: E | E15: =IF(LEN(C15)=0,"-",IF(C15=D15,"Sí","No")) -> Sí | G15: Supporting Ideas
A16: Easy | B16: 12 | C16: D | D16: D | E16: =IF(LEN(C16)=0,"-",IF(C16=D16,"Sí","No")) -> Sí | G16: Main Idea
A17: Easy | B17: 13 | C17: E | D17: E | E17: =IF(LEN(C17)=0,"-",IF(C17=D17,"Sí","No")) -> Sí | G17: Supporting Ideas
A18: Easy | B18: 14 | C18: D | D18: D | E18: =IF(LEN(C18)=0,"-",IF(C18=D18,"Sí","No")) -> Sí | G18: Supporting Ideas
A19: Easy | B19: 15 | C19: A | D19: D | E19: =IF(LEN(C19)=0,"-",IF(C19=D19,"Sí","No")) -> No | G19: Inference
... A21: Easy | B21: 17 | C21: E | D21: A | E21: =IF(LEN(C21)=0,"-",IF(C21=D21,"Sí","No")) -> No | G21: Logical Structure
A22: Easy | B22: 18* | C22: B | D22: B | E22: =IF(LEN(C22)=0,"-",IF(C22=D22,"Sí","No")) -> Sí | G22: Application
A23: Easy | B23: 19* | C23: B | D23: B | E23: =IF(LEN(C23)=0,"-",IF(C23=D23,"Sí","No")) -> Sí | G23: Supporting Ideas
A24: Easy | B24: 20* | C24: B | D24: B | E24: =IF(LEN(C24)=0,"-",IF(C24=D24,"Sí","No")) -> Sí | G24: Inference
A25: Easy | B25: 21* | C25: A | D25: A | E25: =IF(LEN(C25)=0,"-",IF(C25=D25,"Sí","No")) -> Sí | G25: Evaluation
A26: Easy | B26: 22* | C26: D | D26: D | E26: =IF(LEN(C26)=0,"-",IF(C26=D26,"Sí","No")) -> Sí | G26: Inference
A27: Easy | B27: 23* | C27: E | D27: E | E27: =IF(LEN(C27)=0,"-",IF(C27=D27,"Sí","No")) -> Sí | G27: Inference
A28: Easy | B28: 24* | C28: D | D28: D | E28: =IF(LEN(C28)=0,"-",IF(C28=D28,"Sí","No")) -> Sí | G28: Evaluation
A29: Easy | B29: 25* | C29: A | D29: A | E29: =IF(LEN(C29)=0,"-",IF(C29=D29,"Sí","No")) -> Sí | G29: Main Idea
A30: Easy | B30: 26 | C30: E | D30: E | E30: =IF(LEN(C30)=0,"-",IF(C30=D30,"Sí","No")) -> Sí | G30: Main Idea
A31: Easy | B31: 27 | C31: C | D31: C | E31: =IF(LEN(C31)=0,"-",IF(C31=D31,"Sí","No")) -> Sí | G31: Inference
A32: Easy | B32: 28 | C32: C | D32: C | E32: =IF(LEN(C32)=0,"-",IF(C32=D32,"Sí","No")) -> Sí | G32: Tone
A33: Easy | B33: 29 | C33: C | D33: C | E33: =IF(LEN(C33)=0,"-",IF(C33=D33,"Sí","No")) -> Sí | G33: Supporting Ideas
A34: Easy | B34: 30 | C34: E | D34: E | E34: =IF(LEN(C34)=0,"-",IF(C34=D34,"Sí","No")) -> Sí | G34: Supporting Ideas
A35: Easy | B35: 31 | C35: C | D35: C | E35: =IF(LEN(C35)=0,"-",IF(C35=D35,"Sí","No")) -> Sí | G35: Main Idea
A36: Easy | B36: 32 | C36: C | D36: B | E36: =IF(LEN(C36)=0,"-",IF(C36=D36,"Sí","No")) -> No | G36: Inference
A37: Easy | B37: 33 | C37: A | D37: A | E37: =IF(LEN(C37)=0,"-",IF(C37=D37,"Sí","No")) -> Sí | G37: Inference
A38: Easy | B38: 34 | C38: C | D38: C | E38: =IF(LEN(C38)=0,"-",IF(C38=D38,"Sí","No")) -> Sí | G38: Supporting Ideas
A39: Easy | B39: 35 | C39: B | D39: B | E39: =IF(LEN(C39)=0,"-",IF(C39=D39,"Sí","No")) -> Sí | G39: Logical Structure
A40: Easy | B40: 36* | C40: C | D40: C | E40: =IF(LEN(C40)=0,"-",IF(C40=D40,"Sí","No")) -> Sí | G40: Main Idea
A41: Easy | B41: 37* | C41: A | D41: B | E41: =IF(LEN(C41)=0,"-",IF(C41=D41,"Sí","No")) -> No | G41: Supporting Ideas
A42: Easy | B42: 38* | C42: D | D42: D | E42: =IF(LEN(C42)=0,"-",IF(C42=D42,"Sí","No")) -> Sí | G42: Application
A43: Easy | B43: 39* | C43: C | D43: B | E43: =IF(LEN(C43)=0,"-",IF(C43=D43,"Sí","No")) -> No | G43: Evaluation
...

Sheet Analysis
A1: Analysis
A3: PS | D3: DS | G3: CR | J3: SC | M3: RC
A5: Overall rate | B5: =COUNTIF(PS!$E$5:$E$234,"Sí")/(COUNTIF(PS!$E$5:$E$234,"Sí")+(COUNTIF(PS!$E$5:$E$234,"No"))) -> 0.73478261 | D5: Overall rate | E5: =COUNTIF(DS!$E$5:$E$178,"Sí")/(COUNTIF(DS!$E$5:$E$178,"Sí")+(COUNTIF(DS!$E$5:$E$178,"No"))) -> 0.72988506 | G5: Overall rate | H5: =IFERROR(COUNTIF(CR!$E$5:$E$178,"Sí")/(COUNTIF(CR!$E$5:$E$178,"Sí")+(COUNTIF(CR!$E$5:$E$178,"No"))),"-") -> 0.76612903 | J5: Overall rate | K5: =IFERROR(COUNTIF(SC!$E$5:$E$178,"Sí")/(COUNTIF(SC!$E$5:$E$178,"Sí")+(COUNTIF(SC!$E$5:$E$178,"No"))),"-") -> 0.77857143 | M5: Overall rate | N5: =IFERROR(COUNTIF('RC'!$E$5:$E$178,"Sí")/(COUNTIF('RC'!$E$5:$E$178,"Sí")+(COUNTIF('RC'!$E$5:$E$178,"No"))),"-") -> 0.82142857
A7: Category | D7: Category | G7: Category | J7: Category | M7: Category
A8: Word Problem | B8: =IFERROR((COUNTIFS(PS!$G$5:$G$234,Analysis!A8,PS!$E$5:$E$234,"Sí")+COUNTIFS(PS!$H$5:$H$234,Analysis!A8,PS!$E$5:$E$234,"Sí"))/(COUNTIFS(PS!$G$5:$G$234,Analysis!A8,PS!$E$5:$E$234,"Sí")+COUNTIFS(PS!$G$5:$G$234,Analysis!A8,PS!$E$5:$E$234,"No")+COUNTIFS(PS!$H$5:$H$234,Analysis!A8,PS!$E$5:$E$234,"Sí")+COUNTIFS(PS!$H$5:$H$234,Analysis!A8,PS!$E$5:$E$234,"No")),"-") -> 0.74074074 | D8: Arithmetic | E8: =IFERROR(COUNTIFS(PS!$G$5:$G$300,Analysis!D8,PS!$E$5:$E$300,"Sí")/(COUNTIFS(PS!$G$5:$G$300,Analysis!D8,PS!$E$5:$E$300,"Sí")+COUNTIFS(PS!$G$5:$G$300,Analysis!D8,PS!$E$5:$E$300,"No")),"-") -> 0.73809524 | G8: Argument Evaluation | H8: =IFERROR(COUNTIFS(CR!$G$5:$G$300,Analysis!G8,CR!$E$5:$E$300,"Sí")/(COUNTIFS(CR!$G$5:$G$300,Analysis!G8,CR!$E$5:$E$300,"Sí")+COUNTIFS(CR!$G$5:$G$300,Analysis!G8,CR!$E$5:$E$300,"No")),"-") -> 0.75409836 | J8: Verb Voice | K8: =IFERROR((COUNTIFS(SC!$G$5:$G$300,Analysis!J8,SC!$E$5:$E$300,"Sí")+COUNTIFS(SC!$H$5:$H$300,Analysis!J8,SC!$E$5:$E$300,"Sí"))/(COUNTIFS(SC!$G$5:$G$300,Analysis!J8,SC!$E$5:$E$300,"Sí")+COUNTIFS(SC!$G$5:$G$300,Analysis!J8,SC!$E$5:$E$300,"No")+COUNTIFS(SC!$H$5:$H$300,Analysis!J8,SC!$E$5:$E$300,"Sí")+COUNTIFS(SC!$H$5:$H$300,Analysis!J8,SC!$E$5:$E$300,"No")),"-") -> 1 | M8: Main Idea | N8: =IFERROR(COUNTIFS('RC'!$G$5:$G$300,Analysis!M8,'RC'!$E$5:$E$300,"Sí")/(COUNTIFS('RC'!$G$5:$G$300,Analysis!M8,'RC'!$E$5:$E$300,"Sí")+COUNTIFS('RC'!$G$5:$G$300,Analysis!M8,'RC'!$E$5:$E$300,"No")),"-") -> 1
A9: Algebra | B9: =IFERROR((COUNTIFS(PS!$G$5:$G$234,Analysis!A9,PS!$E$5:$E$234,"Sí")+COUNTIFS(PS!$H$5:$H$234,Analysis!A9,PS!$E$5:$E$234,"Sí"))/(COUNTIFS(PS!$G$5:$G$234,Analysis!A9,PS!$E$5:$E$234,"Sí")+COUNTIFS(PS!$G$5:$G$234,Analysis!A9,PS!$E$5:$E$234,"No")+COUNTIFS(PS!$H$5:$H$234,Analysis!A9,PS!$E$5:$E$234,"Sí")+COUNTIFS(PS!$H$5:$H$234,Analysis!A9,PS!$E$5:$E$234,"No")),"-") -> 0.67567568 | D9: Geometry | E9: =IFERROR(COUNTIFS(PS!$G$5:$G$300,Analysis!D9,PS!$E$5:$E$300,"Sí")/(COUNTIFS(PS!$G$5:$G$300,Analysis!D9,PS!$E$5:$E$300,"Sí")+COUNTIFS(PS!$G$5:$G$300,Analysis!D9,PS!$E$5:$E$300,"No")),"-") -> 0.76923077 | G9: Evaluation of a Plan | H9: =IFERROR(COUNTIFS(CR!$G$5:$G$300,Analysis!G9,CR!$E$5:$E$300,"Sí")/(COUNTIFS(CR!$G$5:$G$300,Analysis!G9,CR!$E$5:$E$300,"Sí")+COUNTIFS(CR!$G$5:$G$300,Analysis!G9,CR!$E$5:$E$300,"No")),"-") -> 0.76470588 | J9: Subject Verb Agreement | K9: =IFERROR((COUNTIFS(SC!$G$5:$G$300,Analysis!J9,SC!$E$5:$E$300,"Sí")+COUNTIFS(SC!$H$5:$H$300,Analysis!J9,SC!$E$5:$E$300,"Sí"))/(COUNTIFS(SC!$G$5:$G$300,Analysis!J9,SC!$E$5:$E$300,"Sí")+COUNTIFS(SC!$G$5:$G$300,Analysis!J9,SC!$E$5:$E$300,"No")+COUNTIFS(SC!$H$5:$H$300,Analysis!J9,SC!$E$5:$E$300,"Sí")+COUNTIFS(SC!$H$5:$H$300,Analysis!J9,SC!$E$5:$E$300,"No")),"-") -> 0.76 | M9: Supporting Ideas | N9: =IFERROR(COUNTIFS('RC'!$G$5:$G$300,Analysis!M9,'RC'!$E$5:$E$300,"Sí")/(COUNTIFS('RC'!$G$5:$G$300,Analysis!M9,'RC'!$E$5:$E$300,"Sí")+COUNTIFS('RC'!$G$5:$G$300,Analysis!M9,'RC'!$E$5:$E$300,"No")),"-") -> 0.8
A10: Arithmetic | B10: =IFERROR((COUNTIFS(PS!$G$5:$G$234,Analysis!A10,PS!$E$5:$E$234,"Sí")+COUNTIFS(PS!$H$5:$H$234,Analysis!A10,PS!$E$5:$E$234,"Sí"))/(COUNTIFS(PS!$G$5:$G$234,Analysis!A10,PS!$E$5:$E$234,"Sí")+COUNTIFS(PS!$G$5:$G$234,Analysis!A10,PS!$E$5:$E$234,"No")+COUNTIFS(PS!$H$5:$H$234,Analysis!A10,PS!$E$5:$E$234,"Sí")+COUNTIFS(PS!$H$5:$H$234,Analysis!A10,PS!$E$5:$E$234,"No")),"-") -> 0.73255814 | D10: Word Problem | E10: =IFERROR(COUNTIFS(PS!$G$5:$G$300,Analysis!D10,PS!$E$5:$E$300,"Sí")/(COUNTIFS(PS!$G$5:$G$300,Analysis!D10,PS!$E$5:$E$300,"Sí")+COUNTIFS(PS!$G$5:$G$300,Analysis!D10,PS!$E$5:$E$300,"No")),"-") -> 0.74074074 | G10: Argument Construction | H10: =IFERROR(COUNTIFS(CR!$G$5:$G$300,Analysis!G10,CR!$E$5:$E$300,"Sí")/(COUNTIFS(CR!$G$5:$G$300,Analysis!G10,CR!$E$5:$E$300,"Sí")+COUNTIFS(CR!$G$5:$G$300,Analysis!G10,CR!$E$5:$E$300,"No")),"-") -> 0.7826087 | J10: Verb Tense / Form | K10: =IFERROR((COUNTIFS(SC!$G$5:$G$300,Analysis!J10,SC!$E$5:$E$300,"Sí")+COUNTIFS(SC!$H$5:$H$300,Analysis!J10,SC!$E$5:$E$300,"Sí"))/(COUNTIFS(SC!$G$5:$G$300,Analysis!J10,SC!$E$5:$E$300,"Sí")+COUNTIFS(SC!$G$5:$G$300,Analysis!J10,SC!$E$5:$E$300,"No")+COUNTIFS(SC!$H$5:$H$300,Analysis!J10,SC!$E$5:$E$300,"Sí")+COUNTIFS(SC!$H$5:$H$300,Analysis!J10,SC!$E$5:$E$300,"No")),"-") -> 0.7826087 | M10: Inference | N10: =IFERROR(COUNTIFS('RC'!$G$5:$G$300,Analysis!M10,'RC'!$E$5:$E$300,"Sí")/(COUNTIFS('RC'!$G$5:$G$300,Analysis!M10,'RC'!$E$5:$E$300,"Sí")+COUNTIFS('RC'!$G$5:$G$300,Analysis!M10,'RC'!$E$5:$E$300,"No")),"-") -> 0.73333333
A11: Geometry | B11: =IFERROR((COUNTIFS(PS!$G$5:$G$234,Analysis!A11,PS!$E$5:$E$234,"Sí")+COUNTIFS(PS!$H$5:$H$234,Analysis!A11,PS!$E$5:$E$234,"Sí"))/(COUNTIFS(PS!$G$5:$G$234,Analysis!A11,PS!$E$5:$E$234,"Sí")+COUNTIFS(PS!$G$5:$G$234,Analysis!A11,PS!$E$5:$E$234,"No")+COUNTIFS(PS!$H$5:$H$234,Analysis!A11,PS!$E$5:$E$234,"Sí")+COUNTIFS(PS!$H$5:$H$234,Analysis!A11,PS!$E$5:$E$234,"No")),"-") -> 0.76923077 | D11: Algebra | E11: =IFERROR(COUNTIFS(PS!$G$5:$G$300,Analysis!D11,PS!$E$5:$E$300,"Sí")/(COUNTIFS(PS!$G$5:$G$300,Analysis!D11,PS!$E$5:$E$300,"Sí")+COUNTIFS(PS!$G$5:$G$300,Analysis!D11,PS!$E$5:$E$300,"No")),"-") -> 0.67741935 | J11: Idiom | K11: =IFERROR((COUNTIFS(SC!$G$5:$G$300,Analysis!J11,SC!$E$5:$E$300,"Sí")+COUNTIFS(SC!$H$5:$H$300,Analysis!J11,SC!$E$5:$E$300,"Sí"))/(COUNTIFS(SC!$G$5:$G$300,Analysis!J11,SC!$E$5:$E$300,"Sí")+COUNTIFS(SC!$G$5:$G$300,Analysis!J11,SC!$E$5:$E$300,"No")+COUNTIFS(SC!$H$5:$H$300,Analysis!J11,SC!$E$5:$E$300,"Sí")+COUNTIFS(SC!$H$5:$H$300,Analysis!J11,SC!$E$5:$E$300,"No")),"-") -> 0.73529412 | M11: Logical Structure | N11: =IFERROR(COUNTIFS('RC'!$G$5:$G$300,Analysis!M11,'RC'!$E$5:$E$300,"Sí")/(COUNTIFS('RC'!$G$5:$G$300,Analysis!M11,'RC'!$E$5:$E$300,"Sí")+COUNTIFS('RC'!$G$5:$G$300,Analysis!M11,'RC'!$E$5:$E$300,"No")),"-") -> 0.875
A12: Coordinate Geometry | B12: =IFERROR((COUNTIFS(PS!$G$5:$G$234,Analysis!A12,PS!$E$5:$E$234,"Sí")+COUNTIFS(PS!$H$5:$H$234,Analysis!A12,PS!$E$5:$E$234,"Sí"))/(COUNTIFS(PS!$G$5:$G$234,Analysis!A12,PS!$E$5:$E$234,"Sí")+COUNTIFS(PS!$G$5:$G$234,Analysis!A12,PS!$E$5:$E$234,"No")+COUNTIFS(PS!$H$5:$H$234,Analysis!A12,PS!$E$5:$E$234,"Sí")+COUNTIFS(PS!$H$5:$H$234,Analysis!A12,PS!$E$5:$E$234,"No")),"-") -> 1 | D12: Special Operations | E12: =IFERROR(COUNTIFS(PS!$G$5:$G$300,Analysis!D12,PS!$E$5:$E$300,"Sí")/(COUNTIFS(PS!$G$5:$G$300,Analysis!D12,PS!$E$5:$E$300,"Sí")+COUNTIFS(PS!$G$5:$G$300,Analysis!D12,PS!$E$5:$E$300,"No")),"-") -> 0.8 | J12: Pronouns | K12: =IFERROR((COUNTIFS(SC!$G$5:$G$300,Analysis!J12,SC!$E$5:$E$300,"Sí")+COUNTIFS(SC!$H$5:$H$300,Analysis!J12,SC!$E$5:$E$300,"Sí"))/(COUNTIFS(SC!$G$5:$G$300,Analysis!J12,SC!$E$5:$E$300,"Sí")+COUNTIFS(SC!$G$5:$G$300,Analysis!J12,SC!$E$5:$E$300,"No")+COUNTIFS(SC!$H$5:$H$300,Analysis!J12,SC!$E$5:$E$300,"Sí")+COUNTIFS(SC!$H$5:$H$300,Analysis!J12,SC!$E$5:$E$300,"No")),"-") -> 0.85714286 | M12: Application | N12: =IFERROR(COUNTIFS('RC'!$G$5:$G$300,Analysis!M12,'RC'!$E$5:$E$300,"Sí")/(COUNTIFS('RC'!$G$5:$G$300,Analysis!M12,'RC'!$E$5:$E$300,"Sí")+COUNTIFS('RC'!$G$5:$G$300,Analysis!M12,'RC'!$E$5:$E$300,"No")),"-") -> 0.75
A13: Special Operations | B13: =IFERROR((COUNTIFS(PS!$G$5:$G$234,Analysis!A13,PS!$E$5:$E$234,"Sí")+COUNTIFS(PS!$H$5:$H$234,Analysis!A13,PS!$E$5:$E$234,"Sí"))/(COUNTIFS(PS!$G$5:$G$234,Analysis!A13,PS!$E$5:$E$234,"Sí")+COUNTIFS(PS!$G$5:$G$234,Analysis!A13,PS!$E$5:$E$234,"No")+COUNTIFS(PS!$H$5:$H$234,Analysis!A13,PS!$E$5:$E$234,"Sí")+COUNTIFS(PS!$H$5:$H$234,Analysis!A13,PS!$E$5:$E$234,"No")),"-") -> 0.8 | J13: Comparisons | K13: =IFERROR((COUNTIFS(SC!$G$5:$G$300,Analysis!J13,SC!$E$5:$E$300,"Sí")+COUNTIFS(SC!$H$5:$H$300,Analysis!J13,SC!$E$5:$E$300,"Sí"))/(COUNTIFS(SC!$G$5:$G$300,Analysis!J13,SC!$E$5:$E$300,"Sí")+COUNTIFS(SC!$G$5:$G$300,Analysis!J13,SC!$E$5:$E$300,"No")+COUNTIFS(SC!$H$5:$H$300,Analysis!J13,SC!$E$5:$E$300,"Sí")+COUNTIFS(SC!$H$5:$H$300,Analysis!J13,SC!$E$5:$E$300,"No")),"-") -> 0.76470588 | M13: Evaluation | N13: =IFERROR(COUNTIFS('RC'!$G$5:$G$300,Analysis!M13,'RC'!$E$5:$E$300,"Sí")/(COUNTIFS('RC'!$G$5:$G$300,Analysis!M13,'RC'!$E$5:$E$300,"Sí")+COUNTIFS('RC'!$G$5:$G$300,Analysis!M13,'RC'!$E$5:$E$300,"No")),"-") -> 0.66666667
A14: Combinations | B14: =IFERROR((COUNTIFS(PS!$G$5:$G$234,Analysis!A14,PS!$E$5:$E$234,"Sí")+COUNTIFS(PS!$H$5:$H$234,Analysis!A14,PS!$E$5:$E$234,"Sí"))/(COUNTIFS(PS!$G$5:$G$234,Analysis!A14,PS!$E$5:$E$234,"Sí")+COUNTIFS(PS!$G$5:$G$234,Analysis!A14,PS!$E$5:$E$234,"No")+COUNTIFS(PS!$H$5:$H$234,Analysis!A14,PS!$E$5:$E$234,"Sí")+COUNTIFS(PS!$H$5:$H$234,Analysis!A14,PS!$E$5:$E$234,"No")),"-") -> 0.5 | J14: Which / That | K14: =IFERROR((COUNTIFS(SC!$G$5:$G$300,Analysis!J14,SC!$E$5:$E$300,"Sí")+COUNTIFS(SC!$H$5:$H$300,Analysis!J14,SC!$E$5:$E$300,"Sí"))/(COUNTIFS(SC!$G$5:$G$300,Analysis!J14,SC!$E$5:$E$300,"Sí")+COUNTIFS(SC!$G$5:$G$300,Analysis!J14,SC!$E$5:$E$300,"No")+COUNTIFS(SC!$H$5:$H$300,Analysis!J14,SC!$E$5:$E$300,"Sí")+COUNTIFS(SC!$H$5:$H$300,Analysis!J14,SC!$E$5:$E$300,"No")),"-") -> 1 | M14: Tone | N14: =IFERROR(COUNTIFS('RC'!$G$5:$G$300,Analysis!M14,'RC'!$E$5:$E$300,"Sí")/(COUNTIFS('RC'!$G$5:$G$300,Analysis!M14,'RC'!$E$5:$E$300,"Sí")+COUNTIFS('RC'!$G$5:$G$300,Analysis!M14,'RC'!$E$5:$E$300,"No")),"-") -> 1
J15: Parallel Structure | K15: =IFERROR((COUNTIFS(SC!$G$5:$G$300,Analysis!J15,SC!$E$5:$E$300,"Sí")+COUNTIFS(SC!$H$5:$H$300,Analysis!J15,SC!$E$5:$E$300,"Sí"))/(COUNTIFS(SC!$G$5:$G$300,Analysis!J15,SC!$E$5:$E$300,"Sí")+COUNTIFS(SC!$G$5:$G$300,Analysis!J15,SC!$E$5:$E$300,"No")+COUNTIFS(SC!$H$5:$H$300,Analysis!J15,SC!$E$5:$E$300,"Sí")+COUNTIFS(SC!$H$5:$H$300,Analysis!J15,SC!$E$5:$E$300,"No")),"-") -> 0.82222222
A16: Subcategory | D16: Subcategory | G16: Subcategory | J16: Grammatical Construction | K16: =IFERROR((COUNTIFS(SC!$G$5:$G$300,Analysis!J16,SC!$E$5:$E$300,"Sí")+COUNTIFS(SC!$H$5:$H$300,Analysis!J16,SC!$E$5:$E$300,"Sí"))/(COUNTIFS(SC!$G$5:$G$300,Analysis!J16,SC!$E$5:$E$300,"Sí")+COUNTIFS(SC!$G$5:$G$300,Analysis!J16,SC!$E$5:$E$300,"No")+COUNTIFS(SC!$H$5:$H$300,Analysis!J16,SC!$E$5:$E$300,"Sí")+COUNTIFS(SC!$H$5:$H$300,Analysis!J16,SC!$E$5:$E$300,"No")),"-") -> 0.83333333
A17: Properties of numbers | B17: =IFERROR((COUNTIFS(PS!$I$5:$I$234,Analysis!A17,PS!$E$5:$E$234,"Sí")+COUNTIFS(PS!$J$5:$J$234,Analysis!A17,PS!$E$5:$E$234,"Sí"))/(COUNTIFS(PS!$I$5:$I$234,Analysis!A17,PS!$E$5:$E$234,"Sí")+COUNTIFS(PS!$I$5:$I$234,Analysis!A17,PS!$E$5:$E$234,"No")+COUNTIFS(PS!$J$5:$J$234,Analysis!A17,PS!$E$5:$E$234,"Sí")+COUNTIFS(PS!$J$5:$J$234,Analysis!A17,PS!$E$5:$E$234,"No")),"-") -> 0.70588235 | D17: Properties of Numbers | E17: =IFERROR(COUNTIFS(DS!$H$5:$H$234,Analysis!D17,DS!$E$5:$E$234,"Sí")/(COUNTIFS(DS!$H$5:$H$234,Analysis!D17,DS!$E$5:$E$234,"Sí")+COUNTIFS(DS!$H$5:$H$234,Analysis!D17,DS!$E$5:$E$234,"No")),"-") -> 0.74193548 | G17: Weaken | H17: =IFERROR(COUNTIFS(CR!$H$5:$H$234,Analysis!G17,CR!$E$5:$E$234,"Sí")/(COUNTIFS(CR!$H$5:$H$234,Analysis!G17,CR!$E$5:$E$234,"Sí")+COUNTIFS(CR!$H$5:$H$234,Analysis!G17,CR!$E$5:$E$234,"No")),"-") -> 0.77272727 | J17: Diction | K17: =IFERROR((COUNTIFS(SC!$G$5:$G$300,Analysis!J17,SC!$E$5:$E$300,"Sí")+COUNTIFS(SC!$H$5:$H$300,Analysis!J17,SC!$E$5:$E$300,"Sí"))/(COUNTIFS(SC!$G$5:$G$300,Analysis!J17,SC!$E$5:$E$300,"Sí")+COUNTIFS(SC!$G$5:$G$300,Analysis!J17,SC!$E$5:$E$300,"No")+COUNTIFS(SC!$H$5:$H$300,Analysis!J17,SC!$E$5:$E$300,"Sí")+COUNTIFS(SC!$H$5:$H$300,Analysis!J17,SC!$E$5:$E$300,"No")),"-") -> 0.77777778
A18: Percents | B18: =IFERROR((COUNTIFS(PS!$I$5:$I$234,Analysis!A18,PS!$E$5:$E$234,"Sí")+COUNTIFS(PS!$J$5:$J$234,Analysis!A18,PS!$E$5:$E$234,"Sí"))/(COUNTIFS(PS!$I$5:$I$234,Analysis!A18,PS!$E$5:$E$234,"Sí")+COUNTIFS(PS!$I$5:$I$234,Analysis!A18,PS!$E$5:$E$234,"No")+COUNTIFS(PS!$J$5:$J$234,Analysis!A18,PS!$E$5:$E$234,"Sí")+COUNTIFS(PS!$J$5:$J$234,Analysis!A18,PS!$E$5:$E$234,"No")),"-") -> 0.75 | D18: Statistics | E18: =IFERROR(COUNTIFS(DS!$H$5:$H$234,Analysis!D18,DS!$E$5:$E$234,"Sí")/(COUNTIFS(DS!$H$5:$H$234,Analysis!D18,DS!$E$5:$E$234,"Sí")+COUNTIFS(DS!$H$5:$H$234,Analysis!D18,DS!$E$5:$E$234,"No")),"-") -> 0.61538462 | G18: Assumption | H18: =IFERROR(COUNTIFS(CR!$H$5:$H$234,Analysis!G18,CR!$E$5:$E$234,"Sí")/(COUNTIFS(CR!$H$5:$H$234,Analysis!G18,CR!$E$5:$E$234,"Sí")+COUNTIFS(CR!$H$5:$H$234,Analysis!G18,CR!$E$5:$E$234,"No")),"-") -> 0.875 | J18: Modifiers | K18: =IFERROR((COUNTIFS(SC!$G$5:$G$300,Analysis!J18,SC!$E$5:$E$300,"Sí")+COUNTIFS(SC!$H$5:$H$300,Analysis!J18,SC!$E$5:$E$300,"Sí"))/(COUNTIFS(SC!$G$5:$G$300,Analysis!J18,SC!$E$5:$E$300,"Sí")+COUNTIFS(SC!$G$5:$G$300,Analysis!J18,SC!$E$5:$E$300,"No")+COUNTIFS(SC!$H$5:$H$300,Analysis!J18,SC!$E$5:$E$300,"Sí")+COUNTIFS(SC!$H$5:$H$300,Analysis!J18,SC!$E$5:$E$300,"No")),"-") -> 0.81818182
A19: Rate | B19: =IFERROR((COUNTIFS(PS!$I$5:$I$234,Analysis!A19,PS!$E$5:$E$234,"Sí")+COUNTIFS(PS!$J$5:$J$234,Analysis!A19,PS!$E$5:$E$234,"Sí"))/(COUNTIFS(PS!$I$5:$I$234,Analysis!A19,PS!$E$5:$E$234,"Sí")+COUNTIFS(PS!$I$5:$I$234,Analysis!A19,PS!$E$5:$E$234,"No")+COUNTIFS(PS!$J$5:$J$234,Analysis!A19,PS!$E$5:$E$234,"Sí")+COUNTIFS(PS!$J$5:$J$234,Analysis!A19,PS!$E$5:$E$234,"No")),"-") -> 0.73333333 | D19: Percents | E19: =IFERROR(COUNTIFS(DS!$H$5:$H$234,Analysis!D19,DS!$E$5:$E$234,"Sí")/(COUNTIFS(DS!$H$5:$H$234,Analysis!D19,DS!$E$5:$E$234,"Sí")+COUNTIFS(DS!$H$5:$H$234,Analysis!D19,DS!$E$5:$E$234,"No")),"-") -> 0.75 | G19: Argument Evaluation | H19: =IFERROR(COUNTIFS(CR!$H$5:$H$234,Analysis!G19,CR!$E$5:$E$234,"Sí")/(COUNTIFS(CR!$H$5:$H$234,Analysis!G19,CR!$E$5:$E$234,"Sí")+COUNTIFS(CR!$H$5:$H$234,Analysis!G19,CR!$E$5:$E$234,"No")),"-") -> 0.8 | J19: Such As / Like | K19: =IFERROR((COUNTIFS(SC!$G$5:$G$300,Analysis!J19,SC!$E$5:$E$300,"Sí")+COUNTIFS(SC!$H$5:$H$300,Analysis!J19,SC!$E$5:$E$300,"Sí"))/(COUNTIFS(SC!$G$5:$G$300,Analysis!J19,SC!$E$5:$E$300,"Sí")+COUNTIFS(SC!$G$5:$G$300,Analysis!J19,SC!$E$5:$E$300,"No")+COUNTIFS(SC!$H$5:$H$300,Analysis!J19,SC!$E$5:$E$300,"Sí")+COUNTIFS(SC!$H$5:$H$300,Analysis!J19,SC!$E$5:$E$300,"No")),"-") -> 1
A20: Statistics | B20: =IFERROR((COUNTIFS(PS!$I$5:$I$234,Analysis!A20,PS!$E$5:$E$234,"Sí")+COUNTIFS(PS!$J$5:$J$234,Analysis!A20,PS!$E$5:$E$234,"Sí"))/(COUNTIFS(PS!$I$5:$I$234,Analysis!A20,PS!$E$5:$E$234,"Sí")+COUNTIFS(PS!$I$5:$I$234,Analysis!A20,PS!$E$5:$E$234,"No")+COUNTIFS(PS!$J$5:$J$234,Analysis!A20,PS!$E$5:$E$234,"Sí")+COUNTIFS(PS!$J$5:$J$234,Analysis!A20,PS!$E$5:$E$234,"No")),"-") -> 0.85714286 | D20: Rate | E20: =IFERROR(COUNTIFS(DS!$H$5:$H$234,Analysis!D20,DS!$E$5:$E$234,"Sí")/(COUNTIFS(DS!$H$5:$H$234,Analysis!D20,DS!$E$5:$E$234,"Sí")+COUNTIFS(DS!$H$5:$H$234,Analysis!D20,DS!$E$5:$E$234,"No")),"-") -> 0.83333333 | G20: Logical Flaw | H20: =IFERROR(COUNTIFS(CR!$H$5:$H$234,Analysis!G20,CR!$E$5:$E$234,"Sí")/(COUNTIFS(CR!$H$5:$H$234,Analysis!G20,CR!$E$5:$E$234,"Sí")+COUNTIFS(CR!$H$5:$H$234,Analysis!G20,CR!$E$5:$E$234,"No")),"-") -> 0.66666667 | J20: Style | K20: =IFERROR((COUNTIFS(SC!$G$5:$G$300,Analysis!J20,SC!$E$5:$E$300,"Sí")+COUNTIFS(SC!$H$5:$H$300,Analysis!J20,SC!$E$5:$E$300,"Sí"))/(COUNTIFS(SC!$G$5:$G$300,Analysis!J20,SC!$E$5:$E$300,"Sí")+COUNTIFS(SC!$G$5:$G$300,Analysis!J20,SC!$E$5:$E$300,"No")+COUNTIFS(SC!$H$5:$H$300,Analysis!J20,SC!$E$5:$E$300,"Sí")+COUNTIFS(SC!$H$5:$H$300,Analysis!J20,SC!$E$5:$E$300,"No")),"-") -> 0.72727273
A21: Ratios | B21: =IFERROR((COUNTIFS(PS!$I$5:$I$234,Analysis!A21,PS!$E$5:$E$234,"Sí")+COUNTIFS(PS!$J$5:$J$234,Analysis!A21,PS!$E$5:$E$234,"Sí"))/(COUNTIFS(PS!$I$5:$I$234,Analysis!A21,PS!$E$5:$E$234,"Sí")+COUNTIFS(PS!$I$5:$I$234,Analysis!A21,PS!$E$5:$E$234,"No")+COUNTIFS(PS!$J$5:$J$234,Analysis!A21,PS!$E$5:$E$234,"Sí")+COUNTIFS(PS!$J$5:$J$234,Analysis!A21,PS!$E$5:$E$234,"No")),"-") -> 0.71428571 | D21: Ratios | E21: =IFERROR(COUNTIFS(DS!$H$5:$H$234,Analysis!D21,DS!$E$5:$E$234,"Sí")/(COUNTIFS(DS!$H$5:$H$234,Analysis!D21,DS!$E$5:$E$234,"Sí")+COUNTIFS(DS!$H$5:$H$234,Analysis!D21,DS!$E$5:$E$234,"No")),"-") -> 1 | G21: Inference | H21: =IFERROR(COUNTIFS(CR!$H$5:$H$234,Analysis!G21,CR!$E$5:$E$234,"Sí")/(COUNTIFS(CR!$H$5:$H$234,Analysis!G21,CR!$E$5:$E$234,"Sí")+COUNTIFS(CR!$H$5:$H$234,Analysis!G21,CR!$E$5:$E$234,"No")),"-") -> 1 | J21: Punctuation | K21: =IFERROR((COUNTIFS(SC!$G$5:$G$300,Analysis!J21,SC!$E$5:$E$300,"Sí")+COUNTIFS(SC!$H$5:$H$300,Analysis!J21,SC!$E$5:$E$300,"Sí"))/(COUNTIFS(SC!$G$5:$G$300,Analysis!J21,SC!$E$5:$E$300,"Sí")+COUNTIFS(SC!$G$5:$G$300,Analysis!J21,SC!$E$5:$E$300,"No")+COUNTIFS(SC!$H$5:$H$300,Analysis!J21,SC!$E$5:$E$300,"Sí")+COUNTIFS(SC!$H$5:$H$300,Analysis!J21,SC!$E$5:$E$300,"No")),"-") -> 1
A22: Operations on rational numbers | B22: =IFERROR((COUNTIFS(PS!$I$5:$I$234,Analysis!A22,PS!$E$5:$E$234,"Sí")+COUNTIFS(PS!$J$5:$J$234,Analysis!A22,PS!$E$5:$E$234,"Sí"))/(COUNTIFS(PS!$I$5:$I$234,Analysis!A22,PS!$E$5:$E$234,"Sí")+COUNTIFS(PS!$I$5:$I$234,Analysis!A22,PS!$E$5:$E$234,"No")+COUNTIFS(PS!$J$5:$J$234,Analysis!A22,PS!$E$5:$E$234,"Sí")+COUNTIFS(PS!$J$5:$J$234,Analysis!A22,PS!$E$5:$E$234,"No")),"-") -> 0.83333333 | D22: Overlapping Sets | E22: =IFERROR(COUNTIFS(DS!$H$5:$H$234,Analysis!D22,DS!$E$5:$E$234,"Sí")/(COUNTIFS(DS!$H$5:$H$234,Analysis!D22,DS!$E$5:$E$234,"Sí")+COUNTIFS(DS!$H$5:$H$234,Analysis!D22,DS!$E$5:$E$234,"No")),"-") -> 0.44444444 | G22: Evaluation of a Plan | H22: =IFERROR(COUNTIFS(CR!$H$5:$H$234,Analysis!G22,CR!$E$5:$E$234,"Sí")/(COUNTIFS(CR!$H$5:$H$234,Analysis!G22,CR!$E$5:$E$234,"Sí")+COUNTIFS(CR!$H$5:$H$234,Analysis!G22,CR!$E$5:$E$234,"No")),"-") -> 0.72727273 | J22: Conjunctions | K22: =IFERROR((COUNTIFS(SC!$G$5:$G$300,Analysis!J22,SC!$E$5:$E$300,"Sí")+COUNTIFS(SC!$H$5:$H$300,Analysis!J22,SC!$E$5:$E$300,"Sí"))/(COUNTIFS(SC!$G$5:$G$300,Analysis!J22,SC!$E$5:$E$300,"Sí")+COUNTIFS(SC!$G$5:$G$300,Analysis!J22,SC!$E$5:$E$300,"No")+COUNTIFS(SC!$H$5:$H$300,Analysis!J22,SC!$E$5:$E$300,"Sí")+COUNTIFS(SC!$H$5:$H$300,Analysis!J22,SC!$E$5:$E$300,"No")),"-") -> 0
A23: Applied problems | B23: =IFERROR((COUNTIFS(PS!$I$5:$I$234,Analysis!A23,PS!$E$5:$E$234,"Sí")+COUNTIFS(PS!$J$5:$J$234,Analysis!A23,PS!$E$5:$E$234,"Sí"))/(COUNTIFS(PS!$I$5:$I$234,Analysis!A23,PS!$E$5:$E$234,"Sí")+COUNTIFS(PS!$I$5:$I$234,Analysis!A23,PS!$E$5:$E$234,"No")+COUNTIFS(PS!$J$5:$J$234,Analysis!A23,PS!$E$5:$E$234,"Sí")+COUNTIFS(PS!$J$5:$J$234,Analysis!A23,PS!$E$5:$E$234,"No")),"-") -> 0.6 | D23: Circles | E23: =IFERROR(COUNTIFS(DS!$H$5:$H$234,Analysis!D23,DS!$E$5:$E$234,"Sí")/(COUNTIFS(DS!$H$5:$H$234,Analysis!D23,DS!$E$5:$E$234,"Sí")+COUNTIFS(DS!$H$5:$H$234,Analysis!D23,DS!$E$5:$E$234,"No")),"-") -> 1 | G23: Resolve Paradox | H23: =IFERROR(COUNTIFS(CR!$H$5:$H$234,Analysis!G23,CR!$E$5:$E$234,"Sí")/(COUNTIFS(CR!$H$5:$H$234,Analysis!G23,CR!$E$5:$E$234,"Sí")+COUNTIFS(CR!$H$5:$H$234,Analysis!G23,CR!$E$5:$E$234,"No")),"-") -> 0.71428571 | J23: Nouns | K23: =IFERROR((COUNTIFS(SC!$G$5:$G$300,Analysis!J23,SC!$E$5:$E$300,"Sí")+COUNTIFS(SC!$H$5:$H$300,Analysis!J23,SC!$E$5:$E$300,"Sí"))/(COUNTIFS(SC!$G$5:$G$300,Analysis!J23,SC!$E$5:$E$300,"Sí")+COUNTIFS(SC!$G$5:$G$300,Analysis!J23,SC!$E$5:$E$300,"No")+COUNTIFS(SC!$H$5:$H$300,Analysis!J23,SC!$E$5:$E$300,"Sí")+COUNTIFS(SC!$H$5:$H$300,Analysis!J23,SC!$E$5:$E$300,"No")),"-") -> 0
A24: Simplifying algebraic expressions | B24: =IFERROR((COUNTIFS(PS!$I$5:$I$234,Analysis!A24,PS!$E$5:$E$234,"Sí")+COUNTIFS(PS!$J$5:$J$234,Analysis!A24,PS!$E$5:$E$234,"Sí"))/(COUNTIFS(PS!$I$5:$I$234,Analysis!A24,PS!$E$5:$E$234,"Sí")+COUNTIFS(PS!$I$5:$I$234,Analysis!A24,PS!$E$5:$E$234,"No")+COUNTIFS(PS!$J$5:$J$234,Analysis!A24,PS!$E$5:$E$234,"Sí")+COUNTIFS(PS!$J$5:$J$234,Analysis!A24,PS!$E$5:$E$234,"No")),"-") -> 0.66666667 | D24: Inequalities | E24: =IFERROR(COUNTIFS(DS!$H$5:$H$234,Analysis!D24,DS!$E$5:$E$234,"Sí")/(COUNTIFS(DS!$H$5:$H$234,Analysis!D24,DS!$E$5:$E$234,"Sí")+COUNTIFS(DS!$H$5:$H$234,Analysis!D24,DS!$E$5:$E$234,"No")),"-") -> 0.85714286 | G24: Additional Evidence | H24: =IFERROR(COUNTIFS(CR!$H$5:$H$234,Analysis!G24,CR!$E$5:$E$234,"Sí")/(COUNTIFS(CR!$H$5:$H$234,Analysis!G24,CR!$E$5:$E$234,"Sí")+COUNTIFS(CR!$H$5:$H$234,Analysis!G24,CR!$E$5:$E$234,"No")),"-") -> 0.71428571 | J24: Rhetorical Construction | K24: =IFERROR((COUNTIFS(SC!$G$5:$G$300,Analysis!J24,SC!$E$5:$E$300,"Sí")+COUNTIFS(SC!$H$5:$H$300,Analysis!J24,SC!$E$5:$E$300,"Sí"))/(COUNTIFS(SC!$G$5:$G$300,Analysis!J24,SC!$E$5:$E$300,"Sí")+COUNTIFS(SC!$G$5:$G$300,Analysis!J24,SC!$E$5:$E$300,"No")+COUNTIFS(SC!$H$5:$H$300,Analysis!J24,SC!$E$5:$E$300,"Sí")+COUNTIFS(SC!$H$5:$H$300,Analysis!J24,SC!$E$5:$E$300,"No")),"-") -> 1
A25: First-degree equations | B25: =IFERROR((COUNTIFS(PS!$I$5:$I$234,Analysis!A25,PS!$E$5:$E$234,"Sí")+COUNTIFS(PS!$J$5:$J$234,Analysis!A25,PS!$E$5:$E$234,"Sí"))/(COUNTIFS(PS!$I$5:$I$234,Analysis!A25,PS!$E$5:$E$234,"Sí")+COUNTIFS(PS!$I$5:$I$234,Analysis!A25,PS!$E$5:$E$234,"No")+COUNTIFS(PS!$J$5:$J$234,Analysis!A25,PS!$E$5:$E$234,"Sí")+COUNTIFS(PS!$J$5:$J$234,Analysis!A25,PS!$E$5:$E$234,"No")),"-") -> 1 | D25: First and Second Degree Equations | E25: =IFERROR(COUNTIFS(DS!$H$5:$H$234,Analysis!D25,DS!$E$5:$E$234,"Sí")/(COUNTIFS(DS!$H$5:$H$234,Analysis!D25,DS!$E$5:$E$234,"Sí")+COUNTIFS(DS!$H$5:$H$234,Analysis!D25,DS!$E$5:$E$234,"No")),"-") -> 0.66666667 | G25: Complete the Passage | H25: =IFERROR(COUNTIFS(CR!$H$5:$H$234,Analysis!G25,CR!$E$5:$E$234,"Sí")/(COUNTIFS(CR!$H$5:$H$234,Analysis!G25,CR!$E$5:$E$234,"Sí")+COUNTIFS(CR!$H$5:$H$234,Analysis!G25,CR!$E$5:$E$234,"No")),"-") -> 0.85714286 | J25: Verb Tense | K25: =IFERROR((COUNTIFS(SC!$G$5:$G$300,Analysis!J25,SC!$E$5:$E$300,"Sí")+COUNTIFS(SC!$H$5:$H$300,Analysis!J25,SC!$E$5:$E$300,"Sí"))/(COUNTIFS(SC!$G$5:$G$300,Analysis!J25,SC!$E$5:$E$300,"Sí")+COUNTIFS(SC!$G$5:$G$300,Analysis!J25,SC!$E$5:$E$300,"No")+COUNTIFS(SC!$H$5:$H$300,Analysis!J25,SC!$E$5:$E$300,"Sí")+COUNTIFS(SC!$H$5:$H$300,Analysis!J25,SC!$E$5:$E$300,"No")),"-") -> 0.5
A26: Second-degree equations | B26: =IFERROR((COUNTIFS(PS!$I$5:$I$234,Analysis!A26,PS!$E$5:$E$234,"Sí")+COUNTIFS(PS!$J$5:$J$234,Analysis!A26,PS!$E$5:$E$234,"Sí"))/(COUNTIFS(PS!$I$5:$I$234,Analysis!A26,PS!$E$5:$E$234,"Sí")+COUNTIFS(PS!$I$5:$I$234,Analysis!A26,PS!$E$5:$E$234,"No")+COUNTIFS(PS!$J$5:$J$234,Analysis!A26,PS!$E$5:$E$234,"Sí")+COUNTIFS(PS!$J$5:$J$234,Analysis!A26,PS!$E$5:$E$234,"No")),"-") -> 0.75 | D26: Triangles | E26: =IFERROR(COUNTIFS(DS!$H$5:$H$234,Analysis!D26,DS!$E$5:$E$234,"Sí")/(COUNTIFS(DS!$H$5:$H$234,Analysis!D26,DS!$E$5:$E$234,"Sí")+COUNTIFS(DS!$H$5:$H$234,Analysis!D26,DS!$E$5:$E$234,"No")),"-") -> 0.66666667 | G26: Bold Face CR | H26: =IFERROR(COUNTIFS(CR!$H$5:$H$234,Analysis!G26,CR!$E$5:$E$234,"Sí")/(COUNTIFS(CR!$H$5:$H$234,Analysis!G26,CR!$E$5:$E$234,"Sí")+COUNTIFS(CR!$H$5:$H$234,Analysis!G26,CR!$E$5:$E$234,"No")),"-") -> 0.55555556 | J26: Articles | K26: =IFERROR((COUNTIFS(SC!$G$5:$G$300,Analysis!J26,SC!$E$5:$E$300,"Sí")+COUNTIFS(SC!$H$5:$H$300,Analysis!J26,SC!$E$5:$E$300,"Sí"))/(COUNTIFS(SC!$G$5:$G$300,Analysis!J26,SC!$E$5:$E$300,"Sí")+COUNTIFS(SC!$G$5:$G$300,Analysis!J26,SC!$E$5:$E$300,"No")+COUNTIFS(SC!$H$5:$H$300,Analysis!J26,SC!$E$5:$E$300,"Sí")+COUNTIFS(SC!$H$5:$H$300,Analysis!J26,SC!$E$5:$E$300,"No")),"-") -> 0
A27: Min/Max | B27: =IFERROR((COUNTIFS(PS!$I$5:$I$234,Analysis!A27,PS!$E$5:$E$234,"Sí")+COUNTIFS(PS!$J$5:$J$234,Analysis!A27,PS!$E$5:$E$234,"Sí"))/(COUNTIFS(PS!$I$5:$I$234,Analysis!A27,PS!$E$5:$E$234,"Sí")+COUNTIFS(PS!$I$5:$I$234,Analysis!A27,PS!$E$5:$E$234,"No")+COUNTIFS(PS!$J$5:$J$234,Analysis!A27,PS!$E$5:$E$234,"Sí")+COUNTIFS(PS!$J$5:$J$234,Analysis!A27,PS!$E$5:$E$234,"No")),"-") -> 0.625 | D27: Arithmetic Operations | E27: =IFERROR(COUNTIFS(DS!$H$5:$H$234,Analysis!D27,DS!$E$5:$E$234,"Sí")/(COUNTIFS(DS!$H$5:$H$234,Analysis!D27,DS!$E$5:$E$234,"Sí")+COUNTIFS(DS!$H$5:$H$234,Analysis!D27,DS!$E$5:$E$234,"No")),"-") -> 0.83333333 | G27: Strengthen | H27: =IFERROR(COUNTIFS(CR!$H$5:$H$234,Analysis!G27,CR!$E$5:$E$234,"Sí")/(COUNTIFS(CR!$H$5:$H$234,Analysis!G27,CR!$E$5:$E$234,"Sí")+COUNTIFS(CR!$H$5:$H$234,Analysis!G27,CR!$E$5:$E$234,"No")),"-") -> 0.86666667
A28: Fractions | B28: =IFERROR((COUNTIFS(PS!$I$5:$I$234,Analysis!A28,PS!$E$5:$E$234,"Sí")+COUNTIFS(PS!$J$5:$J$234,Analysis!A28,PS!$E$5:$E$234,"Sí"))/(COUNTIFS(PS!$I$5:$I$234,Analysis!A28,PS!$E$5:$E$234,"Sí")+COUNTIFS(PS!$I$5:$I$234,Analysis!A28,PS!$E$5:$E$234,"No")+COUNTIFS(PS!$J$5:$J$234,Analysis!A28,PS!$E$5:$E$234,"Sí")+COUNTIFS(PS!$J$5:$J$234,Analysis!A28,PS!$E$5:$E$234,"No")),"-") -> 0.71428571 | D28: Coordinate Geometry | E28: =IFERROR(COUNTIFS(DS!$H$5:$H$234,Analysis!D28,DS!$E$5:$E$234,"Sí")/(COUNTIFS(DS!$H$5:$H$234,Analysis!D28,DS!$E$5:$E$234,"Sí")+COUNTIFS(DS!$H$5:$H$234,Analysis!D28,DS!$E$5:$E$234,"No")),"-") -> 0.4 | G28: Conclusion | H28: =IFERROR(COUNTIFS(CR!$H$5:$H$234,Analysis!G28,CR!$E$5:$E$234,"Sí")/(COUNTIFS(CR!$H$5:$H$234,Analysis!G28,CR!$E$5:$E$234,"Sí")+COUNTIFS(CR!$H$5:$H$234,Analysis!G28,CR!$E$5:$E$234,"No")),"-") -> 0.5
A29: Mixtures | B29: =IFERROR((COUNTIFS(PS!$I$5:$I$234,Analysis!A29,PS!$E$5:$E$234,"Sí")+COUNTIFS(PS!$J$5:$J$234,Analysis!A29,PS!$E$5:$E$234,"Sí"))/(COUNTIFS(PS!$I$5:$I$234,Analysis!A29,PS!$E$5:$E$234,"Sí")+COUNTIFS(PS!$I$5:$I$234,Analysis!A29,PS!$E$5:$E$234,"No")+COUNTIFS(PS!$J$5:$J$234,Analysis!A29,PS!$E$5:$E$234,"Sí")+COUNTIFS(PS!$J$5:$J$234,Analysis!A29,PS!$E$5:$E$234,"No")),"-") -> 0.71428571 | D29: Profit/Loss | E29: =IFERROR(COUNTIFS(DS!$H$5:$H$234,Analysis!D29,DS!$E$5:$E$234,"Sí")/(COUNTIFS(DS!$H$5:$H$234,Analysis!D29,DS!$E$5:$E$234,"Sí")+COUNTIFS(DS!$H$5:$H$234,Analysis!D29,DS!$E$5:$E$234,"No")),"-") -> 0.75 | G29: Must Be True | H29: =IFERROR(COUNTIFS(CR!$H$5:$H$234,Analysis!G29,CR!$E$5:$E$234,"Sí")/(COUNTIFS(CR!$H$5:$H$234,Analysis!G29,CR!$E$5:$E$234,"Sí")+COUNTIFS(CR!$H$5:$H$234,Analysis!G29,CR!$E$5:$E$234,"No")),"-") -> 0.5
A30: Probability | B30: =IFERROR((COUNTIFS(PS!$I$5:$I$234,Analysis!A30,PS!$E$5:$E$234,"Sí")+COUNTIFS(PS!$J$5:$J$234,Analysis!A30,PS!$E$5:$E$234,"Sí"))/(COUNTIFS(PS!$I$5:$I$234,Analysis!A30,PS!$E$5:$E$234,"Sí")+COUNTIFS(PS!$I$5:$I$234,Analysis!A30,PS!$E$5:$E$234,"No")+COUNTIFS(PS!$J$5:$J$234,Analysis!A30,PS!$E$5:$E$234,"Sí")+COUNTIFS(PS!$J$5:$J$234,Analysis!A30,PS!$E$5:$E$234,"No")),"-") -> 0.83333333 | D30: Probability | E30: =IFERROR(COUNTIFS(DS!$H$5:$H$234,Analysis!D30,DS!$E$5:$E$234,"Sí")/(COUNTIFS(DS!$H$5:$H$234,Analysis!D30,DS!$E$5:$E$234,"Sí")+COUNTIFS(DS!$H$5:$H$234,Analysis!D30,DS!$E$5:$E$234,"No")),"-") -> 1 | G30: Argument Construction | H30: =IFERROR(COUNTIFS(CR!$H$5:$H$234,Analysis!G30,CR!$E$5:$E$234,"Sí")/(COUNTIFS(CR!$H$5:$H$234,Analysis!G30,CR!$E$5:$E$234,"Sí")+COUNTIFS(CR!$H$5:$H$234,Analysis!G30,CR!$E$5:$E$234,"No")),"-") -> 0.75
A31: Powers | B31: =IFERROR((COUNTIFS(PS!$I$5:$I$234,Analysis!A31,PS!$E$5:$E$234,"Sí")+COUNTIFS(PS!$J$5:$J$234,Analysis!A31,PS!$E$5:$E$234,"Sí"))/(COUNTIFS(PS!$I$5:$I$234,Analysis!A31,PS!$E$5:$E$234,"Sí")+COUNTIFS(PS!$I$5:$I$234,Analysis!A31,PS!$E$5:$E$234,"No")+COUNTIFS(PS!$J$5:$J$234,Analysis!A31,PS!$E$5:$E$234,"Sí")+COUNTIFS(PS!$J$5:$J$234,Analysis!A31,PS!$E$5:$E$234,"No")),"-") -> 0.66666667 | D31: Work | E31: =IFERROR(COUNTIFS(DS!$H$5:$H$234,Analysis!D31,DS!$E$5:$E$234,"Sí")/(COUNTIFS(DS!$H$5:$H$234,Analysis!D31,DS!$E$5:$E$234,"Sí")+COUNTIFS(DS!$H$5:$H$234,Analysis!D31,DS!$E$5:$E$234,"No")),"-") -> 1
A32: Work | B32: =IFERROR((COUNTIFS(PS!$I$5:$I$234,Analysis!A32,PS!$E$5:$E$234,"Sí")+COUNTIFS(PS!$J$5:$J$234,Analysis!A32,PS!$E$5:$E$234,"Sí"))/(COUNTIFS(PS!$I$5:$I$234,Analysis!A32,PS!$E$5:$E$234,"Sí")+COUNTIFS(PS!$I$5:$I$234,Analysis!A32,PS!$E$5:$E$234,"No")+COUNTIFS(PS!$J$5:$J$234,Analysis!A32,PS!$E$5:$E$234,"Sí")+COUNTIFS(PS!$J$5:$J$234,Analysis!A32,PS!$E$5:$E$234,"No")),"-") -> 1 | D32: Min/Max | E32: =IFERROR(COUNTIFS(DS!$H$5:$H$234,Analysis!D32,DS!$E$5:$E$234,"Sí")/(COUNTIFS(DS!$H$5:$H$234,Analysis!D32,DS!$E$5:$E$234,"Sí")+COUNTIFS(DS!$H$5:$H$234,Analysis!D32,DS!$E$5:$E$234,"No")),"-") -> 1
A33: Simple coordinate geometry | B33: =IFERROR((COUNTIFS(PS!$I$5:$I$234,Analysis!A33,PS!$E$5:$E$234,"Sí")+COUNTIFS(PS!$J$5:$J$234,Analysis!A33,PS!$E$5:$E$234,"Sí"))/(COUNTIFS(PS!$I$5:$I$234,Analysis!A33,PS!$E$5:$E$234,"Sí")+COUNTIFS(PS!$I$5:$I$234,Analysis!A33,PS!$E$5:$E$234,"No")+COUNTIFS(PS!$J$5:$J$234,Analysis!A33,PS!$E$5:$E$234,"Sí")+COUNTIFS(PS!$J$5:$J$234,Analysis!A33,PS!$E$5:$E$234,"No")),"-") -> 0.83333333 | D33: Exponents | E33: =IFERROR(COUNTIFS(DS!$H$5:$H$234,Analysis!D33,DS!$E$5:$E$234,"Sí")/(COUNTIFS(DS!$H$5:$H$234,Analysis!D33,DS!$E$5:$E$234,"Sí")+COUNTIFS(DS!$H$5:$H$234,Analysis!D33,DS!$E$5:$E$234,"No")),"-") -> 0
A34: Overlapping Sets | B34: =IFERROR((COUNTIFS(PS!$I$5:$I$234,Analysis!A34,PS!$E$5:$E$234,"Sí")+COUNTIFS(PS!$J$5:$J$234,Analysis!A34,PS!$E$5:$E$234,"Sí"))/(COUNTIFS(PS!$I$5:$I$234,Analysis!A34,PS!$E$5:$E$234,"Sí")+COUNTIFS(PS!$I$5:$I$234,Analysis!A34,PS!$E$5:$E$234,"No")+COUNTIFS(PS!$J$5:$J$234,Analysis!A34,PS!$E$5:$E$234,"Sí")+COUNTIFS(PS!$J$5:$J$234,Analysis!A34,PS!$E$5:$E$234,"No")),"-") -> 0.66666667 | D34: Simultaneous Equations | E34: =IFERROR(COUNTIFS(DS!$H$5:$H$234,Analysis!D34,DS!$E$5:$E$234,"Sí")/(COUNTIFS(DS!$H$5:$H$234,Analysis!D34,DS!$E$5:$E$234,"Sí")+COUNTIFS(DS!$H$5:$H$234,Analysis!D34,DS!$E$5:$E$234,"No")),"-") -> 0.66666667
A35: Inequalities | B35: =IFERROR((COUNTIFS(PS!$I$5:$I$234,Analysis!A35,PS!$E$5:$E$234,"Sí")+COUNTIFS(PS!$J$5:$J$234,Analysis!A35,PS!$E$5:$E$234,"Sí"))/(COUNTIFS(PS!$I$5:$I$234,Analysis!A35,PS!$E$5:$E$234,"Sí")+COUNTIFS(PS!$I$5:$I$234,Analysis!A35,PS!$E$5:$E$234,"No")+COUNTIFS(PS!$J$5:$J$234,Analysis!A35,PS!$E$5:$E$234,"Sí")+COUNTIFS(PS!$J$5:$J$234,Analysis!A35,PS!$E$5:$E$234,"No")),"-") -> 0.4 | D35: Lines | E35: =IFERROR(COUNTIFS(DS!$H$5:$H$234,Analysis!D35,DS!$E$5:$E$234,"Sí")/(COUNTIFS(DS!$H$5:$H$234,Analysis!D35,DS!$E$5:$E$234,"Sí")+COUNTIFS(DS!$H$5:$H$234,Analysis!D35,DS!$E$5:$E$234,"No")),"-") -> 1
A36: Sequences | B36: =IFERROR((COUNTIFS(PS!$I$5:$I$234,Analysis!A36,PS!$E$5:$E$234,"Sí")+COUNTIFS(PS!$J$5:$J$234,Analysis!A36,PS!$E$5:$E$234,"Sí"))/(COUNTIFS(PS!$I$5:$I$234,Analysis!A36,PS!$E$5:$E$234,"Sí")+COUNTIFS(PS!$I$5:$I$234,Analysis!A36,PS!$E$5:$E$234,"No")+COUNTIFS(PS!$J$5:$J$234,Analysis!A36,PS!$E$5:$E$234,"Sí")+COUNTIFS(PS!$J$5:$J$234,Analysis!A36,PS!$E$5:$E$234,"No")),"-") -> 0.8 | D36: Volume | E36: =IFERROR(COUNTIFS(DS!$H$5:$H$234,Analysis!D36,DS!$E$5:$E$234,"Sí")/(COUNTIFS(DS!$H$5:$H$234,Analysis!D36,DS!$E$5:$E$234,"Sí")+COUNTIFS(DS!$H$5:$H$234,Analysis!D36,DS!$E$5:$E$234,"No")),"-") -> 1
A37: Profit/Loss | B37: =IFERROR((COUNTIFS(PS!$I$5:$I$234,Analysis!A37,PS!$E$5:$E$234,"Sí")+COUNTIFS(PS!$J$5:$J$234,Analysis!A37,PS!$E$5:$E$234,"Sí"))/(COUNTIFS(PS!$I$5:$I$234,Analysis!A37,PS!$E$5:$E$234,"Sí")+COUNTIFS(PS!$I$5:$I$234,Analysis!A37,PS!$E$5:$E$234,"No")+COUNTIFS(PS!$J$5:$J$234,Analysis!A37,PS!$E$5:$E$234,"Sí")+COUNTIFS(PS!$J$5:$J$234,Analysis!A37,PS!$E$5:$E$234,"No")),"-") -> 1 | D37: Sequences | E37: =IFERROR(COUNTIFS(DS!$H$5:$H$234,Analysis!D37,DS!$E$5:$E$234,"Sí")/(COUNTIFS(DS!$H$5:$H$234,Analysis!D37,DS!$E$5:$E$234,"Sí")+COUNTIFS(DS!$H$5:$H$234,Analysis!D37,DS!$E$5:$E$234,"No")),"-") -> 1
A38: Area | B38: =IFERROR((COUNTIFS(PS!$I$5:$I$234,Analysis!A38,PS!$E$5:$E$234,"Sí")+COUNTIFS(PS!$J$5:$J$234,Analysis!A38,PS!$E$5:$E$234,"Sí"))/(COUNTIFS(PS!$I$5:$I$234,Analysis!A38,PS!$E$5:$E$234,"Sí")+COUNTIFS(PS!$I$5:$I$234,Analysis!A38,PS!$E$5:$E$234,"No")+COUNTIFS(PS!$J$5:$J$234,Analysis!A38,PS!$E$5:$E$234,"Sí")+COUNTIFS(PS!$J$5:$J$234,Analysis!A38,PS!$E$5:$E$234,"No")),"-") -> 0.66666667 | D38: Area | E38: =IFERROR(COUNTIFS(DS!$H$5:$H$234,Analysis!D38,DS!$E$5:$E$234,"Sí")/(COUNTIFS(DS!$H$5:$H$234,Analysis!D38,DS!$E$5:$E$234,"Sí")+COUNTIFS(DS!$H$5:$H$234,Analysis!D38,DS!$E$5:$E$234,"No")),"-") -> 1
A39: Operations on radical expressions | B39: =IFERROR((COUNTIFS(PS!$I$5:$I$234,Analysis!A39,PS!$E$5:$E$234,"Sí")+COUNTIFS(PS!$J$5:$J$234,Analysis!A39,PS!$E$5:$E$234,"Sí"))/(COUNTIFS(PS!$I$5:$I$234,Analysis!A39,PS!$E$5:$E$234,"Sí")+COUNTIFS(PS!$I$5:$I$234,Analysis!A39,PS!$E$5:$E$234,"No")+COUNTIFS(PS!$J$5:$J$234,Analysis!A39,PS!$E$5:$E$234,"Sí")+COUNTIFS(PS!$J$5:$J$234,Analysis!A39,PS!$E$5:$E$234,"No")),"-") -> 0 | D39: Powers | E39: =IFERROR(COUNTIFS(DS!$H$5:$H$234,Analysis!D39,DS!$E$5:$E$234,"Sí")/(COUNTIFS(DS!$H$5:$H$234,Analysis!D39,DS!$E$5:$E$234,"Sí")+COUNTIFS(DS!$H$5:$H$234,Analysis!D39,DS!$E$5:$E$234,"No")),"-") -> 0.5
A40: Pythagorean theorem | B40: =IFERROR((COUNTIFS(PS!$I$5:$I$234,Analysis!A40,PS!$E$5:$E$234,"Sí")+COUNTIFS(PS!$J$5:$J$234,Analysis!A40,PS!$E$5:$E$234,"Sí"))/(COUNTIFS(PS!$I$5:$I$234,Analysis!A40,PS!$E$5:$E$234,"Sí")+COUNTIFS(PS!$I$5:$I$234,Analysis!A40,PS!$E$5:$E$234,"No")+COUNTIFS(PS!$J$5:$J$234,Analysis!A40,PS!$E$5:$E$234,"Sí")+COUNTIFS(PS!$J$5:$J$234,Analysis!A40,PS!$E$5:$E$234,"No")),"-") -> 0.66666667 | D40: Absolute Value | E40: =IFERROR(COUNTIFS(DS!$H$5:$H$234,Analysis!D40,DS!$E$5:$E$234,"Sí")/(COUNTIFS(DS!$H$5:$H$234,Analysis!D40,DS!$E$5:$E$234,"Sí")+COUNTIFS(DS!$H$5:$H$234,Analysis!D40,DS!$E$5:$E$234,"No")),"-") -> 1
A41: Interpretation | B41: =IFERROR((COUNTIFS(PS!$I$5:$I$234,Analysis!A41,PS!$E$5:$E$234,"Sí")+COUNTIFS(PS!$J$5:$J$234,Analysis!A41,PS!$E$5:$E$234,"Sí"))/(COUNTIFS(PS!$I$5:$I$234,Analysis!A41,PS!$E$5:$E$234,"Sí")+COUNTIFS(PS!$I$5:$I$234,Analysis!A41,PS!$E$5:$E$234,"No")+COUNTIFS(PS!$J$5:$J$234,Analysis!A41,PS!$E$5:$E$234,"Sí")+COUNTIFS(PS!$J$5:$J$234,Analysis!A41,PS!$E$5:$E$234,"No")),"-") -> 0.33333333 | D41: Sets (Venn diagrams) | E41: =IFERROR(COUNTIFS(DS!$H$5:$H$234,Analysis!D41,DS!$E$5:$E$234,"Sí")/(COUNTIFS(DS!$H$5:$H$234,Analysis!D41,DS!$E$5:$E$234,"Sí")+COUNTIFS(DS!$H$5:$H$234,Analysis!D41,DS!$E$5:$E$234,"No")),"-") -> 1
A42: Volume | B42: =IFERROR((COUNTIFS(PS!$I$5:$I$234,Analysis!A42,PS!$E$5:$E$234,"Sí")+COUNTIFS(PS!$J$5:$J$234,Analysis!A42,PS!$E$5:$E$234,"Sí"))/(COUNTIFS(PS!$I$5:$I$234,Analysis!A42,PS!$E$5:$E$234,"Sí")+COUNTIFS(PS!$I$5:$I$234,Analysis!A42,PS!$E$5:$E$234,"No")+COUNTIFS(PS!$J$5:$J$234,Analysis!A42,PS!$E$5:$E$234,"Sí")+COUNTIFS(PS!$J$5:$J$234,Analysis!A42,PS!$E$5:$E$234,"No")),"-") -> 0.5 | D42: First Degree Equations | E42: =IFERROR(COUNTIFS(DS!$H$5:$H$234,Analysis!D42,DS!$E$5:$E$234,"Sí")/(COUNTIFS(DS!$H$5:$H$234,Analysis!D42,DS!$E$5:$E$234,"Sí")+COUNTIFS(DS!$H$5:$H$234,Analysis!D42,DS!$E$5:$E$234,"No")),"-") -> 1
... A60: Estimation | B60: =IFERROR((COUNTIFS(PS!$I$5:$I$234,Analysis!A60,PS!$E$5:$E$234,"Sí")+COUNTIFS(PS!$J$5:$J$234,Analysis!A60,PS!$E$5:$E$234,"Sí"))/(COUNTIFS(PS!$I$5:$I$234,Analysis!A60,PS!$E$5:$E$234,"Sí")+COUNTIFS(PS!$I$5:$I$234,Analysis!A60,PS!$E$5:$E$234,"No")+COUNTIFS(PS!$J$5:$J$234,Analysis!A60,PS!$E$5:$E$234,"Sí")+COUNTIFS(PS!$J$5:$J$234,Analysis!A60,PS!$E$5:$E$234,"No")),"-") -> 1 | D60: Simplifying Algebraic Expressions | E60: =IFERROR(COUNTIFS(DS!$H$5:$H$234,Analysis!D60,DS!$E$5:$E$234,"Sí")/(COUNTIFS(DS!$H$5:$H$234,Analysis!D60,DS!$E$5:$E$234,"Sí")+COUNTIFS(DS!$H$5:$H$234,Analysis!D60,DS!$E$5:$E$234,"No")),"-") -> 1
...

Sheet Study Plan
A1: Study Plan
A4: Questions left per category
A5: Categoría | B5: % | C5: Total | D5: Faltantes
A6: PS | B6: =(COUNTIF(PS!E:E,"Sí")+COUNTIF(PS!E:E,"No"))/C6 -> 1 | C6: 230 | D6: =C6*(1-B6) -> 0
A7: DS | B7: =(COUNTIF(DS!E:E,"Sí")+COUNTIF(DS!E:E,"No"))/C7 -> 1 | C7: 174 | D7: =C7*(1-B7) -> 0
A8: CR | B8: =(COUNTIF(CR!E:E,"Sí")+COUNTIF(CR!E:E,"No"))/C8 -> 1 | C8: 124 | D8: =C8*(1-B8) -> 0
A9: SC | B9: =(COUNTIF(SC!E:E,"Sí")+COUNTIF(SC!E:E,"No"))/C9 -> 1 | C9: 140 | D9: =C9*(1-B9) -> 0
A10: RC | B10: =(COUNTIF('RC'!E:E,"Sí")+COUNTIF('RC'!E:E,"No"))/C10 -> 0.4028777 | C10: 139 | D10: =C10*(1-B10) -> 83
A11: Total | B11: =SUMPRODUCT(B6:B10,C6:C10)/C11 -> 0.89714994 | C11: =SUM(C6:C10) -> 807 | D11: =SUM(D6:D10) -> 83

Sheet Data Bases
A1: DataBases for error log
B3: Issues
B4: Careless
B5: Guess
B6: Not sure
B7: Tough
B8: Knowledge gap
B9: Read the Q
