Workbook

Sheet Answer Sheet
B1: PS | C1: DS | D1: RC | E1: SC | F1: CR
A2: Q# | B2: Answer | C2: Answer | D2: Answer | E2: Answer | F2: Answer
A3: 1 | B3: E | C3: A | D3: B | E3: A | F3: E
A4: 2 | B4: A | C4: E | D4: B | E4: B | F4: B
A5: 3 | B5: C | C5: D | D5: D | E5: C | F5: A
A6: 4 | B6: C | C6: C | D6: A | E6: E | F6: B
A7: 5 | B7: E | C7: A | D7: C | E7: B | F7: C
A8: 6 | B8: D | C8: C | D8: C | E8: E | F8: A
A9: 7 | B9: E | C9: C | D9: A | E9: B | F9: E
A10: 8 | B10: A | C10: B | D10: A | E10: A | F10: B
A11: 9 | B11: C | C11: B | D11: D | E11: E | F11: A
A12: 10 | B12: B | C12: D | D12: E | E12: D | F12: C
A13: 11 | B13: D | C13: D | D13: C | E13: E
A14: 12 | B14: A | C14: C | D14: A | E14: E
A15: 13 | B15: B | C15: D | D15: B | E15: C
A16: 14 | B16: D | C16: E | D16: C | E16: D
A17: 15 | B17: C | C17: E | D17: E | E17: B
A18: 16 | B18: C | C18: E | D18: D | E18: A
A19: 17 | B19: E | C19: E | D19: E | E19: B
A20: 18 | B20: B | C20: D | E20: C
A21: 19 | B21: C | C21: E | E21: D
A22: 20 | B22: A | C22: D | E22: E
A23: 21 | B23: C | C23: D | E23: D
A24: 22 | B24: B | C24: D | E24: E
A25: 23 | B25: D | C25: D | E25: C
A26: 24 | B26: D | C26: D | E26: B
A27: 25 | B27: B | C27: A | E27: E
A28: 26 | B28: C | C28: D | E28: D
A29: 27 | B29: E | C29: E | E29: A
A30: 28 | B30: E | C30: E | E30: E
A31: 29 | B31: A | C31: B | E31: B
... A42: 40 | B42: B | C42: A | E42: B
A43: 41 | B43: C
A44: 42 | B44: D
A45: 43 | B45: E
A46: 44 | B46: D
A47: 45 | B47: B
A48: 46 | B48: A
A49: 47 | B49: B
A50: 48 | B50: C
...

Sheet PS-Analysis
A1: Problem Solving
A2: Q# | B2: My-Answer | C2: Result | D2: C-Answer | E2: Error | F2: Topic | G2: Remark | H2: Session | J2: Is Attempted? | K2: Is Correct?
A3: 1 | B3: =IF(ISBLANK('Answer Sheet'!B3),"",'Answer Sheet'!B3) -> E | C3: =IF(B3="","",IF(B3='Correct Answers'!B3,"Correct","Incorrect")) -> Correct | D3: =IF(B3="","",'Correct Answers'!B3) -> E | H3: D1 | J3: =IF(ISBLANK(B3),0,1) -> 1 | K3: =IF(C3="Correct",1,0) -> 1
A4: 2 | B4: =IF(ISBLANK('Answer Sheet'!B4),"",'Answer Sheet'!B4) -> A | C4: =IF(B4="","",IF(B4='Correct Answers'!B4,"Correct","Incorrect")) -> Correct | D4: =IF(B4="","",'Correct Answers'!B4) -> A | H4: D1 | J4: =IF(ISBLANK(B4),0,1) -> 1 | K4: =IF(C4="Correct",1,0) -> 1
A5: 3 | B5: =IF(ISBLANK('Answer Sheet'!B5),"",'Answer Sheet'!B5) -> C | C5: =IF(B5="","",IF(B5='Correct Answers'!B5,"Correct","Incorrect")) -> Correct | D5: =IF(B5="","",'Correct Answers'!B5) -> C | H5: D1 | J5: =IF(ISBLANK(B5),0,1) -> 1 | K5: =IF(C5="Correct",1,0) -> 1
A6: 4 | B6: =IF(ISBLANK('Answer Sheet'!B6),"",'Answer Sheet'!B6) -> C | C6: =IF(B6="","",IF(B6='Correct Answers'!B6,"Correct","Incorrect")) -> Correct | D6: =IF(B6="","",'Correct Answers'!B6) -> C | H6: D1 | J6: =IF(ISBLANK(B6),0,1) -> 1 | K6: =IF(C6="Correct",1,0) -> 1
A7: 5 | B7: =IF(ISBLANK('Answer Sheet'!B7),"",'Answer Sheet'!B7) -> E | C7: =IF(B7="","",IF(B7='Correct Answers'!B7,"Correct","Incorrect")) -> Correct | D7: =IF(B7="","",'Correct Answers'!B7) -> E | H7: D1 | J7: =IF(ISBLANK(B7),0,1) -> 1 | K7: =IF(C7="Correct",1,0) -> 1
A8: 6 | B8: =IF(ISBLANK('Answer Sheet'!B8),"",'Answer Sheet'!B8) -> D | C8: =IF(B8="","",IF(B8='Correct Answers'!B8,"Correct","Incorrect")) -> Correct | D8: =IF(B8="","",'Correct Answers'!B8) -> D | H8: D1 | J8: =IF(ISBLANK(B8),0,1) -> 1 | K8: =IF(C8="Correct",1,0) -> 1
A9: 7 | B9: =IF(ISBLANK('Answer Sheet'!B9),"",'Answer Sheet'!B9) -> E | C9: =IF(B9="","",IF(B9='Correct Answers'!B9,"Correct","Incorrect")) -> Correct | D9: =IF(B9="","",'Correct Answers'!B9) -> E | H9: D1 | J9: =IF(ISBLANK(B9),0,1) -> 1 | K9: =IF(C9="Correct",1,0) -> 1
A10: 8 | B10: =IF(ISBLANK('Answer Sheet'!B10),"",'Answer Sheet'!B10) -> A | C10: =IF(B10="","",IF(B10='Correct Answers'!B10,"Correct","Incorrect")) -> Correct | D10: =IF(B10="","",'Correct Answers'!B10) -> A | H10: D1 | J10: =IF(ISBLANK(B10),0,1) -> 1 | K10: =IF(C10="Correct",1,0) -> 1
A11: 9 | B11: =IF(ISBLANK('Answer Sheet'!B11),"",'Answer Sheet'!B11) -> C | C11: =IF(B11="","",IF(B11='Correct Answers'!B11,"Correct","Incorrect")) -> Correct | D11: =IF(B11="","",'Correct Answers'!B11) -> C | H11: D1 | J11: =IF(ISBLANK(B11),0,1) -> 1 | K11: =IF(C11="Correct",1,0) -> 1
A12: 10 | B12: =IF(ISBLANK('Answer Sheet'!B12),"",'Answer Sheet'!B12) -> B | C12: =IF(B12="","",IF(B12='Correct Answers'!B12,"Correct","Incorrect")) -> Correct | D12: =IF(B12="","",'Correct Answers'!B12) -> B | H12: D1 | J12: =IF(ISBLANK(B12),0,1) -> 1 | K12: =IF(C12="Correct",1,0) -> 1
A13: 11 | B13: =IF(ISBLANK('Answer Sheet'!B13),"",'Answer Sheet'!B13) -> D | C13: =IF(B13="","",IF(B13='Correct Answers'!B13,"Correct","Incorrect")) -> Correct | D13: =IF(B13="","",'Correct Answers'!B13) -> D | H13: D1 | J13: =IF(ISBLANK(B13),0,1) -> 1 | K13: =IF(C13="Correct",1,0) -> 1
A14: 12 | B14: =IF(ISBLANK('Answer Sheet'!B14),"",'Answer Sheet'!B14) -> A | C14: =IF(B14="","",IF(B14='Correct Answers'!B14,"Correct","Incorrect")) -> Correct | D14: =IF(B14="","",'Correct Answers'!B14) -> A | H14: D1 | J14: =IF(ISBLANK(B14),0,1) -> 1 | K14: =IF(C14="Correct",1,0) -> 1
... A58: 56 | B58: =IF(ISBLANK('Answer Sheet'!B58),"",'Answer Sheet'!B58) -> D | C58: =IF(B58="","",IF(B58='Correct Answers'!B58,"Correct","Incorrect")) -> Correct | D58: =IF(B58="","",'Correct Answers'!B58) -> D | H58: D2 | J58: =IF(ISBLANK(B58),0,1) -> 1 | K58: =IF(C58="Correct",1,0) -> 1
A59: 57 | B59: =IF(ISBLANK('Answer Sheet'!B59),"",'Answer Sheet'!B59) -> C | C59: =IF(B59="","",IF(B59='Correct Answers'!B59,"Correct","Incorrect")) -> Incorrect | D59: =IF(B59="","",'Correct Answers'!B59) -> E | E59: Silly | H59: D2 | J59: =IF(ISBLANK(B59),0,1) -> 1 | K59: =IF(C59="Correct",1,0) -> 0
A60: 58 | B60: =IF(ISBLANK('Answer Sheet'!B60),"",'Answer Sheet'!B60) -> D | C60: =IF(B60="","",IF(B60='Correct Answers'!B60,"Correct","Incorrect")) -> Correct | D60: =IF(B60="","",'Correct Answers'!B60) -> D | H60: D2 | J60: =IF(ISBLANK(B60),0,1) -> 1 | K60: =IF(C60="Correct",1,0) -> 1
A61: 59 | B61: =IF(ISBLANK('Answer Sheet'!B61),"",'Answer Sheet'!B61) -> B | C61: =IF(B61="","",IF(B61='Correct Answers'!B61,"Correct","Incorrect")) -> Correct | D61: =IF(B61="","",'Correct Answers'!B61) -> B | H61: D2 | J61: =IF(ISBLANK(B61),0,1) -> 1 | K61: =IF(C61="Correct",1,0) -> 1
A62: 60 | B62: =IF(ISBLANK('Answer Sheet'!B62),"",'Answer Sheet'!B62) -> B | C62: =IF(B62="","",IF(B62='Correct Answers'!B62,"Correct","Incorrect")) -> Correct | D62: =IF(B62="","",'Correct Answers'!B62) -> B | H62: D2 | J62: =IF(ISBLANK(B62),0,1) -> 1 | K62: =IF(C62="Correct",1,0) -> 1
A63: 61 | B63: =IF(ISBLANK('Answer Sheet'!B63),"",'Answer Sheet'!B63) | C63: =IF(B63="","",IF(B63='Correct Answers'!B63,"Correct","Incorrect")) | D63: =IF(B63="","",'Correct Answers'!B63) | J63: =IF(ISBLANK(B63),0,1) -> 1 | K63: =IF(C63="Correct",1,0) -> 0
A64: 62 | B64: =IF(ISBLANK('Answer Sheet'!B64),"",'Answer Sheet'!B64) | C64: =IF(B64="","",IF(B64='Correct Answers'!B64,"Correct","Incorrect")) | D64: =IF(B64="","",'Correct Answers'!B64) | J64: =IF(ISBLANK(B64),0,1) -> 1 | K64: =IF(C64="Correct",1,0) -> 0
A65: 63 | B65: =IF(ISBLANK('Answer Sheet'!B65),"",'Answer Sheet'!B65) | C65: =IF(B65="","",IF(B65='Correct Answers'!B65,"Correct","Incorrect")) | D65: =IF(B65="","",'Correct Answers'!B65) | J65: =IF(ISBLANK(B65),0,1) -> 1 | K65: =IF(C65="Correct",1,0) -> 0
A66: 64 | B66: =IF(ISBLANK('Answer Sheet'!B66),"",'Answer Sheet'!B66) | C66: =IF(B66="","",IF(B66='Correct Answers'!B66,"Correct","Incorrect")) | D66: =IF(B66="","",'Correct Answers'!B66) | J66: =IF(ISBLANK(B66),0,1) -> 1 | K66: =IF(C66="Correct",1,0) -> 0
A67: 65 | B67: =IF(ISBLANK('Answer Sheet'!B67),"",'Answer Sheet'!B67) | C67: =IF(B67="","",IF(B67='Correct Answers'!B67,"Correct","Incorrect")) | D67: =IF(B67="","",'Correct Answers'!B67) | J67: =IF(ISBLANK(B67),0,1) -> 1 | K67: =IF(C67="Correct",1,0) -> 0
A68: 66 | B68: =IF(ISBLANK('Answer Sheet'!B68),"",'Answer Sheet'!B68) | C68: =IF(B68="","",IF(B68='Correct Answers'!B68,"Correct","Incorrect")) | D68: =IF(B68="","",'Correct Answers'!B68) | J68: =IF(ISBLANK(B68),0,1) -> 1 | K68: =IF(C68="Correct",1,0) -> 0
A69: 67 | B69: =IF(ISBLANK('Answer Sheet'!B69),"",'Answer Sheet'!B69) | C69: =IF(B69="","",IF(B69='Correct Answers'!B69,"Correct","Incorrect")) | D69: =IF(B69="","",'Correct Answers'!B69) | J69: =IF(ISBLANK(B69),0,1) -> 1 | K69: =IF(C69="Correct",1,0) -> 0
A70: 68 | B70: =IF(ISBLANK('Answer Sheet'!B70),"",'Answer Sheet'!B70) | C70: =IF(B70="","",IF(B70='Correct Answers'!B70,"Correct","Incorrect")) | D70: =IF(B70="","",'Correct Answers'!B70) | J70: =IF(ISBLANK(B70),0,1) -> 1 | K70: =IF(C70="Correct",1,0) -> 0
A71: 69 | B71: =IF(ISBLANK('Answer Sheet'!B71),"",'Answer Sheet'!B71) | C71: =IF(B71="","",IF(B71='Correct Answers'!B71,"Correct","Incorrect")) | D71: =IF(B71="","",'Correct Answers'!B71) | J71: =IF(ISBLANK(B71),0,1) -> 1 | K71: =IF(C71="Correct",1,0) -> 0
A72: 70 | B72: =IF(ISBLANK('Answer Sheet'!B72),"",'Answer Sheet'!B72) | C72: =IF(B72="","",IF(B72='Correct Answers'!B72,"Correct","Incorrect")) | D72: =IF(B72="","",'Correct Answers'!B72) | J72: =IF(ISBLANK(B72),0,1) -> 1 | K72: =IF(C72="Correct",1,0) -> 0
A73: 71 | B73: =IF(ISBLANK('Answer Sheet'!B73),"",'Answer Sheet'!B73) | C73: =IF(B73="","",IF(B73='Correct Answers'!B73,"Correct","Incorrect")) | D73: =IF(B73="","",'Correct Answers'!B73) | J73: =IF(ISBLANK(B73),0,1) -> 1 | K73: =IF(C73="Correct",1,0) -> 0
A74: 72 | B74: =IF(ISBLANK('Answer Sheet'!B74),"",'Answer Sheet'!B74) | C74: =IF(B74="","",IF(B74='Correct Answers'!B74,"Correct","Incorrect")) | D74: =IF(B74="","",'Correct Answers'!B74) | J74: =IF(ISBLANK(B74),0,1) -> 1 | K74: =IF(C74="Correct",1,0) -> 0
... A232: 230 | B232: =IF(ISBLANK('Answer Sheet'!B232),"",'Answer Sheet'!B232) | C232: =IF(B232="","",IF(B232='Correct Answers'!B232,"Correct","Incorrect")) | D232: =IF(B232="","",'Correct Answers'!B232) | J232: =IF(ISBLANK(B232),0,1) -> 1 | K232: =IF(C232="Correct",1,0) -> 0

Sheet DS-Analysis
A1: Data Sufficiency
A2: Q# | B2: My-Answer | C2: Result | D2: C-Answer | E2: Error | F2: Topic | G2: Remark | H2: Session | J2: Is Attempted? | K2: Is Correct?
A3: 1 | B3: =IF(ISBLANK('Answer Sheet'!C3),"",'Answer Sheet'!C3) -> A | C3: =IF(B3="","",IF(B3='Correct Answers'!C3,"Correct","Incorrect")) -> Correct | D3: =IF(B3="","",'Correct Answers'!C3) -> A | H3: D1 | J3: =IF(ISBLANK(B3),0,1) -> 1 | K3: =IF(C3="Correct",1,0) -> 1
A4: 2 | B4: =IF(ISBLANK('Answer Sheet'!C4),"",'Answer Sheet'!C4) -> E | C4: =IF(B4="","",IF(B4='Correct Answers'!C4,"Correct","Incorrect")) -> Correct | D4: =IF(B4="","",'Correct Answers'!C4) -> E | H4: D1 | J4: =IF(ISBLANK(B4),0,1) -> 1 | K4: =IF(C4="Correct",1,0) -> 1
A5: 3 | B5: =IF(ISBLANK('Answer Sheet'!C5),"",'Answer Sheet'!C5) -> D | C5: =IF(B5="","",IF(B5='Correct Answers'!C5,"Correct","Incorrect")) -> Correct | D5: =IF(B5="","",'Correct Answers'!C5) -> D | H5: D1 | J5: =IF(ISBLANK(B5),0,1) -> 1 | K5: =IF(C5="Correct",1,0) -> 1
A6: 4 | B6: =IF(ISBLANK('Answer Sheet'!C6),"",'Answer Sheet'!C6) -> C | C6: =IF(B6="","",IF(B6='Correct Answers'!C6,"Correct","Incorrect")) -> Correct | D6: =IF(B6="","",'Correct Answers'!C6) -> C | H6: D1 | J6: =IF(ISBLANK(B6),0,1) -> 1 | K6: =IF(C6="Correct",1,0) -> 1
A7: 5 | B7: =IF(ISBLANK('Answer Sheet'!C7),"",'Answer Sheet'!C7) -> A | C7: =IF(B7="","",IF(B7='Correct Answers'!C7,"Correct","Incorrect")) -> Correct | D7: =IF(B7="","",'Correct Answers'!C7) -> A | H7: D1 | J7: =IF(ISBLANK(B7),0,1) -> 1 | K7: =IF(C7="Correct",1,0) -> 1
A8: 6 | B8: =IF(ISBLANK('Answer Sheet'!C8),"",'Answer Sheet'!C8) -> C | C8: =IF(B8="","",IF(B8='Correct Answers'!C8,"Correct","Incorrect")) -> Correct | D8: =IF(B8="","",'Correct Answers'!C8) -> C | H8: D1 | J8: =IF(ISBLANK(B8),0,1) -> 1 | K8: =IF(C8="Correct",1,0) -> 1
A9: 7 | B9: =IF(ISBLANK('Answer Sheet'!C9),"",'Answer Sheet'!C9) -> C | C9: =IF(B9="","",IF(B9='Correct Answers'!C9,"Correct","Incorrect")) -> Correct | D9: =IF(B9="","",'Correct Answers'!C9) -> C | H9: D1 | J9: =IF(ISBLANK(B9),0,1) -> 1 | K9: =IF(C9="Correct",1,0) -> 1
A10: 8 | B10: =IF(ISBLANK('Answer Sheet'!C10),"",'Answer Sheet'!C10) -> B | C10: =IF(B10="","",IF(B10='Correct Answers'!C10,"Correct","Incorrect")) -> Correct | D10: =IF(B10="","",'Correct Answers'!C10) -> B | H10: D1 | J10: =IF(ISBLANK(B10),0,1) -> 1 | K10: =IF(C10="Correct",1,0) -> 1
A11: 9 | B11: =IF(ISBLANK('Answer Sheet'!C11),"",'Answer Sheet'!C11) -> B | C11: =IF(B11="","",IF(B11='Correct Answers'!C11,"Correct","Incorrect")) -> Correct | D11: =IF(B11="","",'Correct Answers'!C11) -> B | H11: D1 | J11: =IF(ISBLANK(B11),0,1) -> 1 | K11: =IF(C11="Correct",1,0) -> 1
A12: 10 | B12: =IF(ISBLANK('Answer Sheet'!C12),"",'Answer Sheet'!C12) -> D | C12: =IF(B12="","",IF(B12='Correct Answers'!C12,"Correct","Incorrect")) -> Correct | D12: =IF(B12="","",'Correct Answers'!C12) -> D | H12: D1 | J12: =IF(ISBLANK(B12),0,1) -> 1 | K12: =IF(C12="Correct",1,0) -> 1
A13: 11 | B13: =IF(ISBLANK('Answer Sheet'!C13),"",'Answer Sheet'!C13) -> D | C13: =IF(B13="","",IF(B13='Correct Answers'!C13,"Correct","Incorrect")) -> Correct | D13: =IF(B13="","",'Correct Answers'!C13) -> D | H13: D1 | J13: =IF(ISBLANK(B13),0,1) -> 1 | K13: =IF(C13="Correct",1,0) -> 1
A14: 12 | B14: =IF(ISBLANK('Answer Sheet'!C14),"",'Answer Sheet'!C14) -> C | C14: =IF(B14="","",IF(B14='Correct Answers'!C14,"Correct","Incorrect")) -> Correct | D14: =IF(B14="","",'Correct Answers'!C14) -> C | H14: D1 | J14: =IF(ISBLANK(B14),0,1) -> 1 | K14: =IF(C14="Correct",1,0) -> 1
... A42: 40 | B42: =IF(ISBLANK('Answer Sheet'!C42),"",'Answer Sheet'!C42) -> A | C42: =IF(B42="","",IF(B42='Correct Answers'!C42,"Correct","Incorrect")) -> Correct | D42: =IF(B42="","",'Correct Answers'!C42) -> A | H42: D2 | J42: =IF(ISBLANK(B42),0,1) -> 1 | K42: =IF(C42="Correct",1,0) -> 1
A43: 41 | B43: =IF(ISBLANK('Answer Sheet'!C43),"",'Answer Sheet'!C43) | C43: =IF(B43="","",IF(B43='Correct Answers'!C43,"Correct","Incorrect")) | D43: =IF(B43="","",'Correct Answers'!C43) | J43: =IF(ISBLANK(B43),0,1) -> 1 | K43: =IF(C43="Correct",1,0) -> 0
A44: 42 | B44: =IF(ISBLANK('Answer Sheet'!C44),"",'Answer Sheet'!C44) | C44: =IF(B44="","",IF(B44='Correct Answers'!C44,"Correct","Incorrect")) | D44: =IF(B44="","",'Correct Answers'!C44) | J44: =IF(ISBLANK(B44),0,1) -> 1 | K44: =IF(C44="Correct",1,0) -> 0
A45: 43 | B45: =IF(ISBLANK('Answer Sheet'!C45),"",'Answer Sheet'!C45) | C45: =IF(B45="","",IF(B45='Correct Answers'!C45,"Correct","Incorrect")) | D45: =IF(B45="","",'Correct Answers'!C45) | J45: =IF(ISBLANK(B45),0,1) -> 1 | K45: =IF(C45="Correct",1,0) -> 0
A46: 44 | B46: =IF(ISBLANK('Answer Sheet'!C46),"",'Answer Sheet'!C46) | C46: =IF(B46="","",IF(B46='Correct Answers'!C46,"Correct","Incorrect")) | D46: =IF(B46="","",'Correct Answers'!C46) | J46: =IF(ISBLANK(B46),0,1) -> 1 | K46: =IF(C46="Correct",1,0) -> 0
A47: 45 | B47: =IF(ISBLANK('Answer Sheet'!C47),"",'Answer Sheet'!C47) | C47: =IF(B47="","",IF(B47='Correct Answers'!C47,"Correct","Incorrect")) | D47: =IF(B47="","",'Correct Answers'!C47) | J47: =IF(ISBLANK(B47),0,1) -> 1 | K47: =IF(C47="Correct",1,0) -> 0
A48: 46 | B48: =IF(ISBLANK('Answer Sheet'!C48),"",'Answer Sheet'!C48) | C48: =IF(B48="","",IF(B48='Correct Answers'!C48,"Correct","Incorrect")) | D48: =IF(B48="","",'Correct Answers'!C48) | J48: =IF(ISBLANK(B48),0,1) -> 1 | K48: =IF(C48="Correct",1,0) -> 0
A49: 47 | B49: =IF(ISBLANK('Answer Sheet'!C49),"",'Answer Sheet'!C49) | C49: =IF(B49="","",IF(B49='Correct Answers'!C49,"Correct","Incorrect")) | D49: =IF(B49="","",'Correct Answers'!C49) | J49: =IF(ISBLANK(B49),0,1) -> 1 | K49: =IF(C49="Correct",1,0) -> 0
A50: 48 | B50: =IF(ISBLANK('Answer Sheet'!C50),"",'Answer Sheet'!C50) | C50: =IF(B50="","",IF(B50='Correct Answers'!C50,"Correct","Incorrect")) | D50: =IF(B50="","",'Correct Answers'!C50) | J50: =IF(ISBLANK(B50),0,1) -> 1 | K50: =IF(C50="Correct",1,0) -> 0
A51: 49 | B51: =IF(ISBLANK('Answer Sheet'!C51),"",'Answer Sheet'!C51) | C51: =IF(B51="","",IF(B51='Correct Answers'!C51,"Correct","Incorrect")) | D51: =IF(B51="","",'Correct Answers'!C51) | J51: =IF(ISBLANK(B51),0,1) -> 1 | K51: =IF(C51="Correct",1,0) -> 0
A52: 50 | B52: =IF(ISBLANK('Answer Sheet'!C52),"",'Answer Sheet'!C52) | C52: =IF(B52="","",IF(B52='Correct Answers'!C52,"Correct","Incorrect")) | D52: =IF(B52="","",'Correct Answers'!C52) | J52: =IF(ISBLANK(B52),0,1) -> 1 | K52: =IF(C52="Correct",1,0) -> 0
A53: 51 | B53: =IF(ISBLANK('Answer Sheet'!C53),"",'Answer Sheet'!C53) | C53: =IF(B53="","",IF(B53='Correct Answers'!C53,"Correct","Incorrect")) | D53: =IF(B53="","",'Correct Answers'!C53) | J53: =IF(ISBLANK(B53),0,1) -> 1 | K53: =IF(C53="Correct",1,0) -> 0
A54: 52 | B54: =IF(ISBLANK('Answer Sheet'!C54),"",'Answer Sheet'!C54) | C54: =IF(B54="","",IF(B54='Correct Answers'!C54,"Correct","Incorrect")) | D54: =IF(B54="","",'Correct Answers'!C54) | J54: =IF(ISBLANK(B54),0,1) -> 1 | K54: =IF(C54="Correct",1,0) -> 0
... A165: 163 | B165: =IF(ISBLANK('Answer Sheet'!C165),"",'Answer Sheet'!C165) | C165: =IF(B165="","",IF(B165='Correct Answers'!C165,"Correct","Incorrect")) | D165: =IF(B165="","",'Correct Answers'!C165) | J165: =IF(ISBLANK(B165),0,1) -> 1 | K165: =IF(C165="Correct",1,0) -> 0
A166: 164 | B166: =IF(ISBLANK('Answer Sheet'!C166),"",'Answer Sheet'!C166) | C166: =IF(B166="","",IF(B166='Correct Answers'!B166,"Correct","Incorrect")) | D166: =IF(B166="","",'Correct Answers'!C166) | J166: =IF(ISBLANK(B166),0,1) -> 1 | K166: =IF(C166="Correct",1,0) -> 0
A167: 165 | B167: =IF(ISBLANK('Answer Sheet'!C167),"",'Answer Sheet'!C167) | C167: =IF(B167="","",IF(B167='Correct Answers'!B167,"Correct","Incorrect")) | D167: =IF(B167="","",'Correct Answers'!C167) | J167: =IF(ISBLANK(B167),0,1) -> 1 | K167: =IF(C167="Correct",1,0) -> 0
A168: 166 | B168: =IF(ISBLANK('Answer Sheet'!C168),"",'Answer Sheet'!C168) | C168: =IF(B168="","",IF(B168='Correct Answers'!B168,"Correct","Incorrect")) | D168: =IF(B168="","",'Correct Answers'!C168) | J168: =IF(ISBLANK(B168),0,1) -> 1 | K168: =IF(C168="Correct",1,0) -> 0
A169: 167 | B169: =IF(ISBLANK('Answer Sheet'!C169),"",'Answer Sheet'!C169) | C169: =IF(B169="","",IF(B169='Correct Answers'!B169,"Correct","Incorrect")) | D169: =IF(B169="","",'Correct Answers'!C169) | J169: =IF(ISBLANK(B169),0,1) -> 1 | K169: =IF(C169="Correct",1,0) -> 0
A170: 168 | B170: =IF(ISBLANK('Answer Sheet'!C170),"",'Answer Sheet'!C170) | C170: =IF(B170="","",IF(B170='Correct Answers'!B170,"Correct","Incorrect")) | D170: =IF(B170="","",'Correct Answers'!C170) | J170: =IF(ISBLANK(B170),0,1) -> 1 | K170: =IF(C170="Correct",1,0) -> 0
A171: 169 | B171: =IF(ISBLANK('Answer Sheet'!C171),"",'Answer Sheet'!C171) | C171: =IF(B171="","",IF(B171='Correct Answers'!B171,"Correct","Incorrect")) | D171: =IF(B171="","",'Correct Answers'!C171) | J171: =IF(ISBLANK(B171),0,1) -> 1 | K171: =IF(C171="Correct",1,0) -> 0
A172: 170 | B172: =IF(ISBLANK('Answer Sheet'!C172),"",'Answer Sheet'!C172) | C172: =IF(B172="","",IF(B172='Correct Answers'!B172,"Correct","Incorrect")) | D172: =IF(B172="","",'Correct Answers'!C172) | J172: =IF(ISBLANK(B172),0,1) -> 1 | K172: =IF(C172="Correct",1,0) -> 0
A173: 171 | B173: =IF(ISBLANK('Answer Sheet'!C173),"",'Answer Sheet'!C173) | C173: =IF(B173="","",IF(B173='Correct Answers'!B173,"Correct","Incorrect")) | D173: =IF(B173="","",'Correct Answers'!C173) | J173: =IF(ISBLANK(B173),0,1) -> 1 | K173: =IF(C173="Correct",1,0) -> 0
A174: 172 | B174: =IF(ISBLANK('Answer Sheet'!C174),"",'Answer Sheet'!C174) | C174: =IF(B174="","",IF(B174='Correct Answers'!B174,"Correct","Incorrect")) | D174: =IF(B174="","",'Correct Answers'!C174) | J174: =IF(ISBLANK(B174),0,1) -> 1 | K174: =IF(C174="Correct",1,0) -> 0
A175: 173 | B175: =IF(ISBLANK('Answer Sheet'!C175),"",'Answer Sheet'!C175) | C175: =IF(B175="","",IF(B175='Correct Answers'!B175,"Correct","Incorrect")) | D175: =IF(B175="","",'Correct Answers'!C175) | J175: =IF(ISBLANK(B175),0,1) -> 1 | K175: =IF(C175="Correct",1,0) -> 0
A176: 174 | B176: =IF(ISBLANK('Answer Sheet'!C176),"",'Answer Sheet'!C176) | C176: =IF(B176="","",IF(B176='Correct Answers'!B176,"Correct","Incorrect")) | D176: =IF(B176="","",'Correct Answers'!C176) | J176: =IF(ISBLANK(B176),0,1) -> 1 | K176: =IF(C176="Correct",1,0) -> 0
A177: 175 | B177: =IF(ISBLANK('Answer Sheet'!C177),"",'Answer Sheet'!C177) | C177: =IF(B177="","",IF(B177='Correct Answers'!B177,"Correct","Incorrect")) | D177: =IF(B177="","",'Correct Answers'!C177) | J177: =IF(ISBLANK(B177),0,1) -> 1 | K177: =IF(C177="Correct",1,0) -> 0
...

Sheet RC-Analysis
A1: Reading Comprehension
A2: Q# | B2: My-Answer | C2: Result | D2: C-Answer | E2: Error | F2: Topic | G2: Remark | H2: Session | J2: Is Attempted? | K2: Is Correct?
A3: 1 | B3: =IF(ISBLANK('Answer Sheet'!D3),"",'Answer Sheet'!D3) -> B | C3: =IF(B3="","",IF(B3='Correct Answers'!D3,"Correct","Incorrect")) -> Correct | D3: =IF(B3="","",'Correct Answers'!D3) -> B | H3: D1 | J3: =IF(ISBLANK(B3),0,1) -> 1 | K3: =IF(C3="Correct",1,0) -> 1
A4: 2 | B4: =IF(ISBLANK('Answer Sheet'!D4),"",'Answer Sheet'!D4) -> B | C4: =IF(B4="","",IF(B4='Correct Answers'!D4,"Correct","Incorrect")) -> Correct | D4: =IF(B4="","",'Correct Answers'!D4) -> B | H4: D1 | J4: =IF(ISBLANK(B4),0,1) -> 1 | K4: =IF(C4="Correct",1,0) -> 1
A5: 3 | B5: =IF(ISBLANK('Answer Sheet'!D5),"",'Answer Sheet'!D5) -> D | C5: =IF(B5="","",IF(B5='Correct Answers'!D5,"Correct","Incorrect")) -> Correct | D5: =IF(B5="","",'Correct Answers'!D5) -> D | H5: D1 | J5: =IF(ISBLANK(B5),0,1) -> 1 | K5: =IF(C5="Correct",1,0) -> 1
A6: 4 | B6: =IF(ISBLANK('Answer Sheet'!D6),"",'Answer Sheet'!D6) -> A | C6: =IF(B6="","",IF(B6='Correct Answers'!D6,"Correct","Incorrect")) -> Correct | D6: =IF(B6="","",'Correct Answers'!D6) -> A | H6: D1 | J6: =IF(ISBLANK(B6),0,1) -> 1 | K6: =IF(C6="Correct",1,0) -> 1
A7: 5 | B7: =IF(ISBLANK('Answer Sheet'!D7),"",'Answer Sheet'!D7) -> C | C7: =IF(B7="","",IF(B7='Correct Answers'!D7,"Correct","Incorrect")) -> Correct | D7: =IF(B7="","",'Correct Answers'!D7) -> C | H7: D1 | J7: =IF(ISBLANK(B7),0,1) -> 1 | K7: =IF(C7="Correct",1,0) -> 1
A8: 6 | B8: =IF(ISBLANK('Answer Sheet'!D8),"",'Answer Sheet'!D8) -> C | C8: =IF(B8="","",IF(B8='Correct Answers'!D8,"Correct","Incorrect")) -> Incorrect | D8: =IF(B8="","",'Correct Answers'!D8) -> D | E8: Improper Reading | F8: Supporting Idea | H8: D1 | J8: =IF(ISBLANK(B8),0,1) -> 1 | K8: =IF(C8="Correct",1,0) -> 0
A9: 7 | B9: =IF(ISBLANK('Answer Sheet'!D9),"",'Answer Sheet'!D9) -> A | C9: =IF(B9="","",IF(B9='Correct Answers'!D9,"Correct","Incorrect")) -> Incorrect | D9: =IF(B9="","",'Correct Answers'!D9) -> B | E9: Improper Reading | F9: Supporting Idea | H9: D1 | J9: =IF(ISBLANK(B9),0,1) -> 1 | K9: =IF(C9="Correct",1,0) -> 0
A10: 8 | B10: =IF(ISBLANK('Answer Sheet'!D10),"",'Answer Sheet'!D10) -> A | C10: =IF(B10="","",IF(B10='Correct Answers'!D10,"Correct","Incorrect")) -> Incorrect | D10: =IF(B10="","",'Correct Answers'!D10) -> D | E10: Missed the main idea | F10: Main Idea | H10: D1 | J10: =IF(ISBLANK(B10),0,1) -> 1 | K10: =IF(C10="Correct",1,0) -> 0
A11: 9 | B11: =IF(ISBLANK('Answer Sheet'!D11),"",'Answer Sheet'!D11) -> D | C11: =IF(B11="","",IF(B11='Correct Answers'!D11,"Correct","Incorrect")) -> Correct | D11: =IF(B11="","",'Correct Answers'!D11) -> D | H11: D1 | J11: =IF(ISBLANK(B11),0,1) -> 1 | K11: =IF(C11="Correct",1,0) -> 1
A12: 10 | B12: =IF(ISBLANK('Answer Sheet'!D12),"",'Answer Sheet'!D12) -> E | C12: =IF(B12="","",IF(B12='Correct Answers'!D12,"Correct","Incorrect")) -> Incorrect | D12: =IF(B12="","",'Correct Answers'!D12) -> B | E12: Missed the main idea | F12: Supporting Idea | H12: D1 | J12: =IF(ISBLANK(B12),0,1) -> 1 | K12: =IF(C12="Correct",1,0) -> 0
A13: 11 | B13: =IF(ISBLANK('Answer Sheet'!D13),"",'Answer Sheet'!D13) -> C | C13: =IF(B13="","",IF(B13='Correct Answers'!D13,"Correct","Incorrect")) -> Incorrect | D13: =IF(B13="","",'Correct Answers'!D13) -> E | E13: Question meaning | F13: Supporting Idea | J13: =IF(ISBLANK(B13),0,1) -> 1 | K13: =IF(C13="Correct",1,0) -> 0
A14: 12 | B14: =IF(ISBLANK('Answer Sheet'!D14),"",'Answer Sheet'!D14) -> A | C14: =IF(B14="","",IF(B14='Correct Answers'!D14,"Correct","Incorrect")) -> Correct | D14: =IF(B14="","",'Correct Answers'!D14) -> A | F14: Evaluation | J14: =IF(ISBLANK(B14),0,1) -> 1 | K14: =IF(C14="Correct",1,0) -> 1
A15: 13 | B15: =IF(ISBLANK('Answer Sheet'!D15),"",'Answer Sheet'!D15) -> B | C15: =IF(B15="","",IF(B15='Correct Answers'!D15,"Correct","Incorrect")) -> Incorrect | D15: =IF(B15="","",'Correct Answers'!D15) -> A | E15: Couldnt | F15: Evaluation | J15: =IF(ISBLANK(B15),0,1) -> 1 | K15: =IF(C15="Correct",1,0) -> 0
A16: 14 | B16: =IF(ISBLANK('Answer Sheet'!D16),"",'Answer Sheet'!D16) -> C | C16: =IF(B16="","",IF(B16='Correct Answers'!D16,"Correct","Incorrect")) -> Correct | D16: =IF(B16="","",'Correct Answers'!D16) -> C | J16: =IF(ISBLANK(B16),0,1) -> 1 | K16: =IF(C16="Correct",1,0) -> 1
A17: 15 | B17: =IF(ISBLANK('Answer Sheet'!D17),"",'Answer Sheet'!D17) -> E | C17: =IF(B17="","",IF(B17='Correct Answers'!D17,"Correct","Incorrect")) -> Incorrect | D17: =IF(B17="","",'Correct Answers'!D17) -> D | E17: Couldnt find info | F17: Inference | G17: Correct Later | J17: =IF(ISBLANK(B17),0,1) -> 1 | K17: =IF(C17="Correct",1,0) -> 0
A18: 16 | B18: =IF(ISBLANK('Answer Sheet'!D18),"",'Answer Sheet'!D18) -> D | C18: =IF(B18="","",IF(B18='Correct Answers'!D18,"Correct","Incorrect")) -> Incorrect | D18: =IF(B18="","",'Correct Answers'!D18) -> B | E18: Hard | F18: Inference | G18: Not convinced with answer | J18: =IF(ISBLANK(B18),0,1) -> 1 | K18: =IF(C18="Correct",1,0) -> 0
A19: 17 | B19: =IF(ISBLANK('Answer Sheet'!D19),"",'Answer Sheet'!D19) -> E | C19: =IF(B19="","",IF(B19='Correct Answers'!D19,"Correct","Incorrect")) -> Incorrect | D19: =IF(B19="","",'Correct Answers'!D19) -> B | E19: In depth | F19: Suppoting idea | J19: =IF(ISBLANK(B19),0,1) -> 1 | K19: =IF(C19="Correct",1,0) -> 0
A20: 18 | B20: =IF(ISBLANK('Answer Sheet'!D20),"",'Answer Sheet'!D20) | C20: =IF(B20="","",IF(B20='Correct Answers'!D20,"Correct","Incorrect")) | D20: =IF(B20="","",'Correct Answers'!D20) | J20: =IF(ISBLANK(B20),0,1) -> 1 | K20: =IF(C20="Correct",1,0) -> 0
A21: 19 | B21: =IF(ISBLANK('Answer Sheet'!D21),"",'Answer Sheet'!D21) | C21: =IF(B21="","",IF(B21='Correct Answers'!D21,"Correct","Incorrect")) | D21: =IF(B21="","",'Correct Answers'!D21) | J21: =IF(ISBLANK(B21),0,1) -> 1 | K21: =IF(C21="Correct",1,0) -> 0
A22: 20 | B22: =IF(ISBLANK('Answer Sheet'!D22),"",'Answer Sheet'!D22) | C22: =IF(B22="","",IF(B22='Correct Answers'!D22,"Correct","Incorrect")) | D22: =IF(B22="","",'Correct Answers'!D22) | J22: =IF(ISBLANK(B22),0,1) -> 1 | K22: =IF(C22="Correct",1,0) -> 0
A23: 21 | B23: =IF(ISBLANK('Answer Sheet'!D23),"",'Answer Sheet'!D23) | C23: =IF(B23="","",IF(B23='Correct Answers'!D23,"Correct","Incorrect")) | D23: =IF(B23="","",'Correct Answers'!D23) | J23: =IF(ISBLANK(B23),0,1) -> 1 | K23: =IF(C23="Correct",1,0) -> 0
A24: 22 | B24: =IF(ISBLANK('Answer Sheet'!D24),"",'Answer Sheet'!D24) | C24: =IF(B24="","",IF(B24='Correct Answers'!D24,"Correct","Incorrect")) | D24: =IF(B24="","",'Correct Answers'!D24) | J24: =IF(ISBLANK(B24),0,1) -> 1 | K24: =IF(C24="Correct",1,0) -> 0
A25: 23 | B25: =IF(ISBLANK('Answer Sheet'!D25),"",'Answer Sheet'!D25) | C25: =IF(B25="","",IF(B25='Correct Answers'!D25,"Correct","Incorrect")) | D25: =IF(B25="","",'Correct Answers'!D25) | J25: =IF(ISBLANK(B25),0,1) -> 1 | K25: =IF(C25="Correct",1,0) -> 0
A26: 24 | B26: =IF(ISBLANK('Answer Sheet'!D26),"",'Answer Sheet'!D26) | C26: =IF(B26="","",IF(B26='Correct Answers'!D26,"Correct","Incorrect")) | D26: =IF(B26="","",'Correct Answers'!D26) | J26: =IF(ISBLANK(B26),0,1) -> 1 | K26: =IF(C26="Correct",1,0) -> 0
A27: 25 | B27: =IF(ISBLANK('Answer Sheet'!D27),"",'Answer Sheet'!D27) | C27: =IF(B27="","",IF(B27='Correct Answers'!D27,"Correct","Incorrect")) | D27: =IF(B27="","",'Correct Answers'!D27) | J27: =IF(ISBLANK(B27),0,1) -> 1 | K27: =IF(C27="Correct",1,0) -> 0
A28: 26 | B28: =IF(ISBLANK('Answer Sheet'!D28),"",'Answer Sheet'!D28) | C28: =IF(B28="","",IF(B28='Correct Answers'!D28,"Correct","Incorrect")) | D28: =IF(B28="","",'Correct Answers'!D28) | J28: =IF(ISBLANK(B28),0,1) -> 1 | K28: =IF(C28="Correct",1,0) -> 0
A29: 27 | B29: =IF(ISBLANK('Answer Sheet'!D29),"",'Answer Sheet'!D29) | C29: =IF(B29="","",IF(B29='Correct Answers'!D29,"Correct","Incorrect")) | D29: =IF(B29="","",'Correct Answers'!D29) | J29: =IF(ISBLANK(B29),0,1) -> 1 | K29: =IF(C29="Correct",1,0) -> 0
A30: 28 | B30: =IF(ISBLANK('Answer Sheet'!D30),"",'Answer Sheet'!D30) | C30: =IF(B30="","",IF(B30='Correct Answers'!D30,"Correct","Incorrect")) | D30: =IF(B30="","",'Correct Answers'!D30) | J30: =IF(ISBLANK(B30),0,1) -> 1 | K30: =IF(C30="Correct",1,0) -> 0
A31: 29 | B31: =IF(ISBLANK('Answer Sheet'!D31),"",'Answer Sheet'!D31) | C31: =IF(B31="","",IF(B31='Correct Answers'!D31,"Correct","Incorrect")) | D31: =IF(B31="","",'Correct Answers'!D31) | J31: =IF(ISBLANK(B31),0,1) -> 1 | K31: =IF(C31="Correct",1,0) -> 0
... A148: 146 | B148: =IF(ISBLANK('Answer Sheet'!D148),"",'Answer Sheet'!D148) | C148: =IF(B148="","",IF(B148='Correct Answers'!D148,"Correct","Incorrect")) | D148: =IF(B148="","",'Correct Answers'!D148) | J148: =IF(ISBLANK(B148),0,1) -> 1 | K148: =IF(C148="Correct",1,0) -> 0
A149: 147 | B149: =IF(ISBLANK('Answer Sheet'!D149),"",'Answer Sheet'!D149) | C149: =IF(B149="","",IF(B149='Correct Answers'!B149,"Correct","Incorrect")) | D149: =IF(B149="","",'Correct Answers'!D149) | J149: =IF(ISBLANK(B149),0,1) -> 1 | K149: =IF(C149="Correct",1,0) -> 0
A150: 148 | B150: =IF(ISBLANK('Answer Sheet'!D150),"",'Answer Sheet'!D150) | C150: =IF(B150="","",IF(B150='Correct Answers'!B150,"Correct","Incorrect")) | D150: =IF(B150="","",'Correct Answers'!D150) | J150: =IF(ISBLANK(B150),0,1) -> 1 | K150: =IF(C150="Correct",1,0) -> 0
A151: 149 | B151: =IF(ISBLANK('Answer Sheet'!D151),"",'Answer Sheet'!D151) | C151: =IF(B151="","",IF(B151='Correct Answers'!B151,"Correct","Incorrect")) | D151: =IF(B151="","",'Correct Answers'!D151) | J151: =IF(ISBLANK(B151),0,1) -> 1 | K151: =IF(C151="Correct",1,0) -> 0
A152: 150 | B152: =IF(ISBLANK('Answer Sheet'!D152),"",'Answer Sheet'!D152) | C152: =IF(B152="","",IF(B152='Correct Answers'!B152,"Correct","Incorrect")) | D152: =IF(B152="","",'Correct Answers'!D152) | J152: =IF(ISBLANK(B152),0,1) -> 1 | K152: =IF(C152="Correct",1,0) -> 0
A153: 151 | B153: =IF(ISBLANK('Answer Sheet'!D153),"",'Answer Sheet'!D153) | C153: =IF(B153="","",IF(B153='Correct Answers'!B153,"Correct","Incorrect")) | D153: =IF(B153="","",'Correct Answers'!D153) | J153: =IF(ISBLANK(B153),0,1) -> 1 | K153: =IF(C153="Correct",1,0) -> 0
A154: 152 | B154: =IF(ISBLANK('Answer Sheet'!D154),"",'Answer Sheet'!D154) | C154: =IF(B154="","",IF(B154='Correct Answers'!B154,"Correct","Incorrect")) | D154: =IF(B154="","",'Correct Answers'!D154) | J154: =IF(ISBLANK(B154),0,1) -> 1 | K154: =IF(C154="Correct",1,0) -> 0
A155: 153 | B155: =IF(ISBLANK('Answer Sheet'!D155),"",'Answer Sheet'!D155) | C155: =IF(B155="","",IF(B155='Correct Answers'!B155,"Correct","Incorrect")) | D155: =IF(B155="","",'Correct Answers'!D155) | J155: =IF(ISBLANK(B155),0,1) -> 1 | K155: =IF(C155="Correct",1,0) -> 0
A156: 154 | B156: =IF(ISBLANK('Answer Sheet'!D156),"",'Answer Sheet'!D156) | C156: =IF(B156="","",IF(B156='Correct Answers'!B156,"Correct","Incorrect")) | D156: =IF(B156="","",'Correct Answers'!D156) | J156: =IF(ISBLANK(B156),0,1) -> 1 | K156: =IF(C156="Correct",1,0) -> 0
...

Sheet SC-Analysis
A1: Sentence Correction | J1: Notes
A2: Q# | B2: My-Answer | C2: Result | D2: C-Answer | E2: Error | F2: Topic | G2: Remark | H2: Session | J2: Correct | K2: Wrong
A3: 1 | B3: =IF(ISBLANK('Answer Sheet'!E3),"",'Answer Sheet'!E3) -> A | C3: =IF(B3="","",IF(B3='Correct Answers'!E3,"Correct","Incorrect")) -> Incorrect | D3: =IF(B3="","",'Correct Answers'!E3) -> C | E3: Disturbed Mind | F3: Grammatical Construction | G3: Correct later | H3: D1
A4: 2 | B4: =IF(ISBLANK('Answer Sheet'!E4),"",'Answer Sheet'!E4) -> B | C4: =IF(B4="","",IF(B4='Correct Answers'!E4,"Correct","Incorrect")) -> Correct | D4: =IF(B4="","",'Correct Answers'!E4) -> B | H4: D1
A5: 3 | B5: =IF(ISBLANK('Answer Sheet'!E5),"",'Answer Sheet'!E5) -> C | C5: =IF(B5="","",IF(B5='Correct Answers'!E5,"Correct","Incorrect")) -> Incorrect | D5: =IF(B5="","",'Correct Answers'!E5) -> B | E5: Placing Words | F5: Grammatical Construction | G5: Correct later | H5: D1 | J5: Who could not only …, but also … | K5: Who not only could …, but also …
A6: 4 | B6: =IF(ISBLANK('Answer Sheet'!E6),"",'Answer Sheet'!E6) -> E | C6: =IF(B6="","",IF(B6='Correct Answers'!E6,"Correct","Incorrect")) -> Incorrect | D6: =IF(B6="","",'Correct Answers'!E6) -> C | E6: Not aware | F6: Idiom | H6: D1 | J6: Both … and … | K6: Both … as well …
A7: 5 | B7: =IF(ISBLANK('Answer Sheet'!E7),"",'Answer Sheet'!E7) -> B | C7: =IF(B7="","",IF(B7='Correct Answers'!E7,"Correct","Incorrect")) -> Incorrect | D7: =IF(B7="","",'Correct Answers'!E7) -> D | E7: Concentration | F7: Agreement | G7: Correct later | H7: D1
A8: 6 | B8: =IF(ISBLANK('Answer Sheet'!E8),"",'Answer Sheet'!E8) -> E | C8: =IF(B8="","",IF(B8='Correct Answers'!E8,"Correct","Incorrect")) -> Correct | D8: =IF(B8="","",'Correct Answers'!E8) -> E | F8: Idiom | H8: D1 | J8: Perhaps | K8: May be
A9: 7 | B9: =IF(ISBLANK('Answer Sheet'!E9),"",'Answer Sheet'!E9) -> B | C9: =IF(B9="","",IF(B9='Correct Answers'!E9,"Correct","Incorrect")) -> Incorrect | D9: =IF(B9="","",'Correct Answers'!E9) -> D | E9: Not understood | F9: Diction | G9: Why not B? | H9: D1
A10: 8 | B10: =IF(ISBLANK('Answer Sheet'!E10),"",'Answer Sheet'!E10) -> A | C10: =IF(B10="","",IF(B10='Correct Answers'!E10,"Correct","Incorrect")) -> Correct | D10: =IF(B10="","",'Correct Answers'!E10) -> A | H10: D1
A11: 9 | B11: =IF(ISBLANK('Answer Sheet'!E11),"",'Answer Sheet'!E11) -> E | C11: =IF(B11="","",IF(B11='Correct Answers'!E11,"Correct","Incorrect")) -> Correct | D11: =IF(B11="","",'Correct Answers'!E11) -> E | F11: Verb form | G11: Review | H11: D1
A12: 10 | B12: =IF(ISBLANK('Answer Sheet'!E12),"",'Answer Sheet'!E12) -> D | C12: =IF(B12="","",IF(B12='Correct Answers'!E12,"Correct","Incorrect")) -> Correct | D12: =IF(B12="","",'Correct Answers'!E12) -> D | H12: D1
A13: 11 | B13: =IF(ISBLANK('Answer Sheet'!E13),"",'Answer Sheet'!E13) -> E | C13: =IF(B13="","",IF(B13='Correct Answers'!E13,"Correct","Incorrect")) -> Correct | D13: =IF(B13="","",'Correct Answers'!E13) -> E | H13: D1
A14: 12 | B14: =IF(ISBLANK('Answer Sheet'!E14),"",'Answer Sheet'!E14) -> E | C14: =IF(B14="","",IF(B14='Correct Answers'!E14,"Correct","Incorrect")) -> Incorrect | D14: =IF(B14="","",'Correct Answers'!E14) -> B | E14: Not aware | F14: Diction | H14: D1 | J14: 25% less than | K14: 25% fewer than
A15: 13 | B15: =IF(ISBLANK('Answer Sheet'!E15),"",'Answer Sheet'!E15) -> C | C15: =IF(B15="","",IF(B15='Correct Answers'!E15,"Correct","Incorrect")) -> Correct | D15: =IF(B15="","",'Correct Answers'!E15) -> C | H15: D1
A16: 14 | B16: =IF(ISBLANK('Answer Sheet'!E16),"",'Answer Sheet'!E16) -> D | C16: =IF(B16="","",IF(B16='Correct Answers'!E16,"Correct","Incorrect")) -> Correct | D16: =IF(B16="","",'Correct Answers'!E16) -> D | H16: D1
A17: 15 | B17: =IF(ISBLANK('Answer Sheet'!E17),"",'Answer Sheet'!E17) -> B | C17: =IF(B17="","",IF(B17='Correct Answers'!E17,"Correct","Incorrect")) -> Correct | D17: =IF(B17="","",'Correct Answers'!E17) -> B | F17: Diction | H17: D1 | J17: that-essential ; which-non essential
A18: 16 | B18: =IF(ISBLANK('Answer Sheet'!E18),"",'Answer Sheet'!E18) -> A | C18: =IF(B18="","",IF(B18='Correct Answers'!E18,"Correct","Incorrect")) -> Incorrect | D18: =IF(B18="","",'Correct Answers'!E18) -> E | E18: Not aware | F18: Diction | H18: D1 | J18: … , if not … , can lead to … | K18: … , when not … , can lead to …
A19: 17 | B19: =IF(ISBLANK('Answer Sheet'!E19),"",'Answer Sheet'!E19) -> B | C19: =IF(B19="","",IF(B19='Correct Answers'!E19,"Correct","Incorrect")) -> Correct | D19: =IF(B19="","",'Correct Answers'!E19) -> B | H19: D1
A20: 18 | B20: =IF(ISBLANK('Answer Sheet'!E20),"",'Answer Sheet'!E20) -> C | C20: =IF(B20="","",IF(B20='Correct Answers'!E20,"Correct","Incorrect")) -> Correct | D20: =IF(B20="","",'Correct Answers'!E20) -> C | H20: D1
A21: 19 | B21: =IF(ISBLANK('Answer Sheet'!E21),"",'Answer Sheet'!E21) -> D | C21: =IF(B21="","",IF(B21='Correct Answers'!E21,"Correct","Incorrect")) -> Incorrect | D21: =IF(B21="","",'Correct Answers'!E21) -> A | E21: Confused with diction | F21: Logical Predication | G21: Correct later | H21: D1
A22: 20 | B22: =IF(ISBLANK('Answer Sheet'!E22),"",'Answer Sheet'!E22) -> E | C22: =IF(B22="","",IF(B22='Correct Answers'!E22,"Correct","Incorrect")) -> Incorrect | D22: =IF(B22="","",'Correct Answers'!E22) -> D | E22: Mistake | F22: Idiom | H22: D1 | J22: And vs Or
A23: 21 | B23: =IF(ISBLANK('Answer Sheet'!E23),"",'Answer Sheet'!E23) -> D | C23: =IF(B23="","",IF(B23='Correct Answers'!E23,"Correct","Incorrect")) -> Incorrect | D23: =IF(B23="","",'Correct Answers'!E23) -> E | E23: Difficult | F23: Modifier | G23: check modifier also | H23: D2 | J23: Modifier is expected to modify subject
A24: 22 | B24: =IF(ISBLANK('Answer Sheet'!E24),"",'Answer Sheet'!E24) -> E | C24: =IF(B24="","",IF(B24='Correct Answers'!E24,"Correct","Incorrect")) -> Incorrect | D24: =IF(B24="","",'Correct Answers'!E24) -> B | E24: Confusing | F24: Semicolon | H24: D2 | J24: aiding _, _, and _;polinating _, _, and _; and indirectly helping __
A25: 23 | B25: =IF(ISBLANK('Answer Sheet'!E25),"",'Answer Sheet'!E25) -> C | C25: =IF(B25="","",IF(B25='Correct Answers'!E25,"Correct","Incorrect")) -> Correct | D25: =IF(B25="","",'Correct Answers'!E25) -> C | G25: Too much time | H25: D2
A26: 24 | B26: =IF(ISBLANK('Answer Sheet'!E26),"",'Answer Sheet'!E26) -> B | C26: =IF(B26="","",IF(B26='Correct Answers'!E26,"Correct","Incorrect")) -> Incorrect | D26: =IF(B26="","",'Correct Answers'!E26) -> D | E26: Vocabulary | F26: diction | H26: D2
A27: 25 | B27: =IF(ISBLANK('Answer Sheet'!E27),"",'Answer Sheet'!E27) -> E | C27: =IF(B27="","",IF(B27='Correct Answers'!E27,"Correct","Incorrect")) -> Correct | D27: =IF(B27="","",'Correct Answers'!E27) -> E | H27: D2
A28: 26 | B28: =IF(ISBLANK('Answer Sheet'!E28),"",'Answer Sheet'!E28) -> D | C28: =IF(B28="","",IF(B28='Correct Answers'!E28,"Correct","Incorrect")) -> Correct | D28: =IF(B28="","",'Correct Answers'!E28) -> D | H28: D2
A29: 27 | B29: =IF(ISBLANK('Answer Sheet'!E29),"",'Answer Sheet'!E29) -> A | C29: =IF(B29="","",IF(B29='Correct Answers'!E29,"Correct","Incorrect")) -> Correct | D29: =IF(B29="","",'Correct Answers'!E29) -> A | H29: D2
A30: 28 | B30: =IF(ISBLANK('Answer Sheet'!E30),"",'Answer Sheet'!E30) -> E | C30: =IF(B30="","",IF(B30='Correct Answers'!E30,"Correct","Incorrect")) -> Incorrect | D30: =IF(B30="","",'Correct Answers'!E30) -> C | E30: Lost | F30: Construction | G30: Correct later | H30: D2
A31: 29 | B31: =IF(ISBLANK('Answer Sheet'!E31),"",'Answer Sheet'!E31) -> B | C31: =IF(B31="","",IF(B31='Correct Answers'!E31,"Correct","Incorrect")) -> Incorrect | D31: =IF(B31="","",'Correct Answers'!E31) -> E | E31: Didn't concentrate | F31: Diction | G31: Correct later | H31: D2
A32: 30 | B32: =IF(ISBLANK('Answer Sheet'!E32),"",'Answer Sheet'!E32) -> E | C32: =IF(B32="","",IF(B32='Correct Answers'!E32,"Correct","Incorrect")) -> Correct | D32: =IF(B32="","",'Correct Answers'!E32) -> E | H32: D2
A33: 31 | B33: =IF(ISBLANK('Answer Sheet'!E33),"",'Answer Sheet'!E33) -> D | C33: =IF(B33="","",IF(B33='Correct Answers'!E33,"Correct","Incorrect")) -> Correct | D33: =IF(B33="","",'Correct Answers'!E33) -> D | H33: D2
A34: 32 | B34: =IF(ISBLANK('Answer Sheet'!E34),"",'Answer Sheet'!E34) -> E | C34: =IF(B34="","",IF(B34='Correct Answers'!E34,"Correct","Incorrect")) -> Incorrect | D34: =IF(B34="","",'Correct Answers'!E34) -> A | E34: Didn’t cared parellelsim | F34: Parellelsim | G34: Between two | H34: D2
A35: 33 | B35: =IF(ISBLANK('Answer Sheet'!E35),"",'Answer Sheet'!E35) -> B | C35: =IF(B35="","",IF(B35='Correct Answers'!E35,"Correct","Incorrect")) -> Correct | D35: =IF(B35="","",'Correct Answers'!E35) -> B | H35: D2
A36: 34 | B36: =IF(ISBLANK('Answer Sheet'!E36),"",'Answer Sheet'!E36) -> A | C36: =IF(B36="","",IF(B36='Correct Answers'!E36,"Correct","Incorrect")) -> Correct | D36: =IF(B36="","",'Correct Answers'!E36) -> A | H36: D2
A37: 35 | B37: =IF(ISBLANK('Answer Sheet'!E37),"",'Answer Sheet'!E37) -> E | C37: =IF(B37="","",IF(B37='Correct Answers'!E37,"Correct","Incorrect")) -> Correct | D37: =IF(B37="","",'Correct Answers'!E37) -> E | H37: D2
A38: 36 | B38: =IF(ISBLANK('Answer Sheet'!E38),"",'Answer Sheet'!E38) -> E | C38: =IF(B38="","",IF(B38='Correct Answers'!E38,"Correct","Incorrect")) -> Correct | D38: =IF(B38="","",'Correct Answers'!E38) -> E | H38: D2
A39: 37 | B39: =IF(ISBLANK('Answer Sheet'!E39),"",'Answer Sheet'!E39) -> D | C39: =IF(B39="","",IF(B39='Correct Answers'!E39,"Correct","Incorrect")) -> Incorrect | D39: =IF(B39="","",'Correct Answers'!E39) -> E | E39: Didn't read all sentences | F39: Verb form | G39: Crime | H39: D2
A40: 38 | B40: =IF(ISBLANK('Answer Sheet'!E40),"",'Answer Sheet'!E40) -> D | C40: =IF(B40="","",IF(B40='Correct Answers'!E40,"Correct","Incorrect")) -> Correct | D40: =IF(B40="","",'Correct Answers'!E40) -> D | H40: D2
...

Sheet CR-Analysis
A1: Problem Solving
A2: Q# | B2: My-Answer | C2: Result | D2: C-Answer | E2: Error | F2: Topic | G2: Remark | H2: Session | J2: Is Attempted? | K2: Is Correct?
A3: 1 | B3: =IF(ISBLANK('Answer Sheet'!F3),"",'Answer Sheet'!F3) -> E | C3: =IF(B3="","",IF(B3='Correct Answers'!F3,"Correct","Incorrect")) -> Correct | D3: =IF(B3="","",'Correct Answers'!F3) -> E | H3: D1 | J3: =IF(ISBLANK(B3),0,1) -> 1 | K3: =IF(C3="Correct",1,0) -> 1
A4: 2 | B4: =IF(ISBLANK('Answer Sheet'!F4),"",'Answer Sheet'!F4) -> B | C4: =IF(B4="","",IF(B4='Correct Answers'!F4,"Correct","Incorrect")) -> Incorrect | D4: =IF(B4="","",'Correct Answers'!F4) -> C | E4: Confused | F4: Argument Evaluation | H4: D1 | J4: =IF(ISBLANK(B4),0,1) -> 1 | K4: =IF(C4="Correct",1,0) -> 0
A5: 3 | B5: =IF(ISBLANK('Answer Sheet'!F5),"",'Answer Sheet'!F5) -> A | C5: =IF(B5="","",IF(B5='Correct Answers'!F5,"Correct","Incorrect")) -> Correct | D5: =IF(B5="","",'Correct Answers'!F5) -> A | H5: D1 | J5: =IF(ISBLANK(B5),0,1) -> 1 | K5: =IF(C5="Correct",1,0) -> 1
A6: 4 | B6: =IF(ISBLANK('Answer Sheet'!F6),"",'Answer Sheet'!F6) -> B | C6: =IF(B6="","",IF(B6='Correct Answers'!F6,"Correct","Incorrect")) -> Correct | D6: =IF(B6="","",'Correct Answers'!F6) -> B | H6: D1 | J6: =IF(ISBLANK(B6),0,1) -> 1 | K6: =IF(C6="Correct",1,0) -> 1
A7: 5 | B7: =IF(ISBLANK('Answer Sheet'!F7),"",'Answer Sheet'!F7) -> C | C7: =IF(B7="","",IF(B7='Correct Answers'!F7,"Correct","Incorrect")) -> Correct | D7: =IF(B7="","",'Correct Answers'!F7) -> C | H7: D1 | J7: =IF(ISBLANK(B7),0,1) -> 1 | K7: =IF(C7="Correct",1,0) -> 1
A8: 6 | B8: =IF(ISBLANK('Answer Sheet'!F8),"",'Answer Sheet'!F8) -> A | C8: =IF(B8="","",IF(B8='Correct Answers'!F8,"Correct","Incorrect")) -> Correct | D8: =IF(B8="","",'Correct Answers'!F8) -> A | H8: D1 | J8: =IF(ISBLANK(B8),0,1) -> 1 | K8: =IF(C8="Correct",1,0) -> 1
A9: 7 | B9: =IF(ISBLANK('Answer Sheet'!F9),"",'Answer Sheet'!F9) -> E | C9: =IF(B9="","",IF(B9='Correct Answers'!F9,"Correct","Incorrect")) -> Correct | D9: =IF(B9="","",'Correct Answers'!F9) -> E | H9: D1 | J9: =IF(ISBLANK(B9),0,1) -> 1 | K9: =IF(C9="Correct",1,0) -> 1
A10: 8 | B10: =IF(ISBLANK('Answer Sheet'!F10),"",'Answer Sheet'!F10) -> B | C10: =IF(B10="","",IF(B10='Correct Answers'!F10,"Correct","Incorrect")) -> Incorrect | D10: =IF(B10="","",'Correct Answers'!F10) -> A | E10: Between two | F10: Argument Construction | H10: D1 | J10: =IF(ISBLANK(B10),0,1) -> 1 | K10: =IF(C10="Correct",1,0) -> 0
A11: 9 | B11: =IF(ISBLANK('Answer Sheet'!F11),"",'Answer Sheet'!F11) -> A | C11: =IF(B11="","",IF(B11='Correct Answers'!F11,"Correct","Incorrect")) -> Correct | D11: =IF(B11="","",'Correct Answers'!F11) -> A | H11: D1 | J11: =IF(ISBLANK(B11),0,1) -> 1 | K11: =IF(C11="Correct",1,0) -> 1
A12: 10 | B12: =IF(ISBLANK('Answer Sheet'!F12),"",'Answer Sheet'!F12) -> C | C12: =IF(B12="","",IF(B12='Correct Answers'!F12,"Correct","Incorrect")) -> Incorrect | D12: =IF(B12="","",'Correct Answers'!F12) -> B | E12: Between two | F12: Evaluation of a Plan | H12: D1 | J12: =IF(ISBLANK(B12),0,1) -> 1 | K12: =IF(C12="Correct",1,0) -> 0
A13: 11 | B13: =IF(ISBLANK('Answer Sheet'!F13),"",'Answer Sheet'!F13) | C13: =IF(B13="","",IF(B13='Correct Answers'!F13,"Correct","Incorrect")) | D13: =IF(B13="","",'Correct Answers'!F13) | J13: =IF(ISBLANK(B13),0,1) -> 1 | K13: =IF(C13="Correct",1,0) -> 0
A14: 12 | B14: =IF(ISBLANK('Answer Sheet'!F14),"",'Answer Sheet'!F14) | C14: =IF(B14="","",IF(B14='Correct Answers'!F14,"Correct","Incorrect")) | D14: =IF(B14="","",'Correct Answers'!F14) | J14: =IF(ISBLANK(B14),0,1) -> 1 | K14: =IF(C14="Correct",1,0) -> 0
A15: 13 | B15: =IF(ISBLANK('Answer Sheet'!F15),"",'Answer Sheet'!F15) | C15: =IF(B15="","",IF(B15='Correct Answers'!F15,"Correct","Incorrect")) | D15: =IF(B15="","",'Correct Answers'!F15) | J15: =IF(ISBLANK(B15),0,1) -> 1 | K15: =IF(C15="Correct",1,0) -> 0
A16: 14 | B16: =IF(ISBLANK('Answer Sheet'!F16),"",'Answer Sheet'!F16) | C16: =IF(B16="","",IF(B16='Correct Answers'!F16,"Correct","Incorrect")) | D16: =IF(B16="","",'Correct Answers'!F16) | J16: =IF(ISBLANK(B16),0,1) -> 1 | K16: =IF(C16="Correct",1,0) -> 0
A17: 15 | B17: =IF(ISBLANK('Answer Sheet'!F17),"",'Answer Sheet'!F17) | C17: =IF(B17="","",IF(B17='Correct Answers'!F17,"Correct","Incorrect")) | D17: =IF(B17="","",'Correct Answers'!F17) | J17: =IF(ISBLANK(B17),0,1) -> 1 | K17: =IF(C17="Correct",1,0) -> 0
A18: 16 | B18: =IF(ISBLANK('Answer Sheet'!F18),"",'Answer Sheet'!F18) | C18: =IF(B18="","",IF(B18='Correct Answers'!F18,"Correct","Incorrect")) | D18: =IF(B18="","",'Correct Answers'!F18) | J18: =IF(ISBLANK(B18),0,1) -> 1 | K18: =IF(C18="Correct",1,0) -> 0
A19: 17 | B19: =IF(ISBLANK('Answer Sheet'!F19),"",'Answer Sheet'!F19) | C19: =IF(B19="","",IF(B19='Correct Answers'!F19,"Correct","Incorrect")) | D19: =IF(B19="","",'Correct Answers'!F19) | J19: =IF(ISBLANK(B19),0,1) -> 1 | K19: =IF(C19="Correct",1,0) -> 0
A20: 18 | B20: =IF(ISBLANK('Answer Sheet'!F20),"",'Answer Sheet'!F20) | C20: =IF(B20="","",IF(B20='Correct Answers'!F20,"Correct","Incorrect")) | D20: =IF(B20="","",'Correct Answers'!F20) | J20: =IF(ISBLANK(B20),0,1) -> 1 | K20: =IF(C20="Correct",1,0) -> 0
A21: 19 | B21: =IF(ISBLANK('Answer Sheet'!F21),"",'Answer Sheet'!F21) | C21: =IF(B21="","",IF(B21='Correct Answers'!F21,"Correct","Incorrect")) | D21: =IF(B21="","",'Correct Answers'!F21) | J21: =IF(ISBLANK(B21),0,1) -> 1 | K21: =IF(C21="Correct",1,0) -> 0
A22: 20 | B22: =IF(ISBLANK('Answer Sheet'!F22),"",'Answer Sheet'!F22) | C22: =IF(B22="","",IF(B22='Correct Answers'!F22,"Correct","Incorrect")) | D22: =IF(B22="","",'Correct Answers'!F22) | J22: =IF(ISBLANK(B22),0,1) -> 1 | K22: =IF(C22="Correct",1,0) -> 0
A23: 21 | B23: =IF(ISBLANK('Answer Sheet'!F23),"",'Answer Sheet'!F23) | C23: =IF(B23="","",IF(B23='Correct Answers'!F23,"Correct","Incorrect")) | D23: =IF(B23="","",'Correct Answers'!F23) | J23: =IF(ISBLANK(B23),0,1) -> 1 | K23: =IF(C23="Correct",1,0) -> 0
A24: 22 | B24: =IF(ISBLANK('Answer Sheet'!F24),"",'Answer Sheet'!F24) | C24: =IF(B24="","",IF(B24='Correct Answers'!F24,"Correct","Incorrect")) | D24: =IF(B24="","",'Correct Answers'!F24) | J24: =IF(ISBLANK(B24),0,1) -> 1 | K24: =IF(C24="Correct",1,0) -> 0
... A232: 230 | B232: =IF(ISBLANK('Answer Sheet'!F232),"",'Answer Sheet'!F232) | C232: =IF(B232="","",IF(B232='Correct Answers'!F232,"Correct","Incorrect")) | D232: =IF(B232="","",'Correct Answers'!F232) | J232: =IF(ISBLANK(B232),0,1) -> 1 | K232: =IF(C232="Correct",1,0) -> 0

Sheet Correct Answers
A1: Correct | B1: PS | C1: DS | D1: RC | E1: SC | F1: CR
A2: Q# | B2: Answer | C2: Answer | D2: Answer | E2: Answer | F2: Answer
A3: 1 | B3: E | C3: A | D3: B | E3: C | F3: E
A4: 2 | B4: A | C4: E | D4: B | E4: B | F4: C
A5: 3 | B5: C | C5: D | D5: D | E5: B | F5: A
A6: 4 | B6: C | C6: C | D6: A | E6: C | F6: B
A7: 5 | B7: E | C7: A | D7: C | E7: D | F7: C
A8: 6 | B8: D | C8: C | D8: D | E8: E | F8: A
A9: 7 | B9: E | C9: C | D9: B | E9: D | F9: E
A10: 8 | B10: A | C10: B | D10: D | E10: A | F10: A
A11: 9 | B11: C | C11: B | D11: D | E11: E | F11: A
A12: 10 | B12: B | C12: D | D12: B | E12: D | F12: B
A13: 11 | B13: D | C13: D | D13: E | E13: E | F13: C
A14: 12 | B14: A | C14: C | D14: A | E14: B | F14: D
... A126: 124 | B126: B | C126: B | D126: B | E126: D | F126: B
A127: 125 | B127: B | C127: D | D127: A | E127: C
A128: 126 | B128: D | C128: A | D128: B | E128: B
A129: 127 | B129: E | C129: E | D129: D | E129: C
A130: 128 | B130: B | C130: D | D130: A | E130: B
A131: 129 | B131: C | C131: D | D131: C | E131: A
A132: 130 | B132: D | C132: D | D132: D | E132: E
A133: 131 | B133: C | C133: D | D133: E | E133: E
A134: 132 | B134: B | C134: C | D134: C | E134: E
A135: 133 | B135: D | C135: D | D135: B | E135: D
A136: 134 | B136: E | C136: E | D136: A | E136: B
A137: 135 | B137: B | C137: D | D137: C | E137: A
A138: 136 | B138: C | C138: D | D138: D | E138: E
... A141: 139 | B141: D | C141: E | D141: C | E141: C
A142: 140 | B142: C | C142: B | E142: E
A143: 141 | B143: C | C143: E
A144: 142 | B144: C | C144: B
A145: 143 | B145: E | C145: D
A146: 144 | B146: B | C146: E
A147: 145 | B147: D | C147: C
A148: 146 | B148: B | C148: B
A149: 147 | B149: C | C149: A
A150: 148 | B150: B | C150: A
A151: 149 | B151: C | C151: B
A152: 150 | B152: D | C152: B
A153: 151 | B153: B | C153: E
...
