Workbook

Sheet OG Quant Review 2016
B2: Question Type | D2: # answered | E2: # correct | F2: % correct
B3: Problem Solving | D3: =COUNTIF(C$10:C$185,">""") -> 0 | E3: =SUM(U10:U185) -> 0 | F3: =IF(D3=0,"",E3/D3)
B4: Data Sufficiency | D4: =COUNTIF(H$10:H$133,">""") -> 0 | E4: =SUM(V10:V133) -> 0 | F4: =IF(D4=0,"",E4/D4)
B8: Problem Solving Questions | G8: Data Sufficiency Questions | U8: PS | V8: DS
B9: Question | C9: Your answer | D9: Correct Answer | E9: Flag question | G9: Question | H9: Your answer | I9: Correct Answer | J9: Flag question
B10: 1 | D10: =IF(AND(C10>="A",C10<="E"),'Answer Sheet'!E4,"") | G10: 1 | I10: =IF(AND(H10>="A",H10<="E"),'Answer Sheet'!F4,"") | U10: =IF(AND(C10>"",C10=D10),1,0) -> 0 | V10: =IF(AND(H10>"",H10=I10),1,0) -> 0
B11: =B10+1 -> 2 | D11: =IF(AND(C11>="A",C11<="E"),'Answer Sheet'!E5,"") | G11: =G10+1 -> 2 | I11: =IF(AND(H11>="A",H11<="E"),'Answer Sheet'!F5,"") | U11: =IF(AND(C11>"",C11=D11),1,0) -> 0 | V11: =IF(AND(H11>"",H11=I11),1,0) -> 0 | AV11: Flag
B12: =B11+1 -> 3 | D12: =IF(AND(C12>="A",C12<="E"),'Answer Sheet'!E6,"") | G12: =G11+1 -> 3 | I12: =IF(AND(H12>="A",H12<="E"),'Answer Sheet'!F6,"") | U12: =IF(AND(C12>"",C12=D12),1,0) -> 0 | V12: =IF(AND(H12>"",H12=I12),1,0) -> 0
B13: =B12+1 -> 4 | D13: =IF(AND(C13>="A",C13<="E"),'Answer Sheet'!E7,"") | G13: =G12+1 -> 4 | I13: =IF(AND(H13>="A",H13<="E"),'Answer Sheet'!F7,"") | U13: =IF(AND(C13>"",C13=D13),1,0) -> 0 | V13: =IF(AND(H13>"",H13=I13),1,0) -> 0
B14: =B13+1 -> 5 | D14: =IF(AND(C14>="A",C14<="E"),'Answer Sheet'!E8,"") | G14: =G13+1 -> 5 | I14: =IF(AND(H14>="A",H14<="E"),'Answer Sheet'!F8,"") | U14: =IF(AND(C14>"",C14=D14),1,0) -> 0 | V14: =IF(AND(H14>"",H14=I14),1,0) -> 0
B15: =B14+1 -> 6 | D15: =IF(AND(C15>="A",C15<="E"),'Answer Sheet'!E9,"") | G15: =G14+1 -> 6 | I15: =IF(AND(H15>="A",H15<="E"),'Answer Sheet'!F9,"") | U15: =IF(AND(C15>"",C15=D15),1,0) -> 0 | V15: =IF(AND(H15>"",H15=I15),1,0) -> 0
B16: =B15+1 -> 7 | D16: =IF(AND(C16>="A",C16<="E"),'Answer Sheet'!E10,"") | G16: =G15+1 -> 7 | I16: =IF(AND(H16>="A",H16<="E"),'Answer Sheet'!F10,"") | U16: =IF(AND(C16>"",C16=D16),1,0) -> 0 | V16: =IF(AND(H16>"",H16=I16),1,0) -> 0
B17: =B16+1 -> 8 | D17: =IF(AND(C17>="A",C17<="E"),'Answer Sheet'!E11,"") | G17: =G16+1 -> 8 | I17: =IF(AND(H17>="A",H17<="E"),'Answer Sheet'!F11,"") | U17: =IF(AND(C17>"",C17=D17),1,0) -> 0 | V17: =IF(AND(H17>"",H17=I17),1,0) -> 0
B18: =B17+1 -> 9 | D18: =IF(AND(C18>="A",C18<="E"),'Answer Sheet'!E12,"") | G18: =G17+1 -> 9 | I18: =IF(AND(H18>="A",H18<="E"),'Answer Sheet'!F12,"") | U18: =IF(AND(C18>"",C18=D18),1,0) -> 0 | V18: =IF(AND(H18>"",H18=I18),1,0) -> 0
B19: =B18+1 -> 10 | D19: =IF(AND(C19>="A",C19<="E"),'Answer Sheet'!E13,"") | G19: =G18+1 -> 10 | I19: =IF(AND(H19>="A",H19<="E"),'Answer Sheet'!F13,"") | U19: =IF(AND(C19>"",C19=D19),1,0) -> 0 | V19: =IF(AND(H19>"",H19=I19),1,0) -> 0
B20: =B19+1 -> 11 | D20: =IF(AND(C20>="A",C20<="E"),'Answer Sheet'!E14,"") | G20: =G19+1 -> 11 | I20: =IF(AND(H20>="A",H20<="E"),'Answer Sheet'!F14,"") | U20: =IF(AND(C20>"",C20=D20),1,0) -> 0 | V20: =IF(AND(H20>"",H20=I20),1,0) -> 0
B21: =B20+1 -> 12 | D21: =IF(AND(C21>="A",C21<="E"),'Answer Sheet'!E15,"") | G21: =G20+1 -> 12 | I21: =IF(AND(H21>="A",H21<="E"),'Answer Sheet'!F15,"") | U21: =IF(AND(C21>"",C21=D21),1,0) -> 0 | V21: =IF(AND(H21>"",H21=I21),1,0) -> 0
B22: =B21+1 -> 13 | D22: =IF(AND(C22>="A",C22<="E"),'Answer Sheet'!E16,"") | G22: =G21+1 -> 13 | I22: =IF(AND(H22>="A",H22<="E"),'Answer Sheet'!F16,"") | U22: =IF(AND(C22>"",C22=D22),1,0) -> 0 | V22: =IF(AND(H22>"",H22=I22),1,0) -> 0
B23: =B22+1 -> 14 | D23: =IF(AND(C23>="A",C23<="E"),'Answer Sheet'!E17,"") | G23: =G22+1 -> 14 | I23: =IF(AND(H23>="A",H23<="E"),'Answer Sheet'!F17,"") | U23: =IF(AND(C23>"",C23=D23),1,0) -> 0 | V23: =IF(AND(H23>"",H23=I23),1,0) -> 0
... B133: =B132+1 -> 124 | D133: =IF(AND(C133>="A",C133<="E"),'Answer Sheet'!E127,"") | G133: =G132+1 -> 124 | I133: =IF(AND(H133>="A",H133<="E"),'Answer Sheet'!F127,"") | U133: =IF(AND(C133>"",C133=D133),1,0) -> 0 | V133: =IF(AND(H133>"",H133=I133),1,0) -> 0
B134: =B133+1 -> 125 | D134: =IF(AND(C134>="A",C134<="E"),'Answer Sheet'!E128,"") | U134: =IF(AND(C134>"",C134=D134),1,0) -> 0
B135: =B134+1 -> 126 | D135: =IF(AND(C135>="A",C135<="E"),'Answer Sheet'!E129,"") | U135: =IF(AND(C135>"",C135=D135),1,0) -> 0
B136: =B135+1 -> 127 | D136: =IF(AND(C136>="A",C136<="E"),'Answer Sheet'!E130,"") | U136: =IF(AND(C136>"",C136=D136),1,0) -> 0
B137: =B136+1 -> 128 | D137: =IF(AND(C137>="A",C137<="E"),'Answer Sheet'!E131,"") | U137: =IF(AND(C137>"",C137=D137),1,0) -> 0
B138: =B137+1 -> 129 | D138: =IF(AND(C138>="A",C138<="E"),'Answer Sheet'!E132,"") | U138: =IF(AND(C138>"",C138=D138),1,0) -> 0
B139: =B138+1 -> 130 | D139: =IF(AND(C139>="A",C139<="E"),'Answer Sheet'!E133,"") | U139: =IF(AND(C139>"",C139=D139),1,0) -> 0
B140: =B139+1 -> 131 | D140: =IF(AND(C140>="A",C140<="E"),'Answer Sheet'!E134,"") | U140: =IF(AND(C140>"",C140=D140),1,0) -> 0
B141: =B140+1 -> 132 | D141: =IF(AND(C141>="A",C141<="E"),'Answer Sheet'!E135,"") | U141: =IF(AND(C141>"",C141=D141),1,0) -> 0
B142: =B141+1 -> 133 | D142: =IF(AND(C142>="A",C142<="E"),'Answer Sheet'!E136,"") | U142: =IF(AND(C142>"",C142=D142),1,0) -> 0
B143: =B142+1 -> 134 | D143: =IF(AND(C143>="A",C143<="E"),'Answer Sheet'!E137,"") | U143: =IF(AND(C143>"",C143=D143),1,0) -> 0
B144: =B143+1 -> 135 | D144: =IF(AND(C144>="A",C144<="E"),'Answer Sheet'!E138,"") | U144: =IF(AND(C144>"",C144=D144),1,0) -> 0
B145: =B144+1 -> 136 | D145: =IF(AND(C145>="A",C145<="E"),'Answer Sheet'!E139,"") | U145: =IF(AND(C145>"",C145=D145),1,0) -> 0
... B185: =B184+1 -> 176 | D185: =IF(AND(C185>="A",C185<="E"),'Answer Sheet'!E179,"") | U185: =IF(AND(C185>"",C185=D185),1,0) -> 0

Sheet OG Verbal Review 2016
B2: Question Type | D2: # answered | E2: # correct | F2: % correct
B3: Reading Comprehension | D3: =COUNTIF(C$11:C$114,">""") -> 0 | E3: =SUM(U11:U114) -> 0 | F3: =IF(D3=0,"",E3/D3)
B4: Critical Reasoning | D4: =COUNTIF(H$11:H$93,">""") -> 0 | E4: =SUM(V11:V93) -> 0 | F4: =IF(D4=0,"",E4/D4)
B5: Sentence Correction | D5: =COUNTIF(M$11:M$123,">""") -> 0 | E5: =SUM(W11:W123) -> 0 | F5: =IF(D5=0,"",E5/D5)
AF7: Flag
B9: Reading Comprehension Questions | G9: Critical Reasoning Questions | L9: Sentence Correction Questions | U9: RC | V9: CR | W9: SC
B10: Question | C10: Your answer | D10: Correct Answer | E10: Flag question | G10: Question | H10: Your answer | I10: Correct Answer | J10: Flag question | L10: Question | M10: Your answer | N10: Correct Answer | O10: Flag question
B11: 1 | D11: =IF(AND(C11>="A",C11<="E"),'Answer Sheet'!B4,"") | G11: 1 | I11: =IF(AND(H11>="A",H11<="E"),'Answer Sheet'!C4,"") | L11: 1 | N11: =IF(AND(M11>="A",M11<="E"),'Answer Sheet'!D4,"") | U11: =IF(AND(C11>"",C11=D11),1,0) -> 0 | V11: =IF(AND(H11>"",H11=I11),1,0) -> 0 | W11: =IF(AND(M11>"",M11=N11),1,0) -> 0
B12: =B11+1 -> 2 | D12: =IF(AND(C12>="A",C12<="E"),'Answer Sheet'!B5,"") | G12: =G11+1 -> 2 | I12: =IF(AND(H12>="A",H12<="E"),'Answer Sheet'!C5,"") | L12: =L11+1 -> 2 | N12: =IF(AND(M12>="A",M12<="E"),'Answer Sheet'!D5,"") | U12: =IF(AND(C12>"",C12=D12),1,0) -> 0 | V12: =IF(AND(H12>"",H12=I12),1,0) -> 0 | W12: =IF(AND(M12>"",M12=N12),1,0) -> 0
B13: =B12+1 -> 3 | D13: =IF(AND(C13>="A",C13<="E"),'Answer Sheet'!B6,"") | G13: =G12+1 -> 3 | I13: =IF(AND(H13>="A",H13<="E"),'Answer Sheet'!C6,"") | L13: =L12+1 -> 3 | N13: =IF(AND(M13>="A",M13<="E"),'Answer Sheet'!D6,"") | U13: =IF(AND(C13>"",C13=D13),1,0) -> 0 | V13: =IF(AND(H13>"",H13=I13),1,0) -> 0 | W13: =IF(AND(M13>"",M13=N13),1,0) -> 0
B14: =B13+1 -> 4 | D14: =IF(AND(C14>="A",C14<="E"),'Answer Sheet'!B7,"") | G14: =G13+1 -> 4 | I14: =IF(AND(H14>="A",H14<="E"),'Answer Sheet'!C7,"") | L14: =L13+1 -> 4 | N14: =IF(AND(M14>="A",M14<="E"),'Answer Sheet'!D7,"") | U14: =IF(AND(C14>"",C14=D14),1,0) -> 0 | V14: =IF(AND(H14>"",H14=I14),1,0) -> 0 | W14: =IF(AND(M14>"",M14=N14),1,0) -> 0
B15: =B14+1 -> 5 | D15: =IF(AND(C15>="A",C15<="E"),'Answer Sheet'!B8,"") | G15: =G14+1 -> 5 | I15: =IF(AND(H15>="A",H15<="E"),'Answer Sheet'!C8,"") | L15: =L14+1 -> 5 | N15: =IF(AND(M15>="A",M15<="E"),'Answer Sheet'!D8,"") | U15: =IF(AND(C15>"",C15=D15),1,0) -> 0 | V15: =IF(AND(H15>"",H15=I15),1,0) -> 0 | W15: =IF(AND(M15>"",M15=N15),1,0) -> 0
B16: =B15+1 -> 6 | D16: =IF(AND(C16>="A",C16<="E"),'Answer Sheet'!B9,"") | G16: =G15+1 -> 6 | I16: =IF(AND(H16>="A",H16<="E"),'Answer Sheet'!C9,"") | L16: =L15+1 -> 6 | N16: =IF(AND(M16>="A",M16<="E"),'Answer Sheet'!D9,"") | U16: =IF(AND(C16>"",C16=D16),1,0) -> 0 | V16: =IF(AND(H16>"",H16=I16),1,0) -> 0 | W16: =IF(AND(M16>"",M16=N16),1,0) -> 0
B17: =B16+1 -> 7 | D17: =IF(AND(C17>="A",C17<="E"),'Answer Sheet'!B10,"") | G17: =G16+1 -> 7 | I17: =IF(AND(H17>="A",H17<="E"),'Answer Sheet'!C10,"") | L17: =L16+1 -> 7 | N17: =IF(AND(M17>="A",M17<="E"),'Answer Sheet'!D10,"") | U17: =IF(AND(C17>"",C17=D17),1,0) -> 0 | V17: =IF(AND(H17>"",H17=I17),1,0) -> 0 | W17: =IF(AND(M17>"",M17=N17),1,0) -> 0
B18: =B17+1 -> 8 | D18: =IF(AND(C18>="A",C18<="E"),'Answer Sheet'!B11,"") | G18: =G17+1 -> 8 | I18: =IF(AND(H18>="A",H18<="E"),'Answer Sheet'!C11,"") | L18: =L17+1 -> 8 | N18: =IF(AND(M18>="A",M18<="E"),'Answer Sheet'!D11,"") | U18: =IF(AND(C18>"",C18=D18),1,0) -> 0 | V18: =IF(AND(H18>"",H18=I18),1,0) -> 0 | W18: =IF(AND(M18>"",M18=N18),1,0) -> 0
B19: =B18+1 -> 9 | D19: =IF(AND(C19>="A",C19<="E"),'Answer Sheet'!B12,"") | G19: =G18+1 -> 9 | I19: =IF(AND(H19>="A",H19<="E"),'Answer Sheet'!C12,"") | L19: =L18+1 -> 9 | N19: =IF(AND(M19>="A",M19<="E"),'Answer Sheet'!D12,"") | U19: =IF(AND(C19>"",C19=D19),1,0) -> 0 | V19: =IF(AND(H19>"",H19=I19),1,0) -> 0 | W19: =IF(AND(M19>"",M19=N19),1,0) -> 0
B20: =B19+1 -> 10 | D20: =IF(AND(C20>="A",C20<="E"),'Answer Sheet'!B13,"") | G20: =G19+1 -> 10 | I20: =IF(AND(H20>="A",H20<="E"),'Answer Sheet'!C13,"") | L20: =L19+1 -> 10 | N20: =IF(AND(M20>="A",M20<="E"),'Answer Sheet'!D13,"") | U20: =IF(AND(C20>"",C20=D20),1,0) -> 0 | V20: =IF(AND(H20>"",H20=I20),1,0) -> 0 | W20: =IF(AND(M20>"",M20=N20),1,0) -> 0
B21: =B20+1 -> 11 | D21: =IF(AND(C21>="A",C21<="E"),'Answer Sheet'!B14,"") | G21: =G20+1 -> 11 | I21: =IF(AND(H21>="A",H21<="E"),'Answer Sheet'!C14,"") | L21: =L20+1 -> 11 | N21: =IF(AND(M21>="A",M21<="E"),'Answer Sheet'!D14,"") | U21: =IF(AND(C21>"",C21=D21),1,0) -> 0 | V21: =IF(AND(H21>"",H21=I21),1,0) -> 0 | W21: =IF(AND(M21>"",M21=N21),1,0) -> 0
B22: =B21+1 -> 12 | D22: =IF(AND(C22>="A",C22<="E"),'Answer Sheet'!B15,"") | G22: =G21+1 -> 12 | I22: =IF(AND(H22>="A",H22<="E"),'Answer Sheet'!C15,"") | L22: =L21+1 -> 12 | N22: =IF(AND(M22>="A",M22<="E"),'Answer Sheet'!D15,"") | U22: =IF(AND(C22>"",C22=D22),1,0) -> 0 | V22: =IF(AND(H22>"",H22=I22),1,0) -> 0 | W22: =IF(AND(M22>"",M22=N22),1,0) -> 0
B23: =B22+1 -> 13 | D23: =IF(AND(C23>="A",C23<="E"),'Answer Sheet'!B16,"") | G23: =G22+1 -> 13 | I23: =IF(AND(H23>="A",H23<="E"),'Answer Sheet'!C16,"") | L23: =L22+1 -> 13 | N23: =IF(AND(M23>="A",M23<="E"),'Answer Sheet'!D16,"") | U23: =IF(AND(C23>"",C23=D23),1,0) -> 0 | V23: =IF(AND(H23>"",H23=I23),1,0) -> 0 | W23: =IF(AND(M23>"",M23=N23),1,0) -> 0
... B93: =B92+1 -> 83 | D93: =IF(AND(C93>="A",C93<="E"),'Answer Sheet'!B86,"") | G93: =G92+1 -> 83 | I93: =IF(AND(H93>="A",H93<="E"),'Answer Sheet'!C86,"") | L93: =L92+1 -> 83 | N93: =IF(AND(M93>="A",M93<="E"),'Answer Sheet'!D86,"") | U93: =IF(AND(C93>"",C93=D93),1,0) -> 0 | V93: =IF(AND(H93>"",H93=I93),1,0) -> 0 | W93: =IF(AND(M93>"",M93=N93),1,0) -> 0
B94: =B93+1 -> 84 | D94: =IF(AND(C94>="A",C94<="E"),'Answer Sheet'!B87,"") | L94: =L93+1 -> 84 | N94: =IF(AND(M94>="A",M94<="E"),'Answer Sheet'!D87,"") | U94: =IF(AND(C94>"",C94=D94),1,0) -> 0 | W94: =IF(AND(M94>"",M94=N94),1,0) -> 0
B95: =B94+1 -> 85 | D95: =IF(AND(C95>="A",C95<="E"),'Answer Sheet'!B88,"") | L95: =L94+1 -> 85 | N95: =IF(AND(M95>="A",M95<="E"),'Answer Sheet'!D88,"") | U95: =IF(AND(C95>"",C95=D95),1,0) -> 0 | W95: =IF(AND(M95>"",M95=N95),1,0) -> 0
B96: =B95+1 -> 86 | D96: =IF(AND(C96>="A",C96<="E"),'Answer Sheet'!B89,"") | L96: =L95+1 -> 86 | N96: =IF(AND(M96>="A",M96<="E"),'Answer Sheet'!D89,"") | U96: =IF(AND(C96>"",C96=D96),1,0) -> 0 | W96: =IF(AND(M96>"",M96=N96),1,0) -> 0
B97: =B96+1 -> 87 | D97: =IF(AND(C97>="A",C97<="E"),'Answer Sheet'!B90,"") | L97: =L96+1 -> 87 | N97: =IF(AND(M97>="A",M97<="E"),'Answer Sheet'!D90,"") | U97: =IF(AND(C97>"",C97=D97),1,0) -> 0 | W97: =IF(AND(M97>"",M97=N97),1,0) -> 0
B98: =B97+1 -> 88 | D98: =IF(AND(C98>="A",C98<="E"),'Answer Sheet'!B91,"") | L98: =L97+1 -> 88 | N98: =IF(AND(M98>="A",M98<="E"),'Answer Sheet'!D91,"") | U98: =IF(AND(C98>"",C98=D98),1,0) -> 0 | W98: =IF(AND(M98>"",M98=N98),1,0) -> 0
B99: =B98+1 -> 89 | D99: =IF(AND(C99>="A",C99<="E"),'Answer Sheet'!B92,"") | L99: =L98+1 -> 89 | N99: =IF(AND(M99>="A",M99<="E"),'Answer Sheet'!D92,"") | U99: =IF(AND(C99>"",C99=D99),1,0) -> 0 | W99: =IF(AND(M99>"",M99=N99),1,0) -> 0
B100: =B99+1 -> 90 | D100: =IF(AND(C100>="A",C100<="E"),'Answer Sheet'!B93,"") | L100: =L99+1 -> 90 | N100: =IF(AND(M100>="A",M100<="E"),'Answer Sheet'!D93,"") | U100: =IF(AND(C100>"",C100=D100),1,0) -> 0 | W100: =IF(AND(M100>"",M100=N100),1,0) -> 0
B101: =B100+1 -> 91 | D101: =IF(AND(C101>="A",C101<="E"),'Answer Sheet'!B94,"") | L101: =L100+1 -> 91 | N101: =IF(AND(M101>="A",M101<="E"),'Answer Sheet'!D94,"") | U101: =IF(AND(C101>"",C101=D101),1,0) -> 0 | W101: =IF(AND(M101>"",M101=N101),1,0) -> 0
B102: =B101+1 -> 92 | D102: =IF(AND(C102>="A",C102<="E"),'Answer Sheet'!B95,"") | L102: =L101+1 -> 92 | N102: =IF(AND(M102>="A",M102<="E"),'Answer Sheet'!D95,"") | U102: =IF(AND(C102>"",C102=D102),1,0) -> 0 | W102: =IF(AND(M102>"",M102=N102),1,0) -> 0
B103: =B102+1 -> 93 | D103: =IF(AND(C103>="A",C103<="E"),'Answer Sheet'!B96,"") | L103: =L102+1 -> 93 | N103: =IF(AND(M103>="A",M103<="E"),'Answer Sheet'!D96,"") | U103: =IF(AND(C103>"",C103=D103),1,0) -> 0 | W103: =IF(AND(M103>"",M103=N103),1,0) -> 0
B104: =B103+1 -> 94 | D104: =IF(AND(C104>="A",C104<="E"),'Answer Sheet'!B97,"") | L104: =L103+1 -> 94 | N104: =IF(AND(M104>="A",M104<="E"),'Answer Sheet'!D97,"") | U104: =IF(AND(C104>"",C104=D104),1,0) -> 0 | W104: =IF(AND(M104>"",M104=N104),1,0) -> 0
B105: =B104+1 -> 95 | D105: =IF(AND(C105>="A",C105<="E"),'Answer Sheet'!B98,"") | L105: =L104+1 -> 95 | N105: =IF(AND(M105>="A",M105<="E"),'Answer Sheet'!D98,"") | U105: =IF(AND(C105>"",C105=D105),1,0) -> 0 | W105: =IF(AND(M105>"",M105=N105),1,0) -> 0
... B114: =B113+1 -> 104 | D114: =IF(AND(C114>="A",C114<="E"),'Answer Sheet'!B107,"") | L114: =L113+1 -> 104 | N114: =IF(AND(M114>="A",M114<="E"),'Answer Sheet'!D107,"") | U114: =IF(AND(C114>"",C114=D114),1,0) -> 0 | W114: =IF(AND(M114>"",M114=N114),1,0) -> 0
B115: =B114+1 -> 105 | D115: =IF(AND(C115>="A",C115<="E"),'Answer Sheet'!B108,"") | L115: =L114+1 -> 105 | N115: =IF(AND(M115>="A",M115<="E"),'Answer Sheet'!D108,"") | W115: =IF(AND(M115>"",M115=N115),1,0) -> 0
L116: =L115+1 -> 106 | N116: =IF(AND(M116>="A",M116<="E"),'Answer Sheet'!D109,"") | W116: =IF(AND(M116>"",M116=N116),1,0) -> 0
L117: =L116+1 -> 107 | N117: =IF(AND(M117>="A",M117<="E"),'Answer Sheet'!D110,"") | W117: =IF(AND(M117>"",M117=N117),1,0) -> 0
L118: =L117+1 -> 108 | N118: =IF(AND(M118>="A",M118<="E"),'Answer Sheet'!D111,"") | W118: =IF(AND(M118>"",M118=N118),1,0) -> 0
L119: =L118+1 -> 109 | N119: =IF(AND(M119>="A",M119<="E"),'Answer Sheet'!D112,"") | W119: =IF(AND(M119>"",M119=N119),1,0) -> 0
L120: =L119+1 -> 110 | N120: =IF(AND(M120>="A",M120<="E"),'Answer Sheet'!D113,"") | W120: =IF(AND(M120>"",M120=N120),1,0) -> 0
L121: =L120+1 -> 111 | N121: =IF(AND(M121>="A",M121<="E"),'Answer Sheet'!D114,"") | W121: =IF(AND(M121>"",M121=N121),1,0) -> 0
L122: =L121+1 -> 112 | N122: =IF(AND(M122>="A",M122<="E"),'Answer Sheet'!D115,"") | W122: =IF(AND(M122>"",M122=N122),1,0) -> 0
L123: =L122+1 -> 113 | N123: =IF(AND(M123>="A",M123<="E"),'Answer Sheet'!D116,"") | W123: =IF(AND(M123>"",M123=N123),1,0) -> 0

Sheet Answer Sheet
B2: RC | C2: CR | D2: SC | E2: PS | F2: DS
B4: C | C4: B | D4: E | E4: E | F4: D
B5: E | C5: B | D5: D | E5: C | F5: C
B6: D | C6: A | D6: E | E6: A | F6: E
B7: E | C7: B | D7: B | E7: C | F7: D
B8: C | C8: D | D8: C | E8: C | F8: E
B9: D | C9: C | D9: E | E9: C | F9: A
B10: B | C10: D | D10: C | E10: E | F10: D
B11: D | C11: E | D11: D | E11: B | F11: D
B12: B | C12: B | D12: C | E12: C | F12: E
B13: E | C13: C | D13: C | E13: D | F13: C
B14: E | C14: A | D14: C | E14: C | F14: A
... B86: E | C86: C | D86: E | E86: B | F86: D
B87: B | D87: B | E87: B | F87: E
B88: C | D88: D | E88: B | F88: C
B89: C | D89: D | E89: B | F89: A
B90: E | D90: C | E90: D | F90: C
B91: D | D91: E | E91: B | F91: D
B92: E | D92: B | E92: C | F92: A
B93: D | D93: E | E93: B | F93: D
B94: B | D94: B | E94: E | F94: E
B95: B | D95: C | E95: E | F95: C
B96: C | D96: C | E96: A | F96: A
B97: B | D97: A | E97: E | F97: A
B98: A | D98: A | E98: E | F98: A
... B108: D | D108: B | E108: E | F108: A
D109: A | E109: C | F109: B
D110: E | E110: E | F110: E
D111: C | E111: C | F111: D
D112: E | E112: C | F112: E
D113: E | E113: D | F113: B
D114: B | E114: E | F114: A
D115: D | E115: D | F115: C
D116: A | E116: B | F116: A
E117: D | F117: D
E118: E | F118: E
E119: E | F119: C
E120: B | F120: E
E121: C | F121: A
E122: B | F122: E
E123: A | F123: A
E124: C | F124: B
E125: B | F125: A
E126: A | F126: A
E127: D | F127: B
E128: B
E129: C
E130: B
E131: E
E132: C
E133: B
E134: C
E135: B
E136: D
E137: D
E138: D
E139: B
... E179: B
