Workbook
Name Accuracy: OFFSET('Daily Data'!$J$2,0,0,COUNTA('Daily Data'!$J$2:$J$997),1)
Name AllData: OFFSET('Daily Data'!$A$1,0,0,COUNTA('Daily Data'!$A$1:$M$997),13)
Name Correct: OFFSET('Daily Data'!$F$2,0,0,COUNTA('Daily Data'!$F$2:$F$997),1)
Name QTime: OFFSET('Daily Data'!$H$2,0,0,COUNTA('Daily Data'!$H$2:$H$997),1)
Name Question: OFFSET('Daily Data'!$A$2,0,0,COUNTA('Daily Data'!$A$2:$A$997),1)
Name Target: OFFSET('Daily Data'!$I$2,0,0,COUNTA('Daily Data'!$I$2:$I$997),1)

Sheet Daily Data
A1: SN | B1: Question | C1: Family | D1: Type | E1: Error Type | F1: C/W | G1: Time | H1: Q. Time | I1: Target | J1: Accuracy | K1: Issue | L1: E. Type | M1: Difficulty
A2: 1 | B2: http://www.manhattangmat.com/forums/cr-question-t608.html | C2: =IF(OR(D2="Strengthen", D2="Weaken", D2="Assumption"), "A/S/W Family", (IF(OR(D2="Bold Faced", D2="Describe role A & B"), "Structure Family", IF(OR(D2="Conclusion/Inference", D2="If-true others"), "Evidence Family", "Others")))) -> A/S/W Family | D2: Strengthen | E2: In-correct | F2: =IF(E2="","",IF(E2="Correct",0,1)) -> 1 | G2: 0.0024884259 | H2: =G2 -> 0.0024884259 | I2: 0.0013888889 | J2: =IF(I2="","",1-AVERAGE(OFFSET('Daily Data'!$F$2,0,0,COUNTA('Daily Data'!$F$2:$F$997),1))) -> 0.81578947 | K2: Didn't compare the two final options as I was sure of the answer | L2: OC
A3: 2 | B3: http://www.manhattangmat.com/forums/jennifer-video-rental-outlets-in-centerville-prep-cr-t8752.html | C3: =IF(OR(D3="Strengthen", D3="Weaken", D3="Assumption"), "A/S/W Family", (IF(OR(D3="Bold Faced", D3="Describe the argument"), "Structure Family", IF(OR(D3="Conclusion/Inference", D3="If-true others"), "Evidence Family", "Others")))) -> A/S/W Family | D3: Weaken | E3: Correct | F3: =IF(E3="","",IF(E3="Correct",0,1)) -> 0 | G3: 0.0048148148 | H3: =G3-G2 -> 0.0023263889 | I3: =IF(H3="","",I2) -> 0.0013888889 | J3: =IF(I3="","",1-AVERAGE(OFFSET('Daily Data'!$F$2,0,0,COUNTA('Daily Data'!$F$2:$F$997),1))) -> 0.81578947 | K3: Didn't compare the two final options as I was sure of the answer
A4: 3 | B4: http://www.manhattangmat.com/forums/fullerenes-t7457.html | C4: =IF(OR(D4="Strengthen", D4="Weaken", D4="Assumption"), "A/S/W Family", (IF(OR(D4="Bold Faced", D4="Describe the argument"), "Structure Family", IF(OR(D4="Conclusion/Inference", D4="If-true others"), "Evidence Family", "Others")))) -> A/S/W Family | D4: Weaken | E4: Correct | F4: =IF(E4="","",IF(E4="Correct",0,1)) -> 0 | G4: 0.0076851852 | H4: =G4-G3 -> 0.0028703704 | I4: =IF(H4="","",I3) -> 0.0013888889 | J4: =IF(I4="","",1-AVERAGE(OFFSET('Daily Data'!$F$2,0,0,COUNTA('Daily Data'!$F$2:$F$997),1))) -> 0.81578947 | K4: Double the time spent. No comparison of options in the end
A5: 4 | B5: http://www.manhattangmat.com/forums/finding-of-a-survey-of-systems-magazine-subscribers-t4728.html | C5: =IF(OR(D5="Strengthen", D5="Weaken", D5="Assumption"), "A/S/W Family", (IF(OR(D5="Bold Faced", D5="Describe the argument"), "Structure Family", IF(OR(D5="Conclusion/Inference", D5="If-true others"), "Evidence Family", "Others")))) -> Others | D5: Rest | E5: Correct | F5: =IF(E5="","",IF(E5="Correct",0,1)) -> 0 | G5: 0.010590278 | H5: =G5-G4 -> 0.0029050926 | I5: =IF(H5="","",I4) -> 0.0013888889 | J5: =IF(I5="","",1-AVERAGE(OFFSET('Daily Data'!$F$2,0,0,COUNTA('Daily Data'!$F$2:$F$997),1))) -> 0.81578947 | K5: Double the time spent. The time went in understanding the argument.
A6: 5 | B6: http://gmatclub.com/forum/a-major-impediment-of-wide-accepatance-of-electrical-vehicle-104913.html | C6: =IF(OR(D6="Strengthen", D6="Weaken", D6="Assumption"), "A/S/W Family", (IF(OR(D6="Bold Faced", D6="Describe the argument"), "Structure Family", IF(OR(D6="Conclusion/Inference", D6="If-true others"), "Evidence Family", "Others")))) -> A/S/W Family | D6: Weaken | E6: Correct | F6: =IF(E6="","",IF(E6="Correct",0,1)) -> 0 | G6: 0.012824074 | H6: =G6-G5 -> 0.0022337963 | I6: =IF(H6="","",I5) -> 0.0013888889 | J6: =IF(I6="","",1-AVERAGE(OFFSET('Daily Data'!$F$2,0,0,COUNTA('Daily Data'!$F$2:$F$997),1))) -> 0.81578947 | K6: Slow. Elimination and reasoning both used.
A7: 6 | B7: http://gmatclub.com/forum/until-now-only-injectable-vaccines-104803.html | C7: =IF(OR(D7="Strengthen", D7="Weaken", D7="Assumption"), "A/S/W Family", (IF(OR(D7="Bold Faced", D7="Describe the argument"), "Structure Family", IF(OR(D7="Conclusion/Inference", D7="If-true others"), "Evidence Family", "Others")))) -> A/S/W Family | D7: Strengthen | E7: Correct | F7: =IF(E7="","",IF(E7="Correct",0,1)) -> 0 | G7: 0.014525463 | H7: =G7-G6 -> 0.0017013889 | I7: =IF(H7="","",I6) -> 0.0013888889 | J7: =IF(I7="","",1-AVERAGE(OFFSET('Daily Data'!$F$2,0,0,COUNTA('Daily Data'!$F$2:$F$997),1))) -> 0.81578947 | K7: Fast. Elimination, reasoning and quick solve. Easy and good.
A8: 7 | B8: http://www.manhattangmat.com/forums/in-parts-of-south-america-t5816.html | C8: =IF(OR(D8="Strengthen", D8="Weaken", D8="Assumption"), "A/S/W Family", (IF(OR(D8="Bold Faced", D8="Describe the argument"), "Structure Family", IF(OR(D8="Conclusion/Inference", D8="If-true others"), "Evidence Family", "Others")))) -> A/S/W Family | D8: Strengthen | E8: Correct | F8: =IF(E8="","",IF(E8="Correct",0,1)) -> 0 | G8: 0.01681713 | H8: =G8-G7 -> 0.0022916667 | I8: =IF(H8="","",I7) -> 0.0013888889 | J8: =IF(I8="","",1-AVERAGE(OFFSET('Daily Data'!$F$2,0,0,COUNTA('Daily Data'!$F$2:$F$997),1))) -> 0.81578947 | K8: Slow. OPTION COMPARISON CORRECTLY APPLIED
A9: 8 | B9: http://gmatclub.com/forum/per-capita-expenditure-of-drugs-in-voronia-gmat-prep-82043.html | C9: =IF(OR(D9="Strengthen", D9="Weaken", D9="Assumption"), "A/S/W Family", (IF(OR(D9="Bold Faced", D9="Describe the argument"), "Structure Family", IF(OR(D9="Conclusion/Inference", D9="If-true others"), "Evidence Family", "Others")))) -> A/S/W Family | D9: Strengthen | E9: Correct | F9: =IF(E9="","",IF(E9="Correct",0,1)) -> 0 | G9: 0.018645833 | H9: =G9-G8 -> 0.0018287037 | I9: =IF(H9="","",I8) -> 0.0013888889 | J9: =IF(I9="","",1-AVERAGE(OFFSET('Daily Data'!$F$2,0,0,COUNTA('Daily Data'!$F$2:$F$997),1))) -> 0.81578947 | K9: Fast. Elimination, reasoning and quick solve. Easy and good.
A10: 9 | B10: http://www.manhattangmat.com/forums/please-help-me-with-this-one-t7546.html | C10: =IF(OR(D10="Strengthen", D10="Weaken", D10="Assumption"), "A/S/W Family", (IF(OR(D10="Bold Faced", D10="Describe the argument"), "Structure Family", IF(OR(D10="Conclusion/Inference", D10="If-true others"), "Evidence Family", "Others")))) -> Evidence Family | D10: Conclusion/Inference | E10: Correct | F10: =IF(E10="","",IF(E10="Correct",0,1)) -> 0 | G10: 0.020497685 | H10: =G10-G9 -> 0.0018518519 | I10: =IF(H10="","",I9) -> 0.0013888889 | J10: =IF(I10="","",1-AVERAGE(OFFSET('Daily Data'!$F$2,0,0,COUNTA('Daily Data'!$F$2:$F$997),1))) -> 0.81578947 | K10: Fast. Elimination, reasoning and quick solve. Could we do it faster??
A11: 10 | B11: http://gmatclub.com/forum/united-lumber-104662.html | C11: =IF(OR(D11="Strengthen", D11="Weaken", D11="Assumption"), "A/S/W Family", (IF(OR(D11="Bold Faced", D11="Describe the argument"), "Structure Family", IF(OR(D11="Conclusion/Inference", D11="If-true others"), "Evidence Family", "Others")))) -> A/S/W Family | D11: Strengthen | E11: Correct | F11: =IF(E11="","",IF(E11="Correct",0,1)) -> 0 | G11: 0.022546296 | H11: =G11-G10 -> 0.0020486111 | I11: =IF(H11="","",I10) -> 0.0013888889 | J11: =IF(I11="","",1-AVERAGE(OFFSET('Daily Data'!$F$2,0,0,COUNTA('Daily Data'!$F$2:$F$997),1))) -> 0.81578947 | K11: Slow. OPTION COMPARISON CORRECTLY APPLIED
A12: 11 | B12: http://www.manhattangmat.com/forums/it-is-theoretically-possible-that-bacteria-developed-t7783.html | C12: =IF(OR(D12="Strengthen", D12="Weaken", D12="Assumption"), "A/S/W Family", (IF(OR(D12="Bold Faced", D12="Describe the argument"), "Structure Family", IF(OR(D12="Conclusion/Inference", D12="If-true others"), "Evidence Family", "Others")))) -> A/S/W Family | D12: Weaken | E12: Correct | F12: =IF(E12="","",IF(E12="Correct",0,1)) -> 0 | G12: 0.024085648 | H12: =G12-G11 -> 0.0015393519 | I12: =IF(H12="","",I11) -> 0.0013888889 | J12: =IF(I12="","",1-AVERAGE(OFFSET('Daily Data'!$F$2,0,0,COUNTA('Daily Data'!$F$2:$F$997),1))) -> 0.81578947 | K12: Fast. Elimination, reasoning and quick solve. Could we do it faster??
A13: 12 | B13: http://www.manhattangmat.com/forums/cr-in-response-to-mounting-pubic-concern-an-airplane-t7984.html | C13: =IF(OR(D13="Strengthen", D13="Weaken", D13="Assumption"), "A/S/W Family", (IF(OR(D13="Bold Faced", D13="Describe the argument"), "Structure Family", IF(OR(D13="Conclusion/Inference", D13="If-true others"), "Evidence Family", "Others")))) -> A/S/W Family | D13: Assumption | E13: In-correct | F13: =IF(E13="","",IF(E13="Correct",0,1)) -> 1 | G13: 0.026643519 | H13: =G13-G12 -> 0.0025578704 | I13: =IF(H13="","",I12) -> 0.0013888889 | J13: =IF(I13="","",1-AVERAGE(OFFSET('Daily Data'!$F$2,0,0,COUNTA('Daily Data'!$F$2:$F$997),1))) -> 0.81578947 | K13: Slow. Assumption basics error done, new information in the option added and didn't stick with the basics. | L13: NI
A14: 13 | B14: http://www.manhattangmat.com/forums/burton-tool-bold-face-t9823.html | C14: =IF(OR(D14="Strengthen", D14="Weaken", D14="Assumption"), "A/S/W Family", (IF(OR(D14="Bold Faced", D14="Describe the argument"), "Structure Family", IF(OR(D14="Conclusion/Inference", D14="If-true others"), "Evidence Family", "Others")))) -> Structure Family | D14: Bold Faced | E14: Correct | F14: =IF(E14="","",IF(E14="Correct",0,1)) -> 0 | G14: 0.028564815 | H14: =G14-G13 -> 0.0019212963 | I14: =IF(H14="","",I13) -> 0.0013888889 | J14: =IF(I14="","",1-AVERAGE(OFFSET('Daily Data'!$F$2,0,0,COUNTA('Daily Data'!$F$2:$F$997),1))) -> 0.81578947 | K14: Bold faced, stuck with the basics and found the answer
A15: 14 | B15: http://www.manhattangmat.com/forums/the-recent-decline-in-numbers-of-the-tennessee-warbler-t8066.html | C15: =IF(OR(D15="Strengthen", D15="Weaken", D15="Assumption"), "A/S/W Family", (IF(OR(D15="Bold Faced", D15="Describe the argument"), "Structure Family", IF(OR(D15="Conclusion/Inference", D15="If-true others"), "Evidence Family", "Others")))) -> A/S/W Family | D15: Weaken | E15: Correct | F15: =IF(E15="","",IF(E15="Correct",0,1)) -> 0 | G15: 0.031122685 | H15: =G15-G14 -> 0.0025578704 | I15: =IF(H15="","",I14) -> 0.0013888889 | J15: =IF(I15="","",1-AVERAGE(OFFSET('Daily Data'!$F$2,0,0,COUNTA('Daily Data'!$F$2:$F$997),1))) -> 0.81578947 | K15: Slow, but followed elimination path
A16: 15 | B16: http://www.manhattangmat.com/forums/superoxy-t7205.html | C16: =IF(OR(D16="Strengthen", D16="Weaken", D16="Assumption"), "A/S/W Family", (IF(OR(D16="Bold Faced", D16="Describe the argument"), "Structure Family", IF(OR(D16="Conclusion/Inference", D16="If-true others"), "Evidence Family", "Others")))) -> Structure Family | D16: Bold Faced | E16: Correct | F16: =IF(E16="","",IF(E16="Correct",0,1)) -> 0 | G16: 0.032511574 | H16: =G16-G15 -> 0.0013888889 | I16: =IF(H16="","",I15) -> 0.0013888889 | J16: =IF(I16="","",1-AVERAGE(OFFSET('Daily Data'!$F$2,0,0,COUNTA('Daily Data'!$F$2:$F$997),1))) -> 0.81578947 | K16: Fast. Elimination, reasoning and quick solve. Easy and good.
A17: 16 | B17: http://www.manhattangmat.com/forums/traces-of-cultivated-emmer-wheat-have-been-found-among-t8331.html | C17: =IF(OR(D17="Strengthen", D17="Weaken", D17="Assumption"), "A/S/W Family", (IF(OR(D17="Bold Faced", D17="Describe the argument"), "Structure Family", IF(OR(D17="Conclusion/Inference", D17="If-true others"), "Evidence Family", "Others")))) -> A/S/W Family | D17: Strengthen | E17: Correct | F17: =IF(E17="","",IF(E17="Correct",0,1)) -> 0 | G17: 0.03568287 | H17: =G17-G16 -> 0.0031712963 | I17: =IF(H17="","",I16) -> 0.0013888889 | J17: =IF(I17="","",1-AVERAGE(OFFSET('Daily Data'!$F$2,0,0,COUNTA('Daily Data'!$F$2:$F$997),1))) -> 0.81578947 | K17: Slow. OPTION COMPARISON CORRECTLY APPLIED
A18: 17 | B18: http://www.manhattangmat.com/forums/gmac-practice-test-critical-reasoning-2-t1320.html | C18: =IF(OR(D18="Strengthen", D18="Weaken", D18="Assumption"), "A/S/W Family", (IF(OR(D18="Bold Faced", D18="Describe the argument"), "Structure Family", IF(OR(D18="Conclusion/Inference", D18="If-true others"), "Evidence Family", "Others")))) -> Structure Family | D18: Bold Faced | E18: In-correct | F18: =IF(E18="","",IF(E18="Correct",0,1)) -> 1 | G18: 0.039224537 | H18: =G18-G17 -> 0.0035416667 | I18: =IF(H18="","",I17) -> 0.0013888889 | J18: =IF(I18="","",1-AVERAGE(OFFSET('Daily Data'!$F$2,0,0,COUNTA('Daily Data'!$F$2:$F$997),1))) -> 0.81578947 | K18: Worst solving of the option. DID NOT READ ALL THE OPTIONS CAREFULLY | L18: R
A19: 18 | B19: http://www.manhattangmat.com/forums/radio-stations-with-radio-t3196.html | C19: =IF(OR(D19="Strengthen", D19="Weaken", D19="Assumption"), "A/S/W Family", (IF(OR(D19="Bold Faced", D19="Describe the argument"), "Structure Family", IF(OR(D19="Conclusion/Inference", D19="If-true others"), "Evidence Family", "Others")))) -> A/S/W Family | D19: Assumption | E19: In-correct | F19: =IF(E19="","",IF(E19="Correct",0,1)) -> 1 | G19: 0.042418981 | H19: =G19-G18 -> 0.0031944444 | I19: =IF(H19="","",I18) -> 0.0013888889 | J19: =IF(I19="","",1-AVERAGE(OFFSET('Daily Data'!$F$2,0,0,COUNTA('Daily Data'!$F$2:$F$997),1))) -> 0.81578947 | K19: Got stuck between two options and chose the wrong option. Assumption Question - Got to know that the premise must be unstated and not a new fact | L19: NI
A20: 19 | B20: http://gmatclub.com/forum/different-levaska-question-102483.html | C20: =IF(OR(D20="Strengthen", D20="Weaken", D20="Assumption"), "A/S/W Family", (IF(OR(D20="Bold Faced", D20="Describe the argument"), "Structure Family", IF(OR(D20="Conclusion/Inference", D20="If-true others"), "Evidence Family", "Others")))) -> A/S/W Family | D20: Assumption | E20: Correct | F20: =IF(E20="","",IF(E20="Correct",0,1)) -> 0 | G20: 0.04462963 | H20: =G20-G19 -> 0.0022106481 | I20: =IF(H20="","",I19) -> 0.0013888889 | J20: =IF(I20="","",1-AVERAGE(OFFSET('Daily Data'!$F$2,0,0,COUNTA('Daily Data'!$F$2:$F$997),1))) -> 0.81578947 | K20: Fast. Elimination, reasoning and quick solve. Easy and good.
A21: 20 | B21: http://www.manhattangmat.com/forums/gmatprep-cr-first-time-computer-buyers-buying-pxc-home-t10545.html | C21: =IF(OR(D21="Strengthen", D21="Weaken", D21="Assumption"), "A/S/W Family", (IF(OR(D21="Bold Faced", D21="Describe the argument"), "Structure Family", IF(OR(D21="Conclusion/Inference", D21="If-true others"), "Evidence Family", "Others")))) -> A/S/W Family | D21: Strengthen | E21: In-correct | F21: =IF(E21="","",IF(E21="Correct",0,1)) -> 1 | G21: 0.047881944 | H21: =G21-G20 -> 0.0032523148 | I21: =IF(H21="","",I20) -> 0.0013888889 | J21: =IF(I21="","",1-AVERAGE(OFFSET('Daily Data'!$F$2,0,0,COUNTA('Daily Data'!$F$2:$F$997),1))) -> 0.81578947 | K21: Used new information which seemed to be right in supporting the question prompt. | L21: NI
A22: 21 | B22: http://gmatclub.com/forum/cr-sulfur-dioxide-emission-18367.html | C22: =IF(OR(D22="Strengthen", D22="Weaken", D22="Assumption"), "A/S/W Family", (IF(OR(D22="Bold Faced", D22="Describe the argument"), "Structure Family", IF(OR(D22="Conclusion/Inference", D22="If-true others"), "Evidence Family", "Others")))) -> Others | D22: Evaluate Argument | E22: Correct | F22: =IF(E22="","",IF(E22="Correct",0,1)) -> 0 | G22: 0.049363426 | H22: =G22-G21 -> 0.0014814815 | I22: =IF(H22="","",I21) -> 0.0013888889 | J22: =IF(I22="","",1-AVERAGE(OFFSET('Daily Data'!$F$2,0,0,COUNTA('Daily Data'!$F$2:$F$997),1))) -> 0.81578947 | K22: Fast. Elimination, reasoning and quick solve. Easy and good.
A23: 22 | B23: http://gmatclub.com/forum/cr-ancient-nubians-44937.html | C23: =IF(OR(D23="Strengthen", D23="Weaken", D23="Assumption"), "A/S/W Family", (IF(OR(D23="Bold Faced", D23="Describe the argument"), "Structure Family", IF(OR(D23="Conclusion/Inference", D23="If-true others"), "Evidence Family", "Others")))) -> A/S/W Family | D23: Assumption | E23: Correct | F23: =IF(E23="","",IF(E23="Correct",0,1)) -> 0 | G23: 0.051203704 | H23: =G23-G22 -> 0.0018402778 | I23: =IF(H23="","",I22) -> 0.0013888889 | J23: =IF(I23="","",1-AVERAGE(OFFSET('Daily Data'!$F$2,0,0,COUNTA('Daily Data'!$F$2:$F$997),1))) -> 0.81578947 | K23: Fast. Elimination, reasoning and quick solve. Easy and good.
A24: 23 | B24: http://gmatclub.com/forum/cr-from-gmatprep-92011.html | C24: =IF(OR(D24="Strengthen", D24="Weaken", D24="Assumption"), "A/S/W Family", (IF(OR(D24="Bold Faced", D24="Describe the argument"), "Structure Family", IF(OR(D24="Conclusion/Inference", D24="If-true others"), "Evidence Family", "Others")))) -> Evidence Family | D24: If-true others | E24: Correct | F24: =IF(E24="","",IF(E24="Correct",0,1)) -> 0 | G24: 0.052418981 | H24: =G24-G23 -> 0.0012152778 | I24: =IF(H24="","",I23) -> 0.0013888889 | J24: =IF(I24="","",1-AVERAGE(OFFSET('Daily Data'!$F$2,0,0,COUNTA('Daily Data'!$F$2:$F$997),1))) -> 0.81578947 | K24: Fast. Elimination, reasoning and quick solve. Easy and good.
A25: 24 | B25: http://www.manhattangmat.com/forums/in-the-united-states-of-the-people-who-moved-t11279.html | C25: =IF(OR(D25="Strengthen", D25="Weaken", D25="Assumption"), "A/S/W Family", (IF(OR(D25="Bold Faced", D25="Describe the argument"), "Structure Family", IF(OR(D25="Conclusion/Inference", D25="If-true others"), "Evidence Family", "Others")))) -> A/S/W Family | D25: Weaken | E25: Correct | F25: =IF(E25="","",IF(E25="Correct",0,1)) -> 0 | G25: 0.054456019 | H25: =G25-G24 -> 0.002037037 | I25: =IF(H25="","",I24) -> 0.0013888889 | J25: =IF(I25="","",1-AVERAGE(OFFSET('Daily Data'!$F$2,0,0,COUNTA('Daily Data'!$F$2:$F$997),1))) -> 0.81578947 | K25: Followed the POE. That took time
A26: 25 | B26: http://gmatclub.com/forum/in-arumville-among-those-young-children-99480.html | C26: =IF(OR(D26="Strengthen", D26="Weaken", D26="Assumption"), "A/S/W Family", (IF(OR(D26="Bold Faced", D26="Describe the argument"), "Structure Family", IF(OR(D26="Conclusion/Inference", D26="If-true others"), "Evidence Family", "Others")))) -> A/S/W Family | D26: Strengthen | E26: Correct | F26: =IF(E26="","",IF(E26="Correct",0,1)) -> 0 | G26: 0.057314815 | H26: =G26-G25 -> 0.0028587963 | I26: =IF(H26="","",I25) -> 0.0013888889 | J26: =IF(I26="","",1-AVERAGE(OFFSET('Daily Data'!$F$2,0,0,COUNTA('Daily Data'!$F$2:$F$997),1))) -> 0.81578947
A27: 26 | B27: http://www.manhattangmat.com/forums/excavations-of-the-roman-city-of-sepphoris-t5897.html | C27: =IF(OR(D27="Strengthen", D27="Weaken", D27="Assumption"), "A/S/W Family", (IF(OR(D27="Bold Faced", D27="Describe the argument"), "Structure Family", IF(OR(D27="Conclusion/Inference", D27="If-true others"), "Evidence Family", "Others")))) -> A/S/W Family | D27: Assumption | E27: In-correct | F27: =IF(E27="","",IF(E27="Correct",0,1)) -> 1 | G27: 0.05931713 | H27: =G27-G26 -> 0.0020023148 | I27: =IF(H27="","",I26) -> 0.0013888889 | J27: =IF(I27="","",1-AVERAGE(OFFSET('Daily Data'!$F$2,0,0,COUNTA('Daily Data'!$F$2:$F$997),1))) -> 0.81578947 | K27: Another assumption question that is wrong. | L27: NI
A28: 27 | B28: http://gmatclub.com/forum/cr-city-s-plan-66120.html | C28: =IF(OR(D28="Strengthen", D28="Weaken", D28="Assumption"), "A/S/W Family", (IF(OR(D28="Bold Faced", D28="Describe the argument"), "Structure Family", IF(OR(D28="Conclusion/Inference", D28="If-true others"), "Evidence Family", "Others")))) -> A/S/W Family | D28: Weaken | E28: Correct | F28: =IF(E28="","",IF(E28="Correct",0,1)) -> 0 | G28: 0.060833333 | H28: =G28-G27 -> 0.0015162037 | I28: =IF(H28="","",I27) -> 0.0013888889 | J28: =IF(I28="","",1-AVERAGE(OFFSET('Daily Data'!$F$2,0,0,COUNTA('Daily Data'!$F$2:$F$997),1))) -> 0.81578947
A29: 28 | B29: http://gmatclub.com/forum/the-cotton-farms-of-country-q-became-so-productive-that-the-86030.html | C29: =IF(OR(D29="Strengthen", D29="Weaken", D29="Assumption"), "A/S/W Family", (IF(OR(D29="Bold Faced", D29="Describe the argument"), "Structure Family", IF(OR(D29="Conclusion/Inference", D29="If-true others"), "Evidence Family", "Others")))) -> Evidence Family | D29: If-true others | E29: Correct | F29: =IF(E29="","",IF(E29="Correct",0,1)) -> 0 | G29: 0.063263889 | H29: =G29-G28 -> 0.0024305556 | I29: =IF(H29="","",I28) -> 0.0013888889 | J29: =IF(I29="","",1-AVERAGE(OFFSET('Daily Data'!$F$2,0,0,COUNTA('Daily Data'!$F$2:$F$997),1))) -> 0.81578947
A30: 29 | B30: http://www.manhattangmat.com/forums/cr-gmat-prep-t5594.html | C30: =IF(OR(D30="Strengthen", D30="Weaken", D30="Assumption"), "A/S/W Family", (IF(OR(D30="Bold Faced", D30="Describe the argument"), "Structure Family", IF(OR(D30="Conclusion/Inference", D30="If-true others"), "Evidence Family", "Others")))) -> Others | D30: Evaluate Argument | E30: In-correct | F30: =IF(E30="","",IF(E30="Correct",0,1)) -> 1 | G30: 0.066435185 | H30: =G30-G29 -> 0.0031712963 | I30: =IF(H30="","",I29) -> 0.0013888889 | J30: =IF(I30="","",1-AVERAGE(OFFSET('Daily Data'!$F$2,0,0,COUNTA('Daily Data'!$F$2:$F$997),1))) -> 0.81578947 | K30: Followed the POE, but even eliminated the correct answer too. | L30: SO
A31: 30 | B31: http://gmatclub.com/forum/smowmobiles-in-milville-92561.html | C31: =IF(OR(D31="Strengthen", D31="Weaken", D31="Assumption"), "A/S/W Family", (IF(OR(D31="Bold Faced", D31="Describe the argument"), "Structure Family", IF(OR(D31="Conclusion/Inference", D31="If-true others"), "Evidence Family", "Others")))) -> A/S/W Family | D31: Weaken | E31: In-correct | F31: =IF(E31="","",IF(E31="Correct",0,1)) -> 1 | G31: 0.069861111 | H31: =G31-G30 -> 0.0034259259 | I31: =IF(H31="","",I30) -> 0.0013888889 | J31: =IF(I31="","",1-AVERAGE(OFFSET('Daily Data'!$F$2,0,0,COUNTA('Daily Data'!$F$2:$F$997),1))) -> 0.81578947 | K31: Incorrect even after spending so much time | L31: SO
A32: 31 | B32: http://gmatclub.com/forum/explanation-needed-93880.html | C32: =IF(OR(D32="Strengthen", D32="Weaken", D32="Assumption", D32="Evaluate Argument", D32="If-true S/W"), "A/S/W Family", (IF(OR(D32="Bold Faced", D32="Describe the argument"), "Structure Family", IF(OR(D32="Conclusion", D32="Inference"), "Conclusion", IF(D32="Explains Discrepancy","Explain","Others"))))) -> Others | D32: If True - Others | E32: Correct | F32: =IF(E32="","",IF(E32="Correct",0,1)) -> 0 | G32: 0.071064815 | H32: =G32-G31 -> 0.0012037037 | I32: =IF(H32="","",I31) -> 0.0013888889 | J32: =IF(I32="","",1-AVERAGE(OFFSET('Daily Data'!$F$2,0,0,COUNTA('Daily Data'!$F$2:$F$997),1))) -> 0.81578947
A33: 32 | B33: http://www.manhattangmat.com/forums/cr-among-people-who-t9782.html | C33: =IF(OR(D33="Strengthen", D33="Weaken", D33="Assumption"), "A/S/W Family", (IF(OR(D33="Bold Faced", D33="Describe the argument"), "Structure Family", IF(OR(D33="Conclusion/Inference", D33="If-true others"), "Evidence Family", "Others")))) -> A/S/W Family | D33: Strengthen | E33: Correct | F33: =IF(E33="","",IF(E33="Correct",0,1)) -> 0 | G33: 0.073506944 | H33: =G33-G32 -> 0.0024421296 | I33: =IF(H33="","",I32) -> 0.0013888889 | J33: =IF(I33="","",1-AVERAGE(OFFSET('Daily Data'!$F$2,0,0,COUNTA('Daily Data'!$F$2:$F$997),1))) -> 0.81578947
A34: 33 | B34: http://gmatclub.com/forum/27-gmatprep-85578.html | C34: =IF(OR(D34="Strengthen", D34="Weaken", D34="Assumption"), "A/S/W Family", (IF(OR(D34="Bold Faced", D34="Describe the argument"), "Structure Family", IF(OR(D34="Conclusion/Inference", D34="If-true others"), "Evidence Family", "Others")))) -> A/S/W Family | D34: Strengthen | E34: In-correct | F34: =IF(E34="","",IF(E34="Correct",0,1)) -> 1 | G34: 0.075416667 | H34: =G34-G33 -> 0.0019097222 | I34: =IF(H34="","",I33) -> 0.0013888889 | J34: =IF(I34="","",1-AVERAGE(OFFSET('Daily Data'!$F$2,0,0,COUNTA('Daily Data'!$F$2:$F$997),1))) -> 0.81578947 | K34: Here none of the options made any sense, so the correct answer to the strengthen this question would have to be the something that even lightly implies the answer. | L34: SO
A35: 34 | B35: http://www.manhattangmat.com/forums/cr-yeasts-capable-of-leavening-bread-t7831.html | C35: =IF(OR(D35="Strengthen", D35="Weaken", D35="Assumption"), "A/S/W Family", (IF(OR(D35="Bold Faced", D35="Describe the argument"), "Structure Family", IF(OR(D35="Conclusion/Inference", D35="If-true others"), "Evidence Family", "Others")))) -> Evidence Family | D35: If-true others | E35: Correct | F35: =IF(E35="","",IF(E35="Correct",0,1)) -> 0 | G35: 0.076886574 | H35: =G35-G34 -> 0.0014699074 | I35: =IF(H35="","",I34) -> 0.0013888889 | J35: =IF(I35="","",1-AVERAGE(OFFSET('Daily Data'!$F$2,0,0,COUNTA('Daily Data'!$F$2:$F$997),1))) -> 0.81578947
A36: 35 | B36: http://gmatclub.com/forum/balzania-83979.html | C36: =IF(OR(D36="Strengthen", D36="Weaken", D36="Assumption", D36="Evaluate Argument", D36="If-true S/W"), "A/S/W Family", (IF(OR(D36="Bold Faced", D36="Describe the argument"), "Structure Family", IF(OR(D36="Conclusion", D36="Inference"), "Conclusion", IF(D36="Explains Discrepancy","Explain","Others"))))) -> Explain | D36: Explains Discrepancy | E36: Correct | F36: =IF(E36="","",IF(E36="Correct",0,1)) -> 0 | G36: 0.0012847222 | H36: =G36 -> 0.0012847222 | I36: =IF(H36="","",I35) -> 0.0013888889 | J36: =IF(I36="","",1-AVERAGE(OFFSET('Daily Data'!$F$2,0,0,COUNTA('Daily Data'!$F$2:$F$997),1))) -> 0.81578947 | K36: Had an idea of the answer but still wanted to check if I can arrive at it.
A37: 36 | B37: http://gmatclub.com/forum/shippers-to-increase-their-use-of-triple-trucks-cr-93355.html | C37: =IF(OR(D37="Strengthen", D37="Weaken", D37="Assumption", D37="Evaluate Argument", D37="If-true S/W"), "A/S/W Family", (IF(OR(D37="Bold Faced", D37="Describe the argument"), "Structure Family", IF(OR(D37="Conclusion", D37="Inference"), "Conclusion", IF(D37="Explains Discrepancy","Explain","Others"))))) -> A/S/W Family | D37: Weaken | E37: In-correct | F37: =IF(E37="","",IF(E37="Correct",0,1)) -> 1 | G37: 0.0036111111 | H37: =G37-G36 -> 0.0023263889 | I37: =IF(H37="","",I36) -> 0.0013888889 | J37: =IF(I37="","",1-AVERAGE(OFFSET('Daily Data'!$F$2,0,0,COUNTA('Daily Data'!$F$2:$F$997),1))) -> 0.81578947 | K37: I was stuck between all the irrelevant option choices and one clear strengthener, the answer choice turned out to be that answer choice. | L37: SO
A38: 37 | B38: http://www.manhattangmat.com/forums/crotons-jays-t7731.html | C38: =IF(OR(D38="Strengthen", D38="Weaken", D38="Assumption", D38="Evaluate Argument", D38="If-true S/W"), "A/S/W Family", (IF(OR(D38="Bold Faced", D38="Describe the argument"), "Structure Family", IF(OR(D38="Conclusion", D38="Inference"), "Conclusion", IF(D38="Explains Discrepancy","Explain","Others"))))) -> A/S/W Family | D38: Strengthen | E38: Correct | F38: =IF(E38="","",IF(E38="Correct",0,1)) -> 0 | G38: 0.0057407407 | H38: =G38-G37 -> 0.0021296296 | I38: =IF(H38="","",I37) -> 0.0013888889 | J38: =IF(I38="","",1-AVERAGE(OFFSET('Daily Data'!$F$2,0,0,COUNTA('Daily Data'!$F$2:$F$997),1))) -> 0.81578947 | K38: Slow, but followed elimination path and option comparison
A39: 38 | B39: http://www.manhattangmat.com/forums/general-availability-of-high-quality-electronic-scanners-t8440.html | C39: =IF(OR(D39="Strengthen", D39="Weaken", D39="Assumption", D39="Evaluate Argument", D39="If-true S/W"), "A/S/W Family", (IF(OR(D39="Bold Faced", D39="Describe the argument"), "Structure Family", IF(OR(D39="Conclusion", D39="Inference"), "Conclusion", IF(D39="Explains Discrepancy","Explain","Others"))))) -> A/S/W Family | D39: Assumption | E39: Correct | F39: =IF(E39="","",IF(E39="Correct",0,1)) -> 0 | G39: 0.0083217593 | H39: =G39-G38 -> 0.0025810185 | I39: =IF(H39="","",I38) -> 0.0013888889 | J39: =IF(I39="","",1-AVERAGE(OFFSET('Daily Data'!$F$2,0,0,COUNTA('Daily Data'!$F$2:$F$997),1))) -> 0.81578947 | K39: My new method of seperating out new information is good and will lead to better results in Assumption questions
A40: 39 | B40: http://gmatclub.com/forum/gmatprep-cr2-52016.html | C40: =IF(OR(D40="Strengthen", D40="Weaken", D40="Assumption", D40="Evaluate Argument", D40="If-true S/W"), "A/S/W Family", (IF(OR(D40="Bold Faced", D40="Describe the argument"), "Structure Family", IF(OR(D40="Conclusion", D40="Inference"), "Conclusion", IF(D40="Explains Discrepancy","Explain","Others"))))) -> A/S/W Family | D40: Evaluate Argument | E40: Correct | F40: =IF(E40="","",IF(E40="Correct",0,1)) -> 0 | G40: 0.0099884259 | H40: =G40-G39 -> 0.0016666667 | I40: =IF(H40="","",I39) -> 0.0013888889 | J40: =IF(I40="","",1-AVERAGE(OFFSET('Daily Data'!$F$2,0,0,COUNTA('Daily Data'!$F$2:$F$997),1))) -> 0.81578947 | K40: Faster method with clear method used to solve this problem
...

Sheet Overall Analysis
A1: SN | B1: (All) | F1: Acronyms
A2: Family | B2: (All) | F2: LE | G2: Logic Error
A3: Type | B3: (All) | F3: R | G3: Question/Option misreading
A4: Difficulty | B4: (All) | F4: SO | G4: Very subtle options
F5: DW/W | G5: DW/W Error means that mis-identifying the type of option in an assumption question, which generally has 4 options - Direct Weakner, Assumption, Strengthener, Irrelevant option or Outside scopte
A6: Row Labels | B6: Average of Q. Time | C6: # of Problems | D6: % Problems | F6: RN | G6: Option negation error in Assumtion family questions
A7: 0
A8: Correct
A9: (blank) | B9: 0.0017344043 | C9: 217 | D9: 0.81578947
A10: 0 Count | B10: 217 | C10: 217 | D10: 0.81578947
A11: 0 Average | B11: 0.0017344043 | C11: 0 | D11: 0
A12: 1
A13: In-correct
A14: LE | B14: 0.0021666667 | C14: 5 | D14: 0.018796992
A15: NI | B15: 0.0024259259 | C15: 5 | D15: 0.018796992
A16: OC | B16: 0.0024050926 | C16: 5 | D16: 0.018796992
A17: R | B17: 0.0020882937 | C17: 14 | D17: 0.052631579
A18: SO | B18: 0.0024918981 | C18: 10 | D18: 0.037593985
A19: (blank) | B19: 0.0021484375 | C19: 8 | D19: 0.030075188
A20: DW/W | B20: 0.0016203704 | C20: 1 | D20: 0.0037593985
A21: RN | B21: 0.0016203704 | C21: 1 | D21: 0.0037593985
A22: 1 Count | B22: 49 | C22: 49 | D22: 0.18421053
A23: 1 Average | B23: 0.0022361584 | C23: 1 | D23: 0.0037593985
A24: (blank)
A25: (blank)
A26: (blank) | D26: 0
A27: (blank) Count | D27: 0
A28: (blank) Average | D28: 0
A29: Grand Total | B29: 0.0018268327 | C29: 266 | D29: 1

Sheet Sheet2
A1: Strengthen/TS
A2: Weaken
A3: Conclusion
A4: Assumption | F4: 700
A5: Bold Faced
A6: Evaluate Argument
A7: If True - Others | F7: =-0.0002*LN(F4) + 0.0027 -> 0.0013897839
A8: If-true S
A9: If-true W
A10: Inference
A11: Explains Discrepancy
A12: Structure
A13: Xsupport
A14: XWeaken
