Workbook

Sheet Foundation
B1: Foundation
C4: Weakest Area
C5: ="1: " & INDEX($B$17:$B$45,MATCH(LARGE($I$17:$I$45,1),$I$17:$I$45,0)) -> 1: Number Theory
C6: ="2: " & INDEX($B$17:$B$45,MATCH(LARGE($I$17:$I$45,2),$I$17:$I$45,0)) -> 2: Word Problems
C7: ="3: " & INDEX($B$17:$B$45,MATCH(LARGE($I$17:$I$45,3),$I$17:$I$45,0)) -> 3: Word Problems
C8: ="4: " & INDEX($B$17:$B$45,MATCH(LARGE($I$17:$I$45,4),$I$17:$I$45,0)) -> 4: Geometry
C9: ="5: " & INDEX($B$17:$B$45,MATCH(LARGE($I$17:$I$45,5),$I$17:$I$45,0)) -> 5: Algebra
B16: AREA | C16: SUBJECT | D16: CONCEPTS MEMORIZED? | E16: LEVEL OF MASTERY | F16: NOTES | G16: ONLINE RESOURCES | H16: STATUS | I16: PRECEDENCE EST.
B17: Number Theory | C17: Integers | D17: YES | E17: Strong | H17: =IF(AND(D17="YES",OR(E17="Mastered",E17="Very Strong",E17="STRONG")),"COMPLETE",IF(AND(D17="YES",OR(E17="Neutral",E17="Weak",E17="Very Weak",E17="Non-Existent")),"IN PROGRESS","TASK REMAINING")) -> COMPLETE | I17: =SUM(COUNTIF(H17:H27,"TASK REMAINING")*2,COUNTIF(H17:H27,"IN PROGRESS")*1,COUNTIF(H17:H27,"COMPLETE")*0)/COUNTA(H17:H27) -> 1.6363636
C18: Irrational Numbers | D18: NO | E18: Neutral | H18: =IF(AND(D18="YES",OR(E18="Mastered",E18="Very Strong",E18="STRONG")),"COMPLETE",IF(AND(D18="YES",OR(E18="Neutral",E18="Weak",E18="Very Weak",E18="Non-Existent")),"IN PROGRESS","TASK REMAINING")) -> TASK REMAINING
C19: Pos/Neg | D19: NO | E19: Neutral | H19: =IF(AND(D19="YES",OR(E19="Mastered",E19="Very Strong",E19="STRONG")),"COMPLETE",IF(AND(D19="YES",OR(E19="Neutral",E19="Weak",E19="Very Weak",E19="Non-Existent")),"IN PROGRESS","TASK REMAINING")) -> TASK REMAINING
C20: Fractions | D20: YES | E20: Neutral | H20: =IF(AND(D20="YES",OR(E20="Mastered",E20="Very Strong",E20="STRONG")),"COMPLETE",IF(AND(D20="YES",OR(E20="Neutral",E20="Weak",E20="Very Weak",E20="Non-Existent")),"IN PROGRESS","TASK REMAINING")) -> IN PROGRESS
C21: Exponents | D21: NO | E21: Neutral | H21: =IF(AND(D21="YES",OR(E21="Mastered",E21="Very Strong",E21="STRONG")),"COMPLETE",IF(AND(D21="YES",OR(E21="Neutral",E21="Weak",E21="Very Weak",E21="Non-Existent")),"IN PROGRESS","TASK REMAINING")) -> TASK REMAINING
C22: Last Digit of a Product | D22: NO | E22: Neutral | H22: =IF(AND(D22="YES",OR(E22="Mastered",E22="Very Strong",E22="STRONG")),"COMPLETE",IF(AND(D22="YES",OR(E22="Neutral",E22="Weak",E22="Very Weak",E22="Non-Existent")),"IN PROGRESS","TASK REMAINING")) -> TASK REMAINING
C23: Last Digit of a Power | D23: NO | E23: Neutral | H23: =IF(AND(D23="YES",OR(E23="Mastered",E23="Very Strong",E23="STRONG")),"COMPLETE",IF(AND(D23="YES",OR(E23="Neutral",E23="Weak",E23="Very Weak",E23="Non-Existent")),"IN PROGRESS","TASK REMAINING")) -> TASK REMAINING
C24: Roots | D24: NO | E24: Neutral | H24: =IF(AND(D24="YES",OR(E24="Mastered",E24="Very Strong",E24="STRONG")),"COMPLETE",IF(AND(D24="YES",OR(E24="Neutral",E24="Weak",E24="Very Weak",E24="Non-Existent")),"IN PROGRESS","TASK REMAINING")) -> TASK REMAINING
C25: Percents | D25: YES | E25: Neutral | H25: =IF(AND(D25="YES",OR(E25="Mastered",E25="Very Strong",E25="STRONG")),"COMPLETE",IF(AND(D25="YES",OR(E25="Neutral",E25="Weak",E25="Very Weak",E25="Non-Existent")),"IN PROGRESS","TASK REMAINING")) -> IN PROGRESS
C26: GCF/LCM | D26: NO | E26: Neutral | H26: =IF(AND(D26="YES",OR(E26="Mastered",E26="Very Strong",E26="STRONG")),"COMPLETE",IF(AND(D26="YES",OR(E26="Neutral",E26="Weak",E26="Very Weak",E26="Non-Existent")),"IN PROGRESS","TASK REMAINING")) -> TASK REMAINING
C27: Statistics | D27: NO | E27: Neutral | G27: http://gmatclub.com/forum/statistics-made-easy-all-in-one-topic-203966.html | H27: =IF(AND(D27="YES",OR(E27="Mastered",E27="Very Strong",E27="STRONG")),"COMPLETE",IF(AND(D27="YES",OR(E27="Neutral",E27="Weak",E27="Very Weak",E27="Non-Existent")),"IN PROGRESS","TASK REMAINING")) -> TASK REMAINING
B28: Algebra | C28: Absolute Value | D28: YES | E28: Neutral | H28: =IF(AND(D28="YES",OR(E28="Mastered",E28="Very Strong",E28="STRONG")),"COMPLETE",IF(AND(D28="YES",OR(E28="Neutral",E28="Weak",E28="Very Weak",E28="Non-Existent")),"IN PROGRESS","TASK REMAINING")) -> IN PROGRESS | I28: =SUM(COUNTIF(H28:H31,"TASK REMAINING")*2,COUNTIF(H28:H31,"IN PROGRESS")*1,COUNTIF(H28:H31,"COMPLETE")*0)/COUNTA(H28:H31) -> 1
C29: Inequalities | D29: YES | E29: Neutral | H29: =IF(AND(D29="YES",OR(E29="Mastered",E29="Very Strong",E29="STRONG")),"COMPLETE",IF(AND(D29="YES",OR(E29="Neutral",E29="Weak",E29="Very Weak",E29="Non-Existent")),"IN PROGRESS","TASK REMAINING")) -> IN PROGRESS
C30: Remainders | D30: YES | E30: Neutral | F30: Revisit #12 math book for mastery (remainders with trailing zeros) | G30: http://gmatclub.com/forum/compilation-of-tips-and-tricks-to-deal-with-remainders-86714.html | H30: =IF(AND(D30="YES",OR(E30="Mastered",E30="Very Strong",E30="STRONG")),"COMPLETE",IF(AND(D30="YES",OR(E30="Neutral",E30="Weak",E30="Very Weak",E30="Non-Existent")),"IN PROGRESS","TASK REMAINING")) -> IN PROGRESS
C31: Exponents | D31: YES | E31: Neutral | H31: =IF(AND(D31="YES",OR(E31="Mastered",E31="Very Strong",E31="STRONG")),"COMPLETE",IF(AND(D31="YES",OR(E31="Neutral",E31="Weak",E31="Very Weak",E31="Non-Existent")),"IN PROGRESS","TASK REMAINING")) -> IN PROGRESS
B32: Word Problems | C32: Distance/Speed/Time | D32: YES | E32: Neutral | G32: http://gmatclub.com/forum/distance-speed-time-word-problems-made-easy-87481.html | H32: =IF(AND(D32="YES",OR(E32="Mastered",E32="Very Strong",E32="STRONG")),"COMPLETE",IF(AND(D32="YES",OR(E32="Neutral",E32="Weak",E32="Very Weak",E32="Non-Existent")),"IN PROGRESS","TASK REMAINING")) -> IN PROGRESS | I32: =SUM(COUNTIF(H32:H35,"TASK REMAINING")*2,COUNTIF(H32:H35,"IN PROGRESS")*1,COUNTIF(H32:H35,"COMPLETE")*0)/COUNTA(H32:H35) -> 1.5
C33: Work | D33: YES | E33: Neutral | F33: THINK about the problem before you fill in chart. Otherwise, you WILL start to think circularly | H33: =IF(AND(D33="YES",OR(E33="Mastered",E33="Very Strong",E33="STRONG")),"COMPLETE",IF(AND(D33="YES",OR(E33="Neutral",E33="Weak",E33="Very Weak",E33="Non-Existent")),"IN PROGRESS","TASK REMAINING")) -> IN PROGRESS
C34: Overlapping Sets | D34: NO | E34: Neutral | F34: Solid base. Moving to advanced will not take too long. Could use more work w/ matrices | G34: http://gmatclub.com/forum/how-to-draw-a-venn-diagram-for-problems-98036.html | H34: =IF(AND(D34="YES",OR(E34="Mastered",E34="Very Strong",E34="STRONG")),"COMPLETE",IF(AND(D34="YES",OR(E34="Neutral",E34="Weak",E34="Very Weak",E34="Non-Existent")),"IN PROGRESS","TASK REMAINING")) -> TASK REMAINING
C35: Algebraic Translations | D35: NO | E35: Neutral | H35: =IF(AND(D35="YES",OR(E35="Mastered",E35="Very Strong",E35="STRONG")),"COMPLETE",IF(AND(D35="YES",OR(E35="Neutral",E35="Weak",E35="Very Weak",E35="Non-Existent")),"IN PROGRESS","TASK REMAINING")) -> TASK REMAINING
B36: Geometry | C36: Polygons | D36: YES | E36: Neutral | H36: =IF(AND(D36="YES",OR(E36="Mastered",E36="Very Strong",E36="STRONG")),"COMPLETE",IF(AND(D36="YES",OR(E36="Neutral",E36="Weak",E36="Very Weak",E36="Non-Existent")),"IN PROGRESS","TASK REMAINING")) -> IN PROGRESS | I36: =SUM(COUNTIF(H36:H39,"TASK REMAINING")*2,COUNTIF(H36:H39,"IN PROGRESS")*1,COUNTIF(H36:H39,"COMPLETE")*0)/COUNTA(H36:H39) -> 1.25
C37: Circles | D37: YES | E37: Neutral | H37: =IF(AND(D37="YES",OR(E37="Mastered",E37="Very Strong",E37="STRONG")),"COMPLETE",IF(AND(D37="YES",OR(E37="Neutral",E37="Weak",E37="Very Weak",E37="Non-Existent")),"IN PROGRESS","TASK REMAINING")) -> IN PROGRESS
C38: Triangles | D38: NO | E38: Neutral | F38: Mastery level: heavy focus on proportionality (e.g. what can be derived about an angle given a side and so on) | H38: =IF(AND(D38="YES",OR(E38="Mastered",E38="Very Strong",E38="STRONG")),"COMPLETE",IF(AND(D38="YES",OR(E38="Neutral",E38="Weak",E38="Very Weak",E38="Non-Existent")),"IN PROGRESS","TASK REMAINING")) -> TASK REMAINING
C39: Coordinate Geometry | D39: YES | E39: Neutral | H39: =IF(AND(D39="YES",OR(E39="Mastered",E39="Very Strong",E39="STRONG")),"COMPLETE",IF(AND(D39="YES",OR(E39="Neutral",E39="Weak",E39="Very Weak",E39="Non-Existent")),"IN PROGRESS","TASK REMAINING")) -> IN PROGRESS
B40: Counting | C40: Factorials | D40: NO | E40: Neutral | H40: =IF(AND(D40="YES",OR(E40="Mastered",E40="Very Strong",E40="STRONG")),"COMPLETE",IF(AND(D40="YES",OR(E40="Neutral",E40="Weak",E40="Very Weak",E40="Non-Existent")),"IN PROGRESS","TASK REMAINING")) -> TASK REMAINING | I40: =SUM(COUNTIF(H40:H45,"TASK REMAINING")*2,COUNTIF(H40:H45,"IN PROGRESS")*1,COUNTIF(H40:H45,"COMPLETE")*0)/COUNTA(H40:H45) -> 1.5
C41: Enumeration | D41: YES | E41: Neutral | H41: =IF(AND(D41="YES",OR(E41="Mastered",E41="Very Strong",E41="STRONG")),"COMPLETE",IF(AND(D41="YES",OR(E41="Neutral",E41="Weak",E41="Very Weak",E41="Non-Existent")),"IN PROGRESS","TASK REMAINING")) -> IN PROGRESS
C42: Counting | D42: NO | E42: Neutral | H42: =IF(AND(D42="YES",OR(E42="Mastered",E42="Very Strong",E42="STRONG")),"COMPLETE",IF(AND(D42="YES",OR(E42="Neutral",E42="Weak",E42="Very Weak",E42="Non-Existent")),"IN PROGRESS","TASK REMAINING")) -> TASK REMAINING
C43: Combinations & Permutations | D43: YES | E43: Neutral | H43: =IF(AND(D43="YES",OR(E43="Mastered",E43="Very Strong",E43="STRONG")),"COMPLETE",IF(AND(D43="YES",OR(E43="Neutral",E43="Weak",E43="Very Weak",E43="Non-Existent")),"IN PROGRESS","TASK REMAINING")) -> IN PROGRESS
C44: Probability | D44: YES | E44: Neutral | H44: =IF(AND(D44="YES",OR(E44="Mastered",E44="Very Strong",E44="STRONG")),"COMPLETE",IF(AND(D44="YES",OR(E44="Neutral",E44="Weak",E44="Very Weak",E44="Non-Existent")),"IN PROGRESS","TASK REMAINING")) -> IN PROGRESS
C45: Sequences & Progressions | D45: NO | E45: Neutral | G45: http://gmatclub.com/forum/guide-to-series-and-sequences-arithmetic-and-geometric-85969.html | H45: =IF(AND(D45="YES",OR(E45="Mastered",E45="Very Strong",E45="STRONG")),"COMPLETE",IF(AND(D45="YES",OR(E45="Neutral",E45="Weak",E45="Very Weak",E45="Non-Existent")),"IN PROGRESS","TASK REMAINING")) -> TASK REMAINING
B46: Other Notes
C47: A subject will only be considered "strong" or higher if error rate is reasonably low and concepts are understood at theoretical level
C48: "Concepts memorized": Essential formulas, properties, etc

Sheet OG Error Log Data
A1: PROBLEM SOLVING | B1: ANSWER | C1: OA | D1: AREA | E1: SUBJECT | F1: Specific Errors | H1: DATA SUFFICIENCY | I1: ANSWER | J1: OA | K1: AREA | L1: SUBJECT | M1: Specific Errors | O1: READING COMPREHENSION | P1: ANSWER | Q1: OA | R1: AREA | S1: NOTES | U1: CRITICAL REASONING | V1: ANSWER | W1: OA | X1: NOTES | AA1: SENTENCE CORRECTION | AB1: ANSWER | AC1: OA | AD1: Error?
A2: 1 | C2: E | H2: 231 | J2: A | O2: 405 | Q2: B | U2: 544 | W2: E | AA2: 668 | AC2: B
A3: 2 | C3: D | H3: 232 | J3: E | O3: 406 | Q3: B | U3: 545 | W3: C | AA3: 669 | AC3: D
A4: 3 | C4: A | H4: 233 | J4: C | O4: 407 | Q4: D | U4: 546 | W4: A | AA4: 670 | AC4: C
A5: 4 | C5: C | H5: 234 | J5: A | O5: 408 | Q5: A | U5: 547 | W5: A | AA5: 671 | AC5: B
A6: 5 | C6: D | H6: 235 | J6: C | O6: 409 | Q6: C | U6: 548 | W6: B | AA6: 672 | AC6: B
A7: 6 | C7: C | H7: 236 | J7: C | O7: 410 | Q7: D | U7: 549 | W7: E | AA7: 673 | AC7: C
A8: 7 | C8: E | H8: 237 | J8: C | O8: 411 | Q8: B | U8: 550 | W8: C | AA8: 674 | AC8: D
A9: 8 | C9: E | H9: 238 | J9: B | O9: 412 | Q9: D | U9: 551 | W9: E | AA9: 675 | AB9: A | AC9: A
A10: 9 | C10: D | H10: 239 | J10: D | O10: 413 | Q10: D | U10: 552 | W10: A | AA10: 676 | AB10: E | AC10: E
A11: 10 | C11: E | H11: 240 | J11: D | O11: 414 | Q11: B | U11: 553 | W11: A | AA11: 677 | AC11: D
A12: 11 | C12: A | H12: 241 | J12: C | O12: 415 | Q12: C | U12: 554 | W12: B | AA12: 678 | AC12: E
A13: 12 | C13: C | H13: 242 | J13: D | O13: 416 | Q13: C | U13: 555 | W13: C | AA13: 679 | AC13: B
A14: 13 | C14: B | H14: 243 | J14: C | O14: 417 | Q14: E | U14: 556 | W14: D | AA14: 680 | AC14: C
A15: 14 | C15: B | H15: 244 | J15: E | O15: 418 | Q15: A | U15: 557 | W15: D | AA15: 681 | AC15: D
A16: 15 | C16: D | H16: 245 | J16: E | O16: 419 | Q16: C | U16: 558 | W16: A | AA16: 682 | AC16: B
A17: 16 | C17: A | H17: 246 | J17: E | O17: 420 | Q17: B | U17: 559 | W17: C | AA17: 683 | AC17: E
A18: 17 | C18: B | H18: 247 | J18: D | O18: 421 | Q18: B | U18: 560 | W18: D | AA18: 684 | AC18: C
A19: 18 | C19: D | H19: 248 | J19: E | O19: 422 | Q19: A | U19: 561 | W19: D | AA19: 685 | AC19: B
A20: 19 | C20: B | H20: 249 | J20: D | O20: 423 | Q20: D | U20: 562 | W20: C | AA20: 686 | AC20: C
A21: 20 | C21: C | H21: 250 | J21: D | O21: 424 | Q21: E | U21: 563 | W21: E | AA21: 687 | AC21: A
A22: 21 | C22: C | H22: 251 | J22: D | O22: 425 | Q22: A | U22: 564 | W22: E | AA22: 688 | AC22: D
... A63: 62 | C63: E | H63: 292 | J63: C | O63: 466 | Q63: E | U63: 605 | W63: A | AA63: 729 | AC63: C
A64: 63 | C64: E | H64: 293 | J64: E | O64: 467 | Q64: D | U64: 606 | AA64: 730 | AC64: E
A65: 64 | C65: D | H65: 294 | J65: E | O65: 468 | Q65: C | U65: 607 | AA65: 731 | AC65: D
A66: 65 | C66: B | H66: 295 | J66: D | O66: 469 | Q66: B | U66: 608 | AA66: 732 | AC66: E
A67: 66 | C67: B | H67: 296 | J67: E | O67: 470 | Q67: A | U67: 609 | AA67: 733 | AC67: B
A68: 67 | C68: C | H68: 297 | J68: D | O68: 471 | Q68: A | U68: 610 | AA68: 734 | AC68: B
A69: 68 | C69: D | H69: 298 | J69: E | O69: 472 | Q69: B | U69: 611 | AA69: 735 | AC69: A
A70: 69 | C70: D | H70: 299 | J70: C | O70: 473 | Q70: E | U70: 612 | AA70: 736 | AC70: B
A71: 70 | C71: D | H71: 300 | J71: C | O71: 474 | Q71: D | U71: 613 | AA71: 737 | AC71: B
A72: 71 | C72: D | H72: 301 | J72: B | O72: 475 | Q72: D | U72: 614 | AA72: 738 | AC72: B
A73: 72 | C73: D | H73: 302 | J73: C | O73: 476 | Q73: B | U73: 615 | AA73: 739 | AC73: A
A74: 73 | C74: B | H74: 303 | J74: B | O74: 477 | Q74: C | U74: 616 | AA74: 740 | AC74: E
A75: 74 | C75: D | H75: 304 | J75: D | O75: 478 | Q75: B | U75: 617 | AA75: 741 | AC75: B
... A89: 88 | C89: A | H89: 318 | J89: C | O89: 492 | Q89: C | U89: 631 | AA89: 755 | AC89: B
A90: 89 | C90: A | H90: 319 | J90: B | O90: 493 | Q90: E | U90: 632 | AA90: 756
A91: 90 | C91: E | H91: 320 | J91: A | O91: 494 | Q91: B | U91: 633 | AA91: 757
A92: 91 | C92: D | H92: 321 | J92: D | O92: 495 | Q92: D | U92: 634 | AA92: 758
A93: 92 | C93: A | H93: 322 | J93: B | O93: 496 | Q93: E | U93: 635 | AA93: 759
A94: 93 | C94: E | H94: 323 | J94: C | O94: 497 | Q94: E | U94: 636 | AA94: 760
A95: 94 | C95: D | H95: 324 | J95: A | O95: 498 | Q95: D | U95: 637 | AA95: 761
A96: 95 | C96: B | H96: 325 | J96: B | O96: 499 | Q96: B | U96: 638 | AA96: 762
A97: 96 | C97: E | H97: 326 | J97: A | O97: 500 | Q97: C | U97: 639 | AA97: 763
A98: 97 | C98: E | H98: 327 | J98: E | O98: 501 | Q98: D | U98: 640 | AA98: 764
A99: 98 | C99: D | H99: 328 | J99: A | O99: 502 | Q99: A | U99: 641 | AA99: 765
A100: 99 | C100: E | H100: 329 | J100: D | O100: 503 | Q100: C | U100: 642 | AA100: 766
A101: 100 | C101: A | H101: 330 | J101: A | O101: 504 | Q101: D | U101: 643 | AA101: 767
... A103: 102 | C103: D | H103: 332 | J103: C | O103: 506 | Q103: A | U103: 645 | AA103: 769
A104: 103 | C104: D | H104: 333 | J104: D | O104: 507 | Q104: D | U104: 646 | W104: A | AA104: 770
A105: 104 | C105: C | H105: 334 | J105: A | O105: 508 | Q105: E | U105: 647 | W105: C | AA105: 771
A106: 105 | C106: B | H106: 335 | J106: A | O106: 509 | Q106: D | U106: 648 | W106: C | AA106: 772
A107: 106 | C107: D | H107: 336 | J107: E | O107: 510 | Q107: B | U107: 649 | W107: B | AA107: 773
A108: 107 | C108: E | H108: 337 | J108: D | O108: 511 | Q108: C | U108: 650 | W108: A | AA108: 774
A109: 108 | C109: C | H109: 338 | J109: B | O109: 512 | Q109: A | U109: 651 | W109: B | AA109: 775
A110: 109 | C110: D | H110: 339 | J110: D | O110: 513 | Q110: C | U110: 652 | W110: E | AA110: 776
A111: 110 | C111: B | H111: 340 | J111: C | O111: 514 | Q111: B | U111: 653 | W111: D | AA111: 777
A112: 111 | C112: A | H112: 341 | J112: A | O112: 515 | Q112: D | U112: 654 | W112: B | AA112: 778
A113: 112 | C113: D | H113: 342 | J113: C | O113: 516 | Q113: C | U113: 655 | W113: D | AA113: 779
A114: 113 | C114: A | H114: 343 | J114: A | O114: 517 | Q114: D | U114: 656 | W114: A | AA114: 780
A115: 114 | C115: E | H115: 344 | J115: D | O115: 518 | Q115: A | U115: 657 | W115: C | AA115: 781 | AC115: B
A116: 115 | C116: D | H116: 345 | J116: D | O116: 519 | Q116: C | U116: 658 | W116: D | AA116: 782 | AC116: A
A117: 116 | C117: B | H117: 346 | J117: E | O117: 520 | Q117: D | U117: 659 | W117: E | AA117: 783 | AC117: C
A118: 117 | C118: C | H118: 347 | J118: E | O118: 521 | Q118: C | U118: 660 | W118: E | AA118: 784 | AC118: B
A119: 118 | C119: A | H119: 348 | J119: C | O119: 522 | Q119: C | U119: 661 | W119: D | AA119: 785 | AC119: C
A120: 119 | C120: A | H120: 349 | J120: D | O120: 523 | Q120: B | U120: 662 | W120: B | AA120: 786 | AC120: D
A121: 120 | C121: A | H121: 350 | J121: E | O121: 524 | Q121: A | U121: 663 | W121: E | AA121: 787 | AC121: C
A122: 121 | C122: E | H122: 351 | J122: B | O122: 525 | Q122: B | U122: 664 | W122: C | AA122: 788 | AC122: A
A123: 122 | C123: D | H123: 352 | J123: B | O123: 526 | Q123: D | U123: 665 | W123: E | AA123: 789 | AC123: D
A124: 123 | C124: C | H124: 353 | J124: C | O124: 527 | Q124: A | U124: 666 | W124: A | AA124: 790 | AC124: C
A125: 124 | C125: C | H125: 354 | J125: D | O125: 528 | Q125: C | U125: 667 | W125: B | AA125: 791 | AC125: B
A126: 125 | C126: A | H126: 355 | J126: C | O126: 529 | Q126: A | AA126: 792 | AC126: C
A127: 126 | C127: D | H127: 356 | J127: C | O127: 530 | Q127: E | AA127: 793 | AC127: B
A128: 127 | C128: E | H128: 357 | J128: B | O128: 531 | Q128: B | AA128: 794 | AC128: A
A129: 128 | C129: A | H129: 358 | J129: A | O129: 532 | Q129: D | AA129: 795 | AC129: E
A130: 129 | C130: B | H130: 359 | J130: D | O130: 533 | Q130: C | AA130: 796 | AC130: E
A131: 130 | C131: E | H131: 360 | J131: A | O131: 534 | Q131: D | AA131: 797 | AC131: E
A132: 131 | C132: E | H132: 361 | J132: A | O132: 535 | Q132: E | AA132: 798 | AC132: D
A133: 132 | C133: B | H133: 362 | J133: E | O133: 536 | Q133: C | AA133: 799 | AC133: A
A134: 133 | C134: C | H134: 363 | J134: D | O134: 537 | Q134: B | AA134: 800 | AC134: B
A135: 134 | C135: B | H135: 364 | J135: B | O135: 538 | Q135: A | AA135: 801 | AC135: A
A136: 135 | C136: E | H136: 365 | J136: B | O136: 539 | Q136: C | AA136: 802 | AC136: E
A137: 136 | C137: D | H137: 366 | J137: E | O137: 540 | Q137: D | AA137: 803 | AC137: A
... A139: 138 | C139: C | H139: 368 | J139: B | O139: 542 | Q139: D | AA139: 805 | AC139: D
A140: 139 | C140: C | H140: 369 | J140: D | O140: =O2:O140543 -> 0 | Q140: C | AA140: 806 | AC140: C
A141: 140 | C141: A | H141: 370 | J141: A | AA141: 807 | AC141: E
A142: 141 | C142: B | H142: 371 | J142: E
A143: 142 | C143: B | H143: 372 | J143: D
A144: 143 | C144: D | H144: 373 | J144: D
A145: 144 | C145: E | H145: 374 | J145: D
A146: 145 | C146: B | H146: 375 | J146: C
A147: 146 | C147: C | H147: 376 | J147: D
A148: 147 | C148: D | H148: 377 | J148: E
A149: 148 | C149: C | H149: 378 | J149: D
A150: 149 | C150: B | H150: 379 | J150: D
A151: 150 | C151: D | H151: 380 | J151: A
A152: 151 | C152: E | H152: 381 | J152: E
A153: 152 | C153: D | H153: 382 | J153: B
... A175: 174 | C175: C | H175: 404 | J175: A
A176: 175 | C176: E
...

Sheet Quant Statistics
A1: Quant Statistics
A3: FIRST ITERATION HIT RATE
A4: PS | B4: =SUMPRODUCT(--('OG Error Log Data'!B2:B231='OG Error Log Data'!C2:C231))/(COUNTA('OG Error Log Data'!B2:B231)) -> #DIV/0!
A5: DS | B5: =SUMPRODUCT(--('OG Error Log Data'!I2:I175='OG Error Log Data'!J2:J175))/(COUNTA('OG Error Log Data'!I2:I175)) -> #DIV/0!

Sheet Verbal Statistics
A1: Verbal Statistics
A3: FIRST ITERATION HIT RATE
A4: SC | B4: =SUMPRODUCT(--('OG Error Log Data'!AB2:AB141='OG Error Log Data'!AC2:AC141))/(COUNTA('OG Error Log Data'!AB2:AB141)) -> 13.5
A5: RC | B5: =SUMPRODUCT(--('OG Error Log Data'!P2:P140='OG Error Log Data'!Q2:Q140))/(COUNTA('OG Error Log Data'!P2:P140)) -> #DIV/0!
A6: CR | B6: =SUMPRODUCT(--('OG Error Log Data'!V2:V125='OG Error Log Data'!W2:W125))/(COUNTA('OG Error Log Data'!V2:V125)) -> #DIV/0!

Sheet Workbook Mechanics
B2: Note Cards? | C2: Level of Mastery | E2: COMPLETE | F2: =(COUNTIF(Foundation!$H$17:$H$45, "COMPLETE")/F5)*100 -> 3.4482759 | H2: GEOMETRY | I2: ASSUMPTION | K2: A
B3: YES | C3: Mastered | E3: IN PROGRESS | F3: =(COUNTIF(Foundation!$H$17:$H$45, "IN PROGRESS")/F5)*100 -> 48.275862 | H3: WORD PROBLEMS | I3: STRENGTHEN | K3: B
B4: NO | C4: Very Strong | E4: TASK REMAINING | F4: =(COUNTIF(Foundation!$H$17:$H$45, "TASK REMAINING")/F5)*100 -> 48.275862 | H4: ALGEBRA | I4: WEAKEN | K4: C
C5: Strong | E5: TOTAL | F5: =COUNTA(Foundation!$H$17:$H$45) -> 29 | H5: PROBABILITY/COMBINATORICS | I5: MAIN IDEA | K5: D
C6: Neutral | H6: NUMBER PROPERTIES | I6: PARADOX | K6: E
C7: Weak | H7: STATISTICS | I7: ASSESS ARGUMENT
C8: Very Weak | H8: SEQUENCES | I8: BOLDFACE
C9: Non-Existent | I9: INFERENCE
