Workbook

Sheet OG Quant Review 2016
B2: Question Type | D2: # answered | E2: # correct | F2: % correct
B3: Problem Solving | D3: =COUNTIF(C$10:C$185,">""") -> 0 | E3: =SUM(U10:U185) -> 0 | F3: =IF(D3=0,"",E3/D3)
B4: Data Sufficiency | D4: =COUNTIF(I$10:I$133,">""") -> 0 | E4: =SUM(V10:V133) -> 0 | F4: =IF(D4=0,"",E4/D4)
B8: Problem Solving Questions | H8: Data Sufficiency Questions | U8: PS | V8: DS
B9: Question | C9: Your answer | D9: Correct Answer | E9: Flag question | F9: Difficulty | H9: Question | I9: Your answer | J9: Correct Answer | K9: Flag question | L9: Difficulty
B10: 1 | D10: =IF(AND(C10>="A",C10<="E"),'Answer Sheet'!E4,"") | F10: easy | H10: 1 | J10: =IF(AND(I10>="A",I10<="E"),'Answer Sheet'!F4,"") | L10: easy | U10: =IF(AND(C10>"",C10=D10),1,0) -> 0 | V10: =IF(AND(I10>"",I10=J10),1,0) -> 0
B11: =B10+1 -> 2 | D11: =IF(AND(C11>="A",C11<="E"),'Answer Sheet'!E5,"") | F11: easy | H11: =H10+1 -> 2 | J11: =IF(AND(I11>="A",I11<="E"),'Answer Sheet'!F5,"") | L11: medium | U11: =IF(AND(C11>"",C11=D11),1,0) -> 0 | V11: =IF(AND(I11>"",I11=J11),1,0) -> 0 | AV11: Flag
B12: =B11+1 -> 3 | D12: =IF(AND(C12>="A",C12<="E"),'Answer Sheet'!E6,"") | F12: easy | H12: =H11+1 -> 3 | J12: =IF(AND(I12>="A",I12<="E"),'Answer Sheet'!F6,"") | L12: easy | U12: =IF(AND(C12>"",C12=D12),1,0) -> 0 | V12: =IF(AND(I12>"",I12=J12),1,0) -> 0
B13: =B12+1 -> 4 | D13: =IF(AND(C13>="A",C13<="E"),'Answer Sheet'!E7,"") | F13: easy | H13: =H12+1 -> 4 | J13: =IF(AND(I13>="A",I13<="E"),'Answer Sheet'!F7,"") | L13: easy | U13: =IF(AND(C13>"",C13=D13),1,0) -> 0 | V13: =IF(AND(I13>"",I13=J13),1,0) -> 0
B14: =B13+1 -> 5 | D14: =IF(AND(C14>="A",C14<="E"),'Answer Sheet'!E8,"") | F14: easy | H14: =H13+1 -> 5 | J14: =IF(AND(I14>="A",I14<="E"),'Answer Sheet'!F8,"") | L14: easy | U14: =IF(AND(C14>"",C14=D14),1,0) -> 0 | V14: =IF(AND(I14>"",I14=J14),1,0) -> 0
B15: =B14+1 -> 6 | D15: =IF(AND(C15>="A",C15<="E"),'Answer Sheet'!E9,"") | F15: easy | H15: =H14+1 -> 6 | J15: =IF(AND(I15>="A",I15<="E"),'Answer Sheet'!F9,"") | L15: easy | U15: =IF(AND(C15>"",C15=D15),1,0) -> 0 | V15: =IF(AND(I15>"",I15=J15),1,0) -> 0
B16: =B15+1 -> 7 | D16: =IF(AND(C16>="A",C16<="E"),'Answer Sheet'!E10,"") | F16: easy | H16: =H15+1 -> 7 | J16: =IF(AND(I16>="A",I16<="E"),'Answer Sheet'!F10,"") | L16: easy | U16: =IF(AND(C16>"",C16=D16),1,0) -> 0 | V16: =IF(AND(I16>"",I16=J16),1,0) -> 0
B17: =B16+1 -> 8 | D17: =IF(AND(C17>="A",C17<="E"),'Answer Sheet'!E11,"") | F17: easy | H17: =H16+1 -> 8 | J17: =IF(AND(I17>="A",I17<="E"),'Answer Sheet'!F11,"") | L17: easy | U17: =IF(AND(C17>"",C17=D17),1,0) -> 0 | V17: =IF(AND(I17>"",I17=J17),1,0) -> 0
B18: =B17+1 -> 9 | D18: =IF(AND(C18>="A",C18<="E"),'Answer Sheet'!E12,"") | F18: easy | H18: =H17+1 -> 9 | J18: =IF(AND(I18>="A",I18<="E"),'Answer Sheet'!F12,"") | L18: easy | U18: =IF(AND(C18>"",C18=D18),1,0) -> 0 | V18: =IF(AND(I18>"",I18=J18),1,0) -> 0
B19: =B18+1 -> 10 | D19: =IF(AND(C19>="A",C19<="E"),'Answer Sheet'!E13,"") | F19: easy | H19: =H18+1 -> 10 | J19: =IF(AND(I19>="A",I19<="E"),'Answer Sheet'!F13,"") | L19: easy | U19: =IF(AND(C19>"",C19=D19),1,0) -> 0 | V19: =IF(AND(I19>"",I19=J19),1,0) -> 0
B20: =B19+1 -> 11 | D20: =IF(AND(C20>="A",C20<="E"),'Answer Sheet'!E14,"") | F20: easy | H20: =H19+1 -> 11 | J20: =IF(AND(I20>="A",I20<="E"),'Answer Sheet'!F14,"") | L20: medium | U20: =IF(AND(C20>"",C20=D20),1,0) -> 0 | V20: =IF(AND(I20>"",I20=J20),1,0) -> 0
B21: =B20+1 -> 12 | D21: =IF(AND(C21>="A",C21<="E"),'Answer Sheet'!E15,"") | F21: easy | H21: =H20+1 -> 12 | J21: =IF(AND(I21>="A",I21<="E"),'Answer Sheet'!F15,"") | L21: easy | U21: =IF(AND(C21>"",C21=D21),1,0) -> 0 | V21: =IF(AND(I21>"",I21=J21),1,0) -> 0
B22: =B21+1 -> 13 | D22: =IF(AND(C22>="A",C22<="E"),'Answer Sheet'!E16,"") | F22: easy | H22: =H21+1 -> 13 | J22: =IF(AND(I22>="A",I22<="E"),'Answer Sheet'!F16,"") | L22: easy | U22: =IF(AND(C22>"",C22=D22),1,0) -> 0 | V22: =IF(AND(I22>"",I22=J22),1,0) -> 0
B23: =B22+1 -> 14 | D23: =IF(AND(C23>="A",C23<="E"),'Answer Sheet'!E17,"") | F23: easy | H23: =H22+1 -> 14 | J23: =IF(AND(I23>="A",I23<="E"),'Answer Sheet'!F17,"") | L23: easy | U23: =IF(AND(C23>"",C23=D23),1,0) -> 0 | V23: =IF(AND(I23>"",I23=J23),1,0) -> 0
... B133: =B132+1 -> 124 | D133: =IF(AND(C133>="A",C133<="E"),'Answer Sheet'!E127,"") | F133: easy | H133: =H132+1 -> 124 | J133: =IF(AND(I133>="A",I133<="E"),'Answer Sheet'!F127,"") | L133: very hard | U133: =IF(AND(C133>"",C133=D133),1,0) -> 0 | V133: =IF(AND(I133>"",I133=J133),1,0) -> 0
B134: =B133+1 -> 125 | D134: =IF(AND(C134>="A",C134<="E"),'Answer Sheet'!E128,"") | F134: easy | U134: =IF(AND(C134>"",C134=D134),1,0) -> 0
B135: =B134+1 -> 126 | D135: =IF(AND(C135>="A",C135<="E"),'Answer Sheet'!E129,"") | F135: hard | U135: =IF(AND(C135>"",C135=D135),1,0) -> 0
B136: =B135+1 -> 127 | D136: =IF(AND(C136>="A",C136<="E"),'Answer Sheet'!E130,"") | F136: medium | U136: =IF(AND(C136>"",C136=D136),1,0) -> 0
B137: =B136+1 -> 128 | D137: =IF(AND(C137>="A",C137<="E"),'Answer Sheet'!E131,"") | F137: easy | U137: =IF(AND(C137>"",C137=D137),1,0) -> 0
B138: =B137+1 -> 129 | D138: =IF(AND(C138>="A",C138<="E"),'Answer Sheet'!E132,"") | F138: medium | U138: =IF(AND(C138>"",C138=D138),1,0) -> 0
B139: =B138+1 -> 130 | D139: =IF(AND(C139>="A",C139<="E"),'Answer Sheet'!E133,"") | F139: medium | U139: =IF(AND(C139>"",C139=D139),1,0) -> 0
B140: =B139+1 -> 131 | D140: =IF(AND(C140>="A",C140<="E"),'Answer Sheet'!E134,"") | F140: easy | U140: =IF(AND(C140>"",C140=D140),1,0) -> 0
B141: =B140+1 -> 132 | D141: =IF(AND(C141>="A",C141<="E"),'Answer Sheet'!E135,"") | F141: medium | U141: =IF(AND(C141>"",C141=D141),1,0) -> 0
B142: =B141+1 -> 133 | D142: =IF(AND(C142>="A",C142<="E"),'Answer Sheet'!E136,"") | F142: hard | U142: =IF(AND(C142>"",C142=D142),1,0) -> 0
B143: =B142+1 -> 134 | D143: =IF(AND(C143>="A",C143<="E"),'Answer Sheet'!E137,"") | F143: hard | U143: =IF(AND(C143>"",C143=D143),1,0) -> 0
B144: =B143+1 -> 135 | D144: =IF(AND(C144>="A",C144<="E"),'Answer Sheet'!E138,"") | F144: medium | U144: =IF(AND(C144>"",C144=D144),1,0) -> 0
B145: =B144+1 -> 136 | D145: =IF(AND(C145>="A",C145<="E"),'Answer Sheet'!E139,"") | F145: hard | U145: =IF(AND(C145>"",C145=D145),1,0) -> 0
... B185: =B184+1 -> 176 | D185: =IF(AND(C185>="A",C185<="E"),'Answer Sheet'!E179,"") | F185: easy | U185: =IF(AND(C185>"",C185=D185),1,0) -> 0

Sheet Answer Sheet
B2: RC | C2: CR | D2: SC | E2: PS | F2: DS
B4: C | C4: B | D4: E | E4: E | F4: D
B5: E | C5: B | D5: D | E5: C | F5: C
B6: D | C6: A | D6: E | E6: A | F6: E
B7: E | C7: B | D7: B | E7: C | F7: D
B8: C | C8: D | D8: C | E8: C | F8: E
B9: D | C9: C | D9: E | E9: C | F9: A
B10: B | C10: D | D10: C | E10: E | F10: D
B11: D | C11: E | D11: D | E11: B | F11: D
B12: B | C12: B | D12: C | E12: C | F12: E
B13: E | C13: C | D13: C | E13: D | F13: C
B14: E | C14: A | D14: C | E14: C | F14: A
... B86: E | C86: C | D86: E | E86: B | F86: D
B87: B | D87: B | E87: B | F87: E
B88: C | D88: D | E88: B | F88: C
B89: C | D89: D | E89: B | F89: A
B90: E | D90: C | E90: D | F90: C
B91: D | D91: E | E91: B | F91: D
B92: E | D92: B | E92: C | F92: A
B93: D | D93: E | E93: B | F93: D
B94: B | D94: B | E94: E | F94: E
B95: B | D95: C | E95: E | F95: C
B96: C | D96: C | E96: A | F96: A
B97: B | D97: A | E97: E | F97: A
B98: A | D98: A | E98: E | F98: A
... B108: D | D108: B | E108: E | F108: A
D109: A | E109: C | F109: B
D110: E | E110: E | F110: E
D111: C | E111: C | F111: D
D112: E | E112: C | F112: E
D113: E | E113: D | F113: B
D114: B | E114: E | F114: A
D115: D | E115: D | F115: C
D116: A | E116: B | F116: A
E117: D | F117: D
E118: E | F118: E
E119: E | F119: C
E120: B | F120: E
E121: C | F121: A
E122: B | F122: E
...
