Workbook

Sheet Math Grid
F1: WIZIUS | J1: The Official Guide (OG) is an important resource to prepare well for the GMAT. Here is an error log to help you measure your level of prepration.
F2: CAREERS | J2: Just put in your answers and it will automatically turn GREEN to suggest a CORRECT answer and RED to suggest an INCORRECT answer.
J3: You can FLAG questions to review them later.
J4: Wizius Careers helps you prepare for the GMAT to help you achieve your highest score. We also help students get an admission to their dream schools.
J5: We offer a guaranteed admission program to the TOP 50 B-Schools. You either get an admit or get your money back.
D10: Problem Solving Questions | G10: Data Sufficiency Questions
B11: Lesson Module | D11: # answered | E11: # correct | F11: % correct | G11: # answered | H11: # correct | I11: % correct | J11: Total % correct
B12: Geometry | D12: =SUMIF(Calculation!$C:$C,'Math Grid'!B12,Calculation!$B:$B) -> 0 | E12: =SUMIF(Calculation!$C:$C,$B12,Calculation!$A:$A) -> 0 | F12: =IF(D12=0,"",IF(D12=0,0,E12/D12)) | G12: =SUMIF(Calculation!$H:$H,'Math Grid'!B12,Calculation!$G:$G) -> 0 | H12: =SUMIF(Calculation!$C:$C,$B12,Calculation!$F:$F) -> 0 | I12: =IF(G12=0,"",IF(G12=0,0,H12/G12)) | J12: =IF(D12+G12=0,"",(E12+H12)/(D12+G12))
B13: 2D Geometry | D13: =SUMIF(Calculation!$C:$C,'Math Grid'!B13,Calculation!$B:$B) -> 0 | E13: =SUMIF(Calculation!$C:$C,$B13,Calculation!$A:$A) -> 0 | F13: =IF(D13=0,"",IF(D13=0,0,E13/D13)) | G13: =SUMIF(Calculation!$H:$H,'Math Grid'!B13,Calculation!$G:$G) -> 0 | H13: =SUMIF(Calculation!$C:$C,$B13,Calculation!$F:$F) -> 0 | I13: =IF(G13=0,"",IF(G13=0,0,H13/G13)) | J13: =IF(D13+G13=0,"",(E13+H13)/(D13+G13))
B14: Coordinate Geometry | D14: =SUMIF(Calculation!$C:$C,'Math Grid'!B14,Calculation!$B:$B) -> 0 | E14: =SUMIF(Calculation!$C:$C,$B14,Calculation!$A:$A) -> 0 | F14: =IF(D14=0,"",IF(D14=0,0,E14/D14)) | G14: =SUMIF(Calculation!$H:$H,'Math Grid'!B14,Calculation!$G:$G) -> 0 | H14: =SUMIF(Calculation!$C:$C,$B14,Calculation!$F:$F) -> 0 | I14: =IF(G14=0,"",IF(G14=0,0,H14/G14)) | J14: =IF(D14+G14=0,"",(E14+H14)/(D14+G14))
B15: 3D Geometry | D15: =SUMIF(Calculation!$C:$C,'Math Grid'!B15,Calculation!$B:$B) -> 0 | E15: =SUMIF(Calculation!$C:$C,$B15,Calculation!$A:$A) -> 0 | F15: =IF(D15=0,"",IF(D15=0,0,E15/D15)) | G15: =SUMIF(Calculation!$H:$H,'Math Grid'!B15,Calculation!$G:$G) -> 0 | H15: =SUMIF(Calculation!$C:$C,$B15,Calculation!$F:$F) -> 0 | I15: =IF(G15=0,"",IF(G15=0,0,H15/G15)) | J15: =IF(D15+G15=0,"",(E15+H15)/(D15+G15))
B16: Number System | D16: =SUMIF(Calculation!$C:$C,'Math Grid'!B16,Calculation!$B:$B) -> 0 | E16: =SUMIF(Calculation!$C:$C,$B16,Calculation!$A:$A) -> 0 | F16: =IF(D16=0,"",IF(D16=0,0,E16/D16)) | G16: =SUMIF(Calculation!$H:$H,'Math Grid'!B16,Calculation!$G:$G) -> 0 | H16: =SUMIF(Calculation!$C:$C,$B16,Calculation!$F:$F) -> 0 | I16: =IF(G16=0,"",IF(G16=0,0,H16/G16)) | J16: =IF(D16+G16=0,"",(E16+H16)/(D16+G16))
B17: Equations | D17: =SUMIF(Calculation!$C:$C,'Math Grid'!B17,Calculation!$B:$B) -> 0 | E17: =SUMIF(Calculation!$C:$C,$B17,Calculation!$A:$A) -> 0 | F17: =IF(D17=0,"",IF(D17=0,0,E17/D17)) | G17: =SUMIF(Calculation!$H:$H,'Math Grid'!B17,Calculation!$G:$G) -> 0 | H17: =SUMIF(Calculation!$C:$C,$B17,Calculation!$F:$F) -> 0 | I17: =IF(G17=0,"",IF(G17=0,0,H17/G17)) | J17: =IF(D17+G17=0,"",(E17+H17)/(D17+G17))
B18: Mean, Median, and Modes | D18: =SUMIF(Calculation!$C:$C,'Math Grid'!B18,Calculation!$B:$B) -> 0 | E18: =SUMIF(Calculation!$C:$C,$B18,Calculation!$A:$A) -> 0 | F18: =IF(D18=0,"",IF(D18=0,0,E18/D18)) | G18: =SUMIF(Calculation!$H:$H,'Math Grid'!B18,Calculation!$G:$G) -> 0 | H18: =SUMIF(Calculation!$C:$C,$B18,Calculation!$F:$F) -> 0 | I18: =IF(G18=0,"",IF(G18=0,0,H18/G18)) | J18: =IF(D18+G18=0,"",(E18+H18)/(D18+G18))
B19: Ratio and Proportion | D19: =SUMIF(Calculation!$C:$C,'Math Grid'!B19,Calculation!$B:$B) -> 0 | E19: =SUMIF(Calculation!$C:$C,$B19,Calculation!$A:$A) -> 0 | F19: =IF(D19=0,"",IF(D19=0,0,E19/D19)) | G19: =SUMIF(Calculation!$H:$H,'Math Grid'!B19,Calculation!$G:$G) -> 0 | H19: =SUMIF(Calculation!$C:$C,$B19,Calculation!$F:$F) -> 0 | I19: =IF(G19=0,"",IF(G19=0,0,H19/G19)) | J19: =IF(D19+G19=0,"",(E19+H19)/(D19+G19))
B20: Percentages | D20: =SUMIF(Calculation!$C:$C,'Math Grid'!B20,Calculation!$B:$B) -> 0 | E20: =SUMIF(Calculation!$C:$C,$B20,Calculation!$A:$A) -> 0 | F20: =IF(D20=0,"",IF(D20=0,0,E20/D20)) | G20: =SUMIF(Calculation!$H:$H,'Math Grid'!B20,Calculation!$G:$G) -> 0 | H20: =SUMIF(Calculation!$C:$C,$B20,Calculation!$F:$F) -> 0 | I20: =IF(G20=0,"",IF(G20=0,0,H20/G20)) | J20: =IF(D20+G20=0,"",(E20+H20)/(D20+G20))
B21: Rates | D21: =SUMIF(Calculation!$C:$C,'Math Grid'!B21,Calculation!$B:$B) -> 0 | E21: =SUMIF(Calculation!$C:$C,$B21,Calculation!$A:$A) -> 0 | F21: =IF(D21=0,"",IF(D21=0,0,E21/D21)) | G21: =SUMIF(Calculation!$H:$H,'Math Grid'!B21,Calculation!$G:$G) -> 0 | H21: =SUMIF(Calculation!$C:$C,$B21,Calculation!$F:$F) -> 0 | I21: =IF(G21=0,"",IF(G21=0,0,H21/G21)) | J21: =IF(D21+G21=0,"",(E21+H21)/(D21+G21))
B22: Word Problems | D22: =SUMIF(Calculation!$C:$C,'Math Grid'!B22,Calculation!$B:$B) -> 0 | E22: =SUMIF(Calculation!$C:$C,$B22,Calculation!$A:$A) -> 0 | F22: =IF(D22=0,"",IF(D22=0,0,E22/D22)) | G22: =SUMIF(Calculation!$H:$H,'Math Grid'!B22,Calculation!$G:$G) -> 0 | H22: =SUMIF(Calculation!$C:$C,$B22,Calculation!$F:$F) -> 0 | I22: =IF(G22=0,"",IF(G22=0,0,H22/G22)) | J22: =IF(D22+G22=0,"",(E22+H22)/(D22+G22))
B23: Exponents and Roots | D23: =SUMIF(Calculation!$C:$C,'Math Grid'!B23,Calculation!$B:$B) -> 0 | E23: =SUMIF(Calculation!$C:$C,$B23,Calculation!$A:$A) -> 0 | F23: =IF(D23=0,"",IF(D23=0,0,E23/D23)) | G23: =SUMIF(Calculation!$H:$H,'Math Grid'!B23,Calculation!$G:$G) -> 0 | H23: =SUMIF(Calculation!$C:$C,$B23,Calculation!$F:$F) -> 0 | I23: =IF(G23=0,"",IF(G23=0,0,H23/G23)) | J23: =IF(D23+G23=0,"",(E23+H23)/(D23+G23))
... B28: Functions | D28: =SUMIF(Calculation!$C:$C,'Math Grid'!B28,Calculation!$B:$B) -> 0 | E28: =SUMIF(Calculation!$C:$C,$B28,Calculation!$A:$A) -> 0 | F28: =IF(D28=0,"",IF(D28=0,0,E28/D28)) | G28: =SUMIF(Calculation!$H:$H,'Math Grid'!B28,Calculation!$G:$G) -> 0 | H28: =SUMIF(Calculation!$C:$C,$B28,Calculation!$F:$F) -> 0 | I28: =IF(G28=0,"",IF(G28=0,0,H28/G28)) | J28: =IF(D28+G28=0,"",(E28+H28)/(D28+G28))
B31: Note: The Verbal grids can be accessed via the bottom left tabs
B33: Problem Solving Questions | H33: Data Sufficiency Questions
B34: Question | C34: Your answer | D34: Correct Answer | E34: Difficulty Level | F34: Flag question | H34: Question | I34: Your answer | J34: Correct Answer | K34: Difficulty Level | L34: Flag question
B35: 1 | D35: =IF(AND(C35>="A",C35<="E"),VLOOKUP(B35,'PS & DS'!$A:$D,4,FALSE),"") | E35: =IF(AND(C35>="A",C35<="E"),VLOOKUP(B35,'PS & DS'!$A:$D,3,FALSE),"") | H35: 231 | J35: =IF(AND(I35>="A",I35<="E"),VLOOKUP(H35,'PS & DS'!$G:$J,4,FALSE),"") | K35: =IF(AND(I35>="A",I35<="E"),VLOOKUP(H35,'PS & DS'!$G:$J,3,FALSE),"") | AD35: Prob Solv | AI35: Data
B36: =B35+1 -> 2 | D36: =IF(AND(C36>="A",C36<="E"),VLOOKUP(B36,'PS & DS'!$A:$D,4,FALSE),"") | E36: =IF(AND(C36>="A",C36<="E"),VLOOKUP(B36,'PS & DS'!$A:$D,3,FALSE),"") | H36: =H35+1 -> 232 | J36: =IF(AND(I36>="A",I36<="E"),VLOOKUP(H36,'PS & DS'!$G:$J,4,FALSE),"") | K36: =IF(AND(I36>="A",I36<="E"),VLOOKUP(H36,'PS & DS'!$G:$J,3,FALSE),"") | AD36: Corr | AE36: Tot | AF36: type | AI36: Corr | AJ36: Tot | AK36: type
B37: =B36+1 -> 3 | D37: =IF(AND(C37>="A",C37<="E"),VLOOKUP(B37,'PS & DS'!$A:$D,4,FALSE),"") | E37: =IF(AND(C37>="A",C37<="E"),VLOOKUP(B37,'PS & DS'!$A:$D,3,FALSE),"") | H37: =H36+1 -> 233 | J37: =IF(AND(I37>="A",I37<="E"),VLOOKUP(H37,'PS & DS'!$G:$J,4,FALSE),"") | K37: =IF(AND(I37>="A",I37<="E"),VLOOKUP(H37,'PS & DS'!$G:$J,3,FALSE),"") | AD37: =IF(AND(#REF!<>"",#REF!=#REF!),1,0) -> #REF! | AE37: =IF(#REF!<>"",1,0) -> #REF! | AF37: Arithmetic | AH37: 1 | AI37: =IF(AND(#REF!<>"",#REF!=#REF!),1,0) -> #REF! | AJ37: =IF(#REF!<>"",1,0) -> #REF! | AK37: Geometry | AM37: 1 | AN37: 1 | AO37: 231
B38: =B37+1 -> 4 | D38: =IF(AND(C38>="A",C38<="E"),VLOOKUP(B38,'PS & DS'!$A:$D,4,FALSE),"") | E38: =IF(AND(C38>="A",C38<="E"),VLOOKUP(B38,'PS & DS'!$A:$D,3,FALSE),"") | H38: =H37+1 -> 234 | J38: =IF(AND(I38>="A",I38<="E"),VLOOKUP(H38,'PS & DS'!$G:$J,4,FALSE),"") | K38: =IF(AND(I38>="A",I38<="E"),VLOOKUP(H38,'PS & DS'!$G:$J,3,FALSE),"") | AD38: =IF(AND(#REF!<>"",#REF!=#REF!),1,0) -> #REF! | AE38: =IF(#REF!<>"",1,0) -> #REF! | AF38: Arithmetic | AH38: =AH37+1 -> 2 | AI38: =IF(AND(#REF!<>"",#REF!=#REF!),1,0) -> #REF! | AJ38: =IF(#REF!<>"",1,0) -> #REF! | AK38: Word problems | AM38: =AM37+1 -> 2 | AN38: =AN37+1 -> 2 | AO38: =AO37+1 -> 232
B39: =B38+1 -> 5 | D39: =IF(AND(C39>="A",C39<="E"),VLOOKUP(B39,'PS & DS'!$A:$D,4,FALSE),"") | E39: =IF(AND(C39>="A",C39<="E"),VLOOKUP(B39,'PS & DS'!$A:$D,3,FALSE),"") | H39: =H38+1 -> 235 | J39: =IF(AND(I39>="A",I39<="E"),VLOOKUP(H39,'PS & DS'!$G:$J,4,FALSE),"") | K39: =IF(AND(I39>="A",I39<="E"),VLOOKUP(H39,'PS & DS'!$G:$J,3,FALSE),"") | AD39: =IF(AND(#REF!<>"",#REF!=#REF!),1,0) -> #REF! | AE39: =IF(#REF!<>"",1,0) -> #REF! | AF39: Arithmetic | AH39: =AH38+1 -> 3 | AI39: =IF(AND(#REF!<>"",#REF!=#REF!),1,0) -> #REF! | AJ39: =IF(#REF!<>"",1,0) -> #REF! | AK39: Arithmetic | AM39: =AM38+1 -> 3 | AN39: =AN38+1 -> 3 | AO39: =AO38+1 -> 233 | AQ39: key
B40: =B39+1 -> 6 | D40: =IF(AND(C40>="A",C40<="E"),VLOOKUP(B40,'PS & DS'!$A:$D,4,FALSE),"") | E40: =IF(AND(C40>="A",C40<="E"),VLOOKUP(B40,'PS & DS'!$A:$D,3,FALSE),"") | H40: =H39+1 -> 236 | J40: =IF(AND(I40>="A",I40<="E"),VLOOKUP(H40,'PS & DS'!$G:$J,4,FALSE),"") | K40: =IF(AND(I40>="A",I40<="E"),VLOOKUP(H40,'PS & DS'!$G:$J,3,FALSE),"") | AD40: =IF(AND(#REF!<>"",#REF!=#REF!),1,0) -> #REF! | AE40: =IF(#REF!<>"",1,0) -> #REF! | AF40: Arithmetic | AH40: =AH39+1 -> 4 | AI40: =IF(AND(#REF!<>"",#REF!=#REF!),1,0) -> #REF! | AJ40: =IF(#REF!<>"",1,0) -> #REF! | AK40: Word problems | AM40: =AM39+1 -> 4 | AN40: =AN39+1 -> 4 | AO40: =AO39+1 -> 234 | AQ40: Arithmetic
B41: =B40+1 -> 7 | D41: =IF(AND(C41>="A",C41<="E"),VLOOKUP(B41,'PS & DS'!$A:$D,4,FALSE),"") | E41: =IF(AND(C41>="A",C41<="E"),VLOOKUP(B41,'PS & DS'!$A:$D,3,FALSE),"") | H41: =H40+1 -> 237 | J41: =IF(AND(I41>="A",I41<="E"),VLOOKUP(H41,'PS & DS'!$G:$J,4,FALSE),"") | K41: =IF(AND(I41>="A",I41<="E"),VLOOKUP(H41,'PS & DS'!$G:$J,3,FALSE),"") | AD41: =IF(AND(#REF!<>"",#REF!=#REF!),1,0) -> #REF! | AE41: =IF(#REF!<>"",1,0) -> #REF! | AF41: Arithmetic | AH41: =AH40+1 -> 5 | AI41: =IF(AND(#REF!<>"",#REF!=#REF!),1,0) -> #REF! | AJ41: =IF(#REF!<>"",1,0) -> #REF! | AK41: Geometry | AM41: =AM40+1 -> 5 | AN41: =AN40+1 -> 5 | AO41: =AO40+1 -> 235 | AQ41: Geometry
B42: =B41+1 -> 8 | D42: =IF(AND(C42>="A",C42<="E"),VLOOKUP(B42,'PS & DS'!$A:$D,4,FALSE),"") | E42: =IF(AND(C42>="A",C42<="E"),VLOOKUP(B42,'PS & DS'!$A:$D,3,FALSE),"") | H42: =H41+1 -> 238 | J42: =IF(AND(I42>="A",I42<="E"),VLOOKUP(H42,'PS & DS'!$G:$J,4,FALSE),"") | K42: =IF(AND(I42>="A",I42<="E"),VLOOKUP(H42,'PS & DS'!$G:$J,3,FALSE),"") | AD42: =IF(AND(#REF!<>"",#REF!=#REF!),1,0) -> #REF! | AE42: =IF(#REF!<>"",1,0) -> #REF! | AF42: Arithmetic | AH42: =AH41+1 -> 6 | AI42: =IF(AND(#REF!<>"",#REF!=#REF!),1,0) -> #REF! | AJ42: =IF(#REF!<>"",1,0) -> #REF! | AK42: Probability | AM42: =AM41+1 -> 6 | AN42: =AN41+1 -> 6 | AO42: =AO41+1 -> 236 | AQ42: Integer Properties
B43: =B42+1 -> 9 | D43: =IF(AND(C43>="A",C43<="E"),VLOOKUP(B43,'PS & DS'!$A:$D,4,FALSE),"") | E43: =IF(AND(C43>="A",C43<="E"),VLOOKUP(B43,'PS & DS'!$A:$D,3,FALSE),"") | H43: =H42+1 -> 239 | J43: =IF(AND(I43>="A",I43<="E"),VLOOKUP(H43,'PS & DS'!$G:$J,4,FALSE),"") | K43: =IF(AND(I43>="A",I43<="E"),VLOOKUP(H43,'PS & DS'!$G:$J,3,FALSE),"") | AD43: =IF(AND(#REF!<>"",#REF!=#REF!),1,0) -> #REF! | AE43: =IF(#REF!<>"",1,0) -> #REF! | AF43: Word problems | AH43: =AH42+1 -> 7 | AI43: =IF(AND(#REF!<>"",#REF!=#REF!),1,0) -> #REF! | AJ43: =IF(#REF!<>"",1,0) -> #REF! | AK43: Geometry | AM43: =AM42+1 -> 7 | AN43: =AN42+1 -> 7 | AO43: =AO42+1 -> 237 | AQ43: Word problems
B44: =B43+1 -> 10 | D44: =IF(AND(C44>="A",C44<="E"),VLOOKUP(B44,'PS & DS'!$A:$D,4,FALSE),"") | E44: =IF(AND(C44>="A",C44<="E"),VLOOKUP(B44,'PS & DS'!$A:$D,3,FALSE),"") | H44: =H43+1 -> 240 | J44: =IF(AND(I44>="A",I44<="E"),VLOOKUP(H44,'PS & DS'!$G:$J,4,FALSE),"") | K44: =IF(AND(I44>="A",I44<="E"),VLOOKUP(H44,'PS & DS'!$G:$J,3,FALSE),"") | AD44: =IF(AND(#REF!<>"",#REF!=#REF!),1,0) -> #REF! | AE44: =IF(#REF!<>"",1,0) -> #REF! | AF44: Word problems | AH44: =AH43+1 -> 8 | AI44: =IF(AND(#REF!<>"",#REF!=#REF!),1,0) -> #REF! | AJ44: =IF(#REF!<>"",1,0) -> #REF! | AK44: Word problems | AM44: =AM43+1 -> 8 | AN44: =AN43+1 -> 8 | AO44: =AO43+1 -> 238 | AQ44: Algebra & Equations
B45: =B44+1 -> 11 | D45: =IF(AND(C45>="A",C45<="E"),VLOOKUP(B45,'PS & DS'!$A:$D,4,FALSE),"") | E45: =IF(AND(C45>="A",C45<="E"),VLOOKUP(B45,'PS & DS'!$A:$D,3,FALSE),"") | H45: =H44+1 -> 241 | J45: =IF(AND(I45>="A",I45<="E"),VLOOKUP(H45,'PS & DS'!$G:$J,4,FALSE),"") | K45: =IF(AND(I45>="A",I45<="E"),VLOOKUP(H45,'PS & DS'!$G:$J,3,FALSE),"") | AD45: =IF(AND(#REF!<>"",#REF!=#REF!),1,0) -> #REF! | AE45: =IF(#REF!<>"",1,0) -> #REF! | AF45: Word problems | AH45: =AH44+1 -> 9 | AI45: =IF(AND(#REF!<>"",#REF!=#REF!),1,0) -> #REF! | AJ45: =IF(#REF!<>"",1,0) -> #REF! | AK45: Arithmetic | AM45: =AM44+1 -> 9 | AN45: =AN44+1 -> 9 | AO45: =AO44+1 -> 239 | AQ45: Statistics
B46: =B45+1 -> 12 | D46: =IF(AND(C46>="A",C46<="E"),VLOOKUP(B46,'PS & DS'!$A:$D,4,FALSE),"") | E46: =IF(AND(C46>="A",C46<="E"),VLOOKUP(B46,'PS & DS'!$A:$D,3,FALSE),"") | H46: =H45+1 -> 242 | J46: =IF(AND(I46>="A",I46<="E"),VLOOKUP(H46,'PS & DS'!$G:$J,4,FALSE),"") | K46: =IF(AND(I46>="A",I46<="E"),VLOOKUP(H46,'PS & DS'!$G:$J,3,FALSE),"") | AD46: =IF(AND(#REF!<>"",#REF!=#REF!),1,0) -> #REF! | AE46: =IF(#REF!<>"",1,0) -> #REF! | AF46: Word problems | AH46: =AH45+1 -> 10 | AI46: =IF(AND(#REF!<>"",#REF!=#REF!),1,0) -> #REF! | AJ46: =IF(#REF!<>"",1,0) -> #REF! | AK46: Powers & Roots | AM46: =AM45+1 -> 10 | AN46: =AN45+1 -> 10 | AO46: =AO45+1 -> 240 | AQ46: Probability
B47: =B46+1 -> 13 | D47: =IF(AND(C47>="A",C47<="E"),VLOOKUP(B47,'PS & DS'!$A:$D,4,FALSE),"") | E47: =IF(AND(C47>="A",C47<="E"),VLOOKUP(B47,'PS & DS'!$A:$D,3,FALSE),"") | H47: =H46+1 -> 243 | J47: =IF(AND(I47>="A",I47<="E"),VLOOKUP(H47,'PS & DS'!$G:$J,4,FALSE),"") | K47: =IF(AND(I47>="A",I47<="E"),VLOOKUP(H47,'PS & DS'!$G:$J,3,FALSE),"") | AD47: =IF(AND(#REF!<>"",#REF!=#REF!),1,0) -> #REF! | AE47: =IF(#REF!<>"",1,0) -> #REF! | AF47: Probability | AH47: =AH46+1 -> 11 | AI47: =IF(AND(#REF!<>"",#REF!=#REF!),1,0) -> #REF! | AJ47: =IF(#REF!<>"",1,0) -> #REF! | AK47: Word problems | AM47: =AM46+1 -> 11 | AN47: =AN46+1 -> 11 | AO47: =AO46+1 -> 241 | AQ47: Powers & Roots
B48: =B47+1 -> 14 | D48: =IF(AND(C48>="A",C48<="E"),VLOOKUP(B48,'PS & DS'!$A:$D,4,FALSE),"") | E48: =IF(AND(C48>="A",C48<="E"),VLOOKUP(B48,'PS & DS'!$A:$D,3,FALSE),"") | H48: =H47+1 -> 244 | J48: =IF(AND(I48>="A",I48<="E"),VLOOKUP(H48,'PS & DS'!$G:$J,4,FALSE),"") | K48: =IF(AND(I48>="A",I48<="E"),VLOOKUP(H48,'PS & DS'!$G:$J,3,FALSE),"") | AD48: =IF(AND(#REF!<>"",#REF!=#REF!),1,0) -> #REF! | AE48: =IF(#REF!<>"",1,0) -> #REF! | AF48: Arithmetic | AH48: =AH47+1 -> 12 | AI48: =IF(AND(#REF!<>"",#REF!=#REF!),1,0) -> #REF! | AJ48: =IF(#REF!<>"",1,0) -> #REF! | AK48: Word problems | AM48: =AM47+1 -> 12 | AN48: =AN47+1 -> 12 | AO48: =AO47+1 -> 242 | AQ48: Counting
B49: =B48+1 -> 15 | D49: =IF(AND(C49>="A",C49<="E"),VLOOKUP(B49,'PS & DS'!$A:$D,4,FALSE),"") | E49: =IF(AND(C49>="A",C49<="E"),VLOOKUP(B49,'PS & DS'!$A:$D,3,FALSE),"") | H49: =H48+1 -> 245 | J49: =IF(AND(I49>="A",I49<="E"),VLOOKUP(H49,'PS & DS'!$G:$J,4,FALSE),"") | K49: =IF(AND(I49>="A",I49<="E"),VLOOKUP(H49,'PS & DS'!$G:$J,3,FALSE),"") | AD49: =IF(AND(#REF!<>"",#REF!=#REF!),1,0) -> #REF! | AE49: =IF(#REF!<>"",1,0) -> #REF! | AF49: Word problems | AH49: =AH48+1 -> 13 | AI49: =IF(AND(#REF!<>"",#REF!=#REF!),1,0) -> #REF! | AJ49: =IF(#REF!<>"",1,0) -> #REF! | AK49: Powers & Roots | AM49: =AM48+1 -> 13 | AN49: =AN48+1 -> 13 | AO49: =AO48+1 -> 243
B50: =B49+1 -> 16 | D50: =IF(AND(C50>="A",C50<="E"),VLOOKUP(B50,'PS & DS'!$A:$D,4,FALSE),"") | E50: =IF(AND(C50>="A",C50<="E"),VLOOKUP(B50,'PS & DS'!$A:$D,3,FALSE),"") | H50: =H49+1 -> 246 | J50: =IF(AND(I50>="A",I50<="E"),VLOOKUP(H50,'PS & DS'!$G:$J,4,FALSE),"") | K50: =IF(AND(I50>="A",I50<="E"),VLOOKUP(H50,'PS & DS'!$G:$J,3,FALSE),"") | AD50: =IF(AND(#REF!<>"",#REF!=#REF!),1,0) -> #REF! | AE50: =IF(#REF!<>"",1,0) -> #REF! | AF50: Statistics | AH50: =AH49+1 -> 14 | AI50: =IF(AND(#REF!<>"",#REF!=#REF!),1,0) -> #REF! | AJ50: =IF(#REF!<>"",1,0) -> #REF! | AK50: Statistics | AM50: =AM49+1 -> 14 | AN50: =AN49+1 -> 14 | AO50: =AO49+1 -> 244
B51: =B50+1 -> 17 | D51: =IF(AND(C51>="A",C51<="E"),VLOOKUP(B51,'PS & DS'!$A:$D,4,FALSE),"") | E51: =IF(AND(C51>="A",C51<="E"),VLOOKUP(B51,'PS & DS'!$A:$D,3,FALSE),"") | H51: =H50+1 -> 247 | J51: =IF(AND(I51>="A",I51<="E"),VLOOKUP(H51,'PS & DS'!$G:$J,4,FALSE),"") | K51: =IF(AND(I51>="A",I51<="E"),VLOOKUP(H51,'PS & DS'!$G:$J,3,FALSE),"") | AD51: =IF(AND(#REF!<>"",#REF!=#REF!),1,0) -> #REF! | AE51: =IF(#REF!<>"",1,0) -> #REF! | AF51: Arithmetic | AH51: =AH50+1 -> 15 | AI51: =IF(AND(#REF!<>"",#REF!=#REF!),1,0) -> #REF! | AJ51: =IF(#REF!<>"",1,0) -> #REF! | AK51: Word problems | AM51: =AM50+1 -> 15 | AN51: =AN50+1 -> 15 | AO51: =AO50+1 -> 245
...

Sheet PS & DS
A1: Question Number | B1: Topic | C1: Difficulty | D1: ANSWERS | E1: New? | G1: Question Number | H1: Topic | I1: Difficulty | J1: Answers | K1: New?
A3: 1 | B3: Geometry | C3: easy | D3: B | E3: Y | G3: 231 | H3: Mean, Median, and Modes | I3: easy | J3: E | K3: Y
A4: 2 | B4: Word Problems | C4: easy | D4: D | E4: Y | G4: 232 | H4: Equations | I4: easy | J4: C | K4: Y
A5: 3 | B5: Mean, Median, and Modes | C5: easy | D5: D | E5: Y | G5: 233 | H5: Equations | I5: easy | J5: A | K5: Y
A6: 4 | B6: Word Problems | C6: easy | D6: C | E6: Y | G6: 234 | H6: Mean, Median, and Modes | I6: easy | J6: E | K6: Y
A7: 5 | B7: Word Problems | C7: easy | D7: A | E7: Y | G7: 235 | H7: Equations | I7: easy | J7: D | K7: Y
A8: 6 | B8: 2D Geometry | C8: easy | D8: E | E8: Y | G8: 236 | H8: Equations | I8: easy | J8: C | K8: Y
A9: 7 | B9: Percentages | C9: easy | D9: E | G9: 237 | H9: 2D Geometry | I9: easy | J9: A
A10: 8 | B10: Number System | C10: easy | D10: C | E10: Y | G10: 238 | H10: Ratio and Proportion | I10: easy | J10: C | K10: Y
A11: 9 | B11: Word Problems | C11: easy | D11: E | E11: Y | G11: 239 | H11: Word Problems | I11: easy | J11: C
A12: 10 | B12: Equations | C12: easy | D12: B | E12: Y | G12: 240 | H12: Ratio and Proportion | I12: easy | J12: C | K12: Y
A13: 11 | B13: Word Problems | C13: easy | D13: D | G13: 241 | H13: Mean, Median, and Modes | I13: easy | J13: C | K13: Y
A14: 12 | B14: Ratio and Proportion | C14: easy | D14: E | G14: 242 | H14: Mean, Median, and Modes | I14: easy | J14: E | K14: Y
A15: 13 | B15: Number System | C15: easy | D15: A | G15: 243 | H15: Ratio and Proportion | I15: easy | J15: C | K15: Y
A16: 14 | B16: Coordinate Geometry | C16: easy | D16: A | E16: Y | G16: 244 | H16: Ratio and Proportion | I16: easy | J16: E | K16: Y
A17: 15 | B17: Ratio and Proportion | C17: easy | D17: B | G17: 245 | H17: Probability and P&C | I17: easy | J17: C
A18: 16 | B18: Mean, Median, and Modes | C18: easy | D18: C | E18: Y | G18: 246 | H18: Geometry | I18: easy | J18: C
A19: 17 | B19: Percentages | C19: easy | D19: E | G19: 247 | H19: Percentages | I19: easy | J19: D
A20: 18 | B20: Mean, Median, and Modes | C20: easy | D20: C | G20: 248 | H20: Sets | I20: easy | J20: C | K20: Y
A21: 19 | B21: Word Problems | C21: easy | D21: C | G21: 249 | H21: Word Problems | I21: easy | J21: A | K21: Y
A22: 20 | B22: Word Problems | C22: easy | D22: D | G22: 250 | H22: Sequences | I22: easy | J22: C
A23: 21 | B23: Percentages | C23: easy | D23: E | G23: 251 | H23: Rates | I23: easy | J23: C | K23: Y
A24: 22 | B24: Word Problems | C24: easy | D24: B | E24: Y | G24: 252 | H24: Exponents and Roots | I24: easy | J24: C
A25: 23 | B25: Mean, Median, and Modes | C25: easy | D25: E | E25: Y | G25: 253 | H25: Mean, Median, and Modes | I25: easy | J25: E
A26: 24 | B26: Equations | C26: easy | D26: B | G26: 254 | H26: Word Problems | I26: easy | J26: E
A27: 25 | B27: Percentages | C27: easy | D27: D | G27: 255 | H27: Equations | I27: easy | J27: C | K27: Y
A28: 26 | B28: Equations | C28: easy | D28: C | E28: Y | G28: 256 | H28: Inequalities | I28: easy | J28: E
A29: 27 | B29: Probability and P&C | C29: easy | D29: C | E29: Y | G29: 257 | H29: Equations | I29: easy | J29: D
A30: 28 | B30: 2D Geometry | C30: easy | D30: E | E30: Y | G30: 258 | H30: Sets | I30: easy | J30: E
A31: 29 | B31: Inequalities | C31: easy | D31: E | G31: 259 | H31: Exponents and Roots | I31: easy | J31: D
A32: 30 | B32: Sets | C32: easy | D32: C | E32: Y | G32: 260 | H32: Percentages | I32: easy | J32: D
A33: 31 | B33: Number System | C33: easy | D33: B | E33: Y | G33: 261 | H33: 2D Geometry | I33: easy | J33: A | K33: Y
A34: 32 | B34: Geometry | C34: easy | D34: B | G34: 262 | H34: Equations | I34: easy | J34: D
A35: 33 | B35: Number System | C35: easy | D35: D | G35: 263 | H35: Percentages | I35: easy | J35: D
A36: 34 | B36: Equations | C36: easy | D36: B | G36: 264 | H36: Sets | I36: easy | J36: E
A37: 35 | B37: Mean, Median, and Modes | C37: easy | D37: C | G37: 265 | H37: Number System | I37: easy | J37: B
A38: 36 | B38: Geometry | C38: easy | D38: D | G38: 266 | H38: Number System | I38: easy | J38: C
A39: 37 | B39: 2D Geometry | C39: easy | D39: D | E39: Y | G39: 267 | H39: Percentages | I39: easy | J39: C
A40: 38 | B40: Word Problems | C40: easy | D40: E | G40: 268 | H40: 2D Geometry | I40: easy | J40: E
A41: 39 | B41: Word Problems | C41: easy | D41: C | G41: 269 | H41: Geometry | I41: easy | J41: B
...

Sheet Calculation
A1: Prob Solv | F1: Data
A2: Corr | B2: Tot | C2: type | F2: Corr | G2: Tot | H2: type | Q2: ✔
A3: =IF(AND('Math Grid'!C35<>"",'Math Grid'!C35='Math Grid'!D35),1,0) -> 0 | B3: =IF('Math Grid'!C35<>"",1,0) -> 0 | C3: Geometry | E3: 1 | F3: =IF(AND('Math Grid'!I35<>"",'Math Grid'!I35='Math Grid'!J35),1,0) -> 0 | G3: =IF('Math Grid'!I35<>"",1,0) -> 0 | H3: Mean, Median, and Modes | J3: 1 | K3: 1 | L3: 231 | Q3: Flag
A4: =IF(AND('Math Grid'!C36<>"",'Math Grid'!C36='Math Grid'!D36),1,0) -> 0 | B4: =IF('Math Grid'!C36<>"",1,0) -> 0 | C4: Word Problems | E4: =E3+1 -> 2 | F4: =IF(AND('Math Grid'!I36<>"",'Math Grid'!I36='Math Grid'!J36),1,0) -> 0 | G4: =IF('Math Grid'!I36<>"",1,0) -> 0 | H4: Equations | J4: =J3+1 -> 2 | K4: =K3+1 -> 2 | L4: =L3+1 -> 232
A5: =IF(AND('Math Grid'!C37<>"",'Math Grid'!C37='Math Grid'!D37),1,0) -> 0 | B5: =IF('Math Grid'!C37<>"",1,0) -> 0 | C5: Mean, Median, and Modes | E5: =E4+1 -> 3 | F5: =IF(AND('Math Grid'!I37<>"",'Math Grid'!I37='Math Grid'!J37),1,0) -> 0 | G5: =IF('Math Grid'!I37<>"",1,0) -> 0 | H5: Equations | J5: =J4+1 -> 3 | K5: =K4+1 -> 3 | L5: =L4+1 -> 233 | N5: key
A6: =IF(AND('Math Grid'!C38<>"",'Math Grid'!C38='Math Grid'!D38),1,0) -> 0 | B6: =IF('Math Grid'!C38<>"",1,0) -> 0 | C6: Word Problems | E6: =E5+1 -> 4 | F6: =IF(AND('Math Grid'!I38<>"",'Math Grid'!I38='Math Grid'!J38),1,0) -> 0 | G6: =IF('Math Grid'!I38<>"",1,0) -> 0 | H6: Mean, Median, and Modes | J6: =J5+1 -> 4 | K6: =K5+1 -> 4 | L6: =L5+1 -> 234 | N6: Arithmetic
A7: =IF(AND('Math Grid'!C39<>"",'Math Grid'!C39='Math Grid'!D39),1,0) -> 0 | B7: =IF('Math Grid'!C39<>"",1,0) -> 0 | C7: Word Problems | E7: =E6+1 -> 5 | F7: =IF(AND('Math Grid'!I39<>"",'Math Grid'!I39='Math Grid'!J39),1,0) -> 0 | G7: =IF('Math Grid'!I39<>"",1,0) -> 0 | H7: Equations | J7: =J6+1 -> 5 | K7: =K6+1 -> 5 | L7: =L6+1 -> 235 | N7: Geometry | Q7: A
A8: =IF(AND('Math Grid'!C40<>"",'Math Grid'!C40='Math Grid'!D40),1,0) -> 0 | B8: =IF('Math Grid'!C40<>"",1,0) -> 0 | C8: 2D Geometry | E8: =E7+1 -> 6 | F8: =IF(AND('Math Grid'!I40<>"",'Math Grid'!I40='Math Grid'!J40),1,0) -> 0 | G8: =IF('Math Grid'!I40<>"",1,0) -> 0 | H8: Equations | J8: =J7+1 -> 6 | K8: =K7+1 -> 6 | L8: =L7+1 -> 236 | N8: Integer Properties | Q8: B
A9: =IF(AND('Math Grid'!C41<>"",'Math Grid'!C41='Math Grid'!D41),1,0) -> 0 | B9: =IF('Math Grid'!C41<>"",1,0) -> 0 | C9: Percentages | E9: =E8+1 -> 7 | F9: =IF(AND('Math Grid'!I41<>"",'Math Grid'!I41='Math Grid'!J41),1,0) -> 0 | G9: =IF('Math Grid'!I41<>"",1,0) -> 0 | H9: 2D Geometry | J9: =J8+1 -> 7 | K9: =K8+1 -> 7 | L9: =L8+1 -> 237 | N9: Word problems | Q9: C
A10: =IF(AND('Math Grid'!C42<>"",'Math Grid'!C42='Math Grid'!D42),1,0) -> 0 | B10: =IF('Math Grid'!C42<>"",1,0) -> 0 | C10: Number System | E10: =E9+1 -> 8 | F10: =IF(AND('Math Grid'!I42<>"",'Math Grid'!I42='Math Grid'!J42),1,0) -> 0 | G10: =IF('Math Grid'!I42<>"",1,0) -> 0 | H10: Ratio and Proportion | J10: =J9+1 -> 8 | K10: =K9+1 -> 8 | L10: =L9+1 -> 238 | N10: Algebra & Equations | Q10: D
A11: =IF(AND('Math Grid'!C43<>"",'Math Grid'!C43='Math Grid'!D43),1,0) -> 0 | B11: =IF('Math Grid'!C43<>"",1,0) -> 0 | C11: Word Problems | E11: =E10+1 -> 9 | F11: =IF(AND('Math Grid'!I43<>"",'Math Grid'!I43='Math Grid'!J43),1,0) -> 0 | G11: =IF('Math Grid'!I43<>"",1,0) -> 0 | H11: Word Problems | J11: =J10+1 -> 9 | K11: =K10+1 -> 9 | L11: =L10+1 -> 239 | N11: Statistics | Q11: E
A12: =IF(AND('Math Grid'!C44<>"",'Math Grid'!C44='Math Grid'!D44),1,0) -> 0 | B12: =IF('Math Grid'!C44<>"",1,0) -> 0 | C12: Equations | E12: =E11+1 -> 10 | F12: =IF(AND('Math Grid'!I44<>"",'Math Grid'!I44='Math Grid'!J44),1,0) -> 0 | G12: =IF('Math Grid'!I44<>"",1,0) -> 0 | H12: Ratio and Proportion | J12: =J11+1 -> 10 | K12: =K11+1 -> 10 | L12: =L11+1 -> 240 | N12: Probability
A13: =IF(AND('Math Grid'!C45<>"",'Math Grid'!C45='Math Grid'!D45),1,0) -> 0 | B13: =IF('Math Grid'!C45<>"",1,0) -> 0 | C13: Word Problems | E13: =E12+1 -> 11 | F13: =IF(AND('Math Grid'!I45<>"",'Math Grid'!I45='Math Grid'!J45),1,0) -> 0 | G13: =IF('Math Grid'!I45<>"",1,0) -> 0 | H13: Mean, Median, and Modes | J13: =J12+1 -> 11 | K13: =K12+1 -> 11 | L13: =L12+1 -> 241 | N13: Powers & Roots
A14: =IF(AND('Math Grid'!C46<>"",'Math Grid'!C46='Math Grid'!D46),1,0) -> 0 | B14: =IF('Math Grid'!C46<>"",1,0) -> 0 | C14: Ratio and Proportion | E14: =E13+1 -> 12 | F14: =IF(AND('Math Grid'!I46<>"",'Math Grid'!I46='Math Grid'!J46),1,0) -> 0 | G14: =IF('Math Grid'!I46<>"",1,0) -> 0 | H14: Mean, Median, and Modes | J14: =J13+1 -> 12 | K14: =K13+1 -> 12 | L14: =L13+1 -> 242 | N14: Counting
A15: =IF(AND('Math Grid'!C47<>"",'Math Grid'!C47='Math Grid'!D47),1,0) -> 0 | B15: =IF('Math Grid'!C47<>"",1,0) -> 0 | C15: Number System | E15: =E14+1 -> 13 | F15: =IF(AND('Math Grid'!I47<>"",'Math Grid'!I47='Math Grid'!J47),1,0) -> 0 | G15: =IF('Math Grid'!I47<>"",1,0) -> 0 | H15: Ratio and Proportion | J15: =J14+1 -> 13 | K15: =K14+1 -> 13 | L15: =L14+1 -> 243
A16: =IF(AND('Math Grid'!C48<>"",'Math Grid'!C48='Math Grid'!D48),1,0) -> 0 | B16: =IF('Math Grid'!C48<>"",1,0) -> 0 | C16: Coordinate Geometry | E16: =E15+1 -> 14 | F16: =IF(AND('Math Grid'!I48<>"",'Math Grid'!I48='Math Grid'!J48),1,0) -> 0 | G16: =IF('Math Grid'!I48<>"",1,0) -> 0 | H16: Ratio and Proportion | J16: =J15+1 -> 14 | K16: =K15+1 -> 14 | L16: =L15+1 -> 244
A17: =IF(AND('Math Grid'!C49<>"",'Math Grid'!C49='Math Grid'!D49),1,0) -> 0 | B17: =IF('Math Grid'!C49<>"",1,0) -> 0 | C17: Ratio and Proportion | E17: =E16+1 -> 15 | F17: =IF(AND('Math Grid'!I49<>"",'Math Grid'!I49='Math Grid'!J49),1,0) -> 0 | G17: =IF('Math Grid'!I49<>"",1,0) -> 0 | H17: Probability and P&C | J17: =J16+1 -> 15 | K17: =K16+1 -> 15 | L17: =L16+1 -> 245
A18: =IF(AND('Math Grid'!C50<>"",'Math Grid'!C50='Math Grid'!D50),1,0) -> 0 | B18: =IF('Math Grid'!C50<>"",1,0) -> 0 | C18: Mean, Median, and Modes | E18: =E17+1 -> 16 | F18: =IF(AND('Math Grid'!I50<>"",'Math Grid'!I50='Math Grid'!J50),1,0) -> 0 | G18: =IF('Math Grid'!I50<>"",1,0) -> 0 | H18: Geometry | J18: =J17+1 -> 16 | K18: =K17+1 -> 16 | L18: =L17+1 -> 246
A19: =IF(AND('Math Grid'!C51<>"",'Math Grid'!C51='Math Grid'!D51),1,0) -> 0 | B19: =IF('Math Grid'!C51<>"",1,0) -> 0 | C19: Percentages | E19: =E18+1 -> 17 | F19: =IF(AND('Math Grid'!I51<>"",'Math Grid'!I51='Math Grid'!J51),1,0) -> 0 | G19: =IF('Math Grid'!I51<>"",1,0) -> 0 | H19: Percentages | J19: =J18+1 -> 17 | K19: =K18+1 -> 17 | L19: =L18+1 -> 247
A20: =IF(AND('Math Grid'!C52<>"",'Math Grid'!C52='Math Grid'!D52),1,0) -> 0 | B20: =IF('Math Grid'!C52<>"",1,0) -> 0 | C20: Mean, Median, and Modes | E20: =E19+1 -> 18 | F20: =IF(AND('Math Grid'!I52<>"",'Math Grid'!I52='Math Grid'!J52),1,0) -> 0 | G20: =IF('Math Grid'!I52<>"",1,0) -> 0 | H20: Sets | J20: =J19+1 -> 18 | K20: =K19+1 -> 18 | L20: =L19+1 -> 248
A21: =IF(AND('Math Grid'!C53<>"",'Math Grid'!C53='Math Grid'!D53),1,0) -> 0 | B21: =IF('Math Grid'!C53<>"",1,0) -> 0 | C21: Word Problems | E21: =E20+1 -> 19 | F21: =IF(AND('Math Grid'!I53<>"",'Math Grid'!I53='Math Grid'!J53),1,0) -> 0 | G21: =IF('Math Grid'!I53<>"",1,0) -> 0 | H21: Word Problems | J21: =J20+1 -> 19 | K21: =K20+1 -> 19 | L21: =L20+1 -> 249
A22: =IF(AND('Math Grid'!C54<>"",'Math Grid'!C54='Math Grid'!D54),1,0) -> 0 | B22: =IF('Math Grid'!C54<>"",1,0) -> 0 | C22: Word Problems | E22: =E21+1 -> 20 | F22: =IF(AND('Math Grid'!I54<>"",'Math Grid'!I54='Math Grid'!J54),1,0) -> 0 | G22: =IF('Math Grid'!I54<>"",1,0) -> 0 | H22: Sequences | J22: =J21+1 -> 20 | K22: =K21+1 -> 20 | L22: =L21+1 -> 250
A23: =IF(AND('Math Grid'!C55<>"",'Math Grid'!C55='Math Grid'!D55),1,0) -> 0 | B23: =IF('Math Grid'!C55<>"",1,0) -> 0 | C23: Percentages | E23: =E22+1 -> 21 | F23: =IF(AND('Math Grid'!I55<>"",'Math Grid'!I55='Math Grid'!J55),1,0) -> 0 | G23: =IF('Math Grid'!I55<>"",1,0) -> 0 | H23: Rates | J23: =J22+1 -> 21 | K23: =K22+1 -> 21 | L23: =L22+1 -> 251
A24: =IF(AND('Math Grid'!C56<>"",'Math Grid'!C56='Math Grid'!D56),1,0) -> 0 | B24: =IF('Math Grid'!C56<>"",1,0) -> 0 | C24: Word Problems | E24: =E23+1 -> 22 | F24: =IF(AND('Math Grid'!I56<>"",'Math Grid'!I56='Math Grid'!J56),1,0) -> 0 | G24: =IF('Math Grid'!I56<>"",1,0) -> 0 | H24: Exponents and Roots | J24: =J23+1 -> 22 | K24: =K23+1 -> 22 | L24: =L23+1 -> 252
A25: =IF(AND('Math Grid'!C57<>"",'Math Grid'!C57='Math Grid'!D57),1,0) -> 0 | B25: =IF('Math Grid'!C57<>"",1,0) -> 0 | C25: Mean, Median, and Modes | E25: =E24+1 -> 23 | F25: =IF(AND('Math Grid'!I57<>"",'Math Grid'!I57='Math Grid'!J57),1,0) -> 0 | G25: =IF('Math Grid'!I57<>"",1,0) -> 0 | H25: Mean, Median, and Modes | J25: =J24+1 -> 23 | K25: =K24+1 -> 23 | L25: =L24+1 -> 253
A26: =IF(AND('Math Grid'!C58<>"",'Math Grid'!C58='Math Grid'!D58),1,0) -> 0 | B26: =IF('Math Grid'!C58<>"",1,0) -> 0 | C26: Equations | E26: =E25+1 -> 24 | F26: =IF(AND('Math Grid'!I58<>"",'Math Grid'!I58='Math Grid'!J58),1,0) -> 0 | G26: =IF('Math Grid'!I58<>"",1,0) -> 0 | H26: Word Problems | J26: =J25+1 -> 24 | K26: =K25+1 -> 24 | L26: =L25+1 -> 254
... A176: =IF(AND('Math Grid'!C208<>"",'Math Grid'!C208='Math Grid'!D208),1,0) -> 0 | B176: =IF('Math Grid'!C208<>"",1,0) -> 0 | C176: Geometry | E176: =E175+1 -> 174 | F176: =IF(AND('Math Grid'!I208<>"",'Math Grid'!I208='Math Grid'!J208),1,0) -> 0 | G176: =IF('Math Grid'!I208<>"",1,0) -> 0 | H176: Equations | J176: =J175+1 -> 174 | K176: =K175+1 -> 174 | L176: =L175+1 -> 404
A177: =IF(AND('Math Grid'!C209<>"",'Math Grid'!C209='Math Grid'!D209),1,0) -> 0 | B177: =IF('Math Grid'!C209<>"",1,0) -> 0 | C177: Number System | E177: =E176+1 -> 175
A178: =IF(AND('Math Grid'!C210<>"",'Math Grid'!C210='Math Grid'!D210),1,0) -> 0 | B178: =IF('Math Grid'!C210<>"",1,0) -> 0 | C178: Exponents and Roots | E178: =E177+1 -> 176
A179: =IF(AND('Math Grid'!C211<>"",'Math Grid'!C211='Math Grid'!D211),1,0) -> 0 | B179: =IF('Math Grid'!C211<>"",1,0) -> 0 | C179: 2D Geometry | E179: =E178+1 -> 177
A180: =IF(AND('Math Grid'!C212<>"",'Math Grid'!C212='Math Grid'!D212),1,0) -> 0 | B180: =IF('Math Grid'!C212<>"",1,0) -> 0 | C180: Word Problems | E180: =E179+1 -> 178
A181: =IF(AND('Math Grid'!C213<>"",'Math Grid'!C213='Math Grid'!D213),1,0) -> 0 | B181: =IF('Math Grid'!C213<>"",1,0) -> 0 | C181: Word Problems | E181: =E180+1 -> 179
A182: =IF(AND('Math Grid'!C214<>"",'Math Grid'!C214='Math Grid'!D214),1,0) -> 0 | B182: =IF('Math Grid'!C214<>"",1,0) -> 0 | C182: Exponents and Roots | E182: =E181+1 -> 180
A183: =IF(AND('Math Grid'!C215<>"",'Math Grid'!C215='Math Grid'!D215),1,0) -> 0 | B183: =IF('Math Grid'!C215<>"",1,0) -> 0 | C183: Number System | E183: =E182+1 -> 181
A184: =IF(AND('Math Grid'!C216<>"",'Math Grid'!C216='Math Grid'!D216),1,0) -> 0 | B184: =IF('Math Grid'!C216<>"",1,0) -> 0 | C184: Probability and P&C | E184: =E183+1 -> 182
A185: =IF(AND('Math Grid'!C217<>"",'Math Grid'!C217='Math Grid'!D217),1,0) -> 0 | B185: =IF('Math Grid'!C217<>"",1,0) -> 0 | C185: Coordinate Geometry | E185: =E184+1 -> 183
A186: =IF(AND('Math Grid'!C218<>"",'Math Grid'!C218='Math Grid'!D218),1,0) -> 0 | B186: =IF('Math Grid'!C218<>"",1,0) -> 0 | C186: Functions | E186: =E185+1 -> 184
A187: =IF(AND('Math Grid'!C219<>"",'Math Grid'!C219='Math Grid'!D219),1,0) -> 0 | B187: =IF('Math Grid'!C219<>"",1,0) -> 0 | C187: Inequalities | E187: =E186+1 -> 185
A188: =IF(AND('Math Grid'!C220<>"",'Math Grid'!C220='Math Grid'!D220),1,0) -> 0 | B188: =IF('Math Grid'!C220<>"",1,0) -> 0 | C188: Word Problems | E188: =E187+1 -> 186
... A232: =IF(AND('Math Grid'!C264<>"",'Math Grid'!C264='Math Grid'!D264),1,0) -> 0 | B232: =IF('Math Grid'!C264<>"",1,0) -> 0 | C232: Exponents and Roots | E232: =E231+1 -> 230

Sheet Verbal Grid
G1: WIZIUS | K1: The Official Guide (OG) is an important resource to prepare well for the GMAT. Here is an error log to help you measure your level of prepration.
G2: CAREERS | K2: Just put in your answers and it will automatically turn GREEN to suggest a CORRECT answer and RED to suggest an INCORRECT answer.
K3: You can FLAG questions to review them later.
K4: Wizius Careers helps you prepare for the GMAT to help you achieve your highest score. We also help students get an admission to their dream schools.
K5: We offer a guaranteed admission program to the TOP 50 B-Schools. You either get an admit or get your money back.
B10: Reading Comprehension | H10: Critical Reasoning | N10: Sentence Correction
B12: Question Type | D12: # answered | E12: # correct | F12: % correct | H12: Question Type | J12: # answered | K12: # correct | L12: % correct | N12: Question Type | P12: # answered | Q12: # correct | R12: % correct
B13: Application | D13: =SUMIF('Calculation RC'!$C:$C,'Verbal Grid'!B13,'Calculation RC'!$B:$B) -> 0 | E13: =SUMIF('Calculation RC'!$C:$C,'Verbal Grid'!B13,'Calculation RC'!$A:$A) -> 0 | F13: =IF(D13=0,"",E13/D13) | H13: Assumption | J13: =SUMIF('Calculation RC'!$H:$H,'Verbal Grid'!H13,'Calculation RC'!$G:$G) -> 0 | K13: =SUMIF('Calculation RC'!$H:$H,'Verbal Grid'!H13,'Calculation RC'!$F:$F) -> 0 | L13: =IF(J13=0,"",K13/J13) | N13: Clauses | P13: =SUMIF('Calculation RC'!$M:$M,'Verbal Grid'!N13,'Calculation RC'!$L:$L) -> 0 | Q13: =SUMIF('Calculation RC'!$M:$M,'Verbal Grid'!N13,'Calculation RC'!$K:$K) -> 0 | R13: =IF(P13=0,"",Q13/P13)
B14: Evaluation | D14: =SUMIF('Calculation RC'!$C:$C,'Verbal Grid'!B14,'Calculation RC'!$B:$B) -> 0 | E14: =SUMIF('Calculation RC'!$C:$C,'Verbal Grid'!B14,'Calculation RC'!$A:$A) -> 0 | F14: =IF(D14=0,"",E14/D14) | H14: Bold Face | J14: =SUMIF('Calculation RC'!$H:$H,'Verbal Grid'!H14,'Calculation RC'!$G:$G) -> 0 | K14: =SUMIF('Calculation RC'!$H:$H,'Verbal Grid'!H14,'Calculation RC'!$F:$F) -> 0 | L14: =IF(J14=0,"",K14/J14) | N14: Comparisons | P14: =SUMIF('Calculation RC'!$M:$M,'Verbal Grid'!N14,'Calculation RC'!$L:$L) -> 0 | Q14: =SUMIF('Calculation RC'!$M:$M,'Verbal Grid'!N14,'Calculation RC'!$K:$K) -> 0 | R14: =IF(P14=0,"",Q14/P14)
B15: Inference | D15: =SUMIF('Calculation RC'!$C:$C,'Verbal Grid'!B15,'Calculation RC'!$B:$B) -> 0 | E15: =SUMIF('Calculation RC'!$C:$C,'Verbal Grid'!B15,'Calculation RC'!$A:$A) -> 0 | F15: =IF(D15=0,"",E15/D15) | H15: Evaluate the Argument | J15: =SUMIF('Calculation RC'!$H:$H,'Verbal Grid'!H15,'Calculation RC'!$G:$G) -> 0 | K15: =SUMIF('Calculation RC'!$H:$H,'Verbal Grid'!H15,'Calculation RC'!$F:$F) -> 0 | L15: =IF(J15=0,"",K15/J15) | N15: Diction | P15: =SUMIF('Calculation RC'!$M:$M,'Verbal Grid'!N15,'Calculation RC'!$L:$L) -> 0 | Q15: =SUMIF('Calculation RC'!$M:$M,'Verbal Grid'!N15,'Calculation RC'!$K:$K) -> 0 | R15: =IF(P15=0,"",Q15/P15)
B16: Main Idea | D16: =SUMIF('Calculation RC'!$C:$C,'Verbal Grid'!B16,'Calculation RC'!$B:$B) -> 0 | E16: =SUMIF('Calculation RC'!$C:$C,'Verbal Grid'!B16,'Calculation RC'!$A:$A) -> 0 | F16: =IF(D16=0,"",E16/D16) | H16: Inference | J16: =SUMIF('Calculation RC'!$H:$H,'Verbal Grid'!H16,'Calculation RC'!$G:$G) -> 0 | K16: =SUMIF('Calculation RC'!$H:$H,'Verbal Grid'!H16,'Calculation RC'!$F:$F) -> 0 | L16: =IF(J16=0,"",K16/J16) | N16: Idioms | P16: =SUMIF('Calculation RC'!$M:$M,'Verbal Grid'!N16,'Calculation RC'!$L:$L) -> 0 | Q16: =SUMIF('Calculation RC'!$M:$M,'Verbal Grid'!N16,'Calculation RC'!$K:$K) -> 0 | R16: =IF(P16=0,"",Q16/P16)
B17: Supporting Idea | D17: =SUMIF('Calculation RC'!$C:$C,'Verbal Grid'!B17,'Calculation RC'!$B:$B) -> 0 | E17: =SUMIF('Calculation RC'!$C:$C,'Verbal Grid'!B17,'Calculation RC'!$A:$A) -> 0 | F17: =IF(D17=0,"",E17/D17) | H17: Logical Conclusion | J17: =SUMIF('Calculation RC'!$H:$H,'Verbal Grid'!H17,'Calculation RC'!$G:$G) -> 0 | K17: =SUMIF('Calculation RC'!$H:$H,'Verbal Grid'!H17,'Calculation RC'!$F:$F) -> 0 | L17: =IF(J17=0,"",K17/J17) | N17: Meaning | P17: =SUMIF('Calculation RC'!$M:$M,'Verbal Grid'!N17,'Calculation RC'!$L:$L) -> 0 | Q17: =SUMIF('Calculation RC'!$M:$M,'Verbal Grid'!N17,'Calculation RC'!$K:$K) -> 0 | R17: =IF(P17=0,"",Q17/P17)
H18: Paradox | J18: =SUMIF('Calculation RC'!$H:$H,'Verbal Grid'!H18,'Calculation RC'!$G:$G) -> 0 | K18: =SUMIF('Calculation RC'!$H:$H,'Verbal Grid'!H18,'Calculation RC'!$F:$F) -> 0 | L18: =IF(J18=0,"",K18/J18) | N18: Modifiers | P18: =SUMIF('Calculation RC'!$M:$M,'Verbal Grid'!N18,'Calculation RC'!$L:$L) -> 0 | Q18: =SUMIF('Calculation RC'!$M:$M,'Verbal Grid'!N18,'Calculation RC'!$K:$K) -> 0 | R18: =IF(P18=0,"",Q18/P18)
H19: Strengthen | J19: =SUMIF('Calculation RC'!$H:$H,'Verbal Grid'!H19,'Calculation RC'!$G:$G) -> 0 | K19: =SUMIF('Calculation RC'!$H:$H,'Verbal Grid'!H19,'Calculation RC'!$F:$F) -> 0 | L19: =IF(J19=0,"",K19/J19) | N19: Parallelism | P19: =SUMIF('Calculation RC'!$M:$M,'Verbal Grid'!N19,'Calculation RC'!$L:$L) -> 0 | Q19: =SUMIF('Calculation RC'!$M:$M,'Verbal Grid'!N19,'Calculation RC'!$K:$K) -> 0 | R19: =IF(P19=0,"",Q19/P19)
H20: Weaken | J20: =SUMIF('Calculation RC'!$H:$H,'Verbal Grid'!H20,'Calculation RC'!$G:$G) -> 0 | K20: =SUMIF('Calculation RC'!$H:$H,'Verbal Grid'!H20,'Calculation RC'!$F:$F) -> 0 | L20: =IF(J20=0,"",K20/J20) | N20: Pronouns | P20: =SUMIF('Calculation RC'!$M:$M,'Verbal Grid'!N20,'Calculation RC'!$L:$L) -> 0 | Q20: =SUMIF('Calculation RC'!$M:$M,'Verbal Grid'!N20,'Calculation RC'!$K:$K) -> 0 | R20: =IF(P20=0,"",Q20/P20)
N21: Punctuations | P21: =SUMIF('Calculation RC'!$M:$M,'Verbal Grid'!N21,'Calculation RC'!$L:$L) -> 0 | Q21: =SUMIF('Calculation RC'!$M:$M,'Verbal Grid'!N21,'Calculation RC'!$K:$K) -> 0 | R21: =IF(P21=0,"",Q21/P21)
N22: Style and Usage | P22: =SUMIF('Calculation RC'!$M:$M,'Verbal Grid'!N22,'Calculation RC'!$L:$L) -> 0 | Q22: =SUMIF('Calculation RC'!$M:$M,'Verbal Grid'!N22,'Calculation RC'!$K:$K) -> 0 | R22: =IF(P22=0,"",Q22/P22)
N23: Subject Verb Agreement | P23: =SUMIF('Calculation RC'!$M:$M,'Verbal Grid'!N23,'Calculation RC'!$L:$L) -> 0 | Q23: =SUMIF('Calculation RC'!$M:$M,'Verbal Grid'!N23,'Calculation RC'!$K:$K) -> 0 | R23: =IF(P23=0,"",Q23/P23)
N24: such as/like | P24: =SUMIF('Calculation RC'!$M:$M,'Verbal Grid'!N24,'Calculation RC'!$L:$L) -> 0 | Q24: =SUMIF('Calculation RC'!$M:$M,'Verbal Grid'!N24,'Calculation RC'!$K:$K) -> 0 | R24: =IF(P24=0,"",Q24/P24)
N25: Use of being | P25: =SUMIF('Calculation RC'!$M:$M,'Verbal Grid'!N25,'Calculation RC'!$L:$L) -> 0 | Q25: =SUMIF('Calculation RC'!$M:$M,'Verbal Grid'!N25,'Calculation RC'!$K:$K) -> 0 | R25: =IF(P25=0,"",Q25/P25)
N26: Verb Tense/Form | P26: =SUMIF('Calculation RC'!$M:$M,'Verbal Grid'!N26,'Calculation RC'!$L:$L) -> 0 | Q26: =SUMIF('Calculation RC'!$M:$M,'Verbal Grid'!N26,'Calculation RC'!$K:$K) -> 0 | R26: =IF(P26=0,"",Q26/P26)
N27: which/that | P27: =SUMIF('Calculation RC'!$M:$M,'Verbal Grid'!N27,'Calculation RC'!$L:$L) -> 0 | Q27: =SUMIF('Calculation RC'!$M:$M,'Verbal Grid'!N27,'Calculation RC'!$K:$K) -> 0 | R27: =IF(P27=0,"",Q27/P27)
B30: Note: The Math grids can be accessed via the bottom left tabs
B32: Reading Comprehension | H32: Critical Reasoning | N32: Sentence Correction
B33: Question | C33: Your answer | D33: Correct Answer | E33: Difficulty Level | F33: Flag question | H33: Question | I33: Your answer | J33: Correct Answer | K33: Difficulty Level | L33: Flag question | N33: Question | O33: Your answer | P33: Correct Answer | Q33: Difficulty Level | R33: Flag question
B34: 405 | D34: =IF(AND(C34>="A",C34<="E"),VLOOKUP(B34,'RC&CR&SC'!$A:$E,5,FALSE),"") | E34: =IF(AND(C34>="A",C34<="E"),VLOOKUP(B34,'RC&CR&SC'!$A:$D,3,FALSE),"") | H34: 544 | J34: =IF(AND(I34>="A",I34<="E"),VLOOKUP(H34,'RC&CR&SC'!$G:$K,5,FALSE),"") | K34: =IF(AND(I34>="A",I34<="E"),VLOOKUP(H34,'RC&CR&SC'!$G:$K,3,FALSE),"") | N34: 668 | P34: =IF(AND(O34>="A",O34<="E"),VLOOKUP(N34,'RC&CR&SC'!$M:$Q,5,FALSE),"") | Q34: =IF(AND(O34>="A",O34<="E"),VLOOKUP(N34,'RC&CR&SC'!$M:$Q,3,FALSE),"")
B35: =B34+1 -> 406 | D35: =IF(AND(C35>="A",C35<="E"),VLOOKUP(B35,'RC&CR&SC'!$A:$E,5,FALSE),"") | E35: =IF(AND(C35>="A",C35<="E"),VLOOKUP(B35,'RC&CR&SC'!$A:$D,3,FALSE),"") | H35: =H34+1 -> 545 | J35: =IF(AND(I35>="A",I35<="E"),VLOOKUP(H35,'RC&CR&SC'!$G:$K,5,FALSE),"") | K35: =IF(AND(I35>="A",I35<="E"),VLOOKUP(H35,'RC&CR&SC'!$G:$K,3,FALSE),"") | N35: =N34+1 -> 669 | P35: =IF(AND(O35>="A",O35<="E"),VLOOKUP(N35,'RC&CR&SC'!$M:$Q,5,FALSE),"") | Q35: =IF(AND(O35>="A",O35<="E"),VLOOKUP(N35,'RC&CR&SC'!$M:$Q,3,FALSE),"")
B36: =B35+1 -> 407 | D36: =IF(AND(C36>="A",C36<="E"),VLOOKUP(B36,'RC&CR&SC'!$A:$E,5,FALSE),"") | E36: =IF(AND(C36>="A",C36<="E"),VLOOKUP(B36,'RC&CR&SC'!$A:$D,3,FALSE),"") | H36: =H35+1 -> 546 | J36: =IF(AND(I36>="A",I36<="E"),VLOOKUP(H36,'RC&CR&SC'!$G:$K,5,FALSE),"") | K36: =IF(AND(I36>="A",I36<="E"),VLOOKUP(H36,'RC&CR&SC'!$G:$K,3,FALSE),"") | N36: =N35+1 -> 670 | P36: =IF(AND(O36>="A",O36<="E"),VLOOKUP(N36,'RC&CR&SC'!$M:$Q,5,FALSE),"") | Q36: =IF(AND(O36>="A",O36<="E"),VLOOKUP(N36,'RC&CR&SC'!$M:$Q,3,FALSE),"")
B37: =B36+1 -> 408 | D37: =IF(AND(C37>="A",C37<="E"),VLOOKUP(B37,'RC&CR&SC'!$A:$E,5,FALSE),"") | E37: =IF(AND(C37>="A",C37<="E"),VLOOKUP(B37,'RC&CR&SC'!$A:$D,3,FALSE),"") | H37: =H36+1 -> 547 | J37: =IF(AND(I37>="A",I37<="E"),VLOOKUP(H37,'RC&CR&SC'!$G:$K,5,FALSE),"") | K37: =IF(AND(I37>="A",I37<="E"),VLOOKUP(H37,'RC&CR&SC'!$G:$K,3,FALSE),"") | N37: =N36+1 -> 671 | P37: =IF(AND(O37>="A",O37<="E"),VLOOKUP(N37,'RC&CR&SC'!$M:$Q,5,FALSE),"") | Q37: =IF(AND(O37>="A",O37<="E"),VLOOKUP(N37,'RC&CR&SC'!$M:$Q,3,FALSE),"")
B38: =B37+1 -> 409 | D38: =IF(AND(C38>="A",C38<="E"),VLOOKUP(B38,'RC&CR&SC'!$A:$E,5,FALSE),"") | E38: =IF(AND(C38>="A",C38<="E"),VLOOKUP(B38,'RC&CR&SC'!$A:$D,3,FALSE),"") | H38: =H37+1 -> 548 | J38: =IF(AND(I38>="A",I38<="E"),VLOOKUP(H38,'RC&CR&SC'!$G:$K,5,FALSE),"") | K38: =IF(AND(I38>="A",I38<="E"),VLOOKUP(H38,'RC&CR&SC'!$G:$K,3,FALSE),"") | N38: =N37+1 -> 672 | P38: =IF(AND(O38>="A",O38<="E"),VLOOKUP(N38,'RC&CR&SC'!$M:$Q,5,FALSE),"") | Q38: =IF(AND(O38>="A",O38<="E"),VLOOKUP(N38,'RC&CR&SC'!$M:$Q,3,FALSE),"")
B39: =B38+1 -> 410 | D39: =IF(AND(C39>="A",C39<="E"),VLOOKUP(B39,'RC&CR&SC'!$A:$E,5,FALSE),"") | E39: =IF(AND(C39>="A",C39<="E"),VLOOKUP(B39,'RC&CR&SC'!$A:$D,3,FALSE),"") | H39: =H38+1 -> 549 | J39: =IF(AND(I39>="A",I39<="E"),VLOOKUP(H39,'RC&CR&SC'!$G:$K,5,FALSE),"") | K39: =IF(AND(I39>="A",I39<="E"),VLOOKUP(H39,'RC&CR&SC'!$G:$K,3,FALSE),"") | N39: =N38+1 -> 673 | P39: =IF(AND(O39>="A",O39<="E"),VLOOKUP(N39,'RC&CR&SC'!$M:$Q,5,FALSE),"") | Q39: =IF(AND(O39>="A",O39<="E"),VLOOKUP(N39,'RC&CR&SC'!$M:$Q,3,FALSE),"")
B40: =B39+1 -> 411 | D40: =IF(AND(C40>="A",C40<="E"),VLOOKUP(B40,'RC&CR&SC'!$A:$E,5,FALSE),"") | E40: =IF(AND(C40>="A",C40<="E"),VLOOKUP(B40,'RC&CR&SC'!$A:$D,3,FALSE),"") | H40: =H39+1 -> 550 | J40: =IF(AND(I40>="A",I40<="E"),VLOOKUP(H40,'RC&CR&SC'!$G:$K,5,FALSE),"") | K40: =IF(AND(I40>="A",I40<="E"),VLOOKUP(H40,'RC&CR&SC'!$G:$K,3,FALSE),"") | N40: =N39+1 -> 674 | P40: =IF(AND(O40>="A",O40<="E"),VLOOKUP(N40,'RC&CR&SC'!$M:$Q,5,FALSE),"") | Q40: =IF(AND(O40>="A",O40<="E"),VLOOKUP(N40,'RC&CR&SC'!$M:$Q,3,FALSE),"")
B41: =B40+1 -> 412 | D41: =IF(AND(C41>="A",C41<="E"),VLOOKUP(B41,'RC&CR&SC'!$A:$E,5,FALSE),"") | E41: =IF(AND(C41>="A",C41<="E"),VLOOKUP(B41,'RC&CR&SC'!$A:$D,3,FALSE),"") | H41: =H40+1 -> 551 | J41: =IF(AND(I41>="A",I41<="E"),VLOOKUP(H41,'RC&CR&SC'!$G:$K,5,FALSE),"") | K41: =IF(AND(I41>="A",I41<="E"),VLOOKUP(H41,'RC&CR&SC'!$G:$K,3,FALSE),"") | N41: =N40+1 -> 675 | P41: =IF(AND(O41>="A",O41<="E"),VLOOKUP(N41,'RC&CR&SC'!$M:$Q,5,FALSE),"") | Q41: =IF(AND(O41>="A",O41<="E"),VLOOKUP(N41,'RC&CR&SC'!$M:$Q,3,FALSE),"")
B42: =B41+1 -> 413 | D42: =IF(AND(C42>="A",C42<="E"),VLOOKUP(B42,'RC&CR&SC'!$A:$E,5,FALSE),"") | E42: =IF(AND(C42>="A",C42<="E"),VLOOKUP(B42,'RC&CR&SC'!$A:$D,3,FALSE),"") | H42: =H41+1 -> 552 | J42: =IF(AND(I42>="A",I42<="E"),VLOOKUP(H42,'RC&CR&SC'!$G:$K,5,FALSE),"") | K42: =IF(AND(I42>="A",I42<="E"),VLOOKUP(H42,'RC&CR&SC'!$G:$K,3,FALSE),"") | N42: =N41+1 -> 676 | P42: =IF(AND(O42>="A",O42<="E"),VLOOKUP(N42,'RC&CR&SC'!$M:$Q,5,FALSE),"") | Q42: =IF(AND(O42>="A",O42<="E"),VLOOKUP(N42,'RC&CR&SC'!$M:$Q,3,FALSE),"")
B43: =B42+1 -> 414 | D43: =IF(AND(C43>="A",C43<="E"),VLOOKUP(B43,'RC&CR&SC'!$A:$E,5,FALSE),"") | E43: =IF(AND(C43>="A",C43<="E"),VLOOKUP(B43,'RC&CR&SC'!$A:$D,3,FALSE),"") | H43: =H42+1 -> 553 | J43: =IF(AND(I43>="A",I43<="E"),VLOOKUP(H43,'RC&CR&SC'!$G:$K,5,FALSE),"") | K43: =IF(AND(I43>="A",I43<="E"),VLOOKUP(H43,'RC&CR&SC'!$G:$K,3,FALSE),"") | N43: =N42+1 -> 677 | P43: =IF(AND(O43>="A",O43<="E"),VLOOKUP(N43,'RC&CR&SC'!$M:$Q,5,FALSE),"") | Q43: =IF(AND(O43>="A",O43<="E"),VLOOKUP(N43,'RC&CR&SC'!$M:$Q,3,FALSE),"")
B44: =B43+1 -> 415 | D44: =IF(AND(C44>="A",C44<="E"),VLOOKUP(B44,'RC&CR&SC'!$A:$E,5,FALSE),"") | E44: =IF(AND(C44>="A",C44<="E"),VLOOKUP(B44,'RC&CR&SC'!$A:$D,3,FALSE),"") | H44: =H43+1 -> 554 | J44: =IF(AND(I44>="A",I44<="E"),VLOOKUP(H44,'RC&CR&SC'!$G:$K,5,FALSE),"") | K44: =IF(AND(I44>="A",I44<="E"),VLOOKUP(H44,'RC&CR&SC'!$G:$K,3,FALSE),"") | N44: =N43+1 -> 678 | P44: =IF(AND(O44>="A",O44<="E"),VLOOKUP(N44,'RC&CR&SC'!$M:$Q,5,FALSE),"") | Q44: =IF(AND(O44>="A",O44<="E"),VLOOKUP(N44,'RC&CR&SC'!$M:$Q,3,FALSE),"")
B45: =B44+1 -> 416 | D45: =IF(AND(C45>="A",C45<="E"),VLOOKUP(B45,'RC&CR&SC'!$A:$E,5,FALSE),"") | E45: =IF(AND(C45>="A",C45<="E"),VLOOKUP(B45,'RC&CR&SC'!$A:$D,3,FALSE),"") | H45: =H44+1 -> 555 | J45: =IF(AND(I45>="A",I45<="E"),VLOOKUP(H45,'RC&CR&SC'!$G:$K,5,FALSE),"") | K45: =IF(AND(I45>="A",I45<="E"),VLOOKUP(H45,'RC&CR&SC'!$G:$K,3,FALSE),"") | N45: =N44+1 -> 679 | P45: =IF(AND(O45>="A",O45<="E"),VLOOKUP(N45,'RC&CR&SC'!$M:$Q,5,FALSE),"") | Q45: =IF(AND(O45>="A",O45<="E"),VLOOKUP(N45,'RC&CR&SC'!$M:$Q,3,FALSE),"")
B46: =B45+1 -> 417 | D46: =IF(AND(C46>="A",C46<="E"),VLOOKUP(B46,'RC&CR&SC'!$A:$E,5,FALSE),"") | E46: =IF(AND(C46>="A",C46<="E"),VLOOKUP(B46,'RC&CR&SC'!$A:$D,3,FALSE),"") | H46: =H45+1 -> 556 | J46: =IF(AND(I46>="A",I46<="E"),VLOOKUP(H46,'RC&CR&SC'!$G:$K,5,FALSE),"") | K46: =IF(AND(I46>="A",I46<="E"),VLOOKUP(H46,'RC&CR&SC'!$G:$K,3,FALSE),"") | N46: =N45+1 -> 680 | P46: =IF(AND(O46>="A",O46<="E"),VLOOKUP(N46,'RC&CR&SC'!$M:$Q,5,FALSE),"") | Q46: =IF(AND(O46>="A",O46<="E"),VLOOKUP(N46,'RC&CR&SC'!$M:$Q,3,FALSE),"")
... B157: =B156+1 -> 528 | D157: =IF(AND(C157>="A",C157<="E"),VLOOKUP(B157,'RC&CR&SC'!$A:$E,5,FALSE),"") | E157: =IF(AND(C157>="A",C157<="E"),VLOOKUP(B157,'RC&CR&SC'!$A:$D,3,FALSE),"") | H157: =H156+1 -> 667 | J157: =IF(AND(I157>="A",I157<="E"),VLOOKUP(H157,'RC&CR&SC'!$G:$K,5,FALSE),"") | K157: =IF(AND(I157>="A",I157<="E"),VLOOKUP(H157,'RC&CR&SC'!$G:$K,3,FALSE),"") | N157: =N156+1 -> 791 | P157: =IF(AND(O157>="A",O157<="E"),VLOOKUP(N157,'RC&CR&SC'!$M:$Q,5,FALSE),"") | Q157: =IF(AND(O157>="A",O157<="E"),VLOOKUP(N157,'RC&CR&SC'!$M:$Q,3,FALSE),"")
B158: =B157+1 -> 529 | D158: =IF(AND(C158>="A",C158<="E"),VLOOKUP(B158,'RC&CR&SC'!$A:$E,5,FALSE),"") | E158: =IF(AND(C158>="A",C158<="E"),VLOOKUP(B158,'RC&CR&SC'!$A:$D,3,FALSE),"") | N158: =N157+1 -> 792 | P158: =IF(AND(O158>="A",O158<="E"),VLOOKUP(N158,'RC&CR&SC'!$M:$Q,5,FALSE),"") | Q158: =IF(AND(O158>="A",O158<="E"),VLOOKUP(N158,'RC&CR&SC'!$M:$Q,3,FALSE),"")
...

Sheet RC&CR&SC
A1: Question Number | B1: Topic | C1: Difficulty | D1: New? | E1: Answers | G1: Question Number | H1: Topic | I1: Difficulty | J1: New? | K1: Answers | M1: Question Number | N1: Topic | O1: Difficulty | P1: New? | Q1: Answers
A2: 405 | B2: Main Idea | C2: easy | E2: D | G2: 544 | H2: Strengthen | I2: easy | K2: E | M2: 668 | N2: Parallelism | O2: easy | P2: Y | Q2: A
A3: 406 | B3: Supporting Idea | C3: easy | E3: D | G3: 545 | H3: Strengthen | I3: easy | K3: C | M3: 669 | N3: Parallelism | O3: easy | Q3: D
A4: 407 | B4: Main Idea | C4: easy | E4: B | G4: 546 | H4: Weaken | I4: easy | K4: E | M4: 670 | N4: Subject Verb Agreement | O4: easy | Q4: B
A5: 408 | B5: Main Idea | C5: easy | E5: B | G5: 547 | H5: Strengthen | I5: easy | K5: A | M5: 671 | N5: Verb Tense/Form | O5: easy | P5: Y | Q5: B
A6: 409 | B6: Inference | C6: easy | E6: C | G6: 548 | H6: Strengthen | I6: easy | K6: A | M6: 672 | N6: Parallelism | O6: easy | P6: Y | Q6: D
A7: 410 | B7: Supporting Idea | C7: easy | E7: C | G7: 549 | H7: Weaken | I7: easy | K7: B | M7: 673 | N7: Verb Tense/Form | O7: easy | Q7: C
A8: 411 | B8: Evaluation | C8: easy | D8: Y | E8: A | G8: 550 | H8: Logical Conclusion | I8: easy | K8: E | M8: 674 | N8: Modifiers | O8: easy | Q8: D
A9: 412 | B9: Supporting Idea | C9: easy | D9: Y | E9: C | G9: 551 | H9: Paradox | I9: easy | K9: E | M9: 675 | N9: Idioms | O9: easy | Q9: D
A10: 413 | B10: Inference | C10: easy | E10: D | G10: 552 | H10: Strengthen | I10: easy | K10: C | M10: 676 | N10: Parallelism | O10: medium | Q10: D
A11: 414 | B11: Application | C11: easy | E11: C | G11: 553 | H11: Bold Face | I11: easy | J11: Y | K11: C | M11: 677 | N11: Style and Usage | O11: easy | Q11: B
A12: 415 | B12: Supporting Idea | C12: easy | E12: A | G12: 554 | H12: Logical Conclusion | I12: easy | J12: Y | K12: A | M12: 678 | N12: Parallelism | O12: easy | P12: Y | Q12: B
A13: 416 | B13: Inference | C13: easy | E13: C | G13: 555 | H13: Paradox | I13: easy | K13: E | M13: 679 | N13: Comparisons | O13: easy | Q13: D
A14: 417 | B14: Supporting Idea | C14: easy | E14: C | G14: 556 | H14: Evaluate the Argument | I14: easy | K14: A | M14: 680 | N14: Verb Tense/Form | O14: easy | Q14: C
A15: 418 | B15: Supporting Idea | C15: easy | E15: C | G15: 557 | H15: Strengthen | I15: easy | J15: Y | K15: D | M15: 681 | N15: Verb Tense/Form | O15: easy | P15: Y | Q15: E
A16: 419 | B16: Main Idea | C16: easy | E16: E | G16: 558 | H16: Assumption | I16: easy | K16: B | M16: 682 | N16: Verb Tense/Form | O16: medium | P16: Y | Q16: E
A17: 420 | B17: Evaluation | C17: easy | E17: A | G17: 559 | H17: Paradox | I17: easy | K17: D | M17: 683 | N17: Meaning | O17: medium | Q17: A
A18: 421 | B18: Main Idea | C18: easy | E18: C | G18: 560 | H18: Strengthen | I18: easy | J18: Y | K18: D | M18: 684 | N18: Subject Verb Agreement | O18: easy | Q18: D
A19: 422 | B19: Inference | C19: easy | E19: B | G19: 561 | H19: Weaken | I19: easy | K19: C | M19: 685 | N19: Subject Verb Agreement | O19: easy | Q19: E
A20: 423 | B20: Inference | C20: easy | E20: B | G20: 562 | H20: Bold Face | I20: easy | K20: B | M20: 686 | N20: such as/like | O20: easy | Q20: C
A21: 424 | B21: Inference | C21: easy | E21: A | G21: 563 | H21: Strengthen | I21: easy | K21: D | M21: 687 | N21: which/that | O21: easy | Q21: B
A22: 425 | B22: Evaluation | C22: easy | E22: D | G22: 564 | H22: Logical Conclusion | I22: easy | K22: D | M22: 688 | N22: Comparisons | O22: easy | Q22: C
A23: 426 | B23: Main Idea | C23: easy | D23: Y | E23: C | G23: 565 | H23: Logical Conclusion | I23: easy | K23: C | M23: 689 | N23: Pronouns | O23: easy | Q23: D
A24: 427 | B24: Supporting Idea | C24: easy | D24: Y | E24: E | G24: 566 | H24: Strengthen | I24: easy | K24: E | M24: 690 | N24: such as/like | O24: easy | Q24: E
A25: 428 | B25: Evaluation | C25: easy | D25: Y | E25: B | G25: 567 | H25: Inference | I25: easy | K25: B | M25: 691 | N25: Meaning | O25: easy | P25: Y | Q25: B
A26: 429 | B26: Supporting Idea | C26: easy | D26: Y | E26: D | G26: 568 | H26: Strengthen | I26: easy | K26: A | M26: 692 | N26: Verb Tense/Form | O26: easy | P26: Y | Q26: B
A27: 430 | B27: Supporting Idea | C27: easy | E27: C | G27: 569 | H27: Strengthen | I27: easy | K27: E | M27: 693 | N27: Idioms | O27: easy | P27: Y | Q27: E
A28: 431 | B28: Evaluation | C28: easy | E28: B | G28: 570 | H28: Assumption | I28: easy | J28: Y | K28: B | M28: 694 | N28: Parallelism | O28: easy | P28: Y | Q28: C
A29: 432 | B29: Inference | C29: easy | E29: D | G29: 571 | H29: Strengthen | I29: easy | K29: E | M29: 695 | N29: Subject Verb Agreement | O29: medium | Q29: C
A30: 433 | B30: Supporting Idea | C30: easy | E30: A | G30: 572 | H30: Weaken | I30: easy | K30: D | M30: 696 | N30: Modifiers | O30: easy | Q30: A
A31: 434 | B31: Supporting Idea | C31: easy | E31: C | G31: 573 | H31: Paradox | I31: easy | J31: Y | K31: E | M31: 697 | N31: Parallelism | O31: medium | Q31: B
A32: 435 | B32: Inference | C32: easy | E32: D | G32: 574 | H32: Strengthen | I32: easy | J32: Y | K32: B | M32: 698 | N32: Diction | O32: hard | Q32: E
A33: 436 | B33: Inference | C33: easy | E33: B | G33: 575 | H33: Weaken | I33: easy | K33: E | M33: 699 | N33: Parallelism | O33: easy | Q33: C
A34: 437 | B34: Supporting Idea | C34: easy | E34: B | G34: 576 | H34: Bold Face | I34: easy | J34: Y | K34: D | M34: 700 | N34: Meaning | O34: medium | Q34: D
A35: 438 | B35: Inference | C35: medium | D35: Y | E35: B | G35: 577 | H35: Assumption | I35: medium | K35: A | M35: 701 | N35: Verb Tense/Form | O35: easy | Q35: A
A36: 439 | B36: Evaluation | C36: medium | D36: Y | E36: C | G36: 578 | H36: Inference | I36: medium | K36: A | M36: 702 | N36: Parallelism | O36: medium | Q36: B
A37: 440 | B37: Inference | C37: medium | D37: Y | E37: C | G37: 579 | H37: Bold Face | I37: medium | J37: Y | K37: B | M37: 703 | N37: Parallelism | O37: hard | Q37: E
A38: 441 | B38: Evaluation | C38: medium | D38: Y | E38: A | G38: 580 | H38: Bold Face | I38: medium | J38: Y | K38: D | M38: 704 | N38: Parallelism | O38: easy | Q38: C
A39: 442 | B39: Supporting Idea | C39: medium | D39: Y | E39: D | G39: 581 | H39: Weaken | I39: medium | K39: D | M39: 705 | N39: Verb Tense/Form | O39: easy | Q39: B
A40: 443 | B40: Supporting Idea | C40: medium | D40: Y | E40: D | G40: 582 | H40: Assumption | I40: medium | K40: E | M40: 706 | N40: Subject Verb Agreement | O40: easy | Q40: D
...

Sheet Calculation RC
A1: RC | F1: CR | K1: SC
A2: Corr | B2: Tot | C2: type | F2: Corr | G2: Tot | H2: type | K2: Corr | L2: Tot | M2: type
A3: =IF(AND('Verbal Grid'!C34<>"",'Verbal Grid'!C34='Verbal Grid'!D34),1,0) -> 0 | B3: =IF('Verbal Grid'!C34<>"",1,0) -> 0 | C3: Main Idea | D3: 405 | E3: 1 | F3: =IF(AND('Verbal Grid'!I34<>"",'Verbal Grid'!I34='Verbal Grid'!J34),1,0) -> 0 | G3: =IF('Verbal Grid'!I34<>"",1,0) -> 0 | H3: Strengthen | I3: 544 | J3: 1 | K3: =IF(AND('Verbal Grid'!O34<>"",'Verbal Grid'!O34='Verbal Grid'!P34),1,0) -> 0 | L3: =IF('Verbal Grid'!O34<>"",1,0) -> 0 | M3: Parallelism | N3: 668 | O3: 1
A4: =IF(AND('Verbal Grid'!C35<>"",'Verbal Grid'!C35='Verbal Grid'!D35),1,0) -> 0 | B4: =IF('Verbal Grid'!C35<>"",1,0) -> 0 | C4: Supporting Idea | D4: =D3+1 -> 406 | E4: 2 | F4: =IF(AND('Verbal Grid'!I35<>"",'Verbal Grid'!I35='Verbal Grid'!J35),1,0) -> 0 | G4: =IF('Verbal Grid'!I35<>"",1,0) -> 0 | H4: Strengthen | I4: =I3+1 -> 545 | J4: 2 | K4: =IF(AND('Verbal Grid'!O35<>"",'Verbal Grid'!O35='Verbal Grid'!P35),1,0) -> 0 | L4: =IF('Verbal Grid'!O35<>"",1,0) -> 0 | M4: Parallelism | N4: =N3+1 -> 669 | O4: 2
A5: =IF(AND('Verbal Grid'!C36<>"",'Verbal Grid'!C36='Verbal Grid'!D36),1,0) -> 0 | B5: =IF('Verbal Grid'!C36<>"",1,0) -> 0 | C5: Main Idea | D5: =D4+1 -> 407 | E5: 3 | F5: =IF(AND('Verbal Grid'!I36<>"",'Verbal Grid'!I36='Verbal Grid'!J36),1,0) -> 0 | G5: =IF('Verbal Grid'!I36<>"",1,0) -> 0 | H5: Weaken | I5: =I4+1 -> 546 | J5: 3 | K5: =IF(AND('Verbal Grid'!O36<>"",'Verbal Grid'!O36='Verbal Grid'!P36),1,0) -> 0 | L5: =IF('Verbal Grid'!O36<>"",1,0) -> 0 | M5: Subject Verb Agreement | N5: =N4+1 -> 670 | O5: 3
A6: =IF(AND('Verbal Grid'!C37<>"",'Verbal Grid'!C37='Verbal Grid'!D37),1,0) -> 0 | B6: =IF('Verbal Grid'!C37<>"",1,0) -> 0 | C6: Main Idea | D6: =D5+1 -> 408 | E6: 4 | F6: =IF(AND('Verbal Grid'!I37<>"",'Verbal Grid'!I37='Verbal Grid'!J37),1,0) -> 0 | G6: =IF('Verbal Grid'!I37<>"",1,0) -> 0 | H6: Strengthen | I6: =I5+1 -> 547 | J6: 4 | K6: =IF(AND('Verbal Grid'!O37<>"",'Verbal Grid'!O37='Verbal Grid'!P37),1,0) -> 0 | L6: =IF('Verbal Grid'!O37<>"",1,0) -> 0 | M6: Verb Tense/Form | N6: =N5+1 -> 671 | O6: 4
A7: =IF(AND('Verbal Grid'!C38<>"",'Verbal Grid'!C38='Verbal Grid'!D38),1,0) -> 0 | B7: =IF('Verbal Grid'!C38<>"",1,0) -> 0 | C7: Inference | D7: =D6+1 -> 409 | E7: 5 | F7: =IF(AND('Verbal Grid'!I38<>"",'Verbal Grid'!I38='Verbal Grid'!J38),1,0) -> 0 | G7: =IF('Verbal Grid'!I38<>"",1,0) -> 0 | H7: Strengthen | I7: =I6+1 -> 548 | J7: 5 | K7: =IF(AND('Verbal Grid'!O38<>"",'Verbal Grid'!O38='Verbal Grid'!P38),1,0) -> 0 | L7: =IF('Verbal Grid'!O38<>"",1,0) -> 0 | M7: Parallelism | N7: =N6+1 -> 672 | O7: 5
A8: =IF(AND('Verbal Grid'!C39<>"",'Verbal Grid'!C39='Verbal Grid'!D39),1,0) -> 0 | B8: =IF('Verbal Grid'!C39<>"",1,0) -> 0 | C8: Supporting Idea | D8: =D7+1 -> 410 | E8: 6 | F8: =IF(AND('Verbal Grid'!I39<>"",'Verbal Grid'!I39='Verbal Grid'!J39),1,0) -> 0 | G8: =IF('Verbal Grid'!I39<>"",1,0) -> 0 | H8: Weaken | I8: =I7+1 -> 549 | J8: 6 | K8: =IF(AND('Verbal Grid'!O39<>"",'Verbal Grid'!O39='Verbal Grid'!P39),1,0) -> 0 | L8: =IF('Verbal Grid'!O39<>"",1,0) -> 0 | M8: Verb Tense/Form | N8: =N7+1 -> 673 | O8: 6
A9: =IF(AND('Verbal Grid'!C40<>"",'Verbal Grid'!C40='Verbal Grid'!D40),1,0) -> 0 | B9: =IF('Verbal Grid'!C40<>"",1,0) -> 0 | C9: Evaluation | D9: =D8+1 -> 411 | E9: 7 | F9: =IF(AND('Verbal Grid'!I40<>"",'Verbal Grid'!I40='Verbal Grid'!J40),1,0) -> 0 | G9: =IF('Verbal Grid'!I40<>"",1,0) -> 0 | H9: Logical Conclusion | I9: =I8+1 -> 550 | J9: 7 | K9: =IF(AND('Verbal Grid'!O40<>"",'Verbal Grid'!O40='Verbal Grid'!P40),1,0) -> 0 | L9: =IF('Verbal Grid'!O40<>"",1,0) -> 0 | M9: Modifiers | N9: =N8+1 -> 674 | O9: 7
A10: =IF(AND('Verbal Grid'!C41<>"",'Verbal Grid'!C41='Verbal Grid'!D41),1,0) -> 0 | B10: =IF('Verbal Grid'!C41<>"",1,0) -> 0 | C10: Supporting Idea | D10: =D9+1 -> 412 | E10: 8 | F10: =IF(AND('Verbal Grid'!I41<>"",'Verbal Grid'!I41='Verbal Grid'!J41),1,0) -> 0 | G10: =IF('Verbal Grid'!I41<>"",1,0) -> 0 | H10: Paradox | I10: =I9+1 -> 551 | J10: 8 | K10: =IF(AND('Verbal Grid'!O41<>"",'Verbal Grid'!O41='Verbal Grid'!P41),1,0) -> 0 | L10: =IF('Verbal Grid'!O41<>"",1,0) -> 0 | M10: Idioms | N10: =N9+1 -> 675 | O10: 8
A11: =IF(AND('Verbal Grid'!C42<>"",'Verbal Grid'!C42='Verbal Grid'!D42),1,0) -> 0 | B11: =IF('Verbal Grid'!C42<>"",1,0) -> 0 | C11: Inference | D11: =D10+1 -> 413 | E11: 9 | F11: =IF(AND('Verbal Grid'!I42<>"",'Verbal Grid'!I42='Verbal Grid'!J42),1,0) -> 0 | G11: =IF('Verbal Grid'!I42<>"",1,0) -> 0 | H11: Strengthen | I11: =I10+1 -> 552 | J11: 9 | K11: =IF(AND('Verbal Grid'!O42<>"",'Verbal Grid'!O42='Verbal Grid'!P42),1,0) -> 0 | L11: =IF('Verbal Grid'!O42<>"",1,0) -> 0 | M11: Parallelism | N11: =N10+1 -> 676 | O11: 9
A12: =IF(AND('Verbal Grid'!C43<>"",'Verbal Grid'!C43='Verbal Grid'!D43),1,0) -> 0 | B12: =IF('Verbal Grid'!C43<>"",1,0) -> 0 | C12: Application | D12: =D11+1 -> 414 | E12: 10 | F12: =IF(AND('Verbal Grid'!I43<>"",'Verbal Grid'!I43='Verbal Grid'!J43),1,0) -> 0 | G12: =IF('Verbal Grid'!I43<>"",1,0) -> 0 | H12: Bold Face | I12: =I11+1 -> 553 | J12: 10 | K12: =IF(AND('Verbal Grid'!O43<>"",'Verbal Grid'!O43='Verbal Grid'!P43),1,0) -> 0 | L12: =IF('Verbal Grid'!O43<>"",1,0) -> 0 | M12: Style and Usage | N12: =N11+1 -> 677 | O12: 10
