Workbook

Sheet Math Grid
F1: WIZIUS | J1: The Official Guide (OG) is an important resource to prepare well for the GMAT. Here is an error log to help you measure your level of prepration.
F2: CAREERS | J2: Just put in your answers and it will automatically turn GREEN to suggest a CORRECT answer and RED to suggest an INCORRECT answer.
J3: You can FLAG questions to review them later.
J4: Wizius Careers helps you prepare for the GMAT to help you achieve your highest score. We also help students get an admission to their dream schools.
J5: We offer a guaranteed admission program to the TOP 50 B-Schools. You either get an admit or get your money back.
D10: Problem Solving Questions | G10: Data Sufficiency Questions
B11: Lesson Module | D11: # answered | E11: # correct | F11: % correct | G11: # answered | H11: # correct | I11: % correct | J11: Total % correct
B12: Geometry | D12: =SUMIF(Calculation!$C:$C,'Math Grid'!B12,Calculation!$B:$B) -> 0 | E12: =SUMIF(Calculation!$C:$C,$B12,Calculation!$A:$A) -> 0 | F12: =IF(D12=0,"",IF(D12=0,0,E12/D12)) | G12: =SUMIF(Calculation!$H:$H,'Math Grid'!B12,Calculation!$G:$G) -> 0 | H12: =SUMIF(Calculation!$C:$C,$B12,Calculation!$F:$F) -> 0 | I12: =IF(G12=0,"",IF(G12=0,0,H12/G12)) | J12: =IF(D12+G12=0,"",(E12+H12)/(D12+G12))
B13: 2D Geometry | D13: =SUMIF(Calculation!$C:$C,'Math Grid'!B13,Calculation!$B:$B) -> 0 | E13: =SUMIF(Calculation!$C:$C,$B13,Calculation!$A:$A) -> 0 | F13: =IF(D13=0,"",IF(D13=0,0,E13/D13)) | G13: =SUMIF(Calculation!$H:$H,'Math Grid'!B13,Calculation!$G:$G) -> 0 | H13: =SUMIF(Calculation!$C:$C,$B13,Calculation!$F:$F) -> 0 | I13: =IF(G13=0,"",IF(G13=0,0,H13/G13)) | J13: =IF(D13+G13=0,"",(E13+H13)/(D13+G13))
B14: Coordinate Geometry | D14: =SUMIF(Calculation!$C:$C,'Math Grid'!B14,Calculation!$B:$B) -> 0 | E14: =SUMIF(Calculation!$C:$C,$B14,Calculation!$A:$A) -> 0 | F14: =IF(D14=0,"",IF(D14=0,0,E14/D14)) | G14: =SUMIF(Calculation!$H:$H,'Math Grid'!B14,Calculation!$G:$G) -> 0 | H14: =SUMIF(Calculation!$C:$C,$B14,Calculation!$F:$F) -> 0 | I14: =IF(G14=0,"",IF(G14=0,0,H14/G14)) | J14: =IF(D14+G14=0,"",(E14+H14)/(D14+G14))
B15: 3D Geometry | D15: =SUMIF(Calculation!$C:$C,'Math Grid'!B15,Calculation!$B:$B) -> 0 | E15: =SUMIF(Calculation!$C:$C,$B15,Calculation!$A:$A) -> 0 | F15: =IF(D15=0,"",IF(D15=0,0,E15/D15)) | G15: =SUMIF(Calculation!$H:$H,'Math Grid'!B15,Calculation!$G:$G) -> 0 | H15: =SUMIF(Calculation!$C:$C,$B15,Calculation!$F:$F) -> 0 | I15: =IF(G15=0,"",IF(G15=0,0,H15/G15)) | J15: =IF(D15+G15=0,"",(E15+H15)/(D15+G15))
B16: Number System | D16: =SUMIF(Calculation!$C:$C,'Math Grid'!B16,Calculation!$B:$B) -> 0 | E16: =SUMIF(Calculation!$C:$C,$B16,Calculation!$A:$A) -> 0 | F16: =IF(D16=0,"",IF(D16=0,0,E16/D16)) | G16: =SUMIF(Calculation!$H:$H,'Math Grid'!B16,Calculation!$G:$G) -> 0 | H16: =SUMIF(Calculation!$C:$C,$B16,Calculation!$F:$F) -> 0 | I16: =IF(G16=0,"",IF(G16=0,0,H16/G16)) | J16: =IF(D16+G16=0,"",(E16+H16)/(D16+G16))
B17: Equations | D17: =SUMIF(Calculation!$C:$C,'Math Grid'!B17,Calculation!$B:$B) -> 0 | E17: =SUMIF(Calculation!$C:$C,$B17,Calculation!$A:$A) -> 0 | F17: =IF(D17=0,"",IF(D17=0,0,E17/D17)) | G17: =SUMIF(Calculation!$H:$H,'Math Grid'!B17,Calculation!$G:$G) -> 0 | H17: =SUMIF(Calculation!$C:$C,$B17,Calculation!$F:$F) -> 0 | I17: =IF(G17=0,"",IF(G17=0,0,H17/G17)) | J17: =IF(D17+G17=0,"",(E17+H17)/(D17+G17))
B18: Mean, Median, and Modes | D18: =SUMIF(Calculation!$C:$C,'Math Grid'!B18,Calculation!$B:$B) -> 0 | E18: =SUMIF(Calculation!$C:$C,$B18,Calculation!$A:$A) -> 0 | F18: =IF(D18=0,"",IF(D18=0,0,E18/D18)) | G18: =SUMIF(Calculation!$H:$H,'Math Grid'!B18,Calculation!$G:$G) -> 0 | H18: =SUMIF(Calculation!$C:$C,$B18,Calculation!$F:$F) -> 0 | I18: =IF(G18=0,"",IF(G18=0,0,H18/G18)) | J18: =IF(D18+G18=0,"",(E18+H18)/(D18+G18))
B19: Ratio and Proportion | D19: =SUMIF(Calculation!$C:$C,'Math Grid'!B19,Calculation!$B:$B) -> 0 | E19: =SUMIF(Calculation!$C:$C,$B19,Calculation!$A:$A) -> 0 | F19: =IF(D19=0,"",IF(D19=0,0,E19/D19)) | G19: =SUMIF(Calculation!$H:$H,'Math Grid'!B19,Calculation!$G:$G) -> 0 | H19: =SUMIF(Calculation!$C:$C,$B19,Calculation!$F:$F) -> 0 | I19: =IF(G19=0,"",IF(G19=0,0,H19/G19)) | J19: =IF(D19+G19=0,"",(E19+H19)/(D19+G19))
B20: Percentages | D20: =SUMIF(Calculation!$C:$C,'Math Grid'!B20,Calculation!$B:$B) -> 0 | E20: =SUMIF(Calculation!$C:$C,$B20,Calculation!$A:$A) -> 0 | F20: =IF(D20=0,"",IF(D20=0,0,E20/D20)) | G20: =SUMIF(Calculation!$H:$H,'Math Grid'!B20,Calculation!$G:$G) -> 0 | H20: =SUMIF(Calculation!$C:$C,$B20,Calculation!$F:$F) -> 0 | I20: =IF(G20=0,"",IF(G20=0,0,H20/G20)) | J20: =IF(D20+G20=0,"",(E20+H20)/(D20+G20))
B21: Rates | D21: =SUMIF(Calculation!$C:$C,'Math Grid'!B21,Calculation!$B:$B) -> 0 | E21: =SUMIF(Calculation!$C:$C,$B21,Calculation!$A:$A) -> 0 | F21: =IF(D21=0,"",IF(D21=0,0,E21/D21)) | G21: =SUMIF(Calculation!$H:$H,'Math Grid'!B21,Calculation!$G:$G) -> 0 | H21: =SUMIF(Calculation!$C:$C,$B21,Calculation!$F:$F) -> 0 | I21: =IF(G21=0,"",IF(G21=0,0,H21/G21)) | J21: =IF(D21+G21=0,"",(E21+H21)/(D21+G21))
B22: Word Problems | D22: =SUMIF(Calculation!$C:$C,'Math Grid'!B22,Calculation!$B:$B) -> 0 | E22: =SUMIF(Calculation!$C:$C,$B22,Calculation!$A:$A) -> 0 | F22: =IF(D22=0,"",IF(D22=0,0,E22/D22)) | G22: =SUMIF(Calculation!$H:$H,'Math Grid'!B22,Calculation!$G:$G) -> 0 | H22: =SUMIF(Calculation!$C:$C,$B22,Calculation!$F:$F) -> 0 | I22: =IF(G22=0,"",IF(G22=0,0,H22/G22)) | J22: =IF(D22+G22=0,"",(E22+H22)/(D22+G22))
B23: Exponents and Roots | D23: =SUMIF(Calculation!$C:$C,'Math Grid'!B23,Calculation!$B:$B) -> 0 | E23: =SUMIF(Calculation!$C:$C,$B23,Calculation!$A:$A) -> 0 | F23: =IF(D23=0,"",IF(D23=0,0,E23/D23)) | G23: =SUMIF(Calculation!$H:$H,'Math Grid'!B23,Calculation!$G:$G) -> 0 | H23: =SUMIF(Calculation!$C:$C,$B23,Calculation!$F:$F) -> 0 | I23: =IF(G23=0,"",IF(G23=0,0,H23/G23)) | J23: =IF(D23+G23=0,"",(E23+H23)/(D23+G23))
... B28: Functions | D28: =SUMIF(Calculation!$C:$C,'Math Grid'!B28,Calculation!$B:$B) -> 0 | E28: =SUMIF(Calculation!$C:$C,$B28,Calculation!$A:$A) -> 0 | F28: =IF(D28=0,"",IF(D28=0,0,E28/D28)) | G28: =SUMIF(Calculation!$H:$H,'Math Grid'!B28,Calculation!$G:$G) -> 0 | H28: =SUMIF(Calculation!$C:$C,$B28,Calculation!$F:$F) -> 0 | I28: =IF(G28=0,"",IF(G28=0,0,H28/G28)) | J28: =IF(D28+G28=0,"",(E28+H28)/(D28+G28))
B31: Note: The Verbal grids can be accessed via the bottom left tabs
B33: Problem Solving Questions | H33: Data Sufficiency Questions
B34: Question | C34: Your answer | D34: Correct Answer | E34: Difficulty Level | F34: Flag question | H34: Question | I34: Your answer | J34: Correct Answer | K34: Difficulty Level | L34: Flag question
B35: 1 | D35: =IF(AND(C35>="A",C35<="E"),VLOOKUP(B35,'PS & DS'!$A:$D,4,FALSE),"") | E35: =IF(AND(C35>="A",C35<="E"),VLOOKUP(B35,'PS & DS'!$A:$D,3,FALSE),"") | H35: 231 | J35: =IF(AND(I35>="A",I35<="E"),VLOOKUP(H35,'PS & DS'!$G:$J,4,FALSE),"") | K35: =IF(AND(I35>="A",I35<="E"),VLOOKUP(H35,'PS & DS'!$G:$J,3,FALSE),"") | AD35: Prob Solv | AI35: Data
B36: =B35+1 -> 2 | D36: =IF(AND(C36>="A",C36<="E"),VLOOKUP(B36,'PS & DS'!$A:$D,4,FALSE),"") | E36: =IF(AND(C36>="A",C36<="E"),VLOOKUP(B36,'PS & DS'!$A:$D,3,FALSE),"") | H36: =H35+1 -> 232 | J36: =IF(AND(I36>="A",I36<="E"),VLOOKUP(H36,'PS & DS'!$G:$J,4,FALSE),"") | K36: =IF(AND(I36>="A",I36<="E"),VLOOKUP(H36,'PS & DS'!$G:$J,3,FALSE),"") | AD36: Corr | AE36: Tot | AF36: type | AI36: Corr | AJ36: Tot | AK36: type
B37: =B36+1 -> 3 | D37: =IF(AND(C37>="A",C37<="E"),VLOOKUP(B37,'PS & DS'!$A:$D,4,FALSE),"") | E37: =IF(AND(C37>="A",C37<="E"),VLOOKUP(B37,'PS & DS'!$A:$D,3,FALSE),"") | H37: =H36+1 -> 233 | J37: =IF(AND(I37>="A",I37<="E"),VLOOKUP(H37,'PS & DS'!$G:$J,4,FALSE),"") | K37: =IF(AND(I37>="A",I37<="E"),VLOOKUP(H37,'PS & DS'!$G:$J,3,FALSE),"") | AD37: =IF(AND(#REF!<>"",#REF!=#REF!),1,0) -> #REF! | AE37: =IF(#REF!<>"",1,0) -> #REF! | AF37: Arithmetic | AH37: 1 | AI37: =IF(AND(#REF!<>"",#REF!=#REF!),1,0) -> #REF! | AJ37: =IF(#REF!<>"",1,0) -> #REF! | AK37: Geometry | AM37: 1 | AN37: 1 | AO37: 231
B38: =B37+1 -> 4 | D38: =IF(AND(C38>="A",C38<="E"),VLOOKUP(B38,'PS & DS'!$A:$D,4,FALSE),"") | E38: =IF(AND(C38>="A",C38<="E"),VLOOKUP(B38,'PS & DS'!$A:$D,3,FALSE),"") | H38: =H37+1 -> 234 | J38: =IF(AND(I38>="A",I38<="E"),VLOOKUP(H38,'PS & DS'!$G:$J,4,FALSE),"") | K38: =IF(AND(I38>="A",I38<="E"),VLOOKUP(H38,'PS & DS'!$G:$J,3,FALSE),"") | AD38: =IF(AND(#REF!<>"",#REF!=#REF!),1,0) -> #REF! | AE38: =IF(#REF!<>"",1,0) -> #REF! | AF38: Arithmetic | AH38: =AH37+1 -> 2 | AI38: =IF(AND(#REF!<>"",#REF!=#REF!),1,0) -> #REF! | AJ38: =IF(#REF!<>"",1,0) -> #REF! | AK38: Word problems | AM38: =AM37+1 -> 2 | AN38: =AN37+1 -> 2 | AO38: =AO37+1 -> 232
B39: =B38+1 -> 5 | D39: =IF(AND(C39>="A",C39<="E"),VLOOKUP(B39,'PS & DS'!$A:$D,4,FALSE),"") | E39: =IF(AND(C39>="A",C39<="E"),VLOOKUP(B39,'PS & DS'!$A:$D,3,FALSE),"") | H39: =H38+1 -> 235 | J39: =IF(AND(I39>="A",I39<="E"),VLOOKUP(H39,'PS & DS'!$G:$J,4,FALSE),"") | K39: =IF(AND(I39>="A",I39<="E"),VLOOKUP(H39,'PS & DS'!$G:$J,3,FALSE),"") | AD39: =IF(AND(#REF!<>"",#REF!=#REF!),1,0) -> #REF! | AE39: =IF(#REF!<>"",1,0) -> #REF! | AF39: Arithmetic | AH39: =AH38+1 -> 3 | AI39: =IF(AND(#REF!<>"",#REF!=#REF!),1,0) -> #REF! | AJ39: =IF(#REF!<>"",1,0) -> #REF! | AK39: Arithmetic | AM39: =AM38+1 -> 3 | AN39: =AN38+1 -> 3 | AO39: =AO38+1 -> 233 | AQ39: key
B40: =B39+1 -> 6 | D40: =IF(AND(C40>="A",C40<="E"),VLOOKUP(B40,'PS & DS'!$A:$D,4,FALSE),"") | E40: =IF(AND(C40>="A",C40<="E"),VLOOKUP(B40,'PS & DS'!$A:$D,3,FALSE),"") | H40: =H39+1 -> 236 | J40: =IF(AND(I40>="A",I40<="E"),VLOOKUP(H40,'PS & DS'!$G:$J,4,FALSE),"") | K40: =IF(AND(I40>="A",I40<="E"),VLOOKUP(H40,'PS & DS'!$G:$J,3,FALSE),"") | AD40: =IF(AND(#REF!<>"",#REF!=#REF!),1,0) -> #REF! | AE40: =IF(#REF!<>"",1,0) -> #REF! | AF40: Arithmetic | AH40: =AH39+1 -> 4 | AI40: =IF(AND(#REF!<>"",#REF!=#REF!),1,0) -> #REF! | AJ40: =IF(#REF!<>"",1,0) -> #REF! | AK40: Word problems | AM40: =AM39+1 -> 4 | AN40: =AN39+1 -> 4 | AO40: =AO39+1 -> 234 | AQ40: Arithmetic
B41: =B40+1 -> 7 | D41: =IF(AND(C41>="A",C41<="E"),VLOOKUP(B41,'PS & DS'!$A:$D,4,FALSE),"") | E41: =IF(AND(C41>="A",C41<="E"),VLOOKUP(B41,'PS & DS'!$A:$D,3,FALSE),"") | H41: =H40+1 -> 237 | J41: =IF(AND(I41>="A",I41<="E"),VLOOKUP(H41,'PS & DS'!$G:$J,4,FALSE),"") | K41: =IF(AND(I41>="A",I41<="E"),VLOOKUP(H41,'PS & DS'!$G:$J,3,FALSE),"") | AD41: =IF(AND(#REF!<>"",#REF!=#REF!),1,0) -> #REF! | AE41: =IF(#REF!<>"",1,0) -> #REF! | AF41: Arithmetic | AH41: =AH40+1 -> 5 | AI41: =IF(AND(#REF!<>"",#REF!=#REF!),1,0) -> #REF! | AJ41: =IF(#REF!<>"",1,0) -> #REF! | AK41: Geometry | AM41: =AM40+1 -> 5 | AN41: =AN40+1 -> 5 | AO41: =AO40+1 -> 235 | AQ41: Geometry
B42: =B41+1 -> 8 | D42: =IF(AND(C42>="A",C42<="E"),VLOOKUP(B42,'PS & DS'!$A:$D,4,FALSE),"") | E42: =IF(AND(C42>="A",C42<="E"),VLOOKUP(B42,'PS & DS'!$A:$D,3,FALSE),"") | H42: =H41+1 -> 238 | J42: =IF(AND(I42>="A",I42<="E"),VLOOKUP(H42,'PS & DS'!$G:$J,4,FALSE),"") | K42: =IF(AND(I42>="A",I42<="E"),VLOOKUP(H42,'PS & DS'!$G:$J,3,FALSE),"") | AD42: =IF(AND(#REF!<>"",#REF!=#REF!),1,0) -> #REF! | AE42: =IF(#REF!<>"",1,0) -> #REF! | AF42: Arithmetic | AH42: =AH41+1 -> 6 | AI42: =IF(AND(#REF!<>"",#REF!=#REF!),1,0) -> #REF! | AJ42: =IF(#REF!<>"",1,0) -> #REF! | AK42: Probability | AM42: =AM41+1 -> 6 | AN42: =AN41+1 -> 6 | AO42: =AO41+1 -> 236 | AQ42: Integer Properties
B43: =B42+1 -> 9 | D43: =IF(AND(C43>="A",C43<="E"),VLOOKUP(B43,'PS & DS'!$A:$D,4,FALSE),"") | E43: =IF(AND(C43>="A",C43<="E"),VLOOKUP(B43,'PS & DS'!$A:$D,3,FALSE),"") | H43: =H42+1 -> 239 | J43: =IF(AND(I43>="A",I43<="E"),VLOOKUP(H43,'PS & DS'!$G:$J,4,FALSE),"") | K43: =IF(AND(I43>="A",I43<="E"),VLOOKUP(H43,'PS & DS'!$G:$J,3,FALSE),"") | AD43: =IF(AND(#REF!<>"",#REF!=#REF!),1,0) -> #REF! | AE43: =IF(#REF!<>"",1,0) -> #REF! | AF43: Word problems | AH43: =AH42+1 -> 7 | AI43: =IF(AND(#REF!<>"",#REF!=#REF!),1,0) -> #REF! | AJ43: =IF(#REF!<>"",1,0) -> #REF! | AK43: Geometry | AM43: =AM42+1 -> 7 | AN43: =AN42+1 -> 7 | AO43: =AO42+1 -> 237 | AQ43: Word problems
B44: =B43+1 -> 10 | D44: =IF(AND(C44>="A",C44<="E"),VLOOKUP(B44,'PS & DS'!$A:$D,4,FALSE),"") | E44: =IF(AND(C44>="A",C44<="E"),VLOOKUP(B44,'PS & DS'!$A:$D,3,FALSE),"") | H44: =H43+1 -> 240 | J44: =IF(AND(I44>="A",I44<="E"),VLOOKUP(H44,'PS & DS'!$G:$J,4,FALSE),"") | K44: =IF(AND(I44>="A",I44<="E"),VLOOKUP(H44,'PS & DS'!$G:$J,3,FALSE),"") | AD44: =IF(AND(#REF!<>"",#REF!=#REF!),1,0) -> #REF! | AE44: =IF(#REF!<>"",1,0) -> #REF! | AF44: Word problems | AH44: =AH43+1 -> 8 | AI44: =IF(AND(#REF!<>"",#REF!=#REF!),1,0) -> #REF! | AJ44: =IF(#REF!<>"",1,0) -> #REF! | AK44: Word problems | AM44: =AM43+1 -> 8 | AN44: =AN43+1 -> 8 | AO44: =AO43+1 -> 238 | AQ44: Algebra & Equations
B45: =B44+1 -> 11 | D45: =IF(AND(C45>="A",C45<="E"),VLOOKUP(B45,'PS & DS'!$A:$D,4,FALSE),"") | E45: =IF(AND(C45>="A",C45<="E"),VLOOKUP(B45,'PS & DS'!$A:$D,3,FALSE),"") | H45: =H44+1 -> 241 | J45: =IF(AND(I45>="A",I45<="E"),VLOOKUP(H45,'PS & DS'!$G:$J,4,FALSE),"") | K45: =IF(AND(I45>="A",I45<="E"),VLOOKUP(H45,'PS & DS'!$G:$J,3,FALSE),"") | AD45: =IF(AND(#REF!<>"",#REF!=#REF!),1,0) -> #REF! | AE45: =IF(#REF!<>"",1,0) -> #REF! | AF45: Word problems | AH45: =AH44+1 -> 9 | AI45: =IF(AND(#REF!<>"",#REF!=#REF!),1,0) -> #REF! | AJ45: =IF(#REF!<>"",1,0) -> #REF! | AK45: Arithmetic | AM45: =AM44+1 -> 9 | AN45: =AN44+1 -> 9 | AO45: =AO44+1 -> 239 | AQ45: Statistics
B46: =B45+1 -> 12 | D46: =IF(AND(C46>="A",C46<="E"),VLOOKUP(B46,'PS & DS'!$A:$D,4,FALSE),"") | E46: =IF(AND(C46>="A",C46<="E"),VLOOKUP(B46,'PS & DS'!$A:$D,3,FALSE),"") | H46: =H45+1 -> 242 | J46: =IF(AND(I46>="A",I46<="E"),VLOOKUP(H46,'PS & DS'!$G:$J,4,FALSE),"") | K46: =IF(AND(I46>="A",I46<="E"),VLOOKUP(H46,'PS & DS'!$G:$J,3,FALSE),"") | AD46: =IF(AND(#REF!<>"",#REF!=#REF!),1,0) -> #REF! | AE46: =IF(#REF!<>"",1,0) -> #REF! | AF46: Word problems | AH46: =AH45+1 -> 10 | AI46: =IF(AND(#REF!<>"",#REF!=#REF!),1,0) -> #REF! | AJ46: =IF(#REF!<>"",1,0) -> #REF! | AK46: Powers & Roots | AM46: =AM45+1 -> 10 | AN46: =AN45+1 -> 10 | AO46: =AO45+1 -> 240 | AQ46: Probability
B47: =B46+1 -> 13 | D47: =IF(AND(C47>="A",C47<="E"),VLOOKUP(B47,'PS & DS'!$A:$D,4,FALSE),"") | E47: =IF(AND(C47>="A",C47<="E"),VLOOKUP(B47,'PS & DS'!$A:$D,3,FALSE),"") | H47: =H46+1 -> 243 | J47: =IF(AND(I47>="A",I47<="E"),VLOOKUP(H47,'PS & DS'!$G:$J,4,FALSE),"") | K47: =IF(AND(I47>="A",I47<="E"),VLOOKUP(H47,'PS & DS'!$G:$J,3,FALSE),"") | AD47: =IF(AND(#REF!<>"",#REF!=#REF!),1,0) -> #REF! | AE47: =IF(#REF!<>"",1,0) -> #REF! | AF47: Probability | AH47: =AH46+1 -> 11 | AI47: =IF(AND(#REF!<>"",#REF!=#REF!),1,0) -> #REF! | AJ47: =IF(#REF!<>"",1,0) -> #REF! | AK47: Word problems | AM47: =AM46+1 -> 11 | AN47: =AN46+1 -> 11 | AO47: =AO46+1 -> 241 | AQ47: Powers & Roots
B48: =B47+1 -> 14 | D48: =IF(AND(C48>="A",C48<="E"),VLOOKUP(B48,'PS & DS'!$A:$D,4,FALSE),"") | E48: =IF(AND(C48>="A",C48<="E"),VLOOKUP(B48,'PS & DS'!$A:$D,3,FALSE),"") | H48: =H47+1 -> 244 | J48: =IF(AND(I48>="A",I48<="E"),VLOOKUP(H48,'PS & DS'!$G:$J,4,FALSE),"") | K48: =IF(AND(I48>="A",I48<="E"),VLOOKUP(H48,'PS & DS'!$G:$J,3,FALSE),"") | AD48: =IF(AND(#REF!<>"",#REF!=#REF!),1,0) -> #REF! | AE48: =IF(#REF!<>"",1,0) -> #REF! | AF48: Arithmetic | AH48: =AH47+1 -> 12 | AI48: =IF(AND(#REF!<>"",#REF!=#REF!),1,0) -> #REF! | AJ48: =IF(#REF!<>"",1,0) -> #REF! | AK48: Word problems | AM48: =AM47+1 -> 12 | AN48: =AN47+1 -> 12 | AO48: =AO47+1 -> 242 | AQ48: Counting
B49: =B48+1 -> 15 | D49: =IF(AND(C49>="A",C49<="E"),VLOOKUP(B49,'PS & DS'!$A:$D,4,FALSE),"") | E49: =IF(AND(C49>="A",C49<="E"),VLOOKUP(B49,'PS & DS'!$A:$D,3,FALSE),"") | H49: =H48+1 -> 245 | J49: =IF(AND(I49>="A",I49<="E"),VLOOKUP(H49,'PS & DS'!$G:$J,4,FALSE),"") | K49: =IF(AND(I49>="A",I49<="E"),VLOOKUP(H49,'PS & DS'!$G:$J,3,FALSE),"") | AD49: =IF(AND(#REF!<>"",#REF!=#REF!),1,0) -> #REF! | AE49: =IF(#REF!<>"",1,0) -> #REF! | AF49: Word problems | AH49: =AH48+1 -> 13 | AI49: =IF(AND(#REF!<>"",#REF!=#REF!),1,0) -> #REF! | AJ49: =IF(#REF!<>"",1,0) -> #REF! | AK49: Powers & Roots | AM49: =AM48+1 -> 13 | AN49: =AN48+1 -> 13 | AO49: =AO48+1 -> 243
B50: =B49+1 -> 16 | D50: =IF(AND(C50>="A",C50<="E"),VLOOKUP(B50,'PS & DS'!$A:$D,4,FALSE),"") | E50: =IF(AND(C50>="A",C50<="E"),VLOOKUP(B50,'PS & DS'!$A:$D,3,FALSE),"") | H50: =H49+1 -> 246 | J50: =IF(AND(I50>="A",I50<="E"),VLOOKUP(H50,'PS & DS'!$G:$J,4,FALSE),"") | K50: =IF(AND(I50>="A",I50<="E"),VLOOKUP(H50,'PS & DS'!$G:$J,3,FALSE),"") | AD50: =IF(AND(#REF!<>"",#REF!=#REF!),1,0) -> #REF! | AE50: =IF(#REF!<>"",1,0) -> #REF! | AF50: Statistics | AH50: =AH49+1 -> 14 | AI50: =IF(AND(#REF!<>"",#REF!=#REF!),1,0) -> #REF! | AJ50: =IF(#REF!<>"",1,0) -> #REF! | AK50: Statistics | AM50: =AM49+1 -> 14 | AN50: =AN49+1 -> 14 | AO50: =AO49+1 -> 244
B51: =B50+1 -> 17 | D51: =IF(AND(C51>="A",C51<="E"),VLOOKUP(B51,'PS & DS'!$A:$D,4,FALSE),"") | E51: =IF(AND(C51>="A",C51<="E"),VLOOKUP(B51,'PS & DS'!$A:$D,3,FALSE),"") | H51: =H50+1 -> 247 | J51: =IF(AND(I51>="A",I51<="E"),VLOOKUP(H51,'PS & DS'!$G:$J,4,FALSE),"") | K51: =IF(AND(I51>="A",I51<="E"),VLOOKUP(H51,'PS & DS'!$G:$J,3,FALSE),"") | AD51: =IF(AND(#REF!<>"",#REF!=#REF!),1,0) -> #REF! | AE51: =IF(#REF!<>"",1,0) -> #REF! | AF51: Arithmetic | AH51: =AH50+1 -> 15 | AI51: =IF(AND(#REF!<>"",#REF!=#REF!),1,0) -> #REF! | AJ51: =IF(#REF!<>"",1,0) -> #REF! | AK51: Word problems | AM51: =AM50+1 -> 15 | AN51: =AN50+1 -> 15 | AO51: =AO50+1 -> 245
B52: =B51+1 -> 18 | D52: =IF(AND(C52>="A",C52<="E"),VLOOKUP(B52,'PS & DS'!$A:$D,4,FALSE),"") | E52: =IF(AND(C52>="A",C52<="E"),VLOOKUP(B52,'PS & DS'!$A:$D,3,FALSE),"") | H52: =H51+1 -> 248 | J52: =IF(AND(I52>="A",I52<="E"),VLOOKUP(H52,'PS & DS'!$G:$J,4,FALSE),"") | K52: =IF(AND(I52>="A",I52<="E"),VLOOKUP(H52,'PS & DS'!$G:$J,3,FALSE),"") | AD52: =IF(AND(#REF!<>"",#REF!=#REF!),1,0) -> #REF! | AE52: =IF(#REF!<>"",1,0) -> #REF! | AF52: Algebra & Equations | AH52: =AH51+1 -> 16 | AI52: =IF(AND(#REF!<>"",#REF!=#REF!),1,0) -> #REF! | AJ52: =IF(#REF!<>"",1,0) -> #REF! | AK52: Arithmetic | AM52: =AM51+1 -> 16 | AN52: =AN51+1 -> 16 | AO52: =AO51+1 -> 246
B53: =B52+1 -> 19 | D53: =IF(AND(C53>="A",C53<="E"),VLOOKUP(B53,'PS & DS'!$A:$D,4,FALSE),"") | E53: =IF(AND(C53>="A",C53<="E"),VLOOKUP(B53,'PS & DS'!$A:$D,3,FALSE),"") | H53: =H52+1 -> 249 | J53: =IF(AND(I53>="A",I53<="E"),VLOOKUP(H53,'PS & DS'!$G:$J,4,FALSE),"") | K53: =IF(AND(I53>="A",I53<="E"),VLOOKUP(H53,'PS & DS'!$G:$J,3,FALSE),"") | AD53: =IF(AND(#REF!<>"",#REF!=#REF!),1,0) -> #REF! | AE53: =IF(#REF!<>"",1,0) -> #REF! | AF53: Geometry | AH53: =AH52+1 -> 17 | AI53: =IF(AND(#REF!<>"",#REF!=#REF!),1,0) -> #REF! | AJ53: =IF(#REF!<>"",1,0) -> #REF! | AK53: Algebra & Equations | AM53: =AM52+1 -> 17 | AN53: =AN52+1 -> 17 | AO53: =AO52+1 -> 247
B54: =B53+1 -> 20 | D54: =IF(AND(C54>="A",C54<="E"),VLOOKUP(B54,'PS & DS'!$A:$D,4,FALSE),"") | E54: =IF(AND(C54>="A",C54<="E"),VLOOKUP(B54,'PS & DS'!$A:$D,3,FALSE),"") | H54: =H53+1 -> 250 | J54: =IF(AND(I54>="A",I54<="E"),VLOOKUP(H54,'PS & DS'!$G:$J,4,FALSE),"") | K54: =IF(AND(I54>="A",I54<="E"),VLOOKUP(H54,'PS & DS'!$G:$J,3,FALSE),"") | AD54: =IF(AND(#REF!<>"",#REF!=#REF!),1,0) -> #REF! | AE54: =IF(#REF!<>"",1,0) -> #REF! | AF54: Geometry | AH54: =AH53+1 -> 18 | AI54: =IF(AND(#REF!<>"",#REF!=#REF!),1,0) -> #REF! | AJ54: =IF(#REF!<>"",1,0) -> #REF! | AK54: Word problems | AM54: =AM53+1 -> 18 | AN54: =AN53+1 -> 18 | AO54: =AO53+1 -> 248
B55: =B54+1 -> 21 | D55: =IF(AND(C55>="A",C55<="E"),VLOOKUP(B55,'PS & DS'!$A:$D,4,FALSE),"") | E55: =IF(AND(C55>="A",C55<="E"),VLOOKUP(B55,'PS & DS'!$A:$D,3,FALSE),"") | H55: =H54+1 -> 251 | J55: =IF(AND(I55>="A",I55<="E"),VLOOKUP(H55,'PS & DS'!$G:$J,4,FALSE),"") | K55: =IF(AND(I55>="A",I55<="E"),VLOOKUP(H55,'PS & DS'!$G:$J,3,FALSE),"") | AD55: =IF(AND(#REF!<>"",#REF!=#REF!),1,0) -> #REF! | AE55: =IF(#REF!<>"",1,0) -> #REF! | AF55: Algebra & Equations | AH55: =AH54+1 -> 19 | AI55: =IF(AND(#REF!<>"",#REF!=#REF!),1,0) -> #REF! | AJ55: =IF(#REF!<>"",1,0) -> #REF! | AK55: Powers & Roots | AM55: =AM54+1 -> 19 | AN55: =AN54+1 -> 19 | AO55: =AO54+1 -> 249
B56: =B55+1 -> 22 | D56: =IF(AND(C56>="A",C56<="E"),VLOOKUP(B56,'PS & DS'!$A:$D,4,FALSE),"") | E56: =IF(AND(C56>="A",C56<="E"),VLOOKUP(B56,'PS & DS'!$A:$D,3,FALSE),"") | H56: =H55+1 -> 252 | J56: =IF(AND(I56>="A",I56<="E"),VLOOKUP(H56,'PS & DS'!$G:$J,4,FALSE),"") | K56: =IF(AND(I56>="A",I56<="E"),VLOOKUP(H56,'PS & DS'!$G:$J,3,FALSE),"") | AD56: =IF(AND(#REF!<>"",#REF!=#REF!),1,0) -> #REF! | AE56: =IF(#REF!<>"",1,0) -> #REF! | AF56: Word problems | AH56: =AH55+1 -> 20 | AI56: =IF(AND(#REF!<>"",#REF!=#REF!),1,0) -> #REF! | AJ56: =IF(#REF!<>"",1,0) -> #REF! | AK56: Arithmetic | AM56: =AM55+1 -> 20 | AN56: =AN55+1 -> 20 | AO56: =AO55+1 -> 250
B57: =B56+1 -> 23 | D57: =IF(AND(C57>="A",C57<="E"),VLOOKUP(B57,'PS & DS'!$A:$D,4,FALSE),"") | E57: =IF(AND(C57>="A",C57<="E"),VLOOKUP(B57,'PS & DS'!$A:$D,3,FALSE),"") | H57: =H56+1 -> 253 | J57: =IF(AND(I57>="A",I57<="E"),VLOOKUP(H57,'PS & DS'!$G:$J,4,FALSE),"") | K57: =IF(AND(I57>="A",I57<="E"),VLOOKUP(H57,'PS & DS'!$G:$J,3,FALSE),"") | AD57: =IF(AND(#REF!<>"",#REF!=#REF!),1,0) -> #REF! | AE57: =IF(#REF!<>"",1,0) -> #REF! | AF57: Statistics | AH57: =AH56+1 -> 21 | AI57: =IF(AND(#REF!<>"",#REF!=#REF!),1,0) -> #REF! | AJ57: =IF(#REF!<>"",1,0) -> #REF! | AK57: Word problems | AM57: =AM56+1 -> 21 | AN57: =AN56+1 -> 21 | AO57: =AO56+1 -> 251
B58: =B57+1 -> 24 | D58: =IF(AND(C58>="A",C58<="E"),VLOOKUP(B58,'PS & DS'!$A:$D,4,FALSE),"") | E58: =IF(AND(C58>="A",C58<="E"),VLOOKUP(B58,'PS & DS'!$A:$D,3,FALSE),"") | H58: =H57+1 -> 254 | J58: =IF(AND(I58>="A",I58<="E"),VLOOKUP(H58,'PS & DS'!$G:$J,4,FALSE),"") | K58: =IF(AND(I58>="A",I58<="E"),VLOOKUP(H58,'PS & DS'!$G:$J,3,FALSE),"") | AD58: =IF(AND(#REF!<>"",#REF!=#REF!),1,0) -> #REF! | AE58: =IF(#REF!<>"",1,0) -> #REF! | AF58: Geometry | AH58: =AH57+1 -> 22 | AI58: =IF(AND(#REF!<>"",#REF!=#REF!),1,0) -> #REF! | AJ58: =IF(#REF!<>"",1,0) -> #REF! | AK58: Algebra & Equations | AM58: =AM57+1 -> 22 | AN58: =AN57+1 -> 22 | AO58: =AO57+1 -> 252
B59: =B58+1 -> 25 | D59: =IF(AND(C59>="A",C59<="E"),VLOOKUP(B59,'PS & DS'!$A:$D,4,FALSE),"") | E59: =IF(AND(C59>="A",C59<="E"),VLOOKUP(B59,'PS & DS'!$A:$D,3,FALSE),"") | H59: =H58+1 -> 255 | J59: =IF(AND(I59>="A",I59<="E"),VLOOKUP(H59,'PS & DS'!$G:$J,4,FALSE),"") | K59: =IF(AND(I59>="A",I59<="E"),VLOOKUP(H59,'PS & DS'!$G:$J,3,FALSE),"") | AD59: =IF(AND(#REF!<>"",#REF!=#REF!),1,0) -> #REF! | AE59: =IF(#REF!<>"",1,0) -> #REF! | AF59: Word problems | AH59: =AH58+1 -> 23 | AI59: =IF(AND(#REF!<>"",#REF!=#REF!),1,0) -> #REF! | AJ59: =IF(#REF!<>"",1,0) -> #REF! | AK59: Word problems | AM59: =AM58+1 -> 23 | AN59: =AN58+1 -> 23 | AO59: =AO58+1 -> 253
B60: =B59+1 -> 26 | D60: =IF(AND(C60>="A",C60<="E"),VLOOKUP(B60,'PS & DS'!$A:$D,4,FALSE),"") | E60: =IF(AND(C60>="A",C60<="E"),VLOOKUP(B60,'PS & DS'!$A:$D,3,FALSE),"") | H60: =H59+1 -> 256 | J60: =IF(AND(I60>="A",I60<="E"),VLOOKUP(H60,'PS & DS'!$G:$J,4,FALSE),"") | K60: =IF(AND(I60>="A",I60<="E"),VLOOKUP(H60,'PS & DS'!$G:$J,3,FALSE),"") | AD60: =IF(AND(#REF!<>"",#REF!=#REF!),1,0) -> #REF! | AE60: =IF(#REF!<>"",1,0) -> #REF! | AF60: Word problems | AH60: =AH59+1 -> 24 | AI60: =IF(AND(#REF!<>"",#REF!=#REF!),1,0) -> #REF! | AJ60: =IF(#REF!<>"",1,0) -> #REF! | AK60: Word problems | AM60: =AM59+1 -> 24 | AN60: =AN59+1 -> 24 | AO60: =AO59+1 -> 254
... B208: =B207+1 -> 174 | D208: =IF(AND(C208>="A",C208<="E"),VLOOKUP(B208,'PS & DS'!$A:$D,4,FALSE),"") | E208: =IF(AND(C208>="A",C208<="E"),VLOOKUP(B208,'PS & DS'!$A:$D,3,FALSE),"") | H208: =H207+1 -> 404 | J208: =IF(AND(I208>="A",I208<="E"),VLOOKUP(H208,'PS & DS'!$G:$J,4,FALSE),"") | K208: =IF(AND(I208>="A",I208<="E"),VLOOKUP(H208,'PS & DS'!$G:$J,3,FALSE),"") | AD208: =IF(AND(#REF!<>"",#REF!=#REF!),1,0) -> #REF! | AE208: =IF(#REF!<>"",1,0) -> #REF! | AF208: Arithmetic | AH208: =AH207+1 -> 172 | AI208: =IF(AND(#REF!<>"",#REF!=#REF!),1,0) -> #REF! | AJ208: =IF(#REF!<>"",1,0) -> #REF! | AK208: Word problems | AM208: =AM207+1 -> 172 | AN208: =AN207+1 -> 172 | AO208: =AO207+1 -> 402
B209: =B208+1 -> 175 | D209: =IF(AND(C209>="A",C209<="E"),VLOOKUP(B209,'PS & DS'!$A:$D,4,FALSE),"") | E209: =IF(AND(C209>="A",C209<="E"),VLOOKUP(B209,'PS & DS'!$A:$D,3,FALSE),"") | AC209: =IF(AND(#REF!<>"",#REF!=#REF!),1,0) -> #REF! | AD209: =IF(#REF!<>"",1,0) -> #REF! | AE209: Arithmetic | AG209: =AH208+1 -> 173 | AH209: =IF(AND(#REF!<>"",#REF!=#REF!),1,0) -> #REF! | AI209: =IF(#REF!<>"",1,0) -> #REF! | AJ209: Arithmetic | AL209: =AM208+1 -> 173 | AM209: =AN208+1 -> 173 | AN209: =AO208+1 -> 403
B210: =B209+1 -> 176 | D210: =IF(AND(C210>="A",C210<="E"),VLOOKUP(B210,'PS & DS'!$A:$D,4,FALSE),"") | E210: =IF(AND(C210>="A",C210<="E"),VLOOKUP(B210,'PS & DS'!$A:$D,3,FALSE),"") | AC210: =IF(AND(#REF!<>"",#REF!=#REF!),1,0) -> #REF! | AD210: =IF(#REF!<>"",1,0) -> #REF! | AE210: Geometry | AG210: =AG209+1 -> 174 | AH210: =IF(AND(#REF!<>"",#REF!=#REF!),1,0) -> #REF! | AI210: =IF(#REF!<>"",1,0) -> #REF! | AJ210: Algebra & Equations | AL210: =AL209+1 -> 174 | AM210: =AM209+1 -> 174 | AN210: =AN209+1 -> 404
B211: =B210+1 -> 177 | D211: =IF(AND(C211>="A",C211<="E"),VLOOKUP(B211,'PS & DS'!$A:$D,4,FALSE),"") | E211: =IF(AND(C211>="A",C211<="E"),VLOOKUP(B211,'PS & DS'!$A:$D,3,FALSE),"") | AC211: =IF(AND(#REF!<>"",#REF!=#REF!),1,0) -> #REF! | AD211: =IF(#REF!<>"",1,0) -> #REF! | AE211: Integer Properties | AG211: =AG210+1 -> 175
B212: =B211+1 -> 178 | D212: =IF(AND(C212>="A",C212<="E"),VLOOKUP(B212,'PS & DS'!$A:$D,4,FALSE),"") | E212: =IF(AND(C212>="A",C212<="E"),VLOOKUP(B212,'PS & DS'!$A:$D,3,FALSE),"") | AC212: =IF(AND(#REF!<>"",#REF!=#REF!),1,0) -> #REF! | AD212: =IF(#REF!<>"",1,0) -> #REF! | AE212: Integer Properties | AG212: =AG211+1 -> 176
B213: =B212+1 -> 179 | D213: =IF(AND(C213>="A",C213<="E"),VLOOKUP(B213,'PS & DS'!$A:$D,4,FALSE),"") | E213: =IF(AND(C213>="A",C213<="E"),VLOOKUP(B213,'PS & DS'!$A:$D,3,FALSE),"") | AC213: =IF(AND(#REF!<>"",#REF!=#REF!),1,0) -> #REF! | AD213: =IF(#REF!<>"",1,0) -> #REF! | AE213: Geometry | AG213: =AG212+1 -> 177
B214: =B213+1 -> 180 | D214: =IF(AND(C214>="A",C214<="E"),VLOOKUP(B214,'PS & DS'!$A:$D,4,FALSE),"") | E214: =IF(AND(C214>="A",C214<="E"),VLOOKUP(B214,'PS & DS'!$A:$D,3,FALSE),"") | AC214: =IF(AND(#REF!<>"",#REF!=#REF!),1,0) -> #REF! | AD214: =IF(#REF!<>"",1,0) -> #REF! | AE214: Integer Properties | AG214: =AG213+1 -> 178
B215: =B214+1 -> 181 | D215: =IF(AND(C215>="A",C215<="E"),VLOOKUP(B215,'PS & DS'!$A:$D,4,FALSE),"") | E215: =IF(AND(C215>="A",C215<="E"),VLOOKUP(B215,'PS & DS'!$A:$D,3,FALSE),"") | AC215: =IF(AND(#REF!<>"",#REF!=#REF!),1,0) -> #REF! | AD215: =IF(#REF!<>"",1,0) -> #REF! | AE215: Word problems | AG215: =AG214+1 -> 179
B216: =B215+1 -> 182 | D216: =IF(AND(C216>="A",C216<="E"),VLOOKUP(B216,'PS & DS'!$A:$D,4,FALSE),"") | E216: =IF(AND(C216>="A",C216<="E"),VLOOKUP(B216,'PS & DS'!$A:$D,3,FALSE),"") | AC216: =IF(AND(#REF!<>"",#REF!=#REF!),1,0) -> #REF! | AD216: =IF(#REF!<>"",1,0) -> #REF! | AE216: Algebra & Equations | AG216: =AG215+1 -> 180
B217: =B216+1 -> 183 | D217: =IF(AND(C217>="A",C217<="E"),VLOOKUP(B217,'PS & DS'!$A:$D,4,FALSE),"") | E217: =IF(AND(C217>="A",C217<="E"),VLOOKUP(B217,'PS & DS'!$A:$D,3,FALSE),"") | AC217: =IF(AND(#REF!<>"",#REF!=#REF!),1,0) -> #REF! | AD217: =IF(#REF!<>"",1,0) -> #REF! | AE217: Integer Properties | AG217: =AG216+1 -> 181
B218: =B217+1 -> 184 | D218: =IF(AND(C218>="A",C218<="E"),VLOOKUP(B218,'PS & DS'!$A:$D,4,FALSE),"") | E218: =IF(AND(C218>="A",C218<="E"),VLOOKUP(B218,'PS & DS'!$A:$D,3,FALSE),"") | AC218: =IF(AND(#REF!<>"",#REF!=#REF!),1,0) -> #REF! | AD218: =IF(#REF!<>"",1,0) -> #REF! | AE218: Counting | AG218: =AG217+1 -> 182
B219: =B218+1 -> 185 | D219: =IF(AND(C219>="A",C219<="E"),VLOOKUP(B219,'PS & DS'!$A:$D,4,FALSE),"") | E219: =IF(AND(C219>="A",C219<="E"),VLOOKUP(B219,'PS & DS'!$A:$D,3,FALSE),"") | AC219: =IF(AND(#REF!<>"",#REF!=#REF!),1,0) -> #REF! | AD219: =IF(#REF!<>"",1,0) -> #REF! | AE219: Algebra & Equations | AG219: =AG218+1 -> 183
B220: =B219+1 -> 186 | D220: =IF(AND(C220>="A",C220<="E"),VLOOKUP(B220,'PS & DS'!$A:$D,4,FALSE),"") | E220: =IF(AND(C220>="A",C220<="E"),VLOOKUP(B220,'PS & DS'!$A:$D,3,FALSE),"") | AC220: =IF(AND(#REF!<>"",#REF!=#REF!),1,0) -> #REF! | AD220: =IF(#REF!<>"",1,0) -> #REF! | AE220: Algebra & Equations | AG220: =AG219+1 -> 184
B221: =B220+1 -> 187 | D221: =IF(AND(C221>="A",C221<="E"),VLOOKUP(B221,'PS & DS'!$A:$D,4,FALSE),"") | E221: =IF(AND(C221>="A",C221<="E"),VLOOKUP(B221,'PS & DS'!$A:$D,3,FALSE),"") | AC221: =IF(AND(#REF!<>"",#REF!=#REF!),1,0) -> #REF! | AD221: =IF(#REF!<>"",1,0) -> #REF! | AE221: Algebra & Equations | AG221: =AG220+1 -> 185
B222: =B221+1 -> 188 | D222: =IF(AND(C222>="A",C222<="E"),VLOOKUP(B222,'PS & DS'!$A:$D,4,FALSE),"") | E222: =IF(AND(C222>="A",C222<="E"),VLOOKUP(B222,'PS & DS'!$A:$D,3,FALSE),"") | AC222: =IF(AND(#REF!<>"",#REF!=#REF!),1,0) -> #REF! | AD222: =IF(#REF!<>"",1,0) -> #REF! | AE222: Word problems | AG222: =AG221+1 -> 186
... B264: =B263+1 -> 230 | D264: =IF(AND(C264>="A",C264<="E"),VLOOKUP(B264,'PS & DS'!$A:$D,4,FALSE),"") | E264: =IF(AND(C264>="A",C264<="E"),VLOOKUP(B264,'PS & DS'!$A:$D,3,FALSE),"") | AC264: =IF(AND(#REF!<>"",#REF!=#REF!),1,0) -> #REF! | AD264: =IF(#REF!<>"",1,0) -> #REF! | AE264: Algebra & Equations | AG264: =AG263+1 -> 228
AC265: =IF(AND(#REF!<>"",#REF!=#REF!),1,0) -> #REF! | AD265: =IF(#REF!<>"",1,0) -> #REF! | AE265: Word problems | AG265: =AG264+1 -> 229
AC266: =IF(AND(#REF!<>"",#REF!=#REF!),1,0) -> #REF! | AD266: =IF(#REF!<>"",1,0) -> #REF! | AE266: Algebra & Equations | AG266: =AG265+1 -> 230

Sheet PS & DS
A1: Question Number | B1: Topic | C1: Difficulty | D1: ANSWERS | E1: New? | G1: Question Number | H1: Topic | I1: Difficulty | J1: Answers | K1: New?
A3: 1 | B3: Geometry | C3: easy | D3: B | E3: Y | G3: 231 | H3: Mean, Median, and Modes | I3: easy | J3: E | K3: Y
A4: 2 | B4: Word Problems | C4: easy | D4: D | E4: Y | G4: 232 | H4: Equations | I4: easy | J4: C | K4: Y
A5: 3 | B5: Mean, Median, and Modes | C5: easy | D5: D | E5: Y | G5: 233 | H5: Equations | I5: easy | J5: A | K5: Y
A6: 4 | B6: Word Problems | C6: easy | D6: C | E6: Y | G6: 234 | H6: Mean, Median, and Modes | I6: easy | J6: E | K6: Y
A7: 5 | B7: Word Problems | C7: easy | D7: A | E7: Y | G7: 235 | H7: Equations | I7: easy | J7: D | K7: Y
A8: 6 | B8: 2D Geometry | C8: easy | D8: E | E8: Y | G8: 236 | H8: Equations | I8: easy | J8: C | K8: Y
A9: 7 | B9: Percentages | C9: easy | D9: E | G9: 237 | H9: 2D Geometry | I9: easy | J9: A
A10: 8 | B10: Number System | C10: easy | D10: C | E10: Y | G10: 238 | H10: Ratio and Proportion | I10: easy | J10: C | K10: Y
A11: 9 | B11: Word Problems | C11: easy | D11: E | E11: Y | G11: 239 | H11: Word Problems | I11: easy | J11: C
A12: 10 | B12: Equations | C12: easy | D12: B | E12: Y | G12: 240 | H12: Ratio and Proportion | I12: easy | J12: C | K12: Y
A13: 11 | B13: Word Problems | C13: easy | D13: D | G13: 241 | H13: Mean, Median, and Modes | I13: easy | J13: C | K13: Y
A14: 12 | B14: Ratio and Proportion | C14: easy | D14: E | G14: 242 | H14: Mean, Median, and Modes | I14: easy | J14: E | K14: Y
A15: 13 | B15: Number System | C15: easy | D15: A | G15: 243 | H15: Ratio and Proportion | I15: easy | J15: C | K15: Y
A16: 14 | B16: Coordinate Geometry | C16: easy | D16: A | E16: Y | G16: 244 | H16: Ratio and Proportion | I16: easy | J16: E | K16: Y
A17: 15 | B17: Ratio and Proportion | C17: easy | D17: B | G17: 245 | H17: Probability and P&C | I17: easy | J17: C
A18: 16 | B18: Mean, Median, and Modes | C18: easy | D18: C | E18: Y | G18: 246 | H18: Geometry | I18: easy | J18: C
A19: 17 | B19: Percentages | C19: easy | D19: E | G19: 247 | H19: Percentages | I19: easy | J19: D
A20: 18 | B20: Mean, Median, and Modes | C20: easy | D20: C | G20: 248 | H20: Sets | I20: easy | J20: C | K20: Y
A21: 19 | B21: Word Problems | C21: easy | D21: C | G21: 249 | H21: Word Problems | I21: easy | J21: A | K21: Y
A22: 20 | B22: Word Problems | C22: easy | D22: D | G22: 250 | H22: Sequences | I22: easy | J22: C
A23: 21 | B23: Percentages | C23: easy | D23: E | G23: 251 | H23: Rates | I23: easy | J23: C | K23: Y
A24: 22 | B24: Word Problems | C24: easy | D24: B | E24: Y | G24: 252 | H24: Exponents and Roots | I24: easy | J24: C
A25: 23 | B25: Mean, Median, and Modes | C25: easy | D25: E | E25: Y | G25: 253 | H25: Mean, Median, and Modes | I25: easy | J25: E
A26: 24 | B26: Equations | C26: easy | D26: B | G26: 254 | H26: Word Problems | I26: easy | J26: E
A27: 25 | B27: Percentages | C27: easy | D27: D | G27: 255 | H27: Equations | I27: easy | J27: C | K27: Y
A28: 26 | B28: Equations | C28: easy | D28: C | E28: Y | G28: 256 | H28: Inequalities | I28: easy | J28: E
A29: 27 | B29: Probability and P&C | C29: easy | D29: C | E29: Y | G29: 257 | H29: Equations | I29: easy | J29: D
A30: 28 | B30: 2D Geometry | C30: easy | D30: E | E30: Y | G30: 258 | H30: Sets | I30: easy | J30: E
A31: 29 | B31: Inequalities | C31: easy | D31: E | G31: 259 | H31: Exponents and Roots | I31: easy | J31: D
A32: 30 | B32: Sets | C32: easy | D32: C | E32: Y | G32: 260 | H32: Percentages | I32: easy | J32: D
A33: 31 | B33: Number System | C33: easy | D33: B | E33: Y | G33: 261 | H33: 2D Geometry | I33: easy | J33: A | K33: Y
A34: 32 | B34: Geometry | C34: easy | D34: B | G34: 262 | H34: Equations | I34: easy | J34: D
A35: 33 | B35: Number System | C35: easy | D35: D | G35: 263 | H35: Percentages | I35: easy | J35: D
A36: 34 | B36: Equations | C36: easy | D36: B | G36: 264 | H36: Sets | I36: easy | J36: E
A37: 35 | B37: Mean, Median, and Modes | C37: easy | D37: C | G37: 265 | H37: Number System | I37: easy | J37: B
A38: 36 | B38: Geometry | C38: easy | D38: D | G38: 266 | H38: Number System | I38: easy | J38: C
A39: 37 | B39: 2D Geometry | C39: easy | D39: D | E39: Y | G39: 267 | H39: Percentages | I39: easy | J39: C
A40: 38 | B40: Word Problems | C40: easy | D40: E | G40: 268 | H40: 2D Geometry | I40: easy | J40: E
A41: 39 | B41: Word Problems | C41: easy | D41: C | G41: 269 | H41: Geometry | I41: easy | J41: B
A42: 40 | B42: Word Problems | C42: easy | D42: C | E42: Y | G42: 270 | H42: Word Problems | I42: easy | J42: C
A43: 41 | B43: Percentages | C43: easy | D43: E | E43: Y | G43: 271 | H43: Geometry | I43: easy | J43: D
A44: 42 | B44: 2D Geometry | C44: easy | D44: C | G44: 272 | H44: Coordinate Geometry | I44: easy | J44: E
A45: 43 | B45: Number System | C45: easy | D45: E | G45: 273 | H45: 2D Geometry | I45: easy | J45: C
A46: 44 | B46: Ratio and Proportion | C46: easy | D46: D | G46: 274 | H46: Sets | I46: easy | J46: E
A47: 45 | B47: 2D Geometry | C47: easy | D47: B | G47: 275 | H47: Sets | I47: easy | J47: C
A48: 46 | B48: Exponents and Roots | C48: easy | D48: B | E48: Y | G48: 276 | H48: Percentages | I48: easy | J48: A | K48: Y
A49: 47 | B49: Equations | C49: easy | D49: C | G49: 277 | H49: Probability and P&C | I49: easy | J49: E | K49: Y
A50: 48 | B50: Number System | C50: easy | D50: C | G50: 278 | H50: Inequalities | I50: easy | J50: A | K50: Y
A51: 49 | B51: 3D Geometry | C51: easy | D51: A | G51: 279 | H51: Percentages | I51: easy | J51: B
A52: 50 | B52: Word Problems | C52: easy | D52: D | E52: Y | G52: 280 | H52: Word Problems | I52: easy | J52: B
A53: 51 | B53: Word Problems | C53: easy | D53: A | E53: Y | G53: 281 | H53: Inequalities | I53: easy | J53: B
A54: 52 | B54: Equations | C54: easy | D54: B | G54: 282 | H54: Inequalities | I54: easy | J54: D
A55: 53 | B55: Ratio and Proportion | C55: easy | D55: E | G55: 283 | H55: Sets | I55: easy | J55: E
A56: 54 | B56: Word Problems | C56: easy | D56: E | G56: 284 | H56: Number System | I56: easy | J56: D
A57: 55 | B57: Number System | C57: easy | D57: E | E57: Y | G57: 285 | H57: Number System | I57: easy | J57: D
A58: 56 | B58: Percentages | C58: easy | D58: D | G58: 286 | H58: Number System | I58: easy | J58: C
A59: 57 | B59: Geometry | C59: easy | D59: C | G59: 287 | H59: Word Problems | I59: easy | J59: D
A60: 58 | B60: Number System | C60: easy | D60: A | E60: Y | G60: 288 | H60: Word Problems | I60: easy | J60: E | K60: Y
A61: 59 | B61: Mean, Median, and Modes | C61: easy | D61: E | G61: 289 | H61: Equations | I61: medium | J61: D
A62: 60 | B62: Equations | C62: easy | D62: D | G62: 290 | H62: Mean, Median, and Modes | I62: medium | J62: E | K62: Y
A63: 61 | B63: 2D Geometry | C63: easy | D63: D | G63: 291 | H63: Mean, Median, and Modes | I63: medium | J63: B
A64: 62 | B64: Number System | C64: easy | D64: A | E64: Y | G64: 292 | H64: Word Problems | I64: medium | J64: C
A65: 63 | B65: Number System | C65: easy | D65: D | G65: 293 | H65: Number System | I65: medium | J65: D | K65: Y
A66: 64 | B66: Sequences | C66: easy | D66: C | G66: 294 | H66: Word Problems | I66: medium | J66: E
A67: 65 | B67: Word Problems | C67: easy | D67: E | G67: 295 | H67: Number System | I67: medium | J67: A
A68: 66 | B68: Inequalities | C68: easy | D68: B | G68: 296 | H68: Percentages | I68: medium | J68: A
A69: 67 | B69: Coordinate Geometry | C69: easy | D69: E | G69: 297 | H69: Geometry | I69: medium | J69: C
A70: 68 | B70: Word Problems | C70: easy | D70: B | G70: 298 | H70: Equations | I70: medium | J70: E
A71: 69 | B71: Percentages | C71: easy | D71: A | G71: 299 | H71: Exponents and Roots | I71: medium | J71: E
A72: 70 | B72: Rates | C72: easy | D72: D | E72: Y | G72: 300 | H72: Functions | I72: medium | J72: B
A73: 71 | B73: Sequences | C73: easy | D73: E | G73: 301 | H73: Word Problems | I73: medium | J73: C | K73: Y
A74: 72 | B74: Percentages | C74: easy | D74: D | G74: 302 | H74: Number System | I74: medium | J74: C
A75: 73 | B75: Coordinate Geometry | C75: easy | D75: D | G75: 303 | H75: Number System | I75: medium | J75: C
A76: 74 | B76: Word Problems | C76: easy | D76: D | G76: 304 | H76: Word Problems | I76: medium | J76: E
A77: 75 | B77: Geometry | C77: easy | D77: B | G77: 305 | H77: Probability and P&C | I77: medium | J77: C
A78: 76 | B78: Percentages | C78: easy | D78: E | G78: 306 | H78: Rates | I78: medium | J78: A
A79: 77 | B79: 2D Geometry | C79: easy | D79: D | E79: Y | G79: 307 | H79: Mean, Median, and Modes | I79: medium | J79: E
A80: 78 | B80: Word Problems | C80: easy | D80: A | G80: 308 | H80: Geometry | I80: medium | J80: E
A81: 79 | B81: Word Problems | C81: easy | D81: D | E81: Y | G81: 309 | H81: Probability and P&C | I81: medium | J81: E
A82: 80 | B82: Word Problems | C82: easy | D82: C | E82: Y | G82: 310 | H82: Equations | I82: medium | J82: E
A83: 81 | B83: Exponents and Roots | C83: easy | D83: B | G83: 311 | H83: Geometry | I83: medium | J83: D
A84: 82 | B84: Rates | C84: easy | D84: B | G84: 312 | H84: Percentages | I84: medium | J84: E
A85: 83 | B85: Percentages | C85: easy | D85: D | G85: 313 | H85: Inequalities | I85: medium | J85: B
A86: 84 | B86: Sequences | C86: easy | D86: D | G86: 314 | H86: Number System | I86: medium | J86: E
A87: 85 | B87: Number System | C87: easy | D87: C | G87: 315 | H87: Equations | I87: medium | J87: E
A88: 86 | B88: Number System | C88: easy | D88: E | G88: 316 | H88: Ratio and Proportion | I88: medium | J88: D
A89: 87 | B89: Exponents and Roots | C89: easy | D89: E | G89: 317 | H89: Geometry | I89: medium | J89: E
A90: 88 | B90: Rates | C90: easy | D90: B | G90: 318 | H90: Number System | I90: medium | J90: A | K90: Y
A91: 89 | B91: Coordinate Geometry | C91: easy | D91: B | G91: 319 | H91: Word Problems | I91: medium | J91: A
A92: 90 | B92: Inequalities | C92: easy | D92: C | G92: 320 | H92: Number System | I92: medium | J92: C
A93: 91 | B93: Word Problems | C93: easy | D93: B | G93: 321 | H93: Number System | I93: medium | J93: D
A94: 92 | B94: Percentages | C94: easy | D94: D | G94: 322 | H94: Percentages | I94: medium | J94: C
A95: 93 | B95: Number System | C95: easy | D95: A | G95: 323 | H95: Percentages | I95: medium | J95: C
A96: 94 | B96: Number System | C96: easy | D96: D | G96: 324 | H96: Percentages | I96: medium | J96: E
A97: 95 | B97: Equations | C97: easy | D97: D | G97: 325 | H97: Number System | I97: medium | J97: D
A98: 96 | B98: Mean, Median, and Modes | C98: easy | D98: D | G98: 326 | H98: Mean, Median, and Modes | I98: medium | J98: B | K98: Y
A99: 97 | B99: Number System | C99: easy | D99: E | G99: 327 | H99: Word Problems | I99: medium | J99: D
A100: 98 | B100: Percentages | C100: easy | D100: B | G100: 328 | H100: Equations | I100: medium | J100: E
A101: 99 | B101: Percentages | C101: easy | D101: D | G101: 329 | H101: Word Problems | I101: medium | J101: C
...

Sheet Calculation
A1: Prob Solv | F1: Data
A2: Corr | B2: Tot | C2: type | F2: Corr | G2: Tot | H2: type | Q2: ✔
A3: =IF(AND('Math Grid'!C35<>"",'Math Grid'!C35='Math Grid'!D35),1,0) -> 0 | B3: =IF('Math Grid'!C35<>"",1,0) -> 0 | C3: Geometry | E3: 1 | F3: =IF(AND('Math Grid'!I35<>"",'Math Grid'!I35='Math Grid'!J35),1,0) -> 0 | G3: =IF('Math Grid'!I35<>"",1,0) -> 0 | H3: Mean, Median, and Modes | J3: 1 | K3: 1 | L3: 231 | Q3: Flag
A4: =IF(AND('Math Grid'!C36<>"",'Math Grid'!C36='Math Grid'!D36),1,0) -> 0 | B4: =IF('Math Grid'!C36<>"",1,0) -> 0 | C4: Word Problems | E4: =E3+1 -> 2 | F4: =IF(AND('Math Grid'!I36<>"",'Math Grid'!I36='Math Grid'!J36),1,0) -> 0 | G4: =IF('Math Grid'!I36<>"",1,0) -> 0 | H4: Equations | J4: =J3+1 -> 2 | K4: =K3+1 -> 2 | L4: =L3+1 -> 232
A5: =IF(AND('Math Grid'!C37<>"",'Math Grid'!C37='Math Grid'!D37),1,0) -> 0 | B5: =IF('Math Grid'!C37<>"",1,0) -> 0 | C5: Mean, Median, and Modes | E5: =E4+1 -> 3 | F5: =IF(AND('Math Grid'!I37<>"",'Math Grid'!I37='Math Grid'!J37),1,0) -> 0 | G5: =IF('Math Grid'!I37<>"",1,0) -> 0 | H5: Equations | J5: =J4+1 -> 3 | K5: =K4+1 -> 3 | L5: =L4+1 -> 233 | N5: key
A6: =IF(AND('Math Grid'!C38<>"",'Math Grid'!C38='Math Grid'!D38),1,0) -> 0 | B6: =IF('Math Grid'!C38<>"",1,0) -> 0 | C6: Word Problems | E6: =E5+1 -> 4 | F6: =IF(AND('Math Grid'!I38<>"",'Math Grid'!I38='Math Grid'!J38),1,0) -> 0 | G6: =IF('Math Grid'!I38<>"",1,0) -> 0 | H6: Mean, Median, and Modes | J6: =J5+1 -> 4 | K6: =K5+1 -> 4 | L6: =L5+1 -> 234 | N6: Arithmetic
A7: =IF(AND('Math Grid'!C39<>"",'Math Grid'!C39='Math Grid'!D39),1,0) -> 0 | B7: =IF('Math Grid'!C39<>"",1,0) -> 0 | C7: Word Problems | E7: =E6+1 -> 5 | F7: =IF(AND('Math Grid'!I39<>"",'Math Grid'!I39='Math Grid'!J39),1,0) -> 0 | G7: =IF('Math Grid'!I39<>"",1,0) -> 0 | H7: Equations | J7: =J6+1 -> 5 | K7: =K6+1 -> 5 | L7: =L6+1 -> 235 | N7: Geometry | Q7: A
A8: =IF(AND('Math Grid'!C40<>"",'Math Grid'!C40='Math Grid'!D40),1,0) -> 0 | B8: =IF('Math Grid'!C40<>"",1,0) -> 0 | C8: 2D Geometry | E8: =E7+1 -> 6 | F8: =IF(AND('Math Grid'!I40<>"",'Math Grid'!I40='Math Grid'!J40),1,0) -> 0 | G8: =IF('Math Grid'!I40<>"",1,0) -> 0 | H8: Equations | J8: =J7+1 -> 6 | K8: =K7+1 -> 6 | L8: =L7+1 -> 236 | N8: Integer Properties | Q8: B
A9: =IF(AND('Math Grid'!C41<>"",'Math Grid'!C41='Math Grid'!D41),1,0) -> 0 | B9: =IF('Math Grid'!C41<>"",1,0) -> 0 | C9: Percentages | E9: =E8+1 -> 7 | F9: =IF(AND('Math Grid'!I41<>"",'Math Grid'!I41='Math Grid'!J41),1,0) -> 0 | G9: =IF('Math Grid'!I41<>"",1,0) -> 0 | H9: 2D Geometry | J9: =J8+1 -> 7 | K9: =K8+1 -> 7 | L9: =L8+1 -> 237 | N9: Word problems | Q9: C
A10: =IF(AND('Math Grid'!C42<>"",'Math Grid'!C42='Math Grid'!D42),1,0) -> 0 | B10: =IF('Math Grid'!C42<>"",1,0) -> 0 | C10: Number System | E10: =E9+1 -> 8 | F10: =IF(AND('Math Grid'!I42<>"",'Math Grid'!I42='Math Grid'!J42),1,0) -> 0 | G10: =IF('Math Grid'!I42<>"",1,0) -> 0 | H10: Ratio and Proportion | J10: =J9+1 -> 8 | K10: =K9+1 -> 8 | L10: =L9+1 -> 238 | N10: Algebra & Equations | Q10: D
A11: =IF(AND('Math Grid'!C43<>"",'Math Grid'!C43='Math Grid'!D43),1,0) -> 0 | B11: =IF('Math Grid'!C43<>"",1,0) -> 0 | C11: Word Problems | E11: =E10+1 -> 9 | F11: =IF(AND('Math Grid'!I43<>"",'Math Grid'!I43='Math Grid'!J43),1,0) -> 0 | G11: =IF('Math Grid'!I43<>"",1,0) -> 0 | H11: Word Problems | J11: =J10+1 -> 9 | K11: =K10+1 -> 9 | L11: =L10+1 -> 239 | N11: Statistics | Q11: E
A12: =IF(AND('Math Grid'!C44<>"",'Math Grid'!C44='Math Grid'!D44),1,0) -> 0 | B12: =IF('Math Grid'!C44<>"",1,0) -> 0 | C12: Equations | E12: =E11+1 -> 10 | F12: =IF(AND('Math Grid'!I44<>"",'Math Grid'!I44='Math Grid'!J44),1,0) -> 0 | G12: =IF('Math Grid'!I44<>"",1,0) -> 0 | H12: Ratio and Proportion | J12: =J11+1 -> 10 | K12: =K11+1 -> 10 | L12: =L11+1 -> 240 | N12: Probability
A13: =IF(AND('Math Grid'!C45<>"",'Math Grid'!C45='Math Grid'!D45),1,0) -> 0 | B13: =IF('Math Grid'!C45<>"",1,0) -> 0 | C13: Word Problems | E13: =E12+1 -> 11 | F13: =IF(AND('Math Grid'!I45<>"",'Math Grid'!I45='Math Grid'!J45),1,0) -> 0 | G13: =IF('Math Grid'!I45<>"",1,0) -> 0 | H13: Mean, Median, and Modes | J13: =J12+1 -> 11 | K13: =K12+1 -> 11 | L13: =L12+1 -> 241 | N13: Powers & Roots
A14: =IF(AND('Math Grid'!C46<>"",'Math Grid'!C46='Math Grid'!D46),1,0) -> 0 | B14: =IF('Math Grid'!C46<>"",1,0) -> 0 | C14: Ratio and Proportion | E14: =E13+1 -> 12 | F14: =IF(AND('Math Grid'!I46<>"",'Math Grid'!I46='Math Grid'!J46),1,0) -> 0 | G14: =IF('Math Grid'!I46<>"",1,0) -> 0 | H14: Mean, Median, and Modes | J14: =J13+1 -> 12 | K14: =K13+1 -> 12 | L14: =L13+1 -> 242 | N14: Counting
A15: =IF(AND('Math Grid'!C47<>"",'Math Grid'!C47='Math Grid'!D47),1,0) -> 0 | B15: =IF('Math Grid'!C47<>"",1,0) -> 0 | C15: Number System | E15: =E14+1 -> 13 | F15: =IF(AND('Math Grid'!I47<>"",'Math Grid'!I47='Math Grid'!J47),1,0) -> 0 | G15: =IF('Math Grid'!I47<>"",1,0) -> 0 | H15: Ratio and Proportion | J15: =J14+1 -> 13 | K15: =K14+1 -> 13 | L15: =L14+1 -> 243
A16: =IF(AND('Math Grid'!C48<>"",'Math Grid'!C48='Math Grid'!D48),1,0) -> 0 | B16: =IF('Math Grid'!C48<>"",1,0) -> 0 | C16: Coordinate Geometry | E16: =E15+1 -> 14 | F16: =IF(AND('Math Grid'!I48<>"",'Math Grid'!I48='Math Grid'!J48),1,0) -> 0 | G16: =IF('Math Grid'!I48<>"",1,0) -> 0 | H16: Ratio and Proportion | J16: =J15+1 -> 14 | K16: =K15+1 -> 14 | L16: =L15+1 -> 244
A17: =IF(AND('Math Grid'!C49<>"",'Math Grid'!C49='Math Grid'!D49),1,0) -> 0 | B17: =IF('Math Grid'!C49<>"",1,0) -> 0 | C17: Ratio and Proportion | E17: =E16+1 -> 15 | F17: =IF(AND('Math Grid'!I49<>"",'Math Grid'!I49='Math Grid'!J49),1,0) -> 0 | G17: =IF('Math Grid'!I49<>"",1,0) -> 0 | H17: Probability and P&C | J17: =J16+1 -> 15 | K17: =K16+1 -> 15 | L17: =L16+1 -> 245
A18: =IF(AND('Math Grid'!C50<>"",'Math Grid'!C50='Math Grid'!D50),1,0) -> 0 | B18: =IF('Math Grid'!C50<>"",1,0) -> 0 | C18: Mean, Median, and Modes | E18: =E17+1 -> 16 | F18: =IF(AND('Math Grid'!I50<>"",'Math Grid'!I50='Math Grid'!J50),1,0) -> 0 | G18: =IF('Math Grid'!I50<>"",1,0) -> 0 | H18: Geometry | J18: =J17+1 -> 16 | K18: =K17+1 -> 16 | L18: =L17+1 -> 246
A19: =IF(AND('Math Grid'!C51<>"",'Math Grid'!C51='Math Grid'!D51),1,0) -> 0 | B19: =IF('Math Grid'!C51<>"",1,0) -> 0 | C19: Percentages | E19: =E18+1 -> 17 | F19: =IF(AND('Math Grid'!I51<>"",'Math Grid'!I51='Math Grid'!J51),1,0) -> 0 | G19: =IF('Math Grid'!I51<>"",1,0) -> 0 | H19: Percentages | J19: =J18+1 -> 17 | K19: =K18+1 -> 17 | L19: =L18+1 -> 247
A20: =IF(AND('Math Grid'!C52<>"",'Math Grid'!C52='Math Grid'!D52),1,0) -> 0 | B20: =IF('Math Grid'!C52<>"",1,0) -> 0 | C20: Mean, Median, and Modes | E20: =E19+1 -> 18 | F20: =IF(AND('Math Grid'!I52<>"",'Math Grid'!I52='Math Grid'!J52),1,0) -> 0 | G20: =IF('Math Grid'!I52<>"",1,0) -> 0 | H20: Sets | J20: =J19+1 -> 18 | K20: =K19+1 -> 18 | L20: =L19+1 -> 248
A21: =IF(AND('Math Grid'!C53<>"",'Math Grid'!C53='Math Grid'!D53),1,0) -> 0 | B21: =IF('Math Grid'!C53<>"",1,0) -> 0 | C21: Word Problems | E21: =E20+1 -> 19 | F21: =IF(AND('Math Grid'!I53<>"",'Math Grid'!I53='Math Grid'!J53),1,0) -> 0 | G21: =IF('Math Grid'!I53<>"",1,0) -> 0 | H21: Word Problems | J21: =J20+1 -> 19 | K21: =K20+1 -> 19 | L21: =L20+1 -> 249
A22: =IF(AND('Math Grid'!C54<>"",'Math Grid'!C54='Math Grid'!D54),1,0) -> 0 | B22: =IF('Math Grid'!C54<>"",1,0) -> 0 | C22: Word Problems | E22: =E21+1 -> 20 | F22: =IF(AND('Math Grid'!I54<>"",'Math Grid'!I54='Math Grid'!J54),1,0) -> 0 | G22: =IF('Math Grid'!I54<>"",1,0) -> 0 | H22: Sequences | J22: =J21+1 -> 20 | K22: =K21+1 -> 20 | L22: =L21+1 -> 250
A23: =IF(AND('Math Grid'!C55<>"",'Math Grid'!C55='Math Grid'!D55),1,0) -> 0 | B23: =IF('Math Grid'!C55<>"",1,0) -> 0 | C23: Percentages | E23: =E22+1 -> 21 | F23: =IF(AND('Math Grid'!I55<>"",'Math Grid'!I55='Math Grid'!J55),1,0) -> 0 | G23: =IF('Math Grid'!I55<>"",1,0) -> 0 | H23: Rates | J23: =J22+1 -> 21 | K23: =K22+1 -> 21 | L23: =L22+1 -> 251
A24: =IF(AND('Math Grid'!C56<>"",'Math Grid'!C56='Math Grid'!D56),1,0) -> 0 | B24: =IF('Math Grid'!C56<>"",1,0) -> 0 | C24: Word Problems | E24: =E23+1 -> 22 | F24: =IF(AND('Math Grid'!I56<>"",'Math Grid'!I56='Math Grid'!J56),1,0) -> 0 | G24: =IF('Math Grid'!I56<>"",1,0) -> 0 | H24: Exponents and Roots | J24: =J23+1 -> 22 | K24: =K23+1 -> 22 | L24: =L23+1 -> 252
A25: =IF(AND('Math Grid'!C57<>"",'Math Grid'!C57='Math Grid'!D57),1,0) -> 0 | B25: =IF('Math Grid'!C57<>"",1,0) -> 0 | C25: Mean, Median, and Modes | E25: =E24+1 -> 23 | F25: =IF(AND('Math Grid'!I57<>"",'Math Grid'!I57='Math Grid'!J57),1,0) -> 0 | G25: =IF('Math Grid'!I57<>"",1,0) -> 0 | H25: Mean, Median, and Modes | J25: =J24+1 -> 23 | K25: =K24+1 -> 23 | L25: =L24+1 -> 253
A26: =IF(AND('Math Grid'!C58<>"",'Math Grid'!C58='Math Grid'!D58),1,0) -> 0 | B26: =IF('Math Grid'!C58<>"",1,0) -> 0 | C26: Equations | E26: =E25+1 -> 24 | F26: =IF(AND('Math Grid'!I58<>"",'Math Grid'!I58='Math Grid'!J58),1,0) -> 0 | G26: =IF('Math Grid'!I58<>"",1,0) -> 0 | H26: Word Problems | J26: =J25+1 -> 24 | K26: =K25+1 -> 24 | L26: =L25+1 -> 254
... A176: =IF(AND('Math Grid'!C208<>"",'Math Grid'!C208='Math Grid'!D208),1,0) -> 0 | B176: =IF('Math Grid'!C208<>"",1,0) -> 0 | C176: Geometry | E176: =E175+1 -> 174 | F176: =IF(AND('Math Grid'!I208<>"",'Math Grid'!I208='Math Grid'!J208),1,0) -> 0 | G176: =IF('Math Grid'!I208<>"",1,0) -> 0 | H176: Equations | J176: =J175+1 -> 174 | K176: =K175+1 -> 174 | L176: =L175+1 -> 404
A177: =IF(AND('Math Grid'!C209<>"",'Math Grid'!C209='Math Grid'!D209),1,0) -> 0 | B177: =IF('Math Grid'!C209<>"",1,0) -> 0 | C177: Number System | E177: =E176+1 -> 175
A178: =IF(AND('Math Grid'!C210<>"",'Math Grid'!C210='Math Grid'!D210),1,0) -> 0 | B178: =IF('Math Grid'!C210<>"",1,0) -> 0 | C178: Exponents and Roots | E178: =E177+1 -> 176
A179: =IF(AND('Math Grid'!C211<>"",'Math Grid'!C211='Math Grid'!D211),1,0) -> 0 | B179: =IF('Math Grid'!C211<>"",1,0) -> 0 | C179: 2D Geometry | E179: =E178+1 -> 177
A180: =IF(AND('Math Grid'!C212<>"",'Math Grid'!C212='Math Grid'!D212),1,0) -> 0 | B180: =IF('Math Grid'!C212<>"",1,0) -> 0 | C180: Word Problems | E180: =E179+1 -> 178
A181: =IF(AND('Math Grid'!C213<>"",'Math Grid'!C213='Math Grid'!D213),1,0) -> 0 | B181: =IF('Math Grid'!C213<>"",1,0) -> 0 | C181: Word Problems | E181: =E180+1 -> 179
A182: =IF(AND('Math Grid'!C214<>"",'Math Grid'!C214='Math Grid'!D214),1,0) -> 0 | B182: =IF('Math Grid'!C214<>"",1,0) -> 0 | C182: Exponents and Roots | E182: =E181+1 -> 180
A183: =IF(AND('Math Grid'!C215<>"",'Math Grid'!C215='Math Grid'!D215),1,0) -> 0 | B183: =IF('Math Grid'!C215<>"",1,0) -> 0 | C183: Number System | E183: =E182+1 -> 181
A184: =IF(AND('Math Grid'!C216<>"",'Math Grid'!C216='Math Grid'!D216),1,0) -> 0 | B184: =IF('Math Grid'!C216<>"",1,0) -> 0 | C184: Probability and P&C | E184: =E183+1 -> 182
A185: =IF(AND('Math Grid'!C217<>"",'Math Grid'!C217='Math Grid'!D217),1,0) -> 0 | B185: =IF('Math Grid'!C217<>"",1,0) -> 0 | C185: Coordinate Geometry | E185: =E184+1 -> 183
A186: =IF(AND('Math Grid'!C218<>"",'Math Grid'!C218='Math Grid'!D218),1,0) -> 0 | B186: =IF('Math Grid'!C218<>"",1,0) -> 0 | C186: Functions | E186: =E185+1 -> 184
A187: =IF(AND('Math Grid'!C219<>"",'Math Grid'!C219='Math Grid'!D219),1,0) -> 0 | B187: =IF('Math Grid'!C219<>"",1,0) -> 0 | C187: Inequalities | E187: =E186+1 -> 185
A188: =IF(AND('Math Grid'!C220<>"",'Math Grid'!C220='Math Grid'!D220),1,0) -> 0 | B188: =IF('Math Grid'!C220<>"",1,0) -> 0 | C188: Word Problems | E188: =E187+1 -> 186
... A232: =IF(AND('Math Grid'!C264<>"",'Math Grid'!C264='Math Grid'!D264),1,0) -> 0 | B232: =IF('Math Grid'!C264<>"",1,0) -> 0 | C232: Exponents and Roots | E232: =E231+1 -> 230

Sheet Verbal Grid
G1: WIZIUS | K1: The Official Guide (OG) is an important resource to prepare well for the GMAT. Here is an error log to help you measure your level of prepration.
G2: CAREERS | K2: Just put in your answers and it will automatically turn GREEN to suggest a CORRECT answer and RED to suggest an INCORRECT answer.
K3: You can FLAG questions to review them later.
K4: Wizius Careers helps you prepare for the GMAT to help you achieve your highest score. We also help students get an admission to their dream schools.
K5: We offer a guaranteed admission program to the TOP 50 B-Schools. You either get an admit or get your money back.
B10: Reading Comprehension | H10: Critical Reasoning | N10: Sentence Correction
B12: Question Type | D12: # answered | E12: # correct | F12: % correct | H12: Question Type | J12: # answered | K12: # correct | L12: % correct | N12: Question Type | P12: # answered | Q12: # correct | R12: % correct
B13: Application | D13: =SUMIF('Calculation RC'!$C:$C,'Verbal Grid'!B13,'Calculation RC'!$B:$B) -> 0 | E13: =SUMIF('Calculation RC'!$C:$C,'Verbal Grid'!B13,'Calculation RC'!$A:$A) -> 0 | F13: =IF(D13=0,"",E13/D13) | H13: Assumption | J13: =SUMIF('Calculation RC'!$H:$H,'Verbal Grid'!H13,'Calculation RC'!$G:$G) -> 0 | K13: =SUMIF('Calculation RC'!$H:$H,'Verbal Grid'!H13,'Calculation RC'!$F:$F) -> 0 | L13: =IF(J13=0,"",K13/J13) | N13: Clauses | P13: =SUMIF('Calculation RC'!$M:$M,'Verbal Grid'!N13,'Calculation RC'!$L:$L) -> 0 | Q13: =SUMIF('Calculation RC'!$M:$M,'Verbal Grid'!N13,'Calculation RC'!$K:$K) -> 0 | R13: =IF(P13=0,"",Q13/P13)
B14: Evaluation | D14: =SUMIF('Calculation RC'!$C:$C,'Verbal Grid'!B14,'Calculation RC'!$B:$B) -> 0 | E14: =SUMIF('Calculation RC'!$C:$C,'Verbal Grid'!B14,'Calculation RC'!$A:$A) -> 0 | F14: =IF(D14=0,"",E14/D14) | H14: Bold Face | J14: =SUMIF('Calculation RC'!$H:$H,'Verbal Grid'!H14,'Calculation RC'!$G:$G) -> 0 | K14: =SUMIF('Calculation RC'!$H:$H,'Verbal Grid'!H14,'Calculation RC'!$F:$F) -> 0 | L14: =IF(J14=0,"",K14/J14) | N14: Comparisons | P14: =SUMIF('Calculation RC'!$M:$M,'Verbal Grid'!N14,'Calculation RC'!$L:$L) -> 0 | Q14: =SUMIF('Calculation RC'!$M:$M,'Verbal Grid'!N14,'Calculation RC'!$K:$K) -> 0 | R14: =IF(P14=0,"",Q14/P14)
B15: Inference | D15: =SUMIF('Calculation RC'!$C:$C,'Verbal Grid'!B15,'Calculation RC'!$B:$B) -> 0 | E15: =SUMIF('Calculation RC'!$C:$C,'Verbal Grid'!B15,'Calculation RC'!$A:$A) -> 0 | F15: =IF(D15=0,"",E15/D15) | H15: Evaluate the Argument | J15: =SUMIF('Calculation RC'!$H:$H,'Verbal Grid'!H15,'Calculation RC'!$G:$G) -> 0 | K15: =SUMIF('Calculation RC'!$H:$H,'Verbal Grid'!H15,'Calculation RC'!$F:$F) -> 0 | L15: =IF(J15=0,"",K15/J15) | N15: Diction | P15: =SUMIF('Calculation RC'!$M:$M,'Verbal Grid'!N15,'Calculation RC'!$L:$L) -> 0 | Q15: =SUMIF('Calculation RC'!$M:$M,'Verbal Grid'!N15,'Calculation RC'!$K:$K) -> 0 | R15: =IF(P15=0,"",Q15/P15)
B16: Main Idea | D16: =SUMIF('Calculation RC'!$C:$C,'Verbal Grid'!B16,'Calculation RC'!$B:$B) -> 0 | E16: =SUMIF('Calculation RC'!$C:$C,'Verbal Grid'!B16,'Calculation RC'!$A:$A) -> 0 | F16: =IF(D16=0,"",E16/D16) | H16: Inference | J16: =SUMIF('Calculation RC'!$H:$H,'Verbal Grid'!H16,'Calculation RC'!$G:$G) -> 0 | K16: =SUMIF('Calculation RC'!$H:$H,'Verbal Grid'!H16,'Calculation RC'!$F:$F) -> 0 | L16: =IF(J16=0,"",K16/J16) | N16: Idioms | P16: =SUMIF('Calculation RC'!$M:$M,'Verbal Grid'!N16,'Calculation RC'!$L:$L) -> 0 | Q16: =SUMIF('Calculation RC'!$M:$M,'Verbal Grid'!N16,'Calculation RC'!$K:$K) -> 0 | R16: =IF(P16=0,"",Q16/P16)
B17: Supporting Idea | D17: =SUMIF('Calculation RC'!$C:$C,'Verbal Grid'!B17,'Calculation RC'!$B:$B) -> 0 | E17: =SUMIF('Calculation RC'!$C:$C,'Verbal Grid'!B17,'Calculation RC'!$A:$A) -> 0 | F17: =IF(D17=0,"",E17/D17) | H17: Logical Conclusion | J17: =SUMIF('Calculation RC'!$H:$H,'Verbal Grid'!H17,'Calculation RC'!$G:$G) -> 0 | K17: =SUMIF('Calculation RC'!$H:$H,'Verbal Grid'!H17,'Calculation RC'!$F:$F) -> 0 | L17: =IF(J17=0,"",K17/J17) | N17: Meaning | P17: =SUMIF('Calculation RC'!$M:$M,'Verbal Grid'!N17,'Calculation RC'!$L:$L) -> 0 | Q17: =SUMIF('Calculation RC'!$M:$M,'Verbal Grid'!N17,'Calculation RC'!$K:$K) -> 0 | R17: =IF(P17=0,"",Q17/P17)
H18: Paradox | J18: =SUMIF('Calculation RC'!$H:$H,'Verbal Grid'!H18,'Calculation RC'!$G:$G) -> 0 | K18: =SUMIF('Calculation RC'!$H:$H,'Verbal Grid'!H18,'Calculation RC'!$F:$F) -> 0 | L18: =IF(J18=0,"",K18/J18) | N18: Modifiers | P18: =SUMIF('Calculation RC'!$M:$M,'Verbal Grid'!N18,'Calculation RC'!$L:$L) -> 0 | Q18: =SUMIF('Calculation RC'!$M:$M,'Verbal Grid'!N18,'Calculation RC'!$K:$K) -> 0 | R18: =IF(P18=0,"",Q18/P18)
H19: Strengthen | J19: =SUMIF('Calculation RC'!$H:$H,'Verbal Grid'!H19,'Calculation RC'!$G:$G) -> 0 | K19: =SUMIF('Calculation RC'!$H:$H,'Verbal Grid'!H19,'Calculation RC'!$F:$F) -> 0 | L19: =IF(J19=0,"",K19/J19) | N19: Parallelism | P19: =SUMIF('Calculation RC'!$M:$M,'Verbal Grid'!N19,'Calculation RC'!$L:$L) -> 0 | Q19: =SUMIF('Calculation RC'!$M:$M,'Verbal Grid'!N19,'Calculation RC'!$K:$K) -> 0 | R19: =IF(P19=0,"",Q19/P19)
H20: Weaken | J20: =SUMIF('Calculation RC'!$H:$H,'Verbal Grid'!H20,'Calculation RC'!$G:$G) -> 0 | K20: =SUMIF('Calculation RC'!$H:$H,'Verbal Grid'!H20,'Calculation RC'!$F:$F) -> 0 | L20: =IF(J20=0,"",K20/J20) | N20: Pronouns | P20: =SUMIF('Calculation RC'!$M:$M,'Verbal Grid'!N20,'Calculation RC'!$L:$L) -> 0 | Q20: =SUMIF('Calculation RC'!$M:$M,'Verbal Grid'!N20,'Calculation RC'!$K:$K) -> 0 | R20: =IF(P20=0,"",Q20/P20)
N21: Punctuations | P21: =SUMIF('Calculation RC'!$M:$M,'Verbal Grid'!N21,'Calculation RC'!$L:$L) -> 0 | Q21: =SUMIF('Calculation RC'!$M:$M,'Verbal Grid'!N21,'Calculation RC'!$K:$K) -> 0 | R21: =IF(P21=0,"",Q21/P21)
N22: Style and Usage | P22: =SUMIF('Calculation RC'!$M:$M,'Verbal Grid'!N22,'Calculation RC'!$L:$L) -> 0 | Q22: =SUMIF('Calculation RC'!$M:$M,'Verbal Grid'!N22,'Calculation RC'!$K:$K) -> 0 | R22: =IF(P22=0,"",Q22/P22)
N23: Subject Verb Agreement | P23: =SUMIF('Calculation RC'!$M:$M,'Verbal Grid'!N23,'Calculation RC'!$L:$L) -> 0 | Q23: =SUMIF('Calculation RC'!$M:$M,'Verbal Grid'!N23,'Calculation RC'!$K:$K) -> 0 | R23: =IF(P23=0,"",Q23/P23)
N24: such as/like | P24: =SUMIF('Calculation RC'!$M:$M,'Verbal Grid'!N24,'Calculation RC'!$L:$L) -> 0 | Q24: =SUMIF('Calculation RC'!$M:$M,'Verbal Grid'!N24,'Calculation RC'!$K:$K) -> 0 | R24: =IF(P24=0,"",Q24/P24)
N25: Use of being | P25: =SUMIF('Calculation RC'!$M:$M,'Verbal Grid'!N25,'Calculation RC'!$L:$L) -> 0 | Q25: =SUMIF('Calculation RC'!$M:$M,'Verbal Grid'!N25,'Calculation RC'!$K:$K) -> 0 | R25: =IF(P25=0,"",Q25/P25)
N26: Verb Tense/Form | P26: =SUMIF('Calculation RC'!$M:$M,'Verbal Grid'!N26,'Calculation RC'!$L:$L) -> 0 | Q26: =SUMIF('Calculation RC'!$M:$M,'Verbal Grid'!N26,'Calculation RC'!$K:$K) -> 0 | R26: =IF(P26=0,"",Q26/P26)
N27: which/that | P27: =SUMIF('Calculation RC'!$M:$M,'Verbal Grid'!N27,'Calculation RC'!$L:$L) -> 0 | Q27: =SUMIF('Calculation RC'!$M:$M,'Verbal Grid'!N27,'Calculation RC'!$K:$K) -> 0 | R27: =IF(P27=0,"",Q27/P27)
B30: Note: The Math grids can be accessed via the bottom left tabs
B32: Reading Comprehension | H32: Critical Reasoning | N32: Sentence Correction
B33: Question | C33: Your answer | D33: Correct Answer | E33: Difficulty Level | F33: Flag question | H33: Question | I33: Your answer | J33: Correct Answer | K33: Difficulty Level | L33: Flag question | N33: Question | O33: Your answer | P33: Correct Answer | Q33: Difficulty Level | R33: Flag question
B34: 405 | D34: =IF(AND(C34>="A",C34<="E"),VLOOKUP(B34,'RC&CR&SC'!$A:$E,5,FALSE),"") | E34: =IF(AND(C34>="A",C34<="E"),VLOOKUP(B34,'RC&CR&SC'!$A:$D,3,FALSE),"") | H34: 544 | J34: =IF(AND(I34>="A",I34<="E"),VLOOKUP(H34,'RC&CR&SC'!$G:$K,5,FALSE),"") | K34: =IF(AND(I34>="A",I34<="E"),VLOOKUP(H34,'RC&CR&SC'!$G:$K,3,FALSE),"") | N34: 668 | P34: =IF(AND(O34>="A",O34<="E"),VLOOKUP(N34,'RC&CR&SC'!$M:$Q,5,FALSE),"") | Q34: =IF(AND(O34>="A",O34<="E"),VLOOKUP(N34,'RC&CR&SC'!$M:$Q,3,FALSE),"")
B35: =B34+1 -> 406 | D35: =IF(AND(C35>="A",C35<="E"),VLOOKUP(B35,'RC&CR&SC'!$A:$E,5,FALSE),"") | E35: =IF(AND(C35>="A",C35<="E"),VLOOKUP(B35,'RC&CR&SC'!$A:$D,3,FALSE),"") | H35: =H34+1 -> 545 | J35: =IF(AND(I35>="A",I35<="E"),VLOOKUP(H35,'RC&CR&SC'!$G:$K,5,FALSE),"") | K35: =IF(AND(I35>="A",I35<="E"),VLOOKUP(H35,'RC&CR&SC'!$G:$K,3,FALSE),"") | N35: =N34+1 -> 669 | P35: =IF(AND(O35>="A",O35<="E"),VLOOKUP(N35,'RC&CR&SC'!$M:$Q,5,FALSE),"") | Q35: =IF(AND(O35>="A",O35<="E"),VLOOKUP(N35,'RC&CR&SC'!$M:$Q,3,FALSE),"")
B36: =B35+1 -> 407 | D36: =IF(AND(C36>="A",C36<="E"),VLOOKUP(B36,'RC&CR&SC'!$A:$E,5,FALSE),"") | E36: =IF(AND(C36>="A",C36<="E"),VLOOKUP(B36,'RC&CR&SC'!$A:$D,3,FALSE),"") | H36: =H35+1 -> 546 | J36: =IF(AND(I36>="A",I36<="E"),VLOOKUP(H36,'RC&CR&SC'!$G:$K,5,FALSE),"") | K36: =IF(AND(I36>="A",I36<="E"),VLOOKUP(H36,'RC&CR&SC'!$G:$K,3,FALSE),"") | N36: =N35+1 -> 670 | P36: =IF(AND(O36>="A",O36<="E"),VLOOKUP(N36,'RC&CR&SC'!$M:$Q,5,FALSE),"") | Q36: =IF(AND(O36>="A",O36<="E"),VLOOKUP(N36,'RC&CR&SC'!$M:$Q,3,FALSE),"")
B37: =B36+1 -> 408 | D37: =IF(AND(C37>="A",C37<="E"),VLOOKUP(B37,'RC&CR&SC'!$A:$E,5,FALSE),"") | E37: =IF(AND(C37>="A",C37<="E"),VLOOKUP(B37,'RC&CR&SC'!$A:$D,3,FALSE),"") | H37: =H36+1 -> 547 | J37: =IF(AND(I37>="A",I37<="E"),VLOOKUP(H37,'RC&CR&SC'!$G:$K,5,FALSE),"") | K37: =IF(AND(I37>="A",I37<="E"),VLOOKUP(H37,'RC&CR&SC'!$G:$K,3,FALSE),"") | N37: =N36+1 -> 671 | P37: =IF(AND(O37>="A",O37<="E"),VLOOKUP(N37,'RC&CR&SC'!$M:$Q,5,FALSE),"") | Q37: =IF(AND(O37>="A",O37<="E"),VLOOKUP(N37,'RC&CR&SC'!$M:$Q,3,FALSE),"")
B38: =B37+1 -> 409 | D38: =IF(AND(C38>="A",C38<="E"),VLOOKUP(B38,'RC&CR&SC'!$A:$E,5,FALSE),"") | E38: =IF(AND(C38>="A",C38<="E"),VLOOKUP(B38,'RC&CR&SC'!$A:$D,3,FALSE),"") | H38: =H37+1 -> 548 | J38: =IF(AND(I38>="A",I38<="E"),VLOOKUP(H38,'RC&CR&SC'!$G:$K,5,FALSE),"") | K38: =IF(AND(I38>="A",I38<="E"),VLOOKUP(H38,'RC&CR&SC'!$G:$K,3,FALSE),"") | N38: =N37+1 -> 672 | P38: =IF(AND(O38>="A",O38<="E"),VLOOKUP(N38,'RC&CR&SC'!$M:$Q,5,FALSE),"") | Q38: =IF(AND(O38>="A",O38<="E"),VLOOKUP(N38,'RC&CR&SC'!$M:$Q,3,FALSE),"")
B39: =B38+1 -> 410 | D39: =IF(AND(C39>="A",C39<="E"),VLOOKUP(B39,'RC&CR&SC'!$A:$E,5,FALSE),"") | E39: =IF(AND(C39>="A",C39<="E"),VLOOKUP(B39,'RC&CR&SC'!$A:$D,3,FALSE),"") | H39: =H38+1 -> 549 | J39: =IF(AND(I39>="A",I39<="E"),VLOOKUP(H39,'RC&CR&SC'!$G:$K,5,FALSE),"") | K39: =IF(AND(I39>="A",I39<="E"),VLOOKUP(H39,'RC&CR&SC'!$G:$K,3,FALSE),"") | N39: =N38+1 -> 673 | P39: =IF(AND(O39>="A",O39<="E"),VLOOKUP(N39,'RC&CR&SC'!$M:$Q,5,FALSE),"") | Q39: =IF(AND(O39>="A",O39<="E"),VLOOKUP(N39,'RC&CR&SC'!$M:$Q,3,FALSE),"")
B40: =B39+1 -> 411 | D40: =IF(AND(C40>="A",C40<="E"),VLOOKUP(B40,'RC&CR&SC'!$A:$E,5,FALSE),"") | E40: =IF(AND(C40>="A",C40<="E"),VLOOKUP(B40,'RC&CR&SC'!$A:$D,3,FALSE),"") | H40: =H39+1 -> 550 | J40: =IF(AND(I40>="A",I40<="E"),VLOOKUP(H40,'RC&CR&SC'!$G:$K,5,FALSE),"") | K40: =IF(AND(I40>="A",I40<="E"),VLOOKUP(H40,'RC&CR&SC'!$G:$K,3,FALSE),"") | N40: =N39+1 -> 674 | P40: =IF(AND(O40>="A",O40<="E"),VLOOKUP(N40,'RC&CR&SC'!$M:$Q,5,FALSE),"") | Q40: =IF(AND(O40>="A",O40<="E"),VLOOKUP(N40,'RC&CR&SC'!$M:$Q,3,FALSE),"")
B41: =B40+1 -> 412 | D41: =IF(AND(C41>="A",C41<="E"),VLOOKUP(B41,'RC&CR&SC'!$A:$E,5,FALSE),"") | E41: =IF(AND(C41>="A",C41<="E"),VLOOKUP(B41,'RC&CR&SC'!$A:$D,3,FALSE),"") | H41: =H40+1 -> 551 | J41: =IF(AND(I41>="A",I41<="E"),VLOOKUP(H41,'RC&CR&SC'!$G:$K,5,FALSE),"") | K41: =IF(AND(I41>="A",I41<="E"),VLOOKUP(H41,'RC&CR&SC'!$G:$K,3,FALSE),"") | N41: =N40+1 -> 675 | P41: =IF(AND(O41>="A",O41<="E"),VLOOKUP(N41,'RC&CR&SC'!$M:$Q,5,FALSE),"") | Q41: =IF(AND(O41>="A",O41<="E"),VLOOKUP(N41,'RC&CR&SC'!$M:$Q,3,FALSE),"")
B42: =B41+1 -> 413 | D42: =IF(AND(C42>="A",C42<="E"),VLOOKUP(B42,'RC&CR&SC'!$A:$E,5,FALSE),"") | E42: =IF(AND(C42>="A",C42<="E"),VLOOKUP(B42,'RC&CR&SC'!$A:$D,3,FALSE),"") | H42: =H41+1 -> 552 | J42: =IF(AND(I42>="A",I42<="E"),VLOOKUP(H42,'RC&CR&SC'!$G:$K,5,FALSE),"") | K42: =IF(AND(I42>="A",I42<="E"),VLOOKUP(H42,'RC&CR&SC'!$G:$K,3,FALSE),"") | N42: =N41+1 -> 676 | P42: =IF(AND(O42>="A",O42<="E"),VLOOKUP(N42,'RC&CR&SC'!$M:$Q,5,FALSE),"") | Q42: =IF(AND(O42>="A",O42<="E"),VLOOKUP(N42,'RC&CR&SC'!$M:$Q,3,FALSE),"")
B43: =B42+1 -> 414 | D43: =IF(AND(C43>="A",C43<="E"),VLOOKUP(B43,'RC&CR&SC'!$A:$E,5,FALSE),"") | E43: =IF(AND(C43>="A",C43<="E"),VLOOKUP(B43,'RC&CR&SC'!$A:$D,3,FALSE),"") | H43: =H42+1 -> 553 | J43: =IF(AND(I43>="A",I43<="E"),VLOOKUP(H43,'RC&CR&SC'!$G:$K,5,FALSE),"") | K43: =IF(AND(I43>="A",I43<="E"),VLOOKUP(H43,'RC&CR&SC'!$G:$K,3,FALSE),"") | N43: =N42+1 -> 677 | P43: =IF(AND(O43>="A",O43<="E"),VLOOKUP(N43,'RC&CR&SC'!$M:$Q,5,FALSE),"") | Q43: =IF(AND(O43>="A",O43<="E"),VLOOKUP(N43,'RC&CR&SC'!$M:$Q,3,FALSE),"")
B44: =B43+1 -> 415 | D44: =IF(AND(C44>="A",C44<="E"),VLOOKUP(B44,'RC&CR&SC'!$A:$E,5,FALSE),"") | E44: =IF(AND(C44>="A",C44<="E"),VLOOKUP(B44,'RC&CR&SC'!$A:$D,3,FALSE),"") | H44: =H43+1 -> 554 | J44: =IF(AND(I44>="A",I44<="E"),VLOOKUP(H44,'RC&CR&SC'!$G:$K,5,FALSE),"") | K44: =IF(AND(I44>="A",I44<="E"),VLOOKUP(H44,'RC&CR&SC'!$G:$K,3,FALSE),"") | N44: =N43+1 -> 678 | P44: =IF(AND(O44>="A",O44<="E"),VLOOKUP(N44,'RC&CR&SC'!$M:$Q,5,FALSE),"") | Q44: =IF(AND(O44>="A",O44<="E"),VLOOKUP(N44,'RC&CR&SC'!$M:$Q,3,FALSE),"")
B45: =B44+1 -> 416 | D45: =IF(AND(C45>="A",C45<="E"),VLOOKUP(B45,'RC&CR&SC'!$A:$E,5,FALSE),"") | E45: =IF(AND(C45>="A",C45<="E"),VLOOKUP(B45,'RC&CR&SC'!$A:$D,3,FALSE),"") | H45: =H44+1 -> 555 | J45: =IF(AND(I45>="A",I45<="E"),VLOOKUP(H45,'RC&CR&SC'!$G:$K,5,FALSE),"") | K45: =IF(AND(I45>="A",I45<="E"),VLOOKUP(H45,'RC&CR&SC'!$G:$K,3,FALSE),"") | N45: =N44+1 -> 679 | P45: =IF(AND(O45>="A",O45<="E"),VLOOKUP(N45,'RC&CR&SC'!$M:$Q,5,FALSE),"") | Q45: =IF(AND(O45>="A",O45<="E"),VLOOKUP(N45,'RC&CR&SC'!$M:$Q,3,FALSE),"")
B46: =B45+1 -> 417 | D46: =IF(AND(C46>="A",C46<="E"),VLOOKUP(B46,'RC&CR&SC'!$A:$E,5,FALSE),"") | E46: =IF(AND(C46>="A",C46<="E"),VLOOKUP(B46,'RC&CR&SC'!$A:$D,3,FALSE),"") | H46: =H45+1 -> 556 | J46: =IF(AND(I46>="A",I46<="E"),VLOOKUP(H46,'RC&CR&SC'!$G:$K,5,FALSE),"") | K46: =IF(AND(I46>="A",I46<="E"),VLOOKUP(H46,'RC&CR&SC'!$G:$K,3,FALSE),"") | N46: =N45+1 -> 680 | P46: =IF(AND(O46>="A",O46<="E"),VLOOKUP(N46,'RC&CR&SC'!$M:$Q,5,FALSE),"") | Q46: =IF(AND(O46>="A",O46<="E"),VLOOKUP(N46,'RC&CR&SC'!$M:$Q,3,FALSE),"")
... B157: =B156+1 -> 528 | D157: =IF(AND(C157>="A",C157<="E"),VLOOKUP(B157,'RC&CR&SC'!$A:$E,5,FALSE),"") | E157: =IF(AND(C157>="A",C157<="E"),VLOOKUP(B157,'RC&CR&SC'!$A:$D,3,FALSE),"") | H157: =H156+1 -> 667 | J157: =IF(AND(I157>="A",I157<="E"),VLOOKUP(H157,'RC&CR&SC'!$G:$K,5,FALSE),"") | K157: =IF(AND(I157>="A",I157<="E"),VLOOKUP(H157,'RC&CR&SC'!$G:$K,3,FALSE),"") | N157: =N156+1 -> 791 | P157: =IF(AND(O157>="A",O157<="E"),VLOOKUP(N157,'RC&CR&SC'!$M:$Q,5,FALSE),"") | Q157: =IF(AND(O157>="A",O157<="E"),VLOOKUP(N157,'RC&CR&SC'!$M:$Q,3,FALSE),"")
B158: =B157+1 -> 529 | D158: =IF(AND(C158>="A",C158<="E"),VLOOKUP(B158,'RC&CR&SC'!$A:$E,5,FALSE),"") | E158: =IF(AND(C158>="A",C158<="E"),VLOOKUP(B158,'RC&CR&SC'!$A:$D,3,FALSE),"") | N158: =N157+1 -> 792 | P158: =IF(AND(O158>="A",O158<="E"),VLOOKUP(N158,'RC&CR&SC'!$M:$Q,5,FALSE),"") | Q158: =IF(AND(O158>="A",O158<="E"),VLOOKUP(N158,'RC&CR&SC'!$M:$Q,3,FALSE),"")
B159: =B158+1 -> 530 | D159: =IF(AND(C159>="A",C159<="E"),VLOOKUP(B159,'RC&CR&SC'!$A:$E,5,FALSE),"") | E159: =IF(AND(C159>="A",C159<="E"),VLOOKUP(B159,'RC&CR&SC'!$A:$D,3,FALSE),"") | N159: =N158+1 -> 793 | P159: =IF(AND(O159>="A",O159<="E"),VLOOKUP(N159,'RC&CR&SC'!$M:$Q,5,FALSE),"") | Q159: =IF(AND(O159>="A",O159<="E"),VLOOKUP(N159,'RC&CR&SC'!$M:$Q,3,FALSE),"")
B160: =B159+1 -> 531 | D160: =IF(AND(C160>="A",C160<="E"),VLOOKUP(B160,'RC&CR&SC'!$A:$E,5,FALSE),"") | E160: =IF(AND(C160>="A",C160<="E"),VLOOKUP(B160,'RC&CR&SC'!$A:$D,3,FALSE),"") | N160: =N159+1 -> 794 | P160: =IF(AND(O160>="A",O160<="E"),VLOOKUP(N160,'RC&CR&SC'!$M:$Q,5,FALSE),"") | Q160: =IF(AND(O160>="A",O160<="E"),VLOOKUP(N160,'RC&CR&SC'!$M:$Q,3,FALSE),"")
B161: =B160+1 -> 532 | D161: =IF(AND(C161>="A",C161<="E"),VLOOKUP(B161,'RC&CR&SC'!$A:$E,5,FALSE),"") | E161: =IF(AND(C161>="A",C161<="E"),VLOOKUP(B161,'RC&CR&SC'!$A:$D,3,FALSE),"") | N161: =N160+1 -> 795 | P161: =IF(AND(O161>="A",O161<="E"),VLOOKUP(N161,'RC&CR&SC'!$M:$Q,5,FALSE),"") | Q161: =IF(AND(O161>="A",O161<="E"),VLOOKUP(N161,'RC&CR&SC'!$M:$Q,3,FALSE),"")
B162: =B161+1 -> 533 | D162: =IF(AND(C162>="A",C162<="E"),VLOOKUP(B162,'RC&CR&SC'!$A:$E,5,FALSE),"") | E162: =IF(AND(C162>="A",C162<="E"),VLOOKUP(B162,'RC&CR&SC'!$A:$D,3,FALSE),"") | N162: =N161+1 -> 796 | P162: =IF(AND(O162>="A",O162<="E"),VLOOKUP(N162,'RC&CR&SC'!$M:$Q,5,FALSE),"") | Q162: =IF(AND(O162>="A",O162<="E"),VLOOKUP(N162,'RC&CR&SC'!$M:$Q,3,FALSE),"")
B163: =B162+1 -> 534 | D163: =IF(AND(C163>="A",C163<="E"),VLOOKUP(B163,'RC&CR&SC'!$A:$E,5,FALSE),"") | E163: =IF(AND(C163>="A",C163<="E"),VLOOKUP(B163,'RC&CR&SC'!$A:$D,3,FALSE),"") | N163: =N162+1 -> 797 | P163: =IF(AND(O163>="A",O163<="E"),VLOOKUP(N163,'RC&CR&SC'!$M:$Q,5,FALSE),"") | Q163: =IF(AND(O163>="A",O163<="E"),VLOOKUP(N163,'RC&CR&SC'!$M:$Q,3,FALSE),"")
B164: =B163+1 -> 535 | D164: =IF(AND(C164>="A",C164<="E"),VLOOKUP(B164,'RC&CR&SC'!$A:$E,5,FALSE),"") | E164: =IF(AND(C164>="A",C164<="E"),VLOOKUP(B164,'RC&CR&SC'!$A:$D,3,FALSE),"") | N164: =N163+1 -> 798 | P164: =IF(AND(O164>="A",O164<="E"),VLOOKUP(N164,'RC&CR&SC'!$M:$Q,5,FALSE),"") | Q164: =IF(AND(O164>="A",O164<="E"),VLOOKUP(N164,'RC&CR&SC'!$M:$Q,3,FALSE),"")
B165: =B164+1 -> 536 | D165: =IF(AND(C165>="A",C165<="E"),VLOOKUP(B165,'RC&CR&SC'!$A:$E,5,FALSE),"") | E165: =IF(AND(C165>="A",C165<="E"),VLOOKUP(B165,'RC&CR&SC'!$A:$D,3,FALSE),"") | N165: =N164+1 -> 799 | P165: =IF(AND(O165>="A",O165<="E"),VLOOKUP(N165,'RC&CR&SC'!$M:$Q,5,FALSE),"") | Q165: =IF(AND(O165>="A",O165<="E"),VLOOKUP(N165,'RC&CR&SC'!$M:$Q,3,FALSE),"")
B166: =B165+1 -> 537 | D166: =IF(AND(C166>="A",C166<="E"),VLOOKUP(B166,'RC&CR&SC'!$A:$E,5,FALSE),"") | E166: =IF(AND(C166>="A",C166<="E"),VLOOKUP(B166,'RC&CR&SC'!$A:$D,3,FALSE),"") | N166: =N165+1 -> 800 | P166: =IF(AND(O166>="A",O166<="E"),VLOOKUP(N166,'RC&CR&SC'!$M:$Q,5,FALSE),"") | Q166: =IF(AND(O166>="A",O166<="E"),VLOOKUP(N166,'RC&CR&SC'!$M:$Q,3,FALSE),"")
B167: =B166+1 -> 538 | D167: =IF(AND(C167>="A",C167<="E"),VLOOKUP(B167,'RC&CR&SC'!$A:$E,5,FALSE),"") | E167: =IF(AND(C167>="A",C167<="E"),VLOOKUP(B167,'RC&CR&SC'!$A:$D,3,FALSE),"") | N167: =N166+1 -> 801 | P167: =IF(AND(O167>="A",O167<="E"),VLOOKUP(N167,'RC&CR&SC'!$M:$Q,5,FALSE),"") | Q167: =IF(AND(O167>="A",O167<="E"),VLOOKUP(N167,'RC&CR&SC'!$M:$Q,3,FALSE),"")
B168: =B167+1 -> 539 | D168: =IF(AND(C168>="A",C168<="E"),VLOOKUP(B168,'RC&CR&SC'!$A:$E,5,FALSE),"") | E168: =IF(AND(C168>="A",C168<="E"),VLOOKUP(B168,'RC&CR&SC'!$A:$D,3,FALSE),"") | N168: =N167+1 -> 802 | P168: =IF(AND(O168>="A",O168<="E"),VLOOKUP(N168,'RC&CR&SC'!$M:$Q,5,FALSE),"") | Q168: =IF(AND(O168>="A",O168<="E"),VLOOKUP(N168,'RC&CR&SC'!$M:$Q,3,FALSE),"")
B169: =B168+1 -> 540 | D169: =IF(AND(C169>="A",C169<="E"),VLOOKUP(B169,'RC&CR&SC'!$A:$E,5,FALSE),"") | E169: =IF(AND(C169>="A",C169<="E"),VLOOKUP(B169,'RC&CR&SC'!$A:$D,3,FALSE),"") | N169: =N168+1 -> 803 | P169: =IF(AND(O169>="A",O169<="E"),VLOOKUP(N169,'RC&CR&SC'!$M:$Q,5,FALSE),"") | Q169: =IF(AND(O169>="A",O169<="E"),VLOOKUP(N169,'RC&CR&SC'!$M:$Q,3,FALSE),"")
... B172: =B171+1 -> 543 | D172: =IF(AND(C172>="A",C172<="E"),VLOOKUP(B172,'RC&CR&SC'!$A:$E,5,FALSE),"") | E172: =IF(AND(C172>="A",C172<="E"),VLOOKUP(B172,'RC&CR&SC'!$A:$D,3,FALSE),"") | N172: =N171+1 -> 806 | P172: =IF(AND(O172>="A",O172<="E"),VLOOKUP(N172,'RC&CR&SC'!$M:$Q,5,FALSE),"") | Q172: =IF(AND(O172>="A",O172<="E"),VLOOKUP(N172,'RC&CR&SC'!$M:$Q,3,FALSE),"")
N173: =N172+1 -> 807 | P173: =IF(AND(O173>="A",O173<="E"),VLOOKUP(N173,'RC&CR&SC'!$M:$Q,5,FALSE),"") | Q173: =IF(AND(O173>="A",O173<="E"),VLOOKUP(N173,'RC&CR&SC'!$M:$Q,3,FALSE),"")

Sheet RC&CR&SC
A1: Question Number | B1: Topic | C1: Difficulty | D1: New? | E1: Answers | G1: Question Number | H1: Topic | I1: Difficulty | J1: New? | K1: Answers | M1: Question Number | N1: Topic | O1: Difficulty | P1: New? | Q1: Answers
A2: 405 | B2: Main Idea | C2: easy | E2: D | G2: 544 | H2: Strengthen | I2: easy | K2: E | M2: 668 | N2: Parallelism | O2: easy | P2: Y | Q2: A
A3: 406 | B3: Supporting Idea | C3: easy | E3: D | G3: 545 | H3: Strengthen | I3: easy | K3: C | M3: 669 | N3: Parallelism | O3: easy | Q3: D
A4: 407 | B4: Main Idea | C4: easy | E4: B | G4: 546 | H4: Weaken | I4: easy | K4: E | M4: 670 | N4: Subject Verb Agreement | O4: easy | Q4: B
A5: 408 | B5: Main Idea | C5: easy | E5: B | G5: 547 | H5: Strengthen | I5: easy | K5: A | M5: 671 | N5: Verb Tense/Form | O5: easy | P5: Y | Q5: B
A6: 409 | B6: Inference | C6: easy | E6: C | G6: 548 | H6: Strengthen | I6: easy | K6: A | M6: 672 | N6: Parallelism | O6: easy | P6: Y | Q6: D
A7: 410 | B7: Supporting Idea | C7: easy | E7: C | G7: 549 | H7: Weaken | I7: easy | K7: B | M7: 673 | N7: Verb Tense/Form | O7: easy | Q7: C
A8: 411 | B8: Evaluation | C8: easy | D8: Y | E8: A | G8: 550 | H8: Logical Conclusion | I8: easy | K8: E | M8: 674 | N8: Modifiers | O8: easy | Q8: D
A9: 412 | B9: Supporting Idea | C9: easy | D9: Y | E9: C | G9: 551 | H9: Paradox | I9: easy | K9: E | M9: 675 | N9: Idioms | O9: easy | Q9: D
A10: 413 | B10: Inference | C10: easy | E10: D | G10: 552 | H10: Strengthen | I10: easy | K10: C | M10: 676 | N10: Parallelism | O10: medium | Q10: D
A11: 414 | B11: Application | C11: easy | E11: C | G11: 553 | H11: Bold Face | I11: easy | J11: Y | K11: C | M11: 677 | N11: Style and Usage | O11: easy | Q11: B
A12: 415 | B12: Supporting Idea | C12: easy | E12: A | G12: 554 | H12: Logical Conclusion | I12: easy | J12: Y | K12: A | M12: 678 | N12: Parallelism | O12: easy | P12: Y | Q12: B
A13: 416 | B13: Inference | C13: easy | E13: C | G13: 555 | H13: Paradox | I13: easy | K13: E | M13: 679 | N13: Comparisons | O13: easy | Q13: D
A14: 417 | B14: Supporting Idea | C14: easy | E14: C | G14: 556 | H14: Evaluate the Argument | I14: easy | K14: A | M14: 680 | N14: Verb Tense/Form | O14: easy | Q14: C
A15: 418 | B15: Supporting Idea | C15: easy | E15: C | G15: 557 | H15: Strengthen | I15: easy | J15: Y | K15: D | M15: 681 | N15: Verb Tense/Form | O15: easy | P15: Y | Q15: E
A16: 419 | B16: Main Idea | C16: easy | E16: E | G16: 558 | H16: Assumption | I16: easy | K16: B | M16: 682 | N16: Verb Tense/Form | O16: medium | P16: Y | Q16: E
A17: 420 | B17: Evaluation | C17: easy | E17: A | G17: 559 | H17: Paradox | I17: easy | K17: D | M17: 683 | N17: Meaning | O17: medium | Q17: A
A18: 421 | B18: Main Idea | C18: easy | E18: C | G18: 560 | H18: Strengthen | I18: easy | J18: Y | K18: D | M18: 684 | N18: Subject Verb Agreement | O18: easy | Q18: D
A19: 422 | B19: Inference | C19: easy | E19: B | G19: 561 | H19: Weaken | I19: easy | K19: C | M19: 685 | N19: Subject Verb Agreement | O19: easy | Q19: E
A20: 423 | B20: Inference | C20: easy | E20: B | G20: 562 | H20: Bold Face | I20: easy | K20: B | M20: 686 | N20: such as/like | O20: easy | Q20: C
A21: 424 | B21: Inference | C21: easy | E21: A | G21: 563 | H21: Strengthen | I21: easy | K21: D | M21: 687 | N21: which/that | O21: easy | Q21: B
A22: 425 | B22: Evaluation | C22: easy | E22: D | G22: 564 | H22: Logical Conclusion | I22: easy | K22: D | M22: 688 | N22: Comparisons | O22: easy | Q22: C
A23: 426 | B23: Main Idea | C23: easy | D23: Y | E23: C | G23: 565 | H23: Logical Conclusion | I23: easy | K23: C | M23: 689 | N23: Pronouns | O23: easy | Q23: D
A24: 427 | B24: Supporting Idea | C24: easy | D24: Y | E24: E | G24: 566 | H24: Strengthen | I24: easy | K24: E | M24: 690 | N24: such as/like | O24: easy | Q24: E
A25: 428 | B25: Evaluation | C25: easy | D25: Y | E25: B | G25: 567 | H25: Inference | I25: easy | K25: B | M25: 691 | N25: Meaning | O25: easy | P25: Y | Q25: B
A26: 429 | B26: Supporting Idea | C26: easy | D26: Y | E26: D | G26: 568 | H26: Strengthen | I26: easy | K26: A | M26: 692 | N26: Verb Tense/Form | O26: easy | P26: Y | Q26: B
A27: 430 | B27: Supporting Idea | C27: easy | E27: C | G27: 569 | H27: Strengthen | I27: easy | K27: E | M27: 693 | N27: Idioms | O27: easy | P27: Y | Q27: E
A28: 431 | B28: Evaluation | C28: easy | E28: B | G28: 570 | H28: Assumption | I28: easy | J28: Y | K28: B | M28: 694 | N28: Parallelism | O28: easy | P28: Y | Q28: C
A29: 432 | B29: Inference | C29: easy | E29: D | G29: 571 | H29: Strengthen | I29: easy | K29: E | M29: 695 | N29: Subject Verb Agreement | O29: medium | Q29: C
A30: 433 | B30: Supporting Idea | C30: easy | E30: A | G30: 572 | H30: Weaken | I30: easy | K30: D | M30: 696 | N30: Modifiers | O30: easy | Q30: A
A31: 434 | B31: Supporting Idea | C31: easy | E31: C | G31: 573 | H31: Paradox | I31: easy | J31: Y | K31: E | M31: 697 | N31: Parallelism | O31: medium | Q31: B
A32: 435 | B32: Inference | C32: easy | E32: D | G32: 574 | H32: Strengthen | I32: easy | J32: Y | K32: B | M32: 698 | N32: Diction | O32: hard | Q32: E
A33: 436 | B33: Inference | C33: easy | E33: B | G33: 575 | H33: Weaken | I33: easy | K33: E | M33: 699 | N33: Parallelism | O33: easy | Q33: C
A34: 437 | B34: Supporting Idea | C34: easy | E34: B | G34: 576 | H34: Bold Face | I34: easy | J34: Y | K34: D | M34: 700 | N34: Meaning | O34: medium | Q34: D
A35: 438 | B35: Inference | C35: medium | D35: Y | E35: B | G35: 577 | H35: Assumption | I35: medium | K35: A | M35: 701 | N35: Verb Tense/Form | O35: easy | Q35: A
A36: 439 | B36: Evaluation | C36: medium | D36: Y | E36: C | G36: 578 | H36: Inference | I36: medium | K36: A | M36: 702 | N36: Parallelism | O36: medium | Q36: B
A37: 440 | B37: Inference | C37: medium | D37: Y | E37: C | G37: 579 | H37: Bold Face | I37: medium | J37: Y | K37: B | M37: 703 | N37: Parallelism | O37: hard | Q37: E
A38: 441 | B38: Evaluation | C38: medium | D38: Y | E38: A | G38: 580 | H38: Bold Face | I38: medium | J38: Y | K38: D | M38: 704 | N38: Parallelism | O38: easy | Q38: C
A39: 442 | B39: Supporting Idea | C39: medium | D39: Y | E39: D | G39: 581 | H39: Weaken | I39: medium | K39: D | M39: 705 | N39: Verb Tense/Form | O39: easy | Q39: B
A40: 443 | B40: Supporting Idea | C40: medium | D40: Y | E40: D | G40: 582 | H40: Assumption | I40: medium | K40: E | M40: 706 | N40: Subject Verb Agreement | O40: easy | Q40: D
A41: 444 | B41: Inference | C41: medium | D41: Y | E41: C | G41: 583 | H41: Paradox | I41: medium | K41: D | M41: 707 | N41: Meaning | O41: medium | P41: Y | Q41: A
A42: 445 | B42: Application | C42: medium | D42: Y | E42: E | G42: 584 | H42: Weaken | I42: medium | J42: Y | K42: B | M42: 708 | N42: Meaning | O42: medium | Q42: E
A43: 446 | B43: Inference | C43: medium | D43: Y | E43: A | G43: 585 | H43: Logical Conclusion | I43: medium | K43: C | M43: 709 | N43: Modifiers | O43: easy | P43: Y | Q43: A
A44: 447 | B44: Inference | C44: medium | D44: Y | E44: C | G44: 586 | H44: Weaken | I44: medium | K44: D | M44: 710 | N44: Verb Tense/Form | O44: medium | Q44: E
A45: 448 | B45: Supporting Idea | C45: medium | D45: Y | E45: D | G45: 587 | H45: Strengthen | I45: medium | K45: C | M45: 711 | N45: Parallelism | O45: easy | P45: Y | Q45: E
A46: 449 | B46: Supporting Idea | C46: medium | D46: Y | E46: E | G46: 588 | H46: Assumption | I46: medium | K46: E | M46: 712 | N46: Idioms | O46: medium | Q46: E
A47: 450 | B47: Application | C47: medium | D47: Y | E47: A | G47: 589 | H47: Inference | I47: medium | K47: C | M47: 713 | N47: Meaning | O47: medium | Q47: D
A48: 451 | B48: Evaluation | C48: medium | D48: Y | E48: B | G48: 590 | H48: Strengthen | I48: medium | K48: D | M48: 714 | N48: Idioms | O48: easy | Q48: E
A49: 452 | B49: Supporting Idea | C49: medium | D49: Y | E49: C | G49: 591 | H49: Strengthen | I49: medium | K49: A | M49: 715 | N49: Verb Tense/Form | O49: easy | Q49: C
A50: 453 | B50: Main Idea | C50: medium | E50: C | G50: 592 | H50: Strengthen | I50: medium | K50: D | M50: 716 | N50: such as/like | O50: easy | Q50: D
A51: 454 | B51: Supporting Idea | C51: medium | E51: B | G51: 593 | H51: Bold Face | I51: medium | J51: Y | K51: A | M51: 717 | N51: Verb Tense/Form | O51: easy | Q51: D
A52: 455 | B52: Supporting Idea | C52: medium | E52: E | G52: 594 | H52: Paradox | I52: medium | K52: C | M52: 718 | N52: Modifiers | O52: easy | Q52: C
A53: 456 | B53: Inference | C53: medium | E53: C | G53: 595 | H53: Strengthen | I53: medium | K53: E | M53: 719 | N53: Clauses | O53: medium | Q53: C
A54: 457 | B54: Inference | C54: medium | E54: E | G54: 596 | H54: Strengthen | I54: medium | K54: C | M54: 720 | N54: Meaning | O54: hard | P54: Y | Q54: B
A55: 458 | B55: Evaluation | C55: medium | E55: A | G55: 597 | H55: Strengthen | I55: medium | J55: Y | K55: B | M55: 721 | N55: Punctuations | O55: medium | Q55: B
A56: 459 | B56: Application | C56: medium | E56: D | G56: 598 | H56: Bold Face | I56: medium | K56: C | M56: 722 | N56: Idioms | O56: medium | Q56: D
A57: 460 | B57: Main Idea | C57: medium | E57: A | G57: 599 | H57: Weaken | I57: medium | K57: A | M57: 723 | N57: Verb Tense/Form | O57: medium | Q57: E
A58: 461 | B58: Main Idea | C58: medium | E58: C | G58: 600 | H58: Logical Conclusion | I58: medium | K58: A | M58: 724 | N58: which/that | O58: medium | Q58: D
A59: 462 | B59: Inference | C59: medium | E59: A | G59: 601 | H59: Strengthen | I59: medium | K59: D | M59: 725 | N59: Parallelism | O59: medium | Q59: C
A60: 463 | B60: Evaluation | C60: medium | E60: B | G60: 602 | H60: Logical Conclusion | I60: medium | K60: A | M60: 726 | N60: Parallelism | O60: medium | Q60: C
A61: 464 | B61: Supporting Idea | C61: medium | E61: D | G61: 603 | H61: Assumption | I61: medium | J61: Y | K61: C | M61: 727 | N61: Verb Tense/Form | O61: easy | P61: Y | Q61: E
A62: 465 | B62: Supporting Idea | C62: medium | E62: E | G62: 604 | H62: Assumption | I62: medium | K62: C | M62: 728 | N62: Meaning | O62: easy | Q62: B
A63: 466 | B63: Inference | C63: medium | E63: C | G63: 605 | H63: Assumption | I63: medium | K63: A | M63: 729 | N63: Parallelism | O63: easy | P63: Y | Q63: C
A64: 467 | B64: Supporting Idea | C64: medium | E64: A | G64: 606 | H64: Logical Conclusion | I64: medium | K64: C | M64: 730 | N64: Parallelism | O64: easy | P64: Y | Q64: E
A65: 468 | B65: Application | C65: medium | E65: E | G65: 607 | H65: Strengthen | I65: medium | K65: E | M65: 731 | N65: which/that | O65: medium | Q65: E
A66: 469 | B66: Evaluation | C66: medium | E66: A | G66: 608 | H66: Strengthen | I66: medium | J66: Y | K66: C | M66: 732 | N66: Parallelism | O66: easy | P66: Y | Q66: C
A67: 470 | B67: Evaluation | C67: medium | E67: D | G67: 609 | H67: Bold Face | I67: medium | J67: Y | K67: E | M67: 733 | N67: Parallelism | O67: easy | Q67: A
A68: 471 | B68: Main Idea | C68: medium | E68: D | G68: 610 | H68: Bold Face | I68: medium | J68: Y | K68: A | M68: 734 | N68: Idioms | O68: medium | P68: Y | Q68: C
A69: 472 | B69: Inference | C69: medium | E69: D | G69: 611 | H69: Strengthen | I69: medium | K69: A | M69: 735 | N69: Meaning | O69: hard | Q69: B
A70: 473 | B70: Application | C70: medium | E70: B | G70: 612 | H70: Logical Conclusion | I70: medium | J70: Y | K70: E | M70: 736 | N70: Diction | O70: medium | P70: Y | Q70: E
A71: 474 | B71: Inference | C71: medium | E71: B | G71: 613 | H71: Paradox | I71: medium | K71: D | M71: 737 | N71: Verb Tense/Form | O71: easy | P71: Y | Q71: A
A72: 475 | B72: Supporting Idea | C72: medium | E72: C | G72: 614 | H72: Paradox | I72: medium | J72: Y | K72: C | M72: 738 | N72: Parallelism | O72: medium | Q72: B
A73: 476 | B73: Evaluation | C73: medium | E73: C | G73: 615 | H73: Assumption | I73: medium | K73: C | M73: 739 | N73: Punctuations | O73: hard | Q73: A
A74: 477 | B74: Main Idea | C74: medium | E74: E | G74: 616 | H74: Weaken | I74: medium | K74: D | M74: 740 | N74: which/that | O74: medium | Q74: E
A75: 478 | B75: Main Idea | C75: medium | E75: D | G75: 617 | H75: Weaken | I75: medium | K75: D | M75: 741 | N75: Parallelism | O75: medium | Q75: B
A76: 479 | B76: Application | C76: medium | E76: D | G76: 618 | H76: Inference | I76: medium | K76: D | M76: 742 | N76: Parallelism | O76: medium | Q76: A
A77: 480 | B77: Inference | C77: medium | E77: B | G77: 619 | H77: Weaken | I77: medium | K77: A | M77: 743 | N77: Verb Tense/Form | O77: medium | Q77: A
A78: 481 | B78: Supporting Idea | C78: medium | E78: C | G78: 620 | H78: Weaken | I78: hard | K78: A | M78: 744 | N78: Parallelism | O78: medium | Q78: E
A79: 482 | B79: Inference | C79: medium | E79: B | G79: 621 | H79: Paradox | I79: hard | K79: D | M79: 745 | N79: Idioms | O79: medium | Q79: C
A80: 483 | B80: Inference | C80: medium | E80: E | G80: 622 | H80: Weaken | I80: hard | K80: A | M80: 746 | N80: Idioms | O80: medium | Q80: E
A81: 484 | B81: Main Idea | C81: hard | E81: D | G81: 623 | H81: Bold Face | I81: hard | K81: E | M81: 747 | N81: Meaning | O81: easy | Q81: A
A82: 485 | B82: Evaluation | C82: hard | E82: E | G82: 624 | H82: Strengthen | I82: hard | K82: E | M82: 748 | N82: Meaning | O82: medium | Q82: A
A83: 486 | B83: Supporting Idea | C83: hard | E83: B | G83: 625 | H83: Weaken | I83: hard | K83: A | M83: 749 | N83: Subject Verb Agreement | O83: medium | Q83: D
A84: 487 | B84: Supporting Idea | C84: hard | E84: D | G84: 626 | H84: Logical Conclusion | I84: hard | K84: D | M84: 750 | N84: Diction | O84: medium | Q84: B
... A125: 528 | B125: Inference | C125: hard | E125: D | G125: 667 | H125: Weaken | I125: hard | K125: B | M125: 791 | N125: Idioms | O125: hard | Q125: C
A126: 529 | B126: Supporting Idea | C126: hard | E126: C | M126: 792 | N126: Pronouns | O126: medium | Q126: B
A127: 530 | B127: Evaluation | C127: hard | E127: D | M127: 793 | N127: Subject Verb Agreement | O127: hard | Q127: A
A128: 531 | B128: Supporting Idea | C128: hard | E128: E | M128: 794 | N128: Parallelism | O128: hard | Q128: E
A129: 532 | B129: Supporting Idea | C129: hard | E129: C | M129: 795 | N129: Diction | O129: hard | Q129: E
A130: 533 | B130: Inference | C130: hard | E130: B | M130: 796 | N130: Diction | O130: hard | Q130: B
A131: 534 | B131: Inference | C131: hard | E131: A | M131: 797 | N131: Subject Verb Agreement | O131: hard | Q131: E
A132: 535 | B132: Evaluation | C132: hard | E132: C | M132: 798 | N132: Diction | O132: medium | Q132: D
A133: 536 | B133: Inference | C133: hard | E133: D | M133: 799 | N133: Subject Verb Agreement | O133: hard | Q133: A
A134: 537 | B134: Inference | C134: hard | E134: C | M134: 800 | N134: Pronouns | O134: hard | Q134: A
A135: 538 | B135: Application | C135: hard | E135: D | M135: 801 | N135: Modifiers | O135: hard | Q135: B
A136: 539 | B136: Supporting Idea | C136: hard | E136: B | M136: 802 | N136: Parallelism | O136: hard | Q136: E
A137: 540 | B137: Evaluation | C137: hard | E137: E | M137: 803 | N137: Clauses | O137: hard | Q137: A
... A140: 543 | B140: Inference | C140: hard | E140: E | M140: 806 | N140: Parallelism | O140: hard | Q140: C
M141: 807 | N141: Subject Verb Agreement | O141: hard | Q141: E

Sheet Calculation RC
A1: RC | F1: CR | K1: SC
A2: Corr | B2: Tot | C2: type | F2: Corr | G2: Tot | H2: type | K2: Corr | L2: Tot | M2: type
A3: =IF(AND('Verbal Grid'!C34<>"",'Verbal Grid'!C34='Verbal Grid'!D34),1,0) -> 0 | B3: =IF('Verbal Grid'!C34<>"",1,0) -> 0 | C3: Main Idea | D3: 405 | E3: 1 | F3: =IF(AND('Verbal Grid'!I34<>"",'Verbal Grid'!I34='Verbal Grid'!J34),1,0) -> 0 | G3: =IF('Verbal Grid'!I34<>"",1,0) -> 0 | H3: Strengthen | I3: 544 | J3: 1 | K3: =IF(AND('Verbal Grid'!O34<>"",'Verbal Grid'!O34='Verbal Grid'!P34),1,0) -> 0 | L3: =IF('Verbal Grid'!O34<>"",1,0) -> 0 | M3: Parallelism | N3: 668 | O3: 1
A4: =IF(AND('Verbal Grid'!C35<>"",'Verbal Grid'!C35='Verbal Grid'!D35),1,0) -> 0 | B4: =IF('Verbal Grid'!C35<>"",1,0) -> 0 | C4: Supporting Idea | D4: =D3+1 -> 406 | E4: 2 | F4: =IF(AND('Verbal Grid'!I35<>"",'Verbal Grid'!I35='Verbal Grid'!J35),1,0) -> 0 | G4: =IF('Verbal Grid'!I35<>"",1,0) -> 0 | H4: Strengthen | I4: =I3+1 -> 545 | J4: 2 | K4: =IF(AND('Verbal Grid'!O35<>"",'Verbal Grid'!O35='Verbal Grid'!P35),1,0) -> 0 | L4: =IF('Verbal Grid'!O35<>"",1,0) -> 0 | M4: Parallelism | N4: =N3+1 -> 669 | O4: 2
A5: =IF(AND('Verbal Grid'!C36<>"",'Verbal Grid'!C36='Verbal Grid'!D36),1,0) -> 0 | B5: =IF('Verbal Grid'!C36<>"",1,0) -> 0 | C5: Main Idea | D5: =D4+1 -> 407 | E5: 3 | F5: =IF(AND('Verbal Grid'!I36<>"",'Verbal Grid'!I36='Verbal Grid'!J36),1,0) -> 0 | G5: =IF('Verbal Grid'!I36<>"",1,0) -> 0 | H5: Weaken | I5: =I4+1 -> 546 | J5: 3 | K5: =IF(AND('Verbal Grid'!O36<>"",'Verbal Grid'!O36='Verbal Grid'!P36),1,0) -> 0 | L5: =IF('Verbal Grid'!O36<>"",1,0) -> 0 | M5: Subject Verb Agreement | N5: =N4+1 -> 670 | O5: 3
A6: =IF(AND('Verbal Grid'!C37<>"",'Verbal Grid'!C37='Verbal Grid'!D37),1,0) -> 0 | B6: =IF('Verbal Grid'!C37<>"",1,0) -> 0 | C6: Main Idea | D6: =D5+1 -> 408 | E6: 4 | F6: =IF(AND('Verbal Grid'!I37<>"",'Verbal Grid'!I37='Verbal Grid'!J37),1,0) -> 0 | G6: =IF('Verbal Grid'!I37<>"",1,0) -> 0 | H6: Strengthen | I6: =I5+1 -> 547 | J6: 4 | K6: =IF(AND('Verbal Grid'!O37<>"",'Verbal Grid'!O37='Verbal Grid'!P37),1,0) -> 0 | L6: =IF('Verbal Grid'!O37<>"",1,0) -> 0 | M6: Verb Tense/Form | N6: =N5+1 -> 671 | O6: 4
A7: =IF(AND('Verbal Grid'!C38<>"",'Verbal Grid'!C38='Verbal Grid'!D38),1,0) -> 0 | B7: =IF('Verbal Grid'!C38<>"",1,0) -> 0 | C7: Inference | D7: =D6+1 -> 409 | E7: 5 | F7: =IF(AND('Verbal Grid'!I38<>"",'Verbal Grid'!I38='Verbal Grid'!J38),1,0) -> 0 | G7: =IF('Verbal Grid'!I38<>"",1,0) -> 0 | H7: Strengthen | I7: =I6+1 -> 548 | J7: 5 | K7: =IF(AND('Verbal Grid'!O38<>"",'Verbal Grid'!O38='Verbal Grid'!P38),1,0) -> 0 | L7: =IF('Verbal Grid'!O38<>"",1,0) -> 0 | M7: Parallelism | N7: =N6+1 -> 672 | O7: 5
A8: =IF(AND('Verbal Grid'!C39<>"",'Verbal Grid'!C39='Verbal Grid'!D39),1,0) -> 0 | B8: =IF('Verbal Grid'!C39<>"",1,0) -> 0 | C8: Supporting Idea | D8: =D7+1 -> 410 | E8: 6 | F8: =IF(AND('Verbal Grid'!I39<>"",'Verbal Grid'!I39='Verbal Grid'!J39),1,0) -> 0 | G8: =IF('Verbal Grid'!I39<>"",1,0) -> 0 | H8: Weaken | I8: =I7+1 -> 549 | J8: 6 | K8: =IF(AND('Verbal Grid'!O39<>"",'Verbal Grid'!O39='Verbal Grid'!P39),1,0) -> 0 | L8: =IF('Verbal Grid'!O39<>"",1,0) -> 0 | M8: Verb Tense/Form | N8: =N7+1 -> 673 | O8: 6
A9: =IF(AND('Verbal Grid'!C40<>"",'Verbal Grid'!C40='Verbal Grid'!D40),1,0) -> 0 | B9: =IF('Verbal Grid'!C40<>"",1,0) -> 0 | C9: Evaluation | D9: =D8+1 -> 411 | E9: 7 | F9: =IF(AND('Verbal Grid'!I40<>"",'Verbal Grid'!I40='Verbal Grid'!J40),1,0) -> 0 | G9: =IF('Verbal Grid'!I40<>"",1,0) -> 0 | H9: Logical Conclusion | I9: =I8+1 -> 550 | J9: 7 | K9: =IF(AND('Verbal Grid'!O40<>"",'Verbal Grid'!O40='Verbal Grid'!P40),1,0) -> 0 | L9: =IF('Verbal Grid'!O40<>"",1,0) -> 0 | M9: Modifiers | N9: =N8+1 -> 674 | O9: 7
A10: =IF(AND('Verbal Grid'!C41<>"",'Verbal Grid'!C41='Verbal Grid'!D41),1,0) -> 0 | B10: =IF('Verbal Grid'!C41<>"",1,0) -> 0 | C10: Supporting Idea | D10: =D9+1 -> 412 | E10: 8 | F10: =IF(AND('Verbal Grid'!I41<>"",'Verbal Grid'!I41='Verbal Grid'!J41),1,0) -> 0 | G10: =IF('Verbal Grid'!I41<>"",1,0) -> 0 | H10: Paradox | I10: =I9+1 -> 551 | J10: 8 | K10: =IF(AND('Verbal Grid'!O41<>"",'Verbal Grid'!O41='Verbal Grid'!P41),1,0) -> 0 | L10: =IF('Verbal Grid'!O41<>"",1,0) -> 0 | M10: Idioms | N10: =N9+1 -> 675 | O10: 8
A11: =IF(AND('Verbal Grid'!C42<>"",'Verbal Grid'!C42='Verbal Grid'!D42),1,0) -> 0 | B11: =IF('Verbal Grid'!C42<>"",1,0) -> 0 | C11: Inference | D11: =D10+1 -> 413 | E11: 9 | F11: =IF(AND('Verbal Grid'!I42<>"",'Verbal Grid'!I42='Verbal Grid'!J42),1,0) -> 0 | G11: =IF('Verbal Grid'!I42<>"",1,0) -> 0 | H11: Strengthen | I11: =I10+1 -> 552 | J11: 9 | K11: =IF(AND('Verbal Grid'!O42<>"",'Verbal Grid'!O42='Verbal Grid'!P42),1,0) -> 0 | L11: =IF('Verbal Grid'!O42<>"",1,0) -> 0 | M11: Parallelism | N11: =N10+1 -> 676 | O11: 9
A12: =IF(AND('Verbal Grid'!C43<>"",'Verbal Grid'!C43='Verbal Grid'!D43),1,0) -> 0 | B12: =IF('Verbal Grid'!C43<>"",1,0) -> 0 | C12: Application | D12: =D11+1 -> 414 | E12: 10 | F12: =IF(AND('Verbal Grid'!I43<>"",'Verbal Grid'!I43='Verbal Grid'!J43),1,0) -> 0 | G12: =IF('Verbal Grid'!I43<>"",1,0) -> 0 | H12: Bold Face | I12: =I11+1 -> 553 | J12: 10 | K12: =IF(AND('Verbal Grid'!O43<>"",'Verbal Grid'!O43='Verbal Grid'!P43),1,0) -> 0 | L12: =IF('Verbal Grid'!O43<>"",1,0) -> 0 | M12: Style and Usage | N12: =N11+1 -> 677 | O12: 10
A13: =IF(AND('Verbal Grid'!C44<>"",'Verbal Grid'!C44='Verbal Grid'!D44),1,0) -> 0 | B13: =IF('Verbal Grid'!C44<>"",1,0) -> 0 | C13: Supporting Idea | D13: =D12+1 -> 415 | E13: 11 | F13: =IF(AND('Verbal Grid'!I44<>"",'Verbal Grid'!I44='Verbal Grid'!J44),1,0) -> 0 | G13: =IF('Verbal Grid'!I44<>"",1,0) -> 0 | H13: Logical Conclusion | I13: =I12+1 -> 554 | J13: 11 | K13: =IF(AND('Verbal Grid'!O44<>"",'Verbal Grid'!O44='Verbal Grid'!P44),1,0) -> 0 | L13: =IF('Verbal Grid'!O44<>"",1,0) -> 0 | M13: Parallelism | N13: =N12+1 -> 678 | O13: 11
A14: =IF(AND('Verbal Grid'!C45<>"",'Verbal Grid'!C45='Verbal Grid'!D45),1,0) -> 0 | B14: =IF('Verbal Grid'!C45<>"",1,0) -> 0 | C14: Inference | D14: =D13+1 -> 416 | E14: 12 | F14: =IF(AND('Verbal Grid'!I45<>"",'Verbal Grid'!I45='Verbal Grid'!J45),1,0) -> 0 | G14: =IF('Verbal Grid'!I45<>"",1,0) -> 0 | H14: Paradox | I14: =I13+1 -> 555 | J14: 12 | K14: =IF(AND('Verbal Grid'!O45<>"",'Verbal Grid'!O45='Verbal Grid'!P45),1,0) -> 0 | L14: =IF('Verbal Grid'!O45<>"",1,0) -> 0 | M14: Comparisons | N14: =N13+1 -> 679 | O14: 12
A15: =IF(AND('Verbal Grid'!C46<>"",'Verbal Grid'!C46='Verbal Grid'!D46),1,0) -> 0 | B15: =IF('Verbal Grid'!C46<>"",1,0) -> 0 | C15: Supporting Idea | D15: =D14+1 -> 417 | E15: 13 | F15: =IF(AND('Verbal Grid'!I46<>"",'Verbal Grid'!I46='Verbal Grid'!J46),1,0) -> 0 | G15: =IF('Verbal Grid'!I46<>"",1,0) -> 0 | H15: Evaluate the Argument | I15: =I14+1 -> 556 | J15: 13 | K15: =IF(AND('Verbal Grid'!O46<>"",'Verbal Grid'!O46='Verbal Grid'!P46),1,0) -> 0 | L15: =IF('Verbal Grid'!O46<>"",1,0) -> 0 | M15: Verb Tense/Form | N15: =N14+1 -> 680 | O15: 13
... A126: =IF(AND('Verbal Grid'!C157<>"",'Verbal Grid'!C157='Verbal Grid'!D157),1,0) -> 0 | B126: =IF('Verbal Grid'!C157<>"",1,0) -> 0 | C126: Inference | D126: =D125+1 -> 528 | E126: 124 | F126: =IF(AND('Verbal Grid'!I157<>"",'Verbal Grid'!I157='Verbal Grid'!J157),1,0) -> 0 | G126: =IF('Verbal Grid'!I157<>"",1,0) -> 0 | H126: Weaken | I126: =I125+1 -> 667 | J126: 124 | K126: =IF(AND('Verbal Grid'!O157<>"",'Verbal Grid'!O157='Verbal Grid'!P157),1,0) -> 0 | L126: =IF('Verbal Grid'!O157<>"",1,0) -> 0 | M126: Idioms | N126: =N125+1 -> 791 | O126: 124
A127: =IF(AND('Verbal Grid'!C158<>"",'Verbal Grid'!C158='Verbal Grid'!D158),1,0) -> 0 | B127: =IF('Verbal Grid'!C158<>"",1,0) -> 0 | C127: Supporting Idea | D127: =D126+1 -> 529 | E127: 125 | K127: =IF(AND('Verbal Grid'!O158<>"",'Verbal Grid'!O158='Verbal Grid'!P158),1,0) -> 0 | L127: =IF('Verbal Grid'!O158<>"",1,0) -> 0 | M127: Pronouns | N127: =N126+1 -> 792 | O127: 125
A128: =IF(AND('Verbal Grid'!C159<>"",'Verbal Grid'!C159='Verbal Grid'!D159),1,0) -> 0 | B128: =IF('Verbal Grid'!C159<>"",1,0) -> 0 | C128: Evaluation | D128: =D127+1 -> 530 | E128: 126 | K128: =IF(AND('Verbal Grid'!O159<>"",'Verbal Grid'!O159='Verbal Grid'!P159),1,0) -> 0 | L128: =IF('Verbal Grid'!O159<>"",1,0) -> 0 | M128: Subject Verb Agreement | N128: =N127+1 -> 793 | O128: 126
A129: =IF(AND('Verbal Grid'!C160<>"",'Verbal Grid'!C160='Verbal Grid'!D160),1,0) -> 0 | B129: =IF('Verbal Grid'!C160<>"",1,0) -> 0 | C129: Supporting Idea | D129: =D128+1 -> 531 | E129: 127 | K129: =IF(AND('Verbal Grid'!O160<>"",'Verbal Grid'!O160='Verbal Grid'!P160),1,0) -> 0 | L129: =IF('Verbal Grid'!O160<>"",1,0) -> 0 | M129: Parallelism | N129: =N128+1 -> 794 | O129: 127
A130: =IF(AND('Verbal Grid'!C161<>"",'Verbal Grid'!C161='Verbal Grid'!D161),1,0) -> 0 | B130: =IF('Verbal Grid'!C161<>"",1,0) -> 0 | C130: Supporting Idea | D130: =D129+1 -> 532 | E130: 128 | K130: =IF(AND('Verbal Grid'!O161<>"",'Verbal Grid'!O161='Verbal Grid'!P161),1,0) -> 0 | L130: =IF('Verbal Grid'!O161<>"",1,0) -> 0 | M130: Diction | N130: =N129+1 -> 795 | O130: 128
A131: =IF(AND('Verbal Grid'!C162<>"",'Verbal Grid'!C162='Verbal Grid'!D162),1,0) -> 0 | B131: =IF('Verbal Grid'!C162<>"",1,0) -> 0 | C131: Inference | D131: =D130+1 -> 533 | E131: 129 | K131: =IF(AND('Verbal Grid'!O162<>"",'Verbal Grid'!O162='Verbal Grid'!P162),1,0) -> 0 | L131: =IF('Verbal Grid'!O162<>"",1,0) -> 0 | M131: Diction | N131: =N130+1 -> 796 | O131: 129
A132: =IF(AND('Verbal Grid'!C163<>"",'Verbal Grid'!C163='Verbal Grid'!D163),1,0) -> 0 | B132: =IF('Verbal Grid'!C163<>"",1,0) -> 0 | C132: Inference | D132: =D131+1 -> 534 | E132: 130 | K132: =IF(AND('Verbal Grid'!O163<>"",'Verbal Grid'!O163='Verbal Grid'!P163),1,0) -> 0 | L132: =IF('Verbal Grid'!O163<>"",1,0) -> 0 | M132: Subject Verb Agreement | N132: =N131+1 -> 797 | O132: 130
A133: =IF(AND('Verbal Grid'!C164<>"",'Verbal Grid'!C164='Verbal Grid'!D164),1,0) -> 0 | B133: =IF('Verbal Grid'!C164<>"",1,0) -> 0 | C133: Evaluation | D133: =D132+1 -> 535 | E133: 131 | K133: =IF(AND('Verbal Grid'!O164<>"",'Verbal Grid'!O164='Verbal Grid'!P164),1,0) -> 0 | L133: =IF('Verbal Grid'!O164<>"",1,0) -> 0 | M133: Diction | N133: =N132+1 -> 798 | O133: 131
A134: =IF(AND('Verbal Grid'!C165<>"",'Verbal Grid'!C165='Verbal Grid'!D165),1,0) -> 0 | B134: =IF('Verbal Grid'!C165<>"",1,0) -> 0 | C134: Inference | D134: =D133+1 -> 536 | E134: 132 | K134: =IF(AND('Verbal Grid'!O165<>"",'Verbal Grid'!O165='Verbal Grid'!P165),1,0) -> 0 | L134: =IF('Verbal Grid'!O165<>"",1,0) -> 0 | M134: Subject Verb Agreement | N134: =N133+1 -> 799 | O134: 132
A135: =IF(AND('Verbal Grid'!C166<>"",'Verbal Grid'!C166='Verbal Grid'!D166),1,0) -> 0 | B135: =IF('Verbal Grid'!C166<>"",1,0) -> 0 | C135: Inference | D135: =D134+1 -> 537 | E135: 133 | K135: =IF(AND('Verbal Grid'!O166<>"",'Verbal Grid'!O166='Verbal Grid'!P166),1,0) -> 0 | L135: =IF('Verbal Grid'!O166<>"",1,0) -> 0 | M135: Pronouns | N135: =N134+1 -> 800 | O135: 133
A136: =IF(AND('Verbal Grid'!C167<>"",'Verbal Grid'!C167='Verbal Grid'!D167),1,0) -> 0 | B136: =IF('Verbal Grid'!C167<>"",1,0) -> 0 | C136: Application | D136: =D135+1 -> 538 | E136: 134 | K136: =IF(AND('Verbal Grid'!O167<>"",'Verbal Grid'!O167='Verbal Grid'!P167),1,0) -> 0 | L136: =IF('Verbal Grid'!O167<>"",1,0) -> 0 | M136: Modifiers | N136: =N135+1 -> 801 | O136: 134
A137: =IF(AND('Verbal Grid'!C168<>"",'Verbal Grid'!C168='Verbal Grid'!D168),1,0) -> 0 | B137: =IF('Verbal Grid'!C168<>"",1,0) -> 0 | C137: Supporting Idea | D137: =D136+1 -> 539 | E137: 135 | K137: =IF(AND('Verbal Grid'!O168<>"",'Verbal Grid'!O168='Verbal Grid'!P168),1,0) -> 0 | L137: =IF('Verbal Grid'!O168<>"",1,0) -> 0 | M137: Parallelism | N137: =N136+1 -> 802 | O137: 135
A138: =IF(AND('Verbal Grid'!C169<>"",'Verbal Grid'!C169='Verbal Grid'!D169),1,0) -> 0 | B138: =IF('Verbal Grid'!C169<>"",1,0) -> 0 | C138: Evaluation | D138: =D137+1 -> 540 | E138: 136 | K138: =IF(AND('Verbal Grid'!O169<>"",'Verbal Grid'!O169='Verbal Grid'!P169),1,0) -> 0 | L138: =IF('Verbal Grid'!O169<>"",1,0) -> 0 | M138: Clauses | N138: =N137+1 -> 803 | O138: 136
... A141: =IF(AND('Verbal Grid'!C172<>"",'Verbal Grid'!C172='Verbal Grid'!D172),1,0) -> 0 | B141: =IF('Verbal Grid'!C172<>"",1,0) -> 0 | C141: Inference | D141: =D140+1 -> 543 | E141: 139 | K141: =IF(AND('Verbal Grid'!O172<>"",'Verbal Grid'!O172='Verbal Grid'!P172),1,0) -> 0 | L141: =IF('Verbal Grid'!O172<>"",1,0) -> 0 | M141: Parallelism | N141: =N140+1 -> 806 | O141: 139
K142: =IF(AND('Verbal Grid'!O173<>"",'Verbal Grid'!O173='Verbal Grid'!P173),1,0) -> 0 | L142: =IF('Verbal Grid'!O173<>"",1,0) -> 0 | M142: Subject Verb Agreement | N142: =N141+1 -> 807 | O142: 140
