Workbook

Sheet Sheet1
A3: Q Type | B3: Sum of V Q #
A4: CR | B4: 166
A5: RC | B5: 223
A6: SC | B6: 277

Sheet Data Input
D3: GMAT Prep 5 | J3: 43331
D4: Test 1 Run-1
D5: SCORE - 710
D8: Quantitative | E8: 49 | H8: Verbal | I8: 38
D10: Q Q # | E10: Answer | F10: Q Type | H10: V Q # | I10: Answer | J10: Q Type
D11: 1 | E11: Correct | F11: DS | H11: 1 | I11: Incorrect | J11: SC
D12: 2 | E12: Correct | F12: PS | H12: 2 | I12: Correct | J12: SC | U12: Correct | W12: PS | X12: CR
D13: 3 | E13: Incorrect | F13: PS | H13: 3 | I13: Correct | J13: SC | U13: Incorrect | W13: DS | X13: SC
D14: 4 | E14: Correct | F14: PS | H14: 4 | I14: Incorrect | J14: CR | X14: RC
D15: 5 | E15: Incorrect | F15: PS | H15: 5 | I15: Incorrect | J15: CR
D16: 6 | E16: Correct | F16: PS | H16: 6 | I16: Correct | J16: SC
D17: 7 | E17: Correct | F17: DS | H17: 7 | I17: Correct | J17: RC
D18: 8 | E18: Correct | F18: DS | H18: 8 | I18: Correct | J18: RC
D19: 9 | E19: Correct | F19: DS | H19: 9 | I19: Correct | J19: RC
D20: 10 | E20: Correct | F20: DS | H20: 10 | I20: Correct | J20: RC
D21: 11 | E21: Correct | F21: DS | H21: 11 | I21: Correct | J21: CR
D22: 12 | E22: Incorrect | F22: DS | H22: 12 | I22: Correct | J22: CR
D23: 13 | E23: Correct | F23: DS | H23: 13 | I23: Correct | J23: RC
D24: 14 | E24: Incorrect | F24: DS | H24: 14 | I24: Incorrect | J24: RC
D25: 15 | E25: Correct | F25: DS | H25: 15 | I25: Correct | J25: RC
D26: 16 | E26: Incorrect | F26: PS | H26: 16 | I26: Incorrect | J26: CR
... D41: 31 | E41: Incorrect | F41: DS | H41: 31 | I41: Correct | J41: SC
H42: 32 | I42: Correct | J42: CR
H43: 33 | I43: Correct | J43: SC
H44: 34 | I44: Correct | J44: SC
H45: 35 | I45: Correct | J45: SC
H46: 36 | I46: Incorrect | J46: SC

Sheet Analysis 1
J2: ='Data Input'!D5 -> SCORE - 710
D4: Q Score | F4: ='Data Input'!E8 -> 49 | M4: Q Score | O4: ='Data Input'!E8 -> 49 | AE4: Quantitative | AH4: Quantitative
AE5: Questions | AF5: Correct | AH5: Questions | AI5: Incorrect
AE6: 1 to 10 | AF6: =COUNTIF('Data Input'!E11:E20,'Analysis 1'!AF5) -> 8 | AH6: 1 to 10 | AI6: =COUNTIF('Data Input'!E11:E20,'Analysis 1'!AI5) -> 2
AE7: 11 to 20 | AF7: =COUNTIF('Data Input'!E21:E30,'Analysis 1'!AF5) -> 6 | AH7: 11 to 20 | AI7: =COUNTIF('Data Input'!E21:E30,'Analysis 1'!AI5) -> 4
AE8: 21 to 30 | AF8: =COUNTIF('Data Input'!E31:E40,'Analysis 1'!AF5) -> 9 | AH8: 21 to 30 | AI8: =COUNTIF('Data Input'!E31:E40,'Analysis 1'!AI5) -> 1
AE9: 31 to 37 | AF9: =COUNTIF('Data Input'!E41:E47,'Analysis 1'!AF5) -> 0 | AH9: 31 to 37 | AI9: =COUNTIF('Data Input'!E41:E47,'Analysis 1'!AI5) -> 1
AF10: =SUM(AF6:AF9) -> 23 | AI10: =SUM(AI6:AI9) -> 8
AE14: Verbal | AH14: Verbal
AE15: Questions | AF15: Correct | AH15: Questions | AI15: Incorrect
AE16: 1 to 10 | AF16: =COUNTIF('Data Input'!I11:I20,'Analysis 1'!AF15) -> 7 | AH16: 1 to 10 | AI16: =COUNTIF('Data Input'!I11:I20,'Analysis 1'!AI15) -> 3
AE17: 11 to 20 | AF17: =COUNTIF('Data Input'!I21:I30,'Analysis 1'!AF15) -> 7 | AH17: 11 to 20 | AI17: =COUNTIF('Data Input'!I21:I30,'Analysis 1'!AI15) -> 3
AE18: 21 to 30 | AF18: =COUNTIF('Data Input'!I31:I40,'Analysis 1'!AF15) -> 8 | AH18: 21 to 30 | AI18: =COUNTIF('Data Input'!I31:I40,'Analysis 1'!AI15) -> 2
AE19: 31 to 41 | AF19: =COUNTIF('Data Input'!I41:I51,'Analysis 1'!AF15) -> 5 | AH19: 31 to 41 | AI19: =COUNTIF('Data Input'!I41:I51,'Analysis 1'!AI15) -> 1
AF20: =SUM(AF16:AF19) -> 27 | AI20: =SUM(AI16:AI19) -> 9
D23: V Score | F23: ='Data Input'!I8 -> 38 | M23: V Score | O23: ='Data Input'!I8 -> 38

Sheet Analysis 2
I2: ='Data Input'!D5 -> SCORE - 710
D5: V Score | F5: ='Data Input'!I8 -> 38 | K5: V Score | M5: ='Data Input'!I8 -> 38
X7: Quantitative | AD7: Verbal
X9: Q Type | Y9: # of Qs | AD9: Q Type | AE9: # of Qs
X10: PS | Y10: =COUNTIF('Data Input'!$F$11:$F$47,'Analysis 2'!X10) -> 16 | AD10: CR | AE10: =COUNTIF('Data Input'!$J$11:$J$51,'Analysis 2'!AD10) -> 10
X11: DS | Y11: =COUNTIF('Data Input'!$F$11:$F$47,'Analysis 2'!X11) -> 15 | AD11: RC | AE11: =COUNTIF('Data Input'!$J$11:$J$51,'Analysis 2'!AD11) -> 13
X12: Total | Y12: =SUM(Y10:Y11) -> 31 | AD12: SC | AE12: =COUNTIF('Data Input'!$J$11:$J$51,'Analysis 2'!AD12) -> 13
AD13: Total | AE13: =SUM(AE10:AE12) -> 36
X16: Q Type | Y16: 1 to 10 | Z16: 11 to 20 | AA16: 21 to 30 | AB16: 31 to 41
X17: SC | Y17: =COUNTIF('Data Input'!$J$11:$J$20,'Analysis 2'!X17) -> 4 | Z17: =COUNTIF('Data Input'!$J$21:$J$30,'Analysis 2'!X17) -> 2 | AA17: =COUNTIF('Data Input'!$J$31:$J$40,'Analysis 2'!X17) -> 2 | AB17: =COUNTIF('Data Input'!$J$41:$J$51,'Analysis 2'!X17) -> 5
X18: CR | Y18: =COUNTIF('Data Input'!$J$11:$J$20,'Analysis 2'!X18) -> 2 | Z18: =COUNTIF('Data Input'!$J$21:$J$30,'Analysis 2'!X18) -> 5 | AA18: =COUNTIF('Data Input'!$J$31:$J$40,'Analysis 2'!X18) -> 2 | AB18: =COUNTIF('Data Input'!$J$41:$J$51,'Analysis 2'!X18) -> 1
X19: RC | Y19: =COUNTIF('Data Input'!$J$11:$J$20,'Analysis 2'!X19) -> 4 | Z19: =COUNTIF('Data Input'!$J$21:$J$30,'Analysis 2'!X19) -> 3 | AA19: =COUNTIF('Data Input'!$J$31:$J$40,'Analysis 2'!X19) -> 6 | AB19: =COUNTIF('Data Input'!$J$41:$J$51,'Analysis 2'!X19) -> 0
D24: Q Score | F24: ='Data Input'!E8 -> 49 | K24: Q Score | M24: ='Data Input'!E8 -> 49 | X24: Q Type | Y24: 1 to 10 | Z24: 11 to 20 | AA24: 21 to 30 | AB24: 31 to 37
X25: PS | Y25: =COUNTIF('Data Input'!$F$11:$F$20,'Analysis 2'!X25) -> 5 | Z25: =COUNTIF('Data Input'!$F$21:$F$30,'Analysis 2'!X25) -> 5 | AA25: =COUNTIF('Data Input'!$F$31:$F$40,'Analysis 2'!X25) -> 6 | AB25: =COUNTIF('Data Input'!$F$41:$F$47,'Analysis 2'!X25) -> 0
X26: DS | Y26: =COUNTIF('Data Input'!$F$11:$F$20,'Analysis 2'!X26) -> 5 | Z26: =COUNTIF('Data Input'!$F$21:$F$30,'Analysis 2'!X26) -> 5 | AA26: =COUNTIF('Data Input'!$F$31:$F$40,'Analysis 2'!X26) -> 4 | AB26: =COUNTIF('Data Input'!$F$41:$F$47,'Analysis 2'!X26) -> 1

Sheet Analysis 3
J3: ='Data Input'!D5 -> SCORE - 710
D4: Q Score | F4: ='Data Input'!E8 -> 49 | M4: V Score | O4: ='Data Input'!I8 -> 38 | AE4: Correct | AF4: Incorrect
W5: Correct | X5: Incorrect | AB5: IncorrectSC | AC5: CorrectSC | AD5: SC | AE5: =COUNTIF($AE$10:$AE$50,AC5) -> 10 | AF5: =COUNTIF($AE$10:$AE$50,AB5) -> 3
R6: IncorrectPS | U6: CorrectPS | V6: PS | W6: =COUNTIF(X10:X46,U6) -> 11 | X6: =COUNTIF(X10:X46,R6) -> 5 | AB6: IncorrectCR | AC6: CorrectCR | AD6: CR | AE6: =COUNTIF($AE$10:$AE$50,AC6) -> 6 | AF6: =COUNTIF($AE$10:$AE$50,AB6) -> 4
R7: IncorrectDS | U7: CorrectDS | V7: DS | W7: =COUNTIF(X10:X46,U7) -> 12 | X7: =COUNTIF(X10:X46,R7) -> 3 | AB7: IncorrectRC | AC7: CorrectRC | AD7: RC | AE7: =COUNTIF($AE$10:$AE$50,AC7) -> 11 | AF7: =COUNTIF($AE$10:$AE$50,AB7) -> 2
U9: Q Q # | V9: Answer | W9: Q Type | X9: Merged | AB9: V Q # | AC9: Answer | AD9: Q Type | AE9: Merged
U10: 1 | V10: ='Data Input'!E11 -> Correct | W10: ='Data Input'!F11 -> DS | X10: =V10&W10 -> CorrectDS | AB10: 1 | AC10: ='Data Input'!I11 -> Incorrect | AD10: ='Data Input'!J11 -> SC | AE10: =AC10&AD10 -> IncorrectSC
U11: 2 | V11: ='Data Input'!E12 -> Correct | W11: ='Data Input'!F12 -> PS | X11: =V11&W11 -> CorrectPS | AB11: 2 | AC11: ='Data Input'!I12 -> Correct | AD11: ='Data Input'!J12 -> SC | AE11: =AC11&AD11 -> CorrectSC
U12: 3 | V12: ='Data Input'!E13 -> Incorrect | W12: ='Data Input'!F13 -> PS | X12: =V12&W12 -> IncorrectPS | AB12: 3 | AC12: ='Data Input'!I13 -> Correct | AD12: ='Data Input'!J13 -> SC | AE12: =AC12&AD12 -> CorrectSC
U13: 4 | V13: ='Data Input'!E14 -> Correct | W13: ='Data Input'!F14 -> PS | X13: =V13&W13 -> CorrectPS | AB13: 4 | AC13: ='Data Input'!I14 -> Incorrect | AD13: ='Data Input'!J14 -> CR | AE13: =AC13&AD13 -> IncorrectCR
U14: 5 | V14: ='Data Input'!E15 -> Incorrect | W14: ='Data Input'!F15 -> PS | X14: =V14&W14 -> IncorrectPS | AB14: 5 | AC14: ='Data Input'!I15 -> Incorrect | AD14: ='Data Input'!J15 -> CR | AE14: =AC14&AD14 -> IncorrectCR
U15: 6 | V15: ='Data Input'!E16 -> Correct | W15: ='Data Input'!F16 -> PS | X15: =V15&W15 -> CorrectPS | AB15: 6 | AC15: ='Data Input'!I16 -> Correct | AD15: ='Data Input'!J16 -> SC | AE15: =AC15&AD15 -> CorrectSC
U16: 7 | V16: ='Data Input'!E17 -> Correct | W16: ='Data Input'!F17 -> DS | X16: =V16&W16 -> CorrectDS | AB16: 7 | AC16: ='Data Input'!I17 -> Correct | AD16: ='Data Input'!J17 -> RC | AE16: =AC16&AD16 -> CorrectRC
U17: 8 | V17: ='Data Input'!E18 -> Correct | W17: ='Data Input'!F18 -> DS | X17: =V17&W17 -> CorrectDS | AB17: 8 | AC17: ='Data Input'!I18 -> Correct | AD17: ='Data Input'!J18 -> RC | AE17: =AC17&AD17 -> CorrectRC
U18: 9 | V18: ='Data Input'!E19 -> Correct | W18: ='Data Input'!F19 -> DS | X18: =V18&W18 -> CorrectDS | AB18: 9 | AC18: ='Data Input'!I19 -> Correct | AD18: ='Data Input'!J19 -> RC | AE18: =AC18&AD18 -> CorrectRC
U19: 10 | V19: ='Data Input'!E20 -> Correct | W19: ='Data Input'!F20 -> DS | X19: =V19&W19 -> CorrectDS | AB19: 10 | AC19: ='Data Input'!I20 -> Correct | AD19: ='Data Input'!J20 -> RC | AE19: =AC19&AD19 -> CorrectRC
U20: 11 | V20: ='Data Input'!E21 -> Correct | W20: ='Data Input'!F21 -> DS | X20: =V20&W20 -> CorrectDS | AB20: 11 | AC20: ='Data Input'!I21 -> Correct | AD20: ='Data Input'!J21 -> CR | AE20: =AC20&AD20 -> CorrectCR
U21: 12 | V21: ='Data Input'!E22 -> Incorrect | W21: ='Data Input'!F22 -> DS | X21: =V21&W21 -> IncorrectDS | AB21: 12 | AC21: ='Data Input'!I22 -> Correct | AD21: ='Data Input'!J22 -> CR | AE21: =AC21&AD21 -> CorrectCR
... U46: 37 | V46: ='Data Input'!E47 -> 0 | W46: ='Data Input'!F47 -> 0 | X46: =V46&W46 -> 00 | AB46: 37 | AC46: ='Data Input'!I47 -> 0 | AD46: ='Data Input'!J47 -> 0 | AE46: =AC46&AD46 -> 00
AB47: 38 | AC47: ='Data Input'!I48 -> 0 | AD47: ='Data Input'!J48 -> 0 | AE47: =AC47&AD47 -> 00
AB48: 39 | AC48: ='Data Input'!I49 -> 0 | AD48: ='Data Input'!J49 -> 0 | AE48: =AC48&AD48 -> 00
AB49: 40 | AC49: ='Data Input'!I50 -> 0 | AD49: ='Data Input'!J50 -> 0 | AE49: =AC49&AD49 -> 00
AB50: 41 | AC50: ='Data Input'!I51 -> 0 | AD50: ='Data Input'!J51 -> 0 | AE50: =AC50&AD50 -> 00
