Workbook
Name CheckNoOfQuestion: #REF!
Name CurrentChoice: #REF!
Name CurrentQuestion: #REF!
Name DiffLevelEasy: [1]Analysis!$AF$2
Name DiffLevelHard: [1]Analysis!$AF$4
Name DiffLevelMedium: [1]Analysis!$AF$3
Name DiffLevelNA: [1]Analysis!$AF$6
Name DiffLevelVeryHard: [1]Analysis!$AF$5
Name EL_AnswerChoice: 'Error Log'!$H$2
Name EL_Category: 'Error Log'!$F$2
Name EL_DifferentLevel: 'Error Log'!$D$2
Name EL_Percentile: 'Error Log'!$E$2
Name EL_Question: 'Error Log'!$A$2
Name EL_QuestionNo: 'Error Log'!$G$2
Name EL_Result: 'Error Log'!$I$2
Name EL_Section: 'Error Log'!$C$2
Name EL_TimeMin: 'Error Log'!#REF!
Name EL_TimeSec: 'Error Log'!#REF!
Name EL_TimeTotal: 'Error Log'!$J$2
Name FromQuestion: #REF!
Name NoOfQuestion: #REF!
Name OG_2016_CR_Results: CR!$C$3:$F$126
Name OG_2016_CR_Results: 'RC'!$D$3:$G$141
Name OG_2016_DS_Diag_Results: 'Diag Q'!$C$27:$G$50
Name OG_2016_DS_Diag_Results_1: 'Diag Q'!$C$27:$G$50
Name OG_2016_PS_Diag_Results: 'Diag Q'!$C$3:$G$26
Name OG_2016_PS_Diag_Results_1: 'Diag Q'!$C$3:$G$26
Name OG_2016_PS_Results: PS!$A$3:$F$232
Name OG_2016_SC_Results: SC!$C$3:$F$142
Name SecondPrecise: #REF!
Name SectionPractice: #REF!
Name Timer: #REF!
Name ToQuestion: #REF!

Sheet About
C2: GMAT CLUB - Contributing to Each Other's Learning
B4: Guide to the Official GMAT Guide 2018 Edition
B5: Use this guide to: - Track your progress through the Official Guide for GMAT Review 2018 edition - To analyze your mistakes in the Official Guide (Error log and Analysis tabs) - To help find specific practice questions and build your custom practice tests that focus on your weak areas Good Luck on the GMAT! GMAT Club

Sheet Diag Q
A1: GMAT Club Guide to The GMAT Official Guide 2018
B2: Difficulty | C2: Percentile | D2: Type | E2: OA | F2: Primary Category | G2: Link
A3: 1 | B3: Medium | C3: 0.45 | D3: PS | E3: A | F3: Arithmetic/Word Problems/Inequalities | G3: http://gmatclub.com/forum/last-month-a-certain-music-club-offered-a-discount-to-134496.html
A4: 2 | B4: Easy | C4: 0.05 | D4: PS | E4: D | F4: Statistics and Sets Problems | G4: http://gmatclub.com/forum/the-average-arithmetic-mean-of-the-integers-from-200-to-134497.html
A5: 3 | B5: Easy | C5: 0.05 | D5: PS | E5: E | F5: Sequences | G5: http://gmatclub.com/forum/the-sequence-a1-a2-a3-an-is-such-that-an-an-134498.html
A6: 4 | B6: Medium | C6: 0.15 | D6: PS | E6: B | F6: Overlapping Sets/Percents and Interest Problems/Probability | G6: http://gmatclub.com/forum/among-a-group-of-2-500-people-35-percent-invest-in-134499.html
A7: 5 | B7: Hard | C7: 0.55 | D7: PS | E7: B | F7: Geometry | G7: http://gmatclub.com/forum/a-closed-cylindrical-tank-contains-36pi-cubic-feet-of-water-134500.html
A8: 6 | B8: Medium | C8: 0.45 | D8: PS | E8: A | F8: Overlapping Sets | G8: http://gmatclub.com/forum/a-marketing-firm-determined-that-of-200-households-surveyed-134890.html
A9: 7 | B9: Very Hard | C9: 0.65 | D9: PS | E9: E | F9: Probability | G9: http://gmatclub.com/forum/a-certain-club-has-10-members-including-harry-one-of-the-134891.html
A10: 8 | B10: Medium | C10: 0.45 | D10: PS | E10: E | F10: Fractions/Ratios/Decimals/Statistics and Sets Problems | G10: http://gmatclub.com/forum/if-a-certain-toy-store-s-revenue-in-november-was-2-5-of-its-134892.html
A11: 9 | B11: Easy | C11: 0.05 | D11: PS | E11: D | F11: Statistics and Sets Problems | G11: http://gmatclub.com/forum/a-researcher-computed-the-mean-the-median-and-the-standard-134893.html
A12: 10 | B12: Hard | C12: 0.75 | D12: PS | E12: C | F12: Geometry | G12: http://gmatclub.com/forum/in-the-figure-shown-what-is-the-value-of-v-x-y-z-w-134894.html
A13: 11 | B13: Very Hard | C13: 0.95 | D13: PS | E13: C | F13: Combinations | G13: http://gmatclub.com/forum/of-the-three-digit-integers-greater-than-700-how-many-have-135188.html
A14: 12 | B14: Easy | C14: 0.15 | D14: PS | E14: C | F14: Percents and Interest Problems | G14: http://gmatclub.com/forum/positive-integer-y-is-50-percent-of-50-percent-of-positive-135189.html
... A50: 48 | B50: Medium | C50: 0.25 | D50: DS | E50: C | F50: Geometry | G50: http://gmatclub.com/forum/if-p-is-the-perimeter-of-rectangle-q-what-is-the-value-of-p-135832.html

Sheet Diag V
A1: GMAT Club Guide to The GMAT Official Guide 2018
A2: Question | B2: Difficulty | C2: Percentile | D2: Type | E2: OA | F2: Primary Category | G2: Discussion
A3: 1 | B3: N/A | D3: RC | E3: E | F3: Business/Short Passage | G3: http://gmatclub.com/forum/according-to-economic-signaling-theory-consumers-may-149974.html
A4: 2 | B4: N/A | D4: RC | E4: C | F4: Business/Short Passage | G4: http://gmatclub.com/forum/according-to-economic-signaling-theory-consumers-may-149974.html
A5: 3 | B5: N/A | D5: RC | E5: B | F5: Business/Short Passage | G5: http://gmatclub.com/forum/according-to-economic-signaling-theory-consumers-may-149974.html
A6: 4 | B6: N/A | D6: RC | E6: A | F6: Business/Short Passage | G6: http://gmatclub.com/forum/according-to-economic-signaling-theory-consumers-may-149974.html
A7: 5 | B7: N/A | D7: RC | E7: D | F7: Business/Short Passage | G7: http://gmatclub.com/forum/according-to-economic-signaling-theory-consumers-may-149974.html
A8: 6 | B8: N/A | D8: RC | E8: C | F8: Science/Long Passage | G8: http://gmatclub.com/forum/the-idea-of-the-brain-as-an-information-processor-a-machine-149975.html
A9: 7 | B9: N/A | D9: RC | E9: A | F9: Science/Long Passage | G9: http://gmatclub.com/forum/the-idea-of-the-brain-as-an-information-processor-a-machine-149975.html
A10: 8 | B10: N/A | D10: RC | E10: A | F10: Science/Long Passage | G10: http://gmatclub.com/forum/the-idea-of-the-brain-as-an-information-processor-a-machine-149975.html
A11: 9 | B11: N/A | D11: RC | E11: B | F11: Science/Long Passage | G11: http://gmatclub.com/forum/the-idea-of-the-brain-as-an-information-processor-a-machine-149975.html
A12: 10 | B12: N/A | D12: RC | E12: A | F12: Science/Long Passage | G12: http://gmatclub.com/forum/the-idea-of-the-brain-as-an-information-processor-a-machine-149975.html
A13: 11 | B13: N/A | D13: RC | E13: B | F13: Science/Long Passage | G13: http://gmatclub.com/forum/the-idea-of-the-brain-as-an-information-processor-a-machine-149975.html
A14: 12 | B14: N/A | D14: RC | E14: D | F14: Social Science/Short Passage | G14: http://gmatclub.com/forum/women-s-grassroots-activism-and-their-vision-of-a-new-civic-87397.html
... A19: 17 | B19: N/A | D19: RC | E19: E | F19: Social Science/Short Passage | G19: http://gmatclub.com/forum/women-s-grassroots-activism-and-their-vision-of-a-new-civic-87397.html
A20: 18 | B20: Easy | C20: 0.05 | D20: CR | E20: B | F20: Weaken | G20: http://gmatclub.com/forum/vasquez-morrell-assurance-specializes-in-insuring-117826.html
A21: 19 | B21: Easy | C21: 0.15 | D21: CR | E21: E | F21: Strengthen | G21: http://gmatclub.com/forum/prolonged-spells-of-hot-dry-weather-at-the-end-of-the-149977.html
A22: 20 | B22: Hard | C22: 0.55 | D22: CR | E22: C | F22: Weaken | G22: http://gmatclub.com/forum/in-the-past-most-children-who-went-sledding-in-the-winter-70538.html
A23: 21 | B23: Medium | C23: 0.45 | D23: CR | E23: A | F23: Evaluate Argument | G23: http://gmatclub.com/forum/metal-rings-recently-excavated-form-seventh-century-20799.html
A24: 22 | B24: Hard | C24: 0.65 | D24: CR | E24: B | F24: Evaluate Argument | G24: http://gmatclub.com/forum/following-several-years-of-declining-advertising-sales-25576.html
A25: 23 | B25: Easy | C25: 0.15 | D25: CR | E25: A | F25: Weaken/Numbers &amp; Percent | G25: http://gmatclub.com/forum/motorists-in-a-certain-country-frequently-complain-that-tra-159494.html
A26: 24 | B26: Medium | C26: 0.25 | D26: CR | E26: C | F26: Must be True | G26: https://gmatclub.com/forum/qotd-the-percentage-of-households-with-an-annual-income-of-more-256664.html
A27: 25 | B27: Very Hard | C27: 0.95 | D27: CR | E27: B | F27: Strengthen | G27: http://gmatclub.com/forum/tiger-beetles-are-such-fast-runners-that-they-can-capture-25607.html
A28: 26 | B28: Hard | C28: 0.65 | D28: CR | E28: D | F28: Argument Evaluation/Weaken | G28: http://gmatclub.com/forum/guillemots-are-birds-of-arctic-regions-they-feed-on-fish-89799.html
A29: 27 | B29: Easy | C29: 0.05 | D29: CR | E29: D | F29: Complete the Passage | G29: http://gmatclub.com/forum/some-batches-of-polio-vaccine-used-around-1960-were-149981.html
A30: 28 | B30: Medium | C30: 0.25 | D30: CR | E30: E | F30: Assumption | G30: http://gmatclub.com/forum/gortland-has-long-been-narrowly-self-sufficient-in-both-grain-and-meat-12544.html
A31: 29 | B31: Easy | C31: 0.05 | D31: CR | E31: E | F31: Evaluate Argument | G31: http://gmatclub.com/forum/the-hazelton-coal-processing-plant-is-a-major-employer-in-116422.html
... A54: 52 | B54: Easy | C54: 0.05 | D54: SC | E54: E | F54: Parallel Structure | G54: http://gmatclub.com/forum/it-will-not-be-possible-to-implicate-melting-sea-ice-in-the-coastal-24529.html

Sheet PS
A1: GMAT Club Guide to The GMAT Official Guide 2018
A2: Question | B2: Difficulty | C2: Percentile | D2: OA | E2: Primary Category | F2: Link
A3: 1 | B3: Easy | C3: 0.05 | D3: E | E3: Arithmetic: Percents | F3: http://gmatclub.com/forum/the-price-of-a-coat-in-a-certain-store-is-500-if-the-price-of-the-co-200102.html
A4: 2 | B4: Easy | C4: 0.05 | D4: D | E4: Arithmetic: Operations with rational numbers | F4: http://gmatclub.com/forum/on-a-vacation-rose-exchanged-500-00-for-euros-at-an-exchange-rate-220271.html
A5: 3 | B5: Easy | C5: 0.05 | D5: E | E5: Arithmetic: Ratio and proportion | F5: https://gmatclub.com/forum/each-of-the-12-squares-shown-is-labeled-x-y-v-or-w-what-is-the-ratio-242754.html | G5: NEW
A6: 4 | B6: Easy | C6: 0.05 | D6: A | E6: Arithmetic: Operations with rational numbers | F6: http://gmatclub.com/forum/1-207120.html
A7: 5 | B7: Easy | C7: 0.05 | D7: B | E7: Arithmetic: Applied problems; Properties of numbers | F7: https://gmatclub.com/forum/bouquets-are-to-be-made-using-white-tulips-and-red-tulips-and-the-rat-242761.html | G7: NEW
A8: 6 | B8: Easy | C8: 0.05 | D8: E | E8: Arithmetic: Percents | F8: https://gmatclub.com/forum/125-of-242762.html | G8: NEW
A9: 7 | B9: Easy | C9: 0.05 | D9: C | E9: Algebra: Applied problems | F9: http://gmatclub.com/forum/today-rebecca-who-is-34-years-old-and-her-daughter-who-is-8-years-207121.html
A10: 8 | B10: Easy | C10: 0.05 | D10: D | E10: Arithmetic: Operations with rational numbers | F10: http://gmatclub.com/forum/when-traveling-at-a-constant-speed-of-32-miles-per-hour-a-certain-mot-220272.html
A11: 9 | B11: Easy | C11: 0.05 | D11: C | E11: Algebra: Simplifying algebraic expressions | F11: http://gmatclub.com/forum/a-case-contains-c-cartons-each-carton-contains-b-boxes-and-136192.html
A12: 10 | B12: Easy | C12: 0.05 | D12: E | E12: Arithmetic: Percents | F12: http://gmatclub.com/forum/a-technician-makes-a-round-trip-to-and-from-a-certain-service-center-b-220273.html
A13: 11 | B13: Medium | C13: 0.25 | D13: A | E13: Arithmetic: Probability | F13: http://gmatclub.com/forum/raffle-tickets-numbered-consecutively-from-101-through-136563.html
A14: 12 | B14: Easy | C14: 0.05 | D14: C | E14: Algebra: First-degree equations | F14: http://gmatclub.com/forum/when-leo-imported-a-certain-item-he-paid-a-7-percent-import-136875.html
A15: 13 | B15: Easy | C15: 0.05 | D15: B | E15: Algebra: First-degree equations | F15: http://gmatclub.com/forum/a-collection-of-16-coins-each-with-a-face-value-of-either-10-cents-or-220274.html
A16: 14 | B16: Easy | C16: 0.05 | D16: B | E16: Arithmetic: Statistics | F16: http://gmatclub.com/forum/the-numbers-of-cars-sold-at-a-certain-dealership-on-six-of-136876.html
A17: 15 | B17: Easy | C17: 0.05 | D17: D | E17: Arithmetic: Percents | F17: http://gmatclub.com/forum/if-it-is-assumed-that-60-percent-of-those-who-receive-a-questionnaire-207122.html
A18: 16 | B18: Easy | C18: 0.05 | D18: E | E18: Algebra: Inequalities | F18: https://gmatclub.com/forum/if-1-x-y-z-which-of-the-following-has-the-greatest-value-242764.html | G18: NEW
A19: 17 | B19: Easy | C19: 0.05 | D19: A | E19: Geometry: Quadrilaterals; Perimeter | F19: http://gmatclub.com/forum/a-rectangular-garden-is-to-be-twice-as-long-as-it-is-wide-136877.html
A20: 18 | B20: Easy | C20: 0.05 | D20: B | E20: Geometry: Area (Rectangles) | F20: http://gmatclub.com/forum/a-rectangular-floor-that-measures-8-meters-by-10-meters-is-to-be-cover-207123.html
A21: 19 | B21: Medium | C21: 0.25 | D21: D | E21: Arithmetic: Properties of numbers | F21: http://gmatclub.com/forum/if-893-78-p-which-of-the-following-is-equal-to-207125.html
A22: 20 | B22: Easy | C22: 0.05 | D22: B | E22: Algebra: Simultaneous first-degree equations | F22: http://gmatclub.com/forum/thabo-owns-exactly-140-books-and-each-book-is-either-paperback-fictio-220275.html
A23: 21 | B23: Easy | C23: 0.05 | D23: C | E23: Arithmetic: Statistics | F23: http://gmatclub.com/forum/if-the-average-arithmetic-mean-of-the-four-numbers-3-15-32-and-n-207126.html
A24: 22 | B24: Easy | C24: 0.05 | D24: D | E24: Geometry: Applied problems | F24: https://gmatclub.com/forum/abdul-barb-and-carlos-all-live-on-the-same-straight-road-on-which-t-242767.html | G24: NEW
A25: 23 | B25: Easy | C25: 0.05 | D25: E | E25: Arithmetic: Applied problems | F25: https://gmatclub.com/forum/during-a-certain-time-period-car-x-traveled-north-along-a-straight-ro-242770.html | G25: NEW
A26: 24 | B26: Easy | C26: 0.05 | D26: C | E26: Algebra: Applied problems; Percents | F26: https://gmatclub.com/forum/cheryl-purchased-5-identical-hollow-pine-doors-and-6-identical-solid-o-242869.html | G26: NEW
A27: 25 | B27: Easy | C27: 0.05 | D27: C | E27: Algebra: Inequalities; Absolute value | F27: http://gmatclub.com/forum/if-y-1-2-11-2-which-of-the-following-could-be-a-value-136878.html
A28: 26 | B28: Easy | C28: 0.05 | D28: C | E28: Geometry: Triangles | F28: https://gmatclub.com/forum/in-the-figure-shown-ac-2-and-bd-dc-1-what-is-the-measure-of-242868.html | G28: NEW
A29: 27 | B29: Easy | C29: 0.05 | D29: E | E29: Algebra: Simplifying algebraic expressions | F29: https://gmatclub.com/forum/if-k-2-m-2-which-of-the-following-must-be-true-207128.html
A30: 28 | B30: Easy | C30: 0.05 | D30: D | E30: Arithmetic: Ratio and proportion | F30: http://gmatclub.com/forum/makoto-nishi-and-ozuro-were-paid-a-total-of-780-for-waxing-the-floo-220277.html
A31: 29 | B31: Easy | C31: 0.05 | D31: B | E31: Geometry: Pythagorean theorem | F31: http://gmatclub.com/forum/the-figure-above-shows-a-path-around-a-triangular-piece-of-land-mary-207129.html
A32: 30 | B32: Easy | C32: 0.05 | D32: C | E32: Arithmetic: Fractions | F32: http://gmatclub.com/forum/at-a-supermarket-john-spent-1-2-of-his-money-on-fresh-fruit-136879.html
A33: 31 | B33: Easy | C33: 0.05 | D33: C | E33: Algebra: Operations with rational numbers | F33: http://gmatclub.com/forum/if-1-1-25-n-1-then-n-207130.html
A34: 32 | B34: Easy | C34: 0.05 | D34: D | E34: Geometry: Volume | F34: http://gmatclub.com/forum/a-carpenter-constructed-a-rectangular-sandbox-with-a-137218.html
A35: 33 | B35: Easy | C35: 0.05 | D35: C | E35: Arithmetic: Operations with rational numbers | F35: https://gmatclub.com/forum/the-quotient-when-a-certain-number-is-divided-by-2-3-is-9-2-what-is-242867.html | G35: NEW
A36: 34 | B36: Easy | C36: 0.05 | D36: A | E36: Geometry: Volume | F36: https://gmatclub.com/forum/if-a-sphere-with-radius-r-is-inscribed-in-a-cube-with-edges-of-length-242866.html | G36: NEW
A37: 35 | B37: Easy | C37: 0.05 | D37: B | E37: Algebra: Simultaneous equations | F37: http://gmatclub.com/forum/if-2x-y-7-and-x-2y-5-then-x-y-207131.html
A38: 36 | B38: Easy | C38: 0.05 | D38: E | E38: Arithmetic: Ratio and proportion | F38: http://gmatclub.com/forum/city-x-has-a-population-4-times-as-great-as-the-population-of-city-y-220278.html
A39: 37 | B39: Easy | C39: 0.05 | D39: E | E39: Arithmetic: Interpretation of graphs and tables | F39: http://gmatclub.com/forum/the-graph-above-shows-the-height-of-the-tide-in-feet-above-or-below-207132.html
A40: 38 | B40: Easy | C40: 0.05 | D40: D | E40: Arithmetic: Applied problems | F40: http://gmatclub.com/forum/a-manufacturer-of-a-certain-product-can-expect-that-between-0-3-percen-207133.html
...

Sheet DS
A1: GMAT Club Guide to The GMAT Official Guide 2018
A2: Question | B2: Difficulty | C2: Percentile | D2: OA | E2: Primary Category | F2: Link
A3: 231 | B3: Easy | C3: 0.15 | D3: A | E3: Geometry: Angles | F3: http://gmatclub.com/forum/in-the-figure-above-point-d-is-on-ac-what-is-the-degree-measure-of-220480.html
A4: 232 | B4: Easy | C4: 0.05 | D4: C | E4: Algebra: Simultaneous equations | F4: http://gmatclub.com/forum/a-citrus-fruit-grower-receives-15-for-each-crate-of-oranges-136567.html
A5: 233 | B5: Easy | C5: 0.05 | D5: C | E5: Arithmetic: Ratios | F5: https://gmatclub.com/forum/a-certain-mixture-of-paint-requires-blue-yellow-and-red-paints-in-243443.html | G5: NEW
A6: 234 | B6: Easy | C6: 0.05 | D6: A | E6: Arithmetic: Operations with rational numbers | F6: http://gmatclub.com/forum/if-pat-saved-600-of-his-earnings-last-month-how-much-did-136568.html
A7: 235 | B7: Easy | C7: 0.05 | D7: C | E7: Geometry: Simple coordinate geometry | F7: http://gmatclub.com/forum/in-the-xy-plane-above-is-angle-qpr-a-right-angle-136880.html
A8: 236 | B8: Easy | C8: 0.05 | D8: C | E8: Arithmetic: Probability | F8: http://gmatclub.com/forum/each-of-the-marbles-in-a-jar-is-either-red-or-white-or-blue-if-one-ma-205775.html
A9: 237 | B9: Easy | C9: 0.05 | D9: C | E9: Geometry: Triangles; Pythagorean theorem | F9: http://gmatclub.com/forum/in-the-figure-above-what-is-the-value-of-z-222252.html
A10: 238 | B10: Easy | C10: 0.05 | D10: B | E10: Arithmetic: Work Problem | F10: http://gmatclub.com/forum/water-is-pumped-into-a-partially-filled-tank-at-a-constant-136881.html
A11: 239 | B11: Easy | C11: 0.05 | D11: D | E11: Arithmetic: Percents | F11: http://gmatclub.com/forum/what-is-the-value-of-10-percent-of-y-205776.html
A12: 240 | B12: Easy | C12: 0.05 | D12: D | E12: Arithmetic: Operations with radical expressions | F12: http://gmatclub.com/forum/what-is-the-cube-root-of-w-136884.html
A13: 241 | B13: Easy | C13: 0.05 | D13: C | E13: Arithmetic: Sequences | F13: http://gmatclub.com/forum/if-sequence-s-has-120-terms-what-is-the-105th-term-of-s-205777.html
A14: 242 | B14: Easy | C14: 0.05 | D14: D | E14: Arithmetic: Sequences and series | F14: http://gmatclub.com/forum/the-number-of-seats-in-the-first-row-of-an-auditorium-is-137223.html
A15: 243 | B15: Easy | C15: 0.05 | D15: C | E15: Arithmetic: Exponents | F15: http://gmatclub.com/forum/if-u-0-and-v-0-which-is-greater-u-v-or-v-u-220412.html
A16: 244 | B16: Easy | C16: 0.05 | D16: E | E16: Arithmetic: Statistics | F16: http://gmatclub.com/forum/what-was-the-range-of-the-selling-prices-of-the-30-wallets-sold-by-a-64383.html
A17: 245 | B17: Easy | C17: 0.05 | D17: E | E17: Algebra: Simultaneous equations | F17: http://gmatclub.com/forum/three-houses-are-being-sold-through-a-real-estate-agent-205778.html
... A29: 257 | B29: Easy | C29: 0.05 | D29: A | E29: Arithmetic: Sequences and series | F29: http://gmatclub.com/forum/if-the-sequence-s-has-300-terms-what-is-the-293rd-term-of-s-137542.html
A30: 258 | B30: Easy | C30: 0.15 | D30: C | E30: Arithmetic: Operations with integers | F30: https://gmatclub.com/forum/if-a-is-a-3-digit-integer-and-b-is-a-3-digit-integer-is-the-units-243444.html | G30: NEW
A31: 259 | B31: Easy | C31: 0.15 | D31: C | E31: Arithmetic: Applied problems; Percents | F31: http://gmatclub.com/forum/in-each-of-the-last-five-years-company-k-donated-p-percent-of-its-220415.html
A32: 260 | B32: Easy | C32: 0.05 | D32: E | E32: Geometry: triangles; Area | F32: https://gmatclub.com/forum/is-the-area-of-the-triangular-region-above-less-than-243445.html | G32: NEW
A33: 261 | B33: Easy | C33: 0.05 | D33: B | E33: Geometry: Lines and segments | F33: http://gmatclub.com/forum/a-b-c-and-d-are-points-on-a-line-if-c-is-the-midpoint-of-line-segm-220333.html
A34: 262 | B34: Easy | C34: 0.15 | D34: C | E34: Arithmetic: Order | F34: https://gmatclub.com/forum/the-people-in-a-line-waiting-to-buy-tickets-to-a-show-are-standing-one-243447.html | G34: NEW
A35: 263 | B35: Easy | C35: 0.15 | D35: D | E35: Geometry: Circles; Area | F35: http://gmatclub.com/forum/square-abcd-is-inscribed-in-circle-o-what-is-the-area-of-square-regio-207478.html
A36: 264 | B36: Easy | C36: 0.15 | D36: E | E36: Geometry: Coordinate geometry | F36: http://gmatclub.com/forum/lines-k-and-m-are-parallel-to-each-other-is-the-slope-of-100447.html
A37: 265 | B37: Easy | C37: 0.05 | D37: C | E37: Geometry: Circles; Pythagorean theorem | F37: http://gmatclub.com/forum/in-cross-section-a-tunnel-that-carries-one-lane-of-one-way-traffic-is-220416.html
A38: 266 | B38: Easy | C38: 0.05 | D38: E | E38: Arithmetic: Sets | F38: https://gmatclub.com/forum/in-a-certain-group-of-50-people-how-many-are-doctors-who-have-a-law-243448.html | G38: NEW
A39: 267 | B39: Easy | C39: 0.05 | D39: C | E39: Arithmetic: Sets | F39: https://gmatclub.com/forum/of-a-group-of-50-households-how-many-have-at-least-one-cat-or-at-243449.html | G39: NEW
A40: 268 | B40: Easy | C40: 0.15 | D40: E | E40: Algebra: Applied problems | F40: http://gmatclub.com/forum/on-a-certain-date-hannah-invested-5-000-at-x-percent-137543.html
A41: 269 | B41: Easy | C41: 0.05 | D41: B | E41: Arithmetic: Percents | F41: http://gmatclub.com/forum/do-at-least-60-percent-of-the-students-in-pat-s-class-walk-to-school-207479.html
A42: 270 | B42: Easy | C42: 0.05 | D42: B | E42: Arithmetic: Arithmetic operations; Proportions | F42: http://gmatclub.com/forum/the-profit-from-the-sale-of-a-certain-appliance-increases-137874.html
A43: 271 | B43: Medium | C43: 0.25 | D43: D | E43: Arithmetic: Properties of numbers | F43: http://gmatclub.com/forum/if-n-is-an-integer-is-n-even-137875.html
A44: 272 | B44: Easy | C44: 0.05 | D44: D | E44: Arithmetic: Operations with rational numbers | F44: http://gmatclub.com/forum/carmen-currently-works-30-hours-per-week-at-her-part-time-137876.html
A45: 273 | B45: Easy | C45: 0.15 | D45: B | E45: Arithmetic: Applied problems | F45: https://gmatclub.com/forum/a-certain-plumber-charges-92-for-each-job-completed-in-4-hours-or-243451.html | G45: NEW
A46: 274 | B46: Medium | C46: 0.15 | D46: B | E46: Algebra: Inequalities | F46: https://gmatclub.com/forum/if-x-and-y-are-positive-numbers-is-x-1-y-1-x-y-243452.html | G46: NEW
A47: 275 | B47: Medium | C47: 0.35 | D47: D | E47: Arithmetic: Inequalities | F47: http://gmatclub.com/forum/if-a-and-b-are-positive-integers-is-a-b-207480.html
A48: 276 | B48: Easy | C48: 0.15 | D48: E | E48: Arithmetic: Sets | F48: https://gmatclub.com/forum/every-object-in-a-box-is-either-a-sphere-or-a-cube-and-every-object-243453.html | G48: NEW
A49: 277 | B49: Easy | C49: 0.05 | D49: D | E49: Arithmetic: Properties of numbers | F49: https://gmatclub.com/forum/every-object-in-a-box-is-either-a-sphere-or-a-cube-and-every-object-243453.html | G49: NEW
A50: 278 | B50: Easy | C50: 0.15 | D50: D | E50: Arithmetic: Properties of numbers | F50: https://gmatclub.com/forum/if-a-and-b-are-integers-is-a-b-3-an-odd-integer-243455.html | G50: NEW
A51: 279 | B51: Easy | C51: 0.15 | D51: C | E51: Algebra: Operations with radicals | F51: http://gmatclub.com/forum/if-x-and-y-are-positive-integers-what-is-the-value-of-x-1-2-y-207481.html
...

Sheet RC
A1: GMAT Club Guide to The GMAT Official Guide 2018
A2: Passage | B2: Question | C2: Difficulty | D2: Percentile | E2: OA | F2: Primary Category | G2: Link
B3: 405 | C3: N/A | E3: B | F3: Science/Short Passage | G3: http://gmatclub.com/forum/biologists-have-advanced-two-theories-to-explain-137038.html
B4: =B3+1 -> 406 | C4: N/A | E4: B | F4: Science/Short Passage | G4: http://gmatclub.com/forum/biologists-have-advanced-two-theories-to-explain-137038.html
B5: =B4+1 -> 407 | C5: N/A | E5: D | F5: Science/Short Passage | G5: http://gmatclub.com/forum/biologists-have-advanced-two-theories-to-explain-137038.html
B6: =B5+1 -> 408 | C6: N/A | E6: A | F6: Science/Short Passage | G6: http://gmatclub.com/forum/biologists-have-advanced-two-theories-to-explain-137038.html
B7: =B6+1 -> 409 | C7: N/A | E7: D | F7: Science/Short Passage | G7: http://gmatclub.com/forum/scientist-long-believed-that-two-nerve-cluster-in-the-human-hypothalam-203724.html
B8: =B7+1 -> 410 | C8: N/A | E8: D | F8: Science/Short Passage | G8: http://gmatclub.com/forum/scientist-long-believed-that-two-nerve-cluster-in-the-human-hypothalam-203724.html
B9: =B8+1 -> 411 | C9: N/A | E9: B | F9: Science/Short Passage | G9: http://gmatclub.com/forum/scientist-long-believed-that-two-nerve-cluster-in-the-human-hypothalam-203724.html
B10: =B9+1 -> 412 | C10: N/A | E10: B | F10: Science/Short Passage | G10: https://gmatclub.com/forum/in-their-study-of-whether-offering-a-guarantee-of-service-quality-will-242450.html | H10: NEW
B11: =B10+1 -> 413 | C11: N/A | E11: C | F11: Science/Short Passage | G11: https://gmatclub.com/forum/in-their-study-of-whether-offering-a-guarantee-of-service-quality-will-242450.html | H11: NEW
B12: =B11+1 -> 414 | C12: N/A | E12: C | F12: Science/Short Passage | G12: https://gmatclub.com/forum/in-their-study-of-whether-offering-a-guarantee-of-service-quality-will-242450.html | H12: NEW
B13: =B12+1 -> 415 | C13: N/A | E13: D | F13: Business/Short Passage | G13: https://gmatclub.com/forum/the-argument-for-monetizing-or-putting-a-monetary-value-on-ecosystem-242589.html | H13: NEW
B14: =B13+1 -> 416 | C14: N/A | E14: C | F14: Business/Short Passage | G14: https://gmatclub.com/forum/the-argument-for-monetizing-or-putting-a-monetary-value-on-ecosystem-242589.html | H14: NEW
B15: =B14+1 -> 417 | C15: N/A | E15: A | F15: Business/Short Passage | G15: https://gmatclub.com/forum/the-argument-for-monetizing-or-putting-a-monetary-value-on-ecosystem-242589.html | H15: NEW
B16: =B15+1 -> 418 | C16: N/A | E16: C | F16: Business/Short Passage | G16: https://gmatclub.com/forum/the-argument-for-monetizing-or-putting-a-monetary-value-on-ecosystem-242589.html | H16: NEW
B17: =B16+1 -> 419 | C17: N/A | E17: C | F17: Business/Short Passage | G17: https://gmatclub.com/forum/much-research-has-been-devoted-to-investigating-what-motivates-consu-222701.html
B18: =B17+1 -> 420 | C18: N/A | E18: C | F18: Business/Short Passage | G18: https://gmatclub.com/forum/much-research-has-been-devoted-to-investigating-what-motivates-consu-222701.html
B19: =B18+1 -> 421 | C19: N/A | E19: E | F19: Business/Short Passage | G19: https://gmatclub.com/forum/much-research-has-been-devoted-to-investigating-what-motivates-consu-222701.html
B20: =B19+1 -> 422 | C20: N/A | E20: A | F20: Business/Short Passage | G20: https://gmatclub.com/forum/much-research-has-been-devoted-to-investigating-what-motivates-consu-222701.html
B21: =B20+1 -> 423 | C21: N/A | E21: C | F21: Humanities/Short Passage | G21: https://gmatclub.com/forum/historians-remain-divided-over-the-role-of-banks-in-facilitating-eco-222700.html
B22: =B21+1 -> 424 | C22: N/A | E22: B | F22: Humanities/Short Passage | G22: https://gmatclub.com/forum/historians-remain-divided-over-the-role-of-banks-in-facilitating-eco-222700.html
B23: =B22+1 -> 425 | C23: N/A | E23: B | F23: Humanities/Short Passage | G23: https://gmatclub.com/forum/historians-remain-divided-over-the-role-of-banks-in-facilitating-eco-222700.html
B24: =B23+1 -> 426 | C24: N/A | E24: A | F24: Humanities/Short Passage | G24: https://gmatclub.com/forum/historians-remain-divided-over-the-role-of-banks-in-facilitating-eco-222700.html
B25: =B24+1 -> 427 | C25: N/A | E25: D | F25: Humanities/Short Passage | G25: https://gmatclub.com/forum/historians-remain-divided-over-the-role-of-banks-in-facilitating-eco-222700.html
B26: =B25+1 -> 428 | C26: N/A | E26: E | F26: Science/Short Passage | G26: http://gmatclub.com/forum/io-and-europa-the-inner-two-of-jupiter-s-four-largest-137036.html
B27: =B26+1 -> 429 | C27: N/A | E27: A | F27: Science/Short Passage | G27: http://gmatclub.com/forum/io-and-europa-the-inner-two-of-jupiter-s-four-largest-137036.html
B28: =B27+1 -> 430 | C28: N/A | E28: A | F28: Science/Short Passage | G28: http://gmatclub.com/forum/io-and-europa-the-inner-two-of-jupiter-s-four-largest-137036.html
... B36: =B35+1 -> 438 | C36: N/A | E36: B | F36: Humanities/Short Passage | G36: https://gmatclub.com/forum/when-jamaican-born-social-activist-marcus-garvey-came-to-the-136802.html
B37: =B36+1 -> 439 | C37: N/A | E37: C | F37: Science/Long Passage | G37: https://gmatclub.com/forum/in-the-sonoran-desert-of-northwestern-mexico-and-southern-arizona-t-242586.html | H37: NEW
B38: =B37+1 -> 440 | C38: N/A | E38: B | F38: Science/Long Passage | G38: https://gmatclub.com/forum/in-the-sonoran-desert-of-northwestern-mexico-and-southern-arizona-t-242586.html | H38: NEW
B39: =B38+1 -> 441 | C39: N/A | E39: E | F39: Science/Long Passage | G39: https://gmatclub.com/forum/in-the-sonoran-desert-of-northwestern-mexico-and-southern-arizona-t-242586.html | H39: NEW
B40: =B39+1 -> 442 | C40: N/A | E40: B | F40: Science/Long Passage | G40: https://gmatclub.com/forum/in-terrestrial-environments-gravity-places-special-demands-137034.html
B41: =B40+1 -> 443 | C41: N/A | E41: B | F41: Science/Long Passage | G41: https://gmatclub.com/forum/in-terrestrial-environments-gravity-places-special-demands-137034.html
B42: =B41+1 -> 444 | C42: N/A | E42: B | F42: Science/Long Passage | G42: https://gmatclub.com/forum/in-terrestrial-environments-gravity-places-special-demands-137034.html
B43: =B42+1 -> 445 | C43: N/A | E43: A | F43: Science/Long Passage | G43: https://gmatclub.com/forum/in-terrestrial-environments-gravity-places-special-demands-137034.html
B44: =B43+1 -> 446 | C44: N/A | E44: D | F44: Science/Long Passage | G44: https://gmatclub.com/forum/in-terrestrial-environments-gravity-places-special-demands-137034.html
B45: =B44+1 -> 447 | C45: N/A | E45: E | F45: Science/Long Passage | G45: https://gmatclub.com/forum/in-terrestrial-environments-gravity-places-special-demands-137034.html
B46: =B45+1 -> 448 | C46: N/A | E46: D | F46: Science/Long Passage | G46: https://gmatclub.com/forum/in-terrestrial-environments-gravity-places-special-demands-137034.html
B47: =B46+1 -> 449 | C47: N/A | E47: A | F47: Science/Long Passage | G47: https://gmatclub.com/forum/in-terrestrial-environments-gravity-places-special-demands-137034.html
...

Sheet CR
A1: GMAT Club Guide to The GMAT Official Guide 2018
A2: Question | B2: Difficulty | C2: Percentile | D2: OA | E2: Primary Category | F2: Link
A3: 544 | B3: Easy | C3: 0.05 | D3: E | E3: Argument Construction | F3: http://gmatclub.com/forum/2016-og-q1-neuroscientist-memory-evolved-to-help-199851.html
A4: 545 | B4: Easy | C4: 0.05 | D4: C | E4: Argument Evaluation | F4: http://gmatclub.com/forum/2016-og-q2-astronomer-most-stars-are-born-199853.html
A5: 546 | B5: Easy | C5: 0.05 | D5: E | E5: Evaluate of a plan | F5: https://gmatclub.com/forum/with-employer-paid-training-workers-have-the-242404.html | G5: NEW
A6: 547 | B6: Easy | C6: 0.05 | D6: A | E6: Argument Evaluation | F6: https://gmatclub.com/forum/candle-corporation-s-television-stations-are-likely-to-have-more-incom-220384.html
A7: 548 | B7: Easy | C7: 0.05 | D7: A | E7: Evaluation of a Plan | F7: https://gmatclub.com/forum/2016-og-q3-a-provincial-government-plans-to-raise-199855.html
A8: 549 | B8: Medium | C8: 0.35 | D8: B | E8: Argument Evaluation | F8: https://gmatclub.com/forum/editorial-the-roof-of-northtown-council-s-equipment-storage-48863.html
A9: 550 | B9: Easy | C9: 0.15 | D9: E | E9: Argument Construction | F9: https://gmatclub.com/forum/political-theorist-even-with-the-best-spies-area-experts-and-satell-242576.html | G9: NEW
A10: 551 | B10: Easy | C10: 0.05 | D10: E | E10: Argument Construction | F10: https://gmatclub.com/forum/during-the-earliest-period-of-industrialization-in-britain-steam-engi-220385.html
A11: 552 | B11: Easy | C11: 0.15 | D11: C | E11: Evaluation of a Plan | F11: https://gmatclub.com/forum/snowmaking-machines-work-by-spraying-a-mist-that-freezes-136977.html
A12: 553 | B12: Easy | C12: 0.05 | D12: E | E12: Argument Construction | F12: https://gmatclub.com/forum/suncorp-a-new-corporation-with-limited-funds-has-been-136975.html
A13: 554 | B13: Medium | C13: 0.25 | D13: A | E13: Evaluation of a Plan | F13: https://gmatclub.com/forum/archaeologists-use-technology-to-analyze-ancient-sites-it-is-likely-t-242575.html | G13: NEW
A14: 555 | B14: Medium | C14: 0.25 | D14: A | E14: Argument Construction | F14: https://gmatclub.com/forum/a-newly-discovered-painting-seems-to-be-the-work-of-201746.html
A15: 556 | B15: Easy | C15: 0.05 | D15: D | E15: Argument Construction | F15: https://gmatclub.com/forum/beginning-in-1966-all-new-cars-sold-in-morodia-were-required-to-have-s-242372.html | G15: NEW
A16: 557 | B16: Easy | C16: 0.05 | D16: B | E16: Evaluation of a Plan | F16: https://gmatclub.com/forum/in-order-to-reduce-the-number-of-items-damaged-while-in-69386.html
A17: 558 | B17: Hard | C17: 0.55 | D17: C | E17: Argument Construction | F17: https://gmatclub.com/forum/parland-s-alligator-population-has-been-declining-in-recent-87511.html
A18: 559 | B18: Easy | C18: 0.05 | D18: A | E18: Evaluation of a Plan | F18: https://gmatclub.com/forum/a-certain-automaker-aims-to-increase-its-market-share-by-136969.html
A19: 560 | B19: Easy | C19: 0.05 | D19: C | E19: Argument Evaluation | F19: https://gmatclub.com/forum/in-virtually-any-industry-technological-improvements-136973.html
A20: 561 | B20: Easy | C20: 0.15 | D20: B | E20: Argument Construction | F20: https://gmatclub.com/forum/chaco-canyon-a-settlement-of-the-ancient-anasazi-culture-241363.html | G20: NEW
A21: 562 | B21: Easy | C21: 0.15 | D21: D | E21: Argument Construction | F21: https://gmatclub.com/forum/the-maxilux-car-company-s-design-for-its-new-luxury-model-136971.html
A22: 563 | B22: Easy | C22: 0.05 | D22: D | E22: Argument Construction | F22: https://gmatclub.com/forum/most-bicycle-helmets-provide-good-protection-for-the-top-and-136970.html
A23: 564 | B23: Easy | C23: 0.15 | D23: C | E23: Evaluation of a Plan | F23: https://gmatclub.com/forum/to-reduce-the-frequency-of-ground-collisions-innovair-will-begin-givi-220386.html
A24: 565 | B24: Easy | C24: 0.05 | D24: E | E24: Argument Construction | F24: https://gmatclub.com/forum/hunter-many-people-blame-hunters-alone-for-the-decline-in-82737.html
A25: 566 | B25: Easy | C25: 0.15 | D25: E | E25: Evaluation of a Plan | F25: https://gmatclub.com/forum/og-2016-question-many-agriculturally-intensive-areas-of-the-world-204981.html
A26: 567 | B26: Easy | C26: 0.05 | D26: E | E26: Argument Evaluation | F26: https://gmatclub.com/forum/physician-the-hormone-melatonin-has-shown-promise-as-a-136962.html
A27: 568 | B27: Easy | C27: 0.05 | D27: B | E27: Argument Construction | F27: https://gmatclub.com/forum/hollywood-restaurant-is-replacing-some-of-its-standard-136967.html
A28: 569 | B28: Medium | C28: 0.25 | D28: A | E28: Argument Construction | F28: https://gmatclub.com/forum/a-major-network-news-organization-experienced-a-drop-in-136966.html
A29: 570 | B29: Easy | C29: 0.05 | D29: E | E29: Evaluation of a Plan | F29: https://gmatclub.com/forum/only-a-reduction-of-10-percent-in-the-number-of-scheduled-136794.html
A30: 571 | B30: Easy | C30: 0.05 | D30: B | E30: Argument Evaluation | F30: https://gmatclub.com/forum/for-similar-cars-and-comparable-drivers-automobile-136792.html
A31: 572 | B31: Medium | C31: 0.25 | D31: E | E31: Evaluation of a Plan | F31: https://gmatclub.com/forum/the-air-quality-board-recently-informed-coffee-roast-a-small-coffee-r-220388.html
A32: 573 | B32: Easy | C32: 0.15 | D32: D | E32: Evaluation of a Plan | F32: https://gmatclub.com/forum/the-tulu-a-popular-ornamental-plant-does-not-reproduce-136791.html
A33: 574 | B33: Easy | C33: 0.15 | D33: D | E33: Argument Evaluation | F33: https://gmatclub.com/forum/people-who-do-regular-volunteer-work-tend-to-live-longer-on-average-201379.html
A34: 575 | B34: Easy | C34: 0.15 | D34: E | E34: Evaluation of a Plan | F34: https://gmatclub.com/forum/in-merina-commercial-fossil-hunters-often-sell-241365.html | G34: NEW
A35: 576 | B35: Easy | C35: 0.05 | D35: C | E35: Evaluation of a Plan | F35: https://gmatclub.com/forum/from-og12-the-eurasian-ruffe-a-fish-species-inadvertently-90416.html
A36: 577 | B36: Easy | C36: 0.05 | D36: E | E36: Evaluation of a Plan | F36: https://gmatclub.com/forum/although-the-number-of-large-artificial-satellites-orbiting-62723.html
A37: 578 | B37: Easy | C37: 0.05 | D37: D | E37: Argument Construction | F37: https://gmatclub.com/forum/thyrian-lawmaker-thyria-s-cheese-importation-board-inspects-206351.html
A38: 579 | B38: Hard | C38: 0.65 | D38: E | E38: Argument Evaluation | F38: https://gmatclub.com/forum/the-growing-popularity-of-computer-based-activities-was-q2-80846.html
A39: 580 | B39: Hard | C39: 0.65 | D39: A | E39: Argument Construction | F39: http://gmatclub.com/forum/2016-og-although-the-school-would-receive-financial-benefits-if-it-ha-202757.html
A40: 581 | B40: Medium | C40: 0.35 | D40: A | E40: Argument Construction | F40: http://gmatclub.com/forum/many-athletes-inhale-pure-oxygen-after-exercise-in-an-attempt-to-incre-220390.html
...

Sheet SC
A1: GMAT Club Guide to The GMAT Official Guide 2018
A2: Question | B2: Difficulty | C2: Percentile | D2: OA | E2: Primary Category | F2: Link
A3: 668 | B3: Easy | C3: 0.05 | D3: E | E3: Verb form; Diction | F3: https://gmatclub.com/forum/in-a-review-of-2000-studies-of-human-behavior-that-date-back-132413.html
A4: 669 | B4: Easy | C4: 0.05 | D4: D | E4: Parallelism; Idiom | F4: https://gmatclub.com/forum/in-her-presentation-the-head-of-the-better-business-bureau-emphasized-220338.html
A5: 670 | B5: Easy | C5: 0.05 | D5: B | E5: Agreement; Rhetorical construction | F5: https://gmatclub.com/forum/recent-interdisciplinary-studies-advance-the-argument-that-emotions-i-220337.html
A6: 671 | B6: Easy | C6: 0.05 | D6: C | E6: Logical predication; Grammatical construction; Parallelism | F6: https://gmatclub.com/forum/manufacturers-rate-batteries-in-watt-hours-if-they-rate-the-132414.html
A7: 672 | B7: Easy | C7: 0.05 | D7: B | E7: Rhetorical construction; Parallelism | F7: https://gmatclub.com/forum/at-the-end-of-the-1930s-duke-ellington-was-looking-for-a-137022.html
A8: 673 | B8: Easy | C8: 0.05 | D8: C | E8: Grammatical construction; Idiom; Parallelism | F8: https://gmatclub.com/forum/while-noble-sissle-may-be-best-known-for-his-collaboration-with-eubie-199872.html
A9: 674 | B9: Easy | C9: 0.15 | D9: D | E9: Rhetorical construction; Verb form; Logical predication | F9: https://gmatclub.com/forum/air-traffic-routes-over-the-north-pole-are-currently-used-by-only-two-242552.html | G9: NEW
A10: 675 | B10: Easy | C10: 0.05 | D10: D | E10: Idiom; Rhetorical construction | F10: https://gmatclub.com/forum/og-2016-from-an-experiment-using-special-extrasensory-perception-car-204261.html
A11: 676 | B11: Medium | C11: 0.45 | D11: D | E11: Idiom; Rhetorical construction | F11: https://gmatclub.com/forum/2016-og-q10-a-long-term-study-of-some-199873.html
A12: 677 | B12: Easy | C12: 0.05 | D12: E | E12: Agreement; Logical predication | F12: https://gmatclub.com/forum/the-intricate-structure-of-the-compound-insect-eye-having-132417.html
A13: 678 | B13: Easy | C13: 0.15 | D13: B | E13: Logical predication; Diction | F13: https://gmatclub.com/forum/in-1979-lack-of-rain-reduced-india-s-rice-production-to-137020.html
A14: 679 | B14: Easy | C14: 0.05 | D14: B | E14: Rhetorical construction; Grammatical construction | F14: https://gmatclub.com/forum/2016-og-q2-hurricanes-at-first-begin-traveling-199871.html
A15: 680 | B15: Easy | C15: 0.05 | D15: D | E15: Parallelism; Agreement | F15: https://gmatclub.com/forum/unlike-the-virginal-whose-single-set-of-strings-runs-parallel-to-the-242375.html#p1867859 | G15: NEW
A16: 681 | B16: Easy | C16: 0.05 | D16: C | E16: Idiom; Grammatical construction | F16: https://gmatclub.com/forum/2016-og-q13-although-alice-walker-published-a-number-of-essays-199913.html
A17: 682 | B17: Easy | C17: 0.05 | D17: D | E17: Idiom; Logical predication; Parallelism | F17: https://gmatclub.com/forum/many-experts-regarded-the-increase-in-credit-card-borrowing-132418.html
A18: 683 | B18: Easy | C18: 0.05 | D18: B | E18: Logical predication; Modification | F18: https://gmatclub.com/forum/a-pioneer-journalist-nellie-bly-s-exploits-included-132419.html
A19: 684 | B19: Medium | C19: 0.45 | D19: A | E19: Logical predication; Grammatical construction | F19: https://gmatclub.com/forum/in-1913-the-largely-self-taught-indian-mathematician-srinivasa-ramanu-241549.html#p1860830 | G19: NEW
A20: 685 | B20: Easy | C20: 0.15 | D20: D | E20: Agreement; Idiom; Verb form | F20: https://gmatclub.com/forum/cost-cutting-and-restructuring-has-allowed-the-manufacturing-company-t-242549.html#p1869105 | G20: NEW
A21: 686 | B21: Easy | C21: 0.05 | D21: E | E21: Grammatical construction; Logical predication | F21: https://gmatclub.com/forum/the-life-and-casualty-company-hopes-that-by-increasing-its-environment-220340.html
A22: 687 | B22: Easy | C22: 0.05 | D22: C | E22: Diction; Parallelism | F22: https://gmatclub.com/forum/like-ancient-egyptian-architectural-materials-that-were-recycled-in-th-220341.html
A23: 688 | B23: Medium | C23: 0.25 | D23: B | E23: Grammatical construction; Diction | F23: https://gmatclub.com/forum/especially-in-the-early-years-new-entrepreneurs-may-need-to-find-reso-220342.html
A24: 689 | B24: Easy | C24: 0.15 | D24: C | E24: Correct Answer: C Selected Answer: Not Any Logical predication | F24: https://gmatclub.com/forum/og-2016-unlike-the-nests-of-leaf-cutters-and-most-other-ants-204262.html
A25: 690 | B25: Easy | C25: 0.05 | D25: D | E25: Idiom; Diction | F25: https://gmatclub.com/forum/turtles-like-other-reptiles-can-endure-long-fasts-in-their-ability-220343.html
A26: 691 | B26: Easy | C26: 0.15 | D26: E | E26: Logical predication; Diction; Verb form | F26: https://gmatclub.com/forum/thai-village-crafts-as-with-other-cultures-have-developed-thr-205017.html
A27: 692 | B27: Medium | C27: 0.25 | D27: B | E27: Logical predication; Parallelism | F27: https://gmatclub.com/forum/tropical-bats-play-important-roles-in-the-rain-forest-132440.html
A28: 693 | B28: Medium | C28: 0.35 | D28: C | E28: Agreement; Parallelism | F28: https://gmatclub.com/forum/discussion-of-greenhouse-effects-has-usually-focused-on-81888.html
A29: 694 | B29: Easy | C29: 0.05 | D29: A | E29: Rhetorical construction; Verb form; Logical predication | F29: https://gmatclub.com/forum/in-the-seventh-century-b-c-the-roman-alphabet-was-205237.html
A30: 695 | B30: Easy | C30: 0.05 | D30: C | E30: Idiom; Rhetorical construction | F30: https://gmatclub.com/forum/og-2016-with-corn-soybean-and-wheat-reserves-204264.html
A31: 696 | B31: Easy | C31: 0.05 | D31: E | E31: Rhetorical construction; Diction | F31: https://gmatclub.com/forum/by-1940-the-pilot-jacqueline-cochran-held-seventeen-132441.html
A32: 697 | B32: Medium | C32: 0.25 | D32: B | E32: Parallelism; Rhetorical construction | F32: https://gmatclub.com/forum/the-foundation-works-to-strengthen-local-and-regional-agricultural-mar-220344.html
A33: 698 | B33: Hard | C33: 0.65 | D33: E | E33: Diction; Rhetorical construction | F33: https://gmatclub.com/forum/a-professor-at-the-university-has-taken-a-sabbatical-to-research-222418.html
A34: 699 | B34: Easy | C34: 0.05 | D34: C | E34: Parallelism; Rhetorical construction | F34: https://gmatclub.com/forum/researchers-now-regard-interferon-as-not-a-single-substance-but-it-is-242548.html#p1869100 | G34: NEW
A35: 700 | B35: Medium | C35: 0.45 | D35: D | E35: Logical predication; Grammatical construction; Rhetorical construction | F35: https://gmatclub.com/forum/the-remarkable-similarity-of-thule-artifacts-throughout-a-vast-region-203495.html
A36: 701 | B36: Easy | C36: 0.05 | D36: A | E36: Logical predication; Verb form | F36: https://gmatclub.com/forum/the-widely-accepted-big-bang-theory-holds-that-the-universe-79497.html
A37: 702 | B37: Easy | C37: 0.05 | D37: A | E37: Verb form; Logical predication | F37: https://gmatclub.com/forum/between-14-000-and-8-000-b-c-the-ice-cap-that-covered-northern-asia-242405.html#p1868115 | G37: NEW
A38: 703 | B38: Easy | C38: 0.15 | D38: B | E38: Rhetorical construction; Parallelism | F38: https://gmatclub.com/forum/bengal-born-writer-philosopher-and-educator-rabindranath-134342.html
A39: 704 | B39: Hard | C39: 0.55 | D39: E | E39: Idiom; Parallelism | F39: https://gmatclub.com/forum/sc-practice-question-35-from-og16-215768.html
A40: 705 | B40: Easy | C40: 0.15 | D40: C | E40: Logical predication; Idiom | F40: https://gmatclub.com/forum/written-early-in-the-french-revolution-mary-wollstonecraft-s-a-vindic-220345.html
...

Sheet Error Log
A1: GMAT Club Guide to The GMAT Official Guide 2018
A2: Question | B2: Verbal/Quant | C2: Section | D2: Difficult Level | E2: Percentile | F2: Category | G2: Q. No. | H2: Your Answer | I2: Result | J2: Completed Time
A3: 1 | B3: Verbal | C3: CR | D3: =IF($H3="","",CR!B3) | E3: =IF($H3="","",CR!C3) | F3: =IF($H3="","",CR!E3) | G3: 544 | I3: =IF(H3="","NA",IF(H3=CR!D3,"Correct","Incorrect")) -> NA
A4: =A3+1 -> 2 | B4: Verbal | C4: CR | D4: =IF($H4="","",CR!B4) | E4: =IF($H4="","",CR!C4) | F4: =IF($H4="","",CR!E4) | G4: 545 | I4: =IF(H4="","NA",IF(H4=CR!D4,"Correct","Incorrect")) -> NA
A5: =A4+1 -> 3 | B5: Verbal | C5: CR | D5: =IF($H5="","",CR!B5) | E5: =IF($H5="","",CR!C5) | F5: =IF($H5="","",CR!E5) | G5: 546 | I5: =IF(H5="","NA",IF(H5=CR!D5,"Correct","Incorrect")) -> NA
A6: =A5+1 -> 4 | B6: Verbal | C6: CR | D6: =IF($H6="","",CR!B6) | E6: =IF($H6="","",CR!C6) | F6: =IF($H6="","",CR!E6) | G6: 547 | I6: =IF(H6="","NA",IF(H6=CR!D6,"Correct","Incorrect")) -> NA
A7: =A6+1 -> 5 | B7: Verbal | C7: CR | D7: =IF($H7="","",CR!B7) | E7: =IF($H7="","",CR!C7) | F7: =IF($H7="","",CR!E7) | G7: 548 | I7: =IF(H7="","NA",IF(H7=CR!D7,"Correct","Incorrect")) -> NA
A8: =A7+1 -> 6 | B8: Verbal | C8: CR | D8: =IF($H8="","",CR!B8) | E8: =IF($H8="","",CR!C8) | F8: =IF($H8="","",CR!E8) | G8: 549 | I8: =IF(H8="","NA",IF(H8=CR!D8,"Correct","Incorrect")) -> NA
A9: =A8+1 -> 7 | B9: Verbal | C9: CR | D9: =IF($H9="","",CR!B9) | E9: =IF($H9="","",CR!C9) | F9: =IF($H9="","",CR!E9) | G9: 550 | I9: =IF(H9="","NA",IF(H9=CR!D9,"Correct","Incorrect")) -> NA
A10: =A9+1 -> 8 | B10: Verbal | C10: CR | D10: =IF($H10="","",CR!B10) | E10: =IF($H10="","",CR!C10) | F10: =IF($H10="","",CR!E10) | G10: 551 | I10: =IF(H10="","NA",IF(H10=CR!D10,"Correct","Incorrect")) -> NA
A11: =A10+1 -> 9 | B11: Verbal | C11: CR | D11: =IF($H11="","",CR!B11) | E11: =IF($H11="","",CR!C11) | F11: =IF($H11="","",CR!E11) | G11: 552 | I11: =IF(H11="","NA",IF(H11=CR!D11,"Correct","Incorrect")) -> NA
A12: =A11+1 -> 10 | B12: Verbal | C12: CR | D12: =IF($H12="","",CR!B12) | E12: =IF($H12="","",CR!C12) | F12: =IF($H12="","",CR!E12) | G12: 553 | I12: =IF(H12="","NA",IF(H12=CR!D12,"Correct","Incorrect")) -> NA
A13: =A12+1 -> 11 | B13: Verbal | C13: CR | D13: =IF($H13="","",CR!B13) | E13: =IF($H13="","",CR!C13) | F13: =IF($H13="","",CR!E13) | G13: 554 | I13: =IF(H13="","NA",IF(H13=CR!D13,"Correct","Incorrect")) -> NA
A14: =A13+1 -> 12 | B14: Verbal | C14: CR | D14: =IF($H14="","",CR!B14) | E14: =IF($H14="","",CR!C14) | F14: =IF($H14="","",CR!E14) | G14: 555 | I14: =IF(H14="","NA",IF(H14=CR!D14,"Correct","Incorrect")) -> NA
A15: =A14+1 -> 13 | B15: Verbal | C15: CR | D15: =IF($H15="","",CR!B15) | E15: =IF($H15="","",CR!C15) | F15: =IF($H15="","",CR!E15) | G15: 556 | I15: =IF(H15="","NA",IF(H15=CR!D15,"Correct","Incorrect")) -> NA
... A126: =A125+1 -> 124 | B126: Verbal | C126: CR | D126: =IF($H126="","",CR!B126) | E126: =IF($H126="","",CR!C126) | F126: =IF($H126="","",CR!E126) | G126: 667 | I126: =IF(H126="","NA",IF(H126=CR!D126,"Correct","Incorrect")) -> NA
A127: =A126+1 -> 125 | B127: Verbal | C127: SC | D127: =IF($H127="","",SC!B3) | E127: =IF($H127="","",SC!C3) | F127: =IF($H127="","",SC!E3) | G127: 668 | I127: =IF(H127="","NA",IF(H127=SC!D3, "Correct","Incorrect")) -> NA
A128: =A127+1 -> 126 | B128: Verbal | C128: SC | D128: =IF($H128="","",SC!B4) | E128: =IF($H128="","",SC!C4) | F128: =IF($H128="","",SC!E4) | G128: 669 | I128: =IF(H128="","NA",IF(H128=SC!D4, "Correct","Incorrect")) -> NA
A129: =A128+1 -> 127 | B129: Verbal | C129: SC | D129: =IF($H129="","",SC!B5) | E129: =IF($H129="","",SC!C5) | F129: =IF($H129="","",SC!E5) | G129: 670 | I129: =IF(H129="","NA",IF(H129=SC!D5, "Correct","Incorrect")) -> NA
A130: =A129+1 -> 128 | B130: Verbal | C130: SC | D130: =IF($H130="","",SC!B6) | E130: =IF($H130="","",SC!C6) | F130: =IF($H130="","",SC!E6) | G130: 671 | I130: =IF(H130="","NA",IF(H130=SC!D6, "Correct","Incorrect")) -> NA
A131: =A130+1 -> 129 | B131: Verbal | C131: SC | D131: =IF($H131="","",SC!B7) | E131: =IF($H131="","",SC!C7) | F131: =IF($H131="","",SC!E7) | G131: 672 | I131: =IF(H131="","NA",IF(H131=SC!D7, "Correct","Incorrect")) -> NA
A132: =A131+1 -> 130 | B132: Verbal | C132: SC | D132: =IF($H132="","",SC!B8) | E132: =IF($H132="","",SC!C8) | F132: =IF($H132="","",SC!E8) | G132: 673 | I132: =IF(H132="","NA",IF(H132=SC!D8, "Correct","Incorrect")) -> NA
A133: =A132+1 -> 131 | B133: Verbal | C133: SC | D133: =IF($H133="","",SC!B9) | E133: =IF($H133="","",SC!C9) | F133: =IF($H133="","",SC!E9) | G133: 674 | I133: =IF(H133="","NA",IF(H133=SC!D9, "Correct","Incorrect")) -> NA
A134: =A133+1 -> 132 | B134: Verbal | C134: SC | D134: =IF($H134="","",SC!B10) | E134: =IF($H134="","",SC!C10) | F134: =IF($H134="","",SC!E10) | G134: 675 | I134: =IF(H134="","NA",IF(H134=SC!D10, "Correct","Incorrect")) -> NA
A135: =A134+1 -> 133 | B135: Verbal | C135: SC | D135: =IF($H135="","",SC!B11) | E135: =IF($H135="","",SC!C11) | F135: =IF($H135="","",SC!E11) | G135: 676 | I135: =IF(H135="","NA",IF(H135=SC!D11, "Correct","Incorrect")) -> NA
A136: =A135+1 -> 134 | B136: Verbal | C136: SC | D136: =IF($H136="","",SC!B12) | E136: =IF($H136="","",SC!C12) | F136: =IF($H136="","",SC!E12) | G136: 677 | I136: =IF(H136="","NA",IF(H136=SC!D12, "Correct","Incorrect")) -> NA
A137: =A136+1 -> 135 | B137: Verbal | C137: SC | D137: =IF($H137="","",SC!B13) | E137: =IF($H137="","",SC!C13) | F137: =IF($H137="","",SC!E13) | G137: 678 | I137: =IF(H137="","NA",IF(H137=SC!D13, "Correct","Incorrect")) -> NA
A138: =A137+1 -> 136 | B138: Verbal | C138: SC | D138: =IF($H138="","",SC!B14) | E138: =IF($H138="","",SC!C14) | F138: =IF($H138="","",SC!E14) | G138: 679 | I138: =IF(H138="","NA",IF(H138=SC!D14, "Correct","Incorrect")) -> NA
... A266: =A265+1 -> 264 | B266: Verbal | C266: SC | D266: =IF($H266="","",SC!B142) | E266: =IF($H266="","",SC!C142) | F266: =IF($H266="","",SC!E142) | G266: 807 | I266: =IF(H266="","NA",IF(H266=SC!D142, "Correct","Incorrect")) -> NA
A267: =A266+1 -> 265 | B267: Verbal | C267: RC | D267: =IF($H267="","",'RC'!C3) | E267: =IF($H267="","",'RC'!D3) | F267: =IF($H267="","",'RC'!F3) | G267: 405 | I267: =IF(H267="","NA",IF(H267='RC'!E3, "Correct","Incorrect")) -> NA
A268: =A267+1 -> 266 | B268: Verbal | C268: RC | D268: =IF($H268="","",'RC'!C4) | E268: =IF($H268="","",'RC'!D4) | F268: =IF($H268="","",'RC'!F4) | G268: 406 | I268: =IF(H268="","NA",IF(H268='RC'!E4, "Correct","Incorrect")) -> NA
A269: =A268+1 -> 267 | B269: Verbal | C269: RC | D269: =IF($H269="","",'RC'!C5) | E269: =IF($H269="","",'RC'!D5) | F269: =IF($H269="","",'RC'!F5) | G269: 407 | I269: =IF(H269="","NA",IF(H269='RC'!E5, "Correct","Incorrect")) -> NA
A270: =A269+1 -> 268 | B270: Verbal | C270: RC | D270: =IF($H270="","",'RC'!C6) | E270: =IF($H270="","",'RC'!D6) | F270: =IF($H270="","",'RC'!F6) | G270: 408 | I270: =IF(H270="","NA",IF(H270='RC'!E6, "Correct","Incorrect")) -> NA
A271: =A270+1 -> 269 | B271: Verbal | C271: RC | D271: =IF($H271="","",'RC'!C7) | E271: =IF($H271="","",'RC'!D7) | F271: =IF($H271="","",'RC'!F7) | G271: 409 | I271: =IF(H271="","NA",IF(H271='RC'!E7, "Correct","Incorrect")) -> NA
A272: =A271+1 -> 270 | B272: Verbal | C272: RC | D272: =IF($H272="","",'RC'!C8) | E272: =IF($H272="","",'RC'!D8) | F272: =IF($H272="","",'RC'!F8) | G272: 410 | I272: =IF(H272="","NA",IF(H272='RC'!E8, "Correct","Incorrect")) -> NA
A273: =A272+1 -> 271 | B273: Verbal | C273: RC | D273: =IF($H273="","",'RC'!C9) | E273: =IF($H273="","",'RC'!D9) | F273: =IF($H273="","",'RC'!F9) | G273: 411 | I273: =IF(H273="","NA",IF(H273='RC'!E9, "Correct","Incorrect")) -> NA
A274: =A273+1 -> 272 | B274: Verbal | C274: RC | D274: =IF($H274="","",'RC'!C10) | E274: =IF($H274="","",'RC'!D10) | F274: =IF($H274="","",'RC'!F10) | G274: 412 | I274: =IF(H274="","NA",IF(H274='RC'!E10, "Correct","Incorrect")) -> NA
A275: =A274+1 -> 273 | B275: Verbal | C275: RC | D275: =IF($H275="","",'RC'!C11) | E275: =IF($H275="","",'RC'!D11) | F275: =IF($H275="","",'RC'!F11) | G275: 413 | I275: =IF(H275="","NA",IF(H275='RC'!E11, "Correct","Incorrect")) -> NA
A276: =A275+1 -> 274 | B276: Verbal | C276: RC | D276: =IF($H276="","",'RC'!C12) | E276: =IF($H276="","",'RC'!D12) | F276: =IF($H276="","",'RC'!F12) | G276: 414 | I276: =IF(H276="","NA",IF(H276='RC'!E12, "Correct","Incorrect")) -> NA
A277: =A276+1 -> 275 | B277: Verbal | C277: RC | D277: =IF($H277="","",'RC'!C13) | E277: =IF($H277="","",'RC'!D13) | F277: =IF($H277="","",'RC'!F13) | G277: 415 | I277: =IF(H277="","NA",IF(H277='RC'!E13, "Correct","Incorrect")) -> NA
...

Sheet Analysis
A1: Table 1. Analysis Table with General Information | AF1: Difficult level | AG1: Answer Choice | AH1: Section | AI1: Timer precise
AF2: Easy | AG2: A | AH2: PS | AI2: 0
A3: Section | B3: Sub-Section | C3: Result | G3: Your avg. Time | AF3: Medium | AG3: B | AH3: DS | AI3: 1
C4: Correct | D4: Incorrect | E4: NA | F4: Grand Total | AF4: Hard | AG4: C | AH4: RC
A5: Quant | B5: DS | C5: =COUNTIFS('Error Log'!$I$3:$I$809,C$4,'Error Log'!$C$3:$C$809,$B5) -> 0 | D5: =COUNTIFS('Error Log'!$I$3:$I$809,D$4,'Error Log'!$C$3:$C$809,$B5) -> 0 | E5: =COUNTIFS('Error Log'!$I$3:$I$809,E$4,'Error Log'!$C$3:$C$809,$B5) -> 174 | F5: =SUM(C5:E5) -> 174 | G5: =IFERROR(AVERAGEIFS('Error Log'!$J$3:$J$809,'Error Log'!$C$3:$C$809,Analysis!B5,'Error Log'!$H$3:$H$809,"<>"),0) -> 0 | AF5: Very Hard | AG5: D | AH5: CR
B6: PS | C6: =COUNTIFS('Error Log'!$I$3:$I$809,C$4,'Error Log'!$C$3:$C$809,$B6) -> 0 | D6: =COUNTIFS('Error Log'!$I$3:$I$809,D$4,'Error Log'!$C$3:$C$809,$B6) -> 0 | E6: =COUNTIFS('Error Log'!$I$3:$I$809,E$4,'Error Log'!$C$3:$C$809,$B6) -> 230 | F6: =SUM(C6:E6) -> 230 | G6: =IFERROR(AVERAGEIFS('Error Log'!$J$3:$J$809,'Error Log'!$C$3:$C$809,Analysis!B6,'Error Log'!$H$3:$H$809,"<>"),0) -> 0 | AF6: N/A | AG6: E | AH6: SC
A7: Quant Total | C7: =SUM(C5:C6) -> 0 | D7: =SUM(D5:D6) -> 0 | E7: =SUM(E5:E6) -> 404 | F7: =SUM(C7:E7) -> 404 | G7: =IFERROR(AVERAGEIFS('Error Log'!$J$3:$J$809,'Error Log'!$B$3:$B$809,"Quant",'Error Log'!$H$3:$H$809,"<>"),0) -> 0 | AH7: Practice
A8: Verbal | B8: CR | C8: =COUNTIFS('Error Log'!$I$3:$I$809,C$4,'Error Log'!$C$3:$C$809,$B8) -> 0 | D8: =COUNTIFS('Error Log'!$I$3:$I$809,D$4,'Error Log'!$C$3:$C$809,$B8) -> 0 | E8: =COUNTIFS('Error Log'!$I$3:$I$809,E$4,'Error Log'!$C$3:$C$809,$B8) -> 124 | F8: =SUM(C8:E8) -> 124 | G8: =IFERROR(AVERAGEIFS('Error Log'!$J$3:$J$809,'Error Log'!$C$3:$C$809,Analysis!B8,'Error Log'!$H$3:$H$809,"<>"),0) -> 0
B9: RC | C9: =COUNTIFS('Error Log'!$I$3:$I$809,C$4,'Error Log'!$C$3:$C$809,$B9) -> 0 | D9: =COUNTIFS('Error Log'!$I$3:$I$809,D$4,'Error Log'!$C$3:$C$809,$B9) -> 0 | E9: =COUNTIFS('Error Log'!$I$3:$I$809,E$4,'Error Log'!$C$3:$C$809,$B9) -> 139 | F9: =SUM(C9:E9) -> 139 | G9: =IFERROR(AVERAGEIFS('Error Log'!$J$3:$J$809,'Error Log'!$C$3:$C$809,Analysis!B9,'Error Log'!$H$3:$H$809,"<>"),0) -> 0
B10: SC | C10: =COUNTIFS('Error Log'!$I$3:$I$809,C$4,'Error Log'!$C$3:$C$809,$B10) -> 0 | D10: =COUNTIFS('Error Log'!$I$3:$I$809,D$4,'Error Log'!$C$3:$C$809,$B10) -> 0 | E10: =COUNTIFS('Error Log'!$I$3:$I$809,E$4,'Error Log'!$C$3:$C$809,$B10) -> 140 | F10: =SUM(C10:E10) -> 140 | G10: =IFERROR(AVERAGEIFS('Error Log'!$J$3:$J$809,'Error Log'!$C$3:$C$809,Analysis!B10,'Error Log'!$H$3:$H$809,"<>"),0) -> 0
A11: Verbal Total | C11: =SUM(C8:C10) -> 0 | D11: =SUM(D8:D10) -> 0 | E11: =SUM(E8:E10) -> 403 | F11: =SUM(C11:E11) -> 403 | G11: =IFERROR(AVERAGEIFS('Error Log'!$J$3:$J$809,'Error Log'!$B$3:$B$809,"Verbal",'Error Log'!$H$3:$H$809,"<>"),0) -> 0
A12: Grand Total | C12: =C7+C11 -> 0 | D12: =D7+D11 -> 0 | E12: =E7+E11 -> 807 | F12: =SUM(C12:E12) -> 807 | G12: =IFERROR(AVERAGEIFS('Error Log'!$J$3:$J$809,'Error Log'!$H$3:$H$809,"<>"),0) -> 0
A15: Figure 2.
A36: Table 3. Analysis table with difficult level
A38: Section | B38: Sub-Section | C38: Difficult Level | D38: Result | G38: Grand Total | H38: Your avg. Time
D39: Correct | E39: Incorrect | F39: NA
A40: Quant | B40: DS | C40: Easy | D40: =COUNTIFS('Error Log'!$I$3:$I$809,D$39,'Error Log'!$C$3:$C$809,$B40,'Error Log'!$D$3:$D$809,$C40) -> 0 | E40: =COUNTIFS('Error Log'!$I$3:$I$809,E$39,'Error Log'!$C$3:$C$809,$B40,'Error Log'!$D$3:$D$809,$C40) -> 0 | F40: =COUNTIFS('Error Log'!$I$3:$I$809,F$39,'Error Log'!$C$3:$C$809,$B40,'Error Log'!$D$3:$D$809,$C40) -> 0 | G40: =SUM(D40:F40) -> 0 | H40: =IFERROR(AVERAGEIFS('Error Log'!$J$3:$J$809,'Error Log'!$C$3:$C$809,Analysis!B40,'Error Log'!$H$3:$H$809,"<>",'Error Log'!$D$3:$D$809,C40),0) -> 0
C41: Medium | D41: =COUNTIFS('Error Log'!$I$3:$I$809,D$39,'Error Log'!$C$3:$C$809,$B40,'Error Log'!$D$3:$D$809,$C41) -> 0 | E41: =COUNTIFS('Error Log'!$I$3:$I$809,E$39,'Error Log'!$C$3:$C$809,$B40,'Error Log'!$D$3:$D$809,$C41) -> 0 | F41: =COUNTIFS('Error Log'!$I$3:$I$809,F$39,'Error Log'!$C$3:$C$809,$B40,'Error Log'!$D$3:$D$809,$C41) -> 0 | G41: =SUM(D41:F41) -> 0 | H41: =IFERROR(AVERAGEIFS('Error Log'!$J$3:$J$809,'Error Log'!$C$3:$C$809,Analysis!B40,'Error Log'!$H$3:$H$809,"<>",'Error Log'!$D$3:$D$809,C41),0) -> 0
C42: Hard | D42: =COUNTIFS('Error Log'!$I$3:$I$809,D$39,'Error Log'!$C$3:$C$809,$B40,'Error Log'!$D$3:$D$809,$C42) -> 0 | E42: =COUNTIFS('Error Log'!$I$3:$I$809,E$39,'Error Log'!$C$3:$C$809,$B40,'Error Log'!$D$3:$D$809,$C42) -> 0 | F42: =COUNTIFS('Error Log'!$I$3:$I$809,F$39,'Error Log'!$C$3:$C$809,$B40,'Error Log'!$D$3:$D$809,$C42) -> 0 | G42: =SUM(D42:F42) -> 0 | H42: =IFERROR(AVERAGEIFS('Error Log'!$J$3:$J$809,'Error Log'!$C$3:$C$809,Analysis!B40,'Error Log'!$H$3:$H$809,"<>",'Error Log'!$D$3:$D$809,C42),0) -> 0
C43: Very Hard | D43: =COUNTIFS('Error Log'!$I$3:$I$809,D$39,'Error Log'!$C$3:$C$809,$B40,'Error Log'!$D$3:$D$809,$C43) -> 0 | E43: =COUNTIFS('Error Log'!$I$3:$I$809,E$39,'Error Log'!$C$3:$C$809,$B40,'Error Log'!$D$3:$D$809,$C43) -> 0 | F43: =COUNTIFS('Error Log'!$I$3:$I$809,F$39,'Error Log'!$C$3:$C$809,$B40,'Error Log'!$D$3:$D$809,$C43) -> 0 | G43: =SUM(D43:F43) -> 0 | H43: =IFERROR(AVERAGEIFS('Error Log'!$J$3:$J$809,'Error Log'!$C$3:$C$809,Analysis!B40,'Error Log'!$H$3:$H$809,"<>",'Error Log'!$D$3:$D$809,C43),0) -> 0
C44: N/A | D44: =COUNTIFS('Error Log'!$I$3:$I$809,D$39,'Error Log'!$C$3:$C$809,$B40,'Error Log'!$D$3:$D$809,$C44) -> 0 | E44: =COUNTIFS('Error Log'!$I$3:$I$809,E$39,'Error Log'!$C$3:$C$809,$B40,'Error Log'!$D$3:$D$809,$C44) -> 0 | F44: =COUNTIFS('Error Log'!$I$3:$I$809,F$39,'Error Log'!$C$3:$C$809,$B40,'Error Log'!$D$3:$D$809,$C44) -> 0 | G44: =SUM(D44:F44) -> 0 | H44: =IFERROR(AVERAGEIFS('Error Log'!$J$3:$J$809,'Error Log'!$C$3:$C$809,Analysis!B40,'Error Log'!$H$3:$H$809,"<>",'Error Log'!$D$3:$D$809,C44),0) -> 0
B45: PS | C45: Easy | D45: =COUNTIFS('Error Log'!$I$3:$I$809,D$39,'Error Log'!$C$3:$C$809,$B45,'Error Log'!$D$3:$D$809,$C45) -> 0 | E45: =COUNTIFS('Error Log'!$I$3:$I$809,E$39,'Error Log'!$C$3:$C$809,$B45,'Error Log'!$D$3:$D$809,$C45) -> 0 | F45: =COUNTIFS('Error Log'!$I$3:$I$809,F$39,'Error Log'!$C$3:$C$809,$B45,'Error Log'!$D$3:$D$809,$C45) -> 0 | G45: =SUM(D45:F45) -> 0 | H45: =IFERROR(AVERAGEIFS('Error Log'!$J$3:$J$809,'Error Log'!$C$3:$C$809,Analysis!B45,'Error Log'!$H$3:$H$809,"<>",'Error Log'!$D$3:$D$809,C45),0) -> 0
