Workbook

Sheet Overall
E1: Total
D2: PS | G2: DS | J2: Accurracy
B3: Column1 | C3: Sum | D3: Total | E3: Correct | F3: Incorrect | G3: Total2 | H3: Correct3 | I3: Incorrect4 | J3: Overall | K3: PS | L3: DS
B4: ABSOLUTE VALUES | C4: =GMAT_Tests!J7 -> 23 | D4: =GMAT_Tests!K7 -> 10 | E4: =Correct!K6 -> 6 | F4: =Incorrect!K6 -> 4 | G4: =GMAT_Tests!L7 -> 13 | H4: =Correct!L6 -> 8 | I4: =Incorrect!L6 -> 5 | J4: =(Correct!J6/Overall!C4)*100 -> 60.869565 | K4: =(Correct!K6/D4)*100 -> 60 | L4: =(H4/G4)*100 -> 61.538462
B5: ALGEBRA | C5: =GMAT_Tests!J8 -> 58 | D5: =GMAT_Tests!K8 -> 26 | E5: =Correct!K7 -> 20 | F5: =Incorrect!K7 -> 6 | G5: =GMAT_Tests!L8 -> 32 | H5: =Correct!L7 -> 23 | I5: =Incorrect!L7 -> 9 | J5: =(Correct!J7/Overall!C5)*100 -> 74.137931 | K5: =(Correct!K7/D5)*100 -> 76.923077 | L5: =(H5/G5)*100 -> 71.875
B6: ARITHMETIC | C6: =GMAT_Tests!J9 -> 26 | D6: =GMAT_Tests!K9 -> 25 | E6: =Correct!K8 -> 20 | F6: =Incorrect!K8 -> 5 | G6: =GMAT_Tests!L9 -> 1 | H6: =Correct!L8 -> 1 | I6: =Incorrect!L8 -> 0 | J6: =(Correct!J8/Overall!C6)*100 -> 80.769231 | K6: =(Correct!K8/D6)*100 -> 80 | L6: =(H6/G6)*100 -> 100
B7: COMBINATORICS AND PROBABILITY | C7: =GMAT_Tests!J10 -> 49 | D7: =GMAT_Tests!K10 -> 40 | E7: =Correct!K9 -> 31 | F7: =Incorrect!K9 -> 9 | G7: =GMAT_Tests!L10 -> 9 | H7: =Correct!L9 -> 4 | I7: =Incorrect!L9 -> 5 | J7: =(Correct!J9/Overall!C7)*100 -> 71.428571 | K7: =(Correct!K9/D7)*100 -> 77.5 | L7: =(H7/G7)*100 -> 44.444444
B8: DISTANCE / PROBLEMS | C8: =GMAT_Tests!J11 -> 10 | D8: =GMAT_Tests!K11 -> 4 | E8: =Correct!K10 -> 4 | F8: =Incorrect!K10 -> 0 | G8: =GMAT_Tests!L11 -> 6 | H8: =Correct!L10 -> 5 | I8: =Incorrect!L10 -> 1 | J8: =(Correct!J10/Overall!C8)*100 -> 90 | K8: =(Correct!K10/D8)*100 -> 100 | L8: =(H8/G8)*100 -> 83.333333
B9: DIVISIBILITY / MULTIPLES / FACTORS | C9: =GMAT_Tests!J12 -> 47 | D9: =GMAT_Tests!K12 -> 23 | E9: =Correct!K11 -> 14 | F9: =Incorrect!K11 -> 9 | G9: =GMAT_Tests!L12 -> 24 | H9: =Correct!L11 -> 17 | I9: =Incorrect!L11 -> 7 | J9: =(Correct!J11/Overall!C9)*100 -> 65.957447 | K9: =(Correct!K11/D9)*100 -> 60.869565 | L9: =(H9/G9)*100 -> 70.833333
B10: EXPONENTS / ROOTS | C10: =GMAT_Tests!J13 -> 32 | D10: =GMAT_Tests!K13 -> 18 | E10: =Correct!K12 -> 8 | F10: =Incorrect!K12 -> 10 | G10: =GMAT_Tests!L13 -> 14 | H10: =Correct!L12 -> 7 | I10: =Incorrect!L12 -> 7 | J10: =(Correct!J12/Overall!C10)*100 -> 46.875 | K10: =(Correct!K12/D10)*100 -> 44.444444 | L10: =(H10/G10)*100 -> 50
B11: FRACTIONS / RATIOS / DECIMALS | C11: =GMAT_Tests!J14 -> 23 | D11: =GMAT_Tests!K14 -> 12 | E11: =Correct!K13 -> 5 | F11: =Incorrect!K13 -> 7 | G11: =GMAT_Tests!L14 -> 11 | H11: =Correct!L13 -> 10 | I11: =Incorrect!L13 -> 1 | J11: =(Correct!J13/Overall!C11)*100 -> 65.217391 | K11: =(Correct!K13/D11)*100 -> 41.666667 | L11: =(H11/G11)*100 -> 90.909091
B12: GEOMETRY / COORDINATE GEOMETRY | C12: =GMAT_Tests!J15 -> 84 | D12: =GMAT_Tests!K15 -> 57 | E12: =Correct!K14 -> 41 | F12: =Incorrect!K14 -> 16 | G12: =GMAT_Tests!L15 -> 27 | H12: =Correct!L14 -> 15 | I12: =Incorrect!L14 -> 12 | J12: =(Correct!J14/Overall!C12)*100 -> 66.666667 | K12: =(Correct!K14/D12)*100 -> 71.929825 | L12: =(H12/G12)*100 -> 55.555556
B13: INEQUALITIES | C13: =GMAT_Tests!J16 -> 45 | D13: =GMAT_Tests!K16 -> 10 | E13: =Correct!K15 -> 5 | F13: =Incorrect!K15 -> 5 | G13: =GMAT_Tests!L16 -> 35 | H13: =Correct!L15 -> 20 | I13: =Incorrect!L15 -> 14 | J13: =(Correct!J15/Overall!C13)*100 -> 55.555556 | K13: =(Correct!K15/D13)*100 -> 50 | L13: =(H13/G13)*100 -> 57.142857
B14: MIN/MAX PROBLEMS | C14: =GMAT_Tests!J17 -> 8 | D14: =GMAT_Tests!K17 -> 8 | E14: =Correct!K16 -> 6 | F14: =Incorrect!K16 -> 2 | G14: =GMAT_Tests!L17 -> 0 | H14: =Correct!L16 -> 0 | I14: =Incorrect!L16 -> 0 | J14: =(Correct!J16/Overall!C14)*100 -> 75 | K14: =(Correct!K16/D14)*100 -> 75
B15: MIXTURE PROBLEMS | C15: =GMAT_Tests!J18 -> 7 | D15: =GMAT_Tests!K18 -> 4 | E15: =Correct!K17 -> 2 | F15: =Incorrect!K17 -> 2 | G15: =GMAT_Tests!L18 -> 3 | H15: =Correct!L17 -> 2 | I15: =Incorrect!L17 -> 1 | J15: =(Correct!J17/Overall!C15)*100 -> 57.142857 | K15: =(Correct!K17/D15)*100 -> 50 | L15: =(H15/G15)*100 -> 66.666667
B16: MUST OR COULD BE TRUE QUESTIONS | C16: =GMAT_Tests!J19 -> 22 | D16: =GMAT_Tests!K19 -> 22 | E16: =Correct!K18 -> 15 | F16: =Incorrect!K18 -> 7 | G16: =GMAT_Tests!L19 -> 0 | H16: =Correct!L18 -> 0 | I16: =Incorrect!L18 -> 0 | J16: =(Correct!J18/Overall!C16)*100 -> 68.181818 | K16: =(Correct!K18/D16)*100 -> 68.181818
B17: NUMBER PROPERTIES | C17: =GMAT_Tests!J20 -> 74 | D17: =GMAT_Tests!K20 -> 26 | E17: =Correct!K19 -> 19 | F17: =Incorrect!K19 -> 7 | G17: =GMAT_Tests!L20 -> 48 | H17: =Correct!L19 -> 20 | I17: =Incorrect!L19 -> 28 | J17: =(Correct!J19/Overall!C17)*100 -> 52.702703 | K17: =(Correct!K19/D17)*100 -> 73.076923 | L17: =(H17/G17)*100 -> 41.666667
B18: OVERLAPPING SETS | C18: =GMAT_Tests!J21 -> 24 | D18: =GMAT_Tests!K21 -> 17 | E18: =Correct!K20 -> 14 | F18: =Incorrect!K20 -> 3 | G18: =GMAT_Tests!L21 -> 7 | H18: =Correct!L20 -> 5 | I18: =Incorrect!L20 -> 2 | J18: =(Correct!J20/Overall!C18)*100 -> 79.166667 | K18: =(Correct!K20/D18)*100 -> 82.352941 | L18: =(H18/G18)*100 -> 71.428571
B19: PERCENTS AND INTEREST PROBLEMS | C19: =GMAT_Tests!J22 -> 47 | D19: =GMAT_Tests!K22 -> 36 | E19: =Correct!K21 -> 32 | F19: =Incorrect!K21 -> 3 | G19: =GMAT_Tests!L22 -> 11 | H19: =Correct!L21 -> 6 | I19: =Incorrect!L21 -> 5 | J19: =(Correct!J21/Overall!C19)*100 -> 80.851064 | K19: =(Correct!K21/D19)*100 -> 88.888889 | L19: =(H19/G19)*100 -> 54.545455
B20: PROPERTIES OF SETS | C20: =GMAT_Tests!J23 -> 45 | D20: =GMAT_Tests!K23 -> 19 | E20: =Correct!K22 -> 17 | F20: =Incorrect!K22 -> 2 | G20: =GMAT_Tests!L23 -> 26 | H20: =Correct!L22 -> 15 | I20: =Incorrect!L22 -> 11 | J20: =(Correct!J22/Overall!C20)*100 -> 71.111111 | K20: =(Correct!K22/D20)*100 -> 89.473684 | L20: =(H20/G20)*100 -> 57.692308
B21: REMAINDERS | C21: =GMAT_Tests!J24 -> 24 | D21: =GMAT_Tests!K24 -> 10 | E21: =Correct!K23 -> 5 | F21: =Incorrect!K23 -> 5 | G21: =GMAT_Tests!L24 -> 14 | H21: =Correct!L23 -> 8 | I21: =Incorrect!L23 -> 6 | J21: =(Correct!J23/Overall!C21)*100 -> 54.166667 | K21: =(Correct!K23/D21)*100 -> 50 | L21: =(H21/G21)*100 -> 57.142857
B22: WORD PROBLEMS | C22: =GMAT_Tests!J25 -> 60 | D22: =GMAT_Tests!K25 -> 35 | E22: =Correct!K24 -> 27 | F22: =Incorrect!K24 -> 7 | G22: =GMAT_Tests!L25 -> 25 | H22: =Correct!L24 -> 20 | I22: =Incorrect!L24 -> 5 | J22: =(Correct!J24/Overall!C22)*100 -> 78.333333 | K22: =(Correct!K24/D22)*100 -> 77.142857 | L22: =(H22/G22)*100 -> 80
B23: WORK / RATE PROBLEMS | C23: =GMAT_Tests!J26 -> 28 | D23: =GMAT_Tests!K26 -> 22 | E23: =Correct!K25 -> 17 | F23: =Incorrect!K25 -> 5 | G23: =GMAT_Tests!L26 -> 6 | H23: =Correct!L25 -> 5 | I23: =Incorrect!L25 -> 1 | J23: =(Correct!J25/Overall!C23)*100 -> 78.571429 | K23: =(Correct!K25/D23)*100 -> 77.272727 | L23: =(H23/G23)*100 -> 83.333333
B25: Column1 | C25: Sum | D25: Total | E25: Correct | F25: Incorrect | G25: Total2 | H25: Correct3 | I25: Incorrect4 | J25: Overall | K25: PS | L25: DS
B26: EXPONENTS / ROOTS | C26: 32 | D26: 18 | E26: 8 | F26: 10 | G26: 14 | H26: 7 | I26: 7 | J26: 46.875 | K26: 44.444444 | L26: 50
B27: NUMBER PROPERTIES | C27: 74 | D27: 26 | E27: 19 | F27: 7 | G27: 48 | H27: 20 | I27: 28 | J27: 52.702703 | K27: 73.076923 | L27: 41.666667
B28: REMAINDERS | C28: 24 | D28: 10 | E28: 5 | F28: 5 | G28: 14 | H28: 8 | I28: 6 | J28: 54.166667 | K28: 50 | L28: 57.142857
B29: INEQUALITIES | C29: 45 | D29: 10 | E29: 5 | F29: 5 | G29: 35 | H29: 20 | I29: 15 | J29: 55.555556 | K29: 50 | L29: 57.142857
B30: MIXTURE PROBLEMS | C30: 7 | D30: 4 | E30: 2 | F30: 2 | G30: 3 | H30: 2 | I30: 1 | J30: 57.142857 | K30: 50 | L30: 66.666667
B31: ABSOLUTE VALUES | C31: 23 | D31: 10 | E31: 6 | F31: 4 | G31: 13 | H31: 8 | I31: 2 | J31: 60.869565 | K31: 60 | L31: 61.538462
B32: FRACTIONS / RATIOS / DECIMALS | C32: 23 | D32: 12 | E32: 5 | F32: 7 | G32: 11 | H32: 10 | I32: 1 | J32: 65.217391 | K32: 41.666667 | L32: 90.909091
B33: DIVISIBILITY / MULTIPLES / FACTORS | C33: 47 | D33: 23 | E33: 14 | F33: 9 | G33: 24 | H33: 17 | I33: 7 | J33: 65.957447 | K33: 60.869565 | L33: 70.833333
B34: GEOMETRY / COORDINATE GEOMETRY | C34: 84 | D34: 57 | E34: 41 | F34: 16 | G34: 27 | H34: 15 | I34: 12 | J34: 66.666667 | K34: 71.929825 | L34: 55.555556
B35: MUST OR COULD BE TRUE QUESTIONS | C35: 22 | D35: 22 | E35: 15 | F35: 7 | G35: 0 | H35: 0 | I35: 0 | J35: 68.181818 | K35: 68.181818
B36: PROPERTIES OF SETS | C36: 45 | D36: 19 | E36: 17 | F36: 2 | G36: 26 | H36: 15 | I36: 11 | J36: 71.111111 | K36: 89.473684 | L36: 57.692308
B37: COMBINATORICS AND PROBABILITY | C37: 49 | D37: 40 | E37: 31 | F37: 9 | G37: 9 | H37: 4 | I37: 5 | J37: 71.428571 | K37: 77.5 | L37: 44.444444
B38: ALGEBRA | C38: 58 | D38: 26 | E38: 20 | F38: 6 | G38: 32 | H38: 23 | I38: 9 | J38: 74.137931 | K38: 76.923077 | L38: 71.875
B39: MIN/MAX PROBLEMS | C39: 8 | D39: 8 | E39: 6 | F39: 2 | G39: 0 | H39: 0 | I39: 0 | J39: 75 | K39: 75
B40: WORD PROBLEMS | C40: 60 | D40: 35 | E40: 27 | F40: 8 | G40: 25 | H40: 20 | I40: 5 | J40: 78.333333 | K40: 77.142857 | L40: 80
B41: WORK / RATE PROBLEMS | C41: 28 | D41: 22 | E41: 17 | F41: 5 | G41: 6 | H41: 5 | I41: 1 | J41: 78.571429 | K41: 77.272727 | L41: 83.333333
B42: OVERLAPPING SETS | C42: 24 | D42: 17 | E42: 14 | F42: 3 | G42: 7 | H42: 5 | I42: 2 | J42: 79.166667 | K42: 82.352941 | L42: 71.428571
B43: ARITHMETIC | C43: 26 | D43: 25 | E43: 20 | F43: 5 | G43: 1 | H43: 1 | I43: 0 | J43: 80.769231 | K43: 80 | L43: 100
B44: PERCENTS AND INTEREST PROBLEMS | C44: 47 | D44: 36 | E44: 32 | F44: 4 | G44: 11 | H44: 6 | I44: 5 | J44: 80.851064 | K44: 88.888889 | L44: 54.545455
B45: DISTANCE / PROBLEMS | C45: 10 | D45: 4 | E45: 4 | F45: 0 | G45: 6 | H45: 5 | I45: 1 | J45: 90 | K45: 100 | L45: 83.333333

Sheet GMAT_Tests
B5: ID | C5: Type | D5: Type2 | E5: Difficulty | F5: Time | G5: Date
B6: S96-01 | C6: ALGEBRA | D6: PS | E6: 500 | F6: 2:10 | G6: November 01, 2017 08:19 AM | J6: Total | K6: PS | L6: DS
B7: S96-02 | C7: ALGEBRA | D7: DS | E7: 700 | F7: 1:45 | G7: November 01, 2017 08:22 AM | I7: ABSOLUTE VALUES | J7: =COUNTIF($C$6:$C$741,"ABSOLUTE VALUES") -> 23 | K7: =COUNTIFS($C$6:$C$741, "ABSOLUTE VALUES", $D$6:$D$741, "PS") -> 10 | L7: =J7-K7 -> 13
B8: S96-03 | C8: REMAINDERS | D8: PS | E8: 700 | F8: 3:13 | G8: November 01, 2017 08:23 AM | I8: ALGEBRA | J8: =COUNTIF($C$6:$C$741,"ALGEBRA") -> 58 | K8: =COUNTIFS($C$6:$C$741, "ALGEBRA", $D$6:$D$741, "PS") -> 26 | L8: =J8-K8 -> 32
B9: S96-04 | C9: GEOMETRY / COORDINATE GEOMETRY | D9: PS | E9: 700 | F9: 2:00 | G9: November 01, 2017 08:27 AM | I9: ARITHMETIC | J9: =COUNTIF($C$6:$C$741,"ARITHMETIC") -> 26 | K9: =COUNTIFS($C$6:$C$741, "ARITHMETIC", $D$6:$D$741, "PS") -> 25 | L9: =J9-K9 -> 1
B10: S96-05 | C10: DIVISIBILITY / MULTIPLES / FACTORS | D10: PS | E10: 700 | F10: 2:40 | G10: November 01, 2017 08:29 AM | I10: COMBINATORICS AND PROBABILITY | J10: =COUNTIF($C$6:$C$741,"COMBINATORICS AND PROBABILITY") -> 49 | K10: =COUNTIFS($C$6:$C$741, "COMBINATORICS AND PROBABILITY", $D$6:$D$741, "PS") -> 40 | L10: =J10-K10 -> 9
B11: M17-31 | C11: WORD PROBLEMS | D11: DS | E11: 500 | F11: 1:19 | G11: October 01, 2018 03:36 AM | I11: DISTANCE / PROBLEMS | J11: =COUNTIF($C$6:$C$741,"DISTANCE / PROBLEMS") -> 10 | K11: =COUNTIFS($C$6:$C$741, "DISTANCE / PROBLEMS", $D$6:$D$741, "PS") -> 4 | L11: =J11-K11 -> 6
B12: M23-35 | C12: DIVISIBILITY / MULTIPLES / FACTORS | D12: PS | E12: 600 | F12: 1:20 | G12: October 01, 2018 03:38 AM | I12: DIVISIBILITY / MULTIPLES / FACTORS | J12: =COUNTIF($C$6:$C$741,"DIVISIBILITY / MULTIPLES / FACTORS") -> 47 | K12: =COUNTIFS($C$6:$C$741, "DIVISIBILITY / MULTIPLES / FACTORS", $D$6:$D$741, "PS") -> 23 | L12: =J12-K12 -> 24
B13: M16-25 | C13: NUMBER PROPERTIES | D13: DS | E13: 600 | F13: 1:30 | G13: October 01, 2018 03:39 AM | I13: EXPONENTS / ROOTS | J13: =COUNTIF($C$6:$C$741,"EXPONENTS / ROOTS") -> 32 | K13: =COUNTIFS($C$6:$C$741, "EXPONENTS / ROOTS", $D$6:$D$741, "PS") -> 18 | L13: =J13-K13 -> 14
B14: M13-19 | C14: INEQUALITIES | D14: DS | E14: 600 | F14: 1:09 | G14: October 01, 2018 03:41 AM | I14: FRACTIONS / RATIOS / DECIMALS | J14: =COUNTIF($C$6:$C$741,"FRACTIONS / RATIOS / DECIMALS") -> 23 | K14: =COUNTIFS($C$6:$C$741, "FRACTIONS / RATIOS / DECIMALS", $D$6:$D$741, "PS") -> 12 | L14: =J14-K14 -> 11
B15: M26-36 | C15: ALGEBRA | D15: DS | E15: 700 | F15: 2:08 | G15: October 01, 2018 03:42 AM | I15: GEOMETRY / COORDINATE GEOMETRY | J15: =COUNTIF($C$6:$C$741,"GEOMETRY / COORDINATE GEOMETRY") -> 84 | K15: =COUNTIFS($C$6:$C$741, "GEOMETRY / COORDINATE GEOMETRY", $D$6:$D$741, "PS") -> 57 | L15: =J15-K15 -> 27
B16: M09-03 | C16: GEOMETRY / COORDINATE GEOMETRY | D16: DS | E16: 700 | F16: 3:34 | G16: October 01, 2018 03:44 AM | I16: INEQUALITIES | J16: =COUNTIF($C$6:$C$741,"INEQUALITIES") -> 45 | K16: =COUNTIFS($C$6:$C$741, "INEQUALITIES", $D$6:$D$741, "PS") -> 10 | L16: =J16-K16 -> 35
B17: M06-10 | C17: COMBINATORICS AND PROBABILITY | D17: PS | E17: 700 | F17: 6:29 | G17: October 01, 2018 03:48 AM | I17: MIN/MAX PROBLEMS | J17: =COUNTIF($C$6:$C$741,"MIN/MAX PROBLEMS") -> 8 | K17: =COUNTIFS($C$6:$C$741, "MIN/MAX PROBLEMS", $D$6:$D$741, "PS") -> 8 | L17: =J17-K17 -> 0
B18: M26-20 | C18: EXPONENTS / ROOTS | D18: PS | E18: 700 | F18: 2:45 | G18: October 01, 2018 03:55 AM | I18: MIXTURE PROBLEMS | J18: =COUNTIF($C$6:$C$741,"MIXTURE PROBLEMS") -> 7 | K18: =COUNTIFS($C$6:$C$741, "MIXTURE PROBLEMS", $D$6:$D$741, "PS") -> 4 | L18: =J18-K18 -> 3
B19: M25-22 | C19: MUST OR COULD BE TRUE QUESTIONS | D19: PS | E19: 700 | F19: 2:33 | G19: October 01, 2018 03:57 AM | I19: MUST OR COULD BE TRUE QUESTIONS | J19: =COUNTIF($C$6:$C$741,"MUST OR COULD BE TRUE QUESTIONS") -> 22 | K19: =COUNTIFS($C$6:$C$741, "MUST OR COULD BE TRUE QUESTIONS", $D$6:$D$741, "PS") -> 22 | L19: =J19-K19 -> 0
B20: M24-04 | C20: MIXTURE PROBLEMS | D20: DS | E20: 700 | F20: 3:06 | G20: October 01, 2018 04:00 AM | I20: NUMBER PROPERTIES | J20: =COUNTIF($C$6:$C$741,"NUMBER PROPERTIES") -> 74 | K20: =COUNTIFS($C$6:$C$741, "NUMBER PROPERTIES", $D$6:$D$741, "PS") -> 26 | L20: =J20-K20 -> 48
B21: M18-14 | C21: NUMBER PROPERTIES | D21: DS | E21: 600 | F21: 1:47 | G21: October 01, 2018 04:03 AM | I21: OVERLAPPING SETS | J21: =COUNTIF($C$6:$C$741,"OVERLAPPING SETS") -> 24 | K21: =COUNTIFS($C$6:$C$741, "OVERLAPPING SETS", $D$6:$D$741, "PS") -> 17 | L21: =J21-K21 -> 7
B22: M19-17 | C22: NUMBER PROPERTIES | D22: DS | E22: 600 | F22: 0:40 | G22: October 01, 2018 04:05 AM | I22: PERCENTS AND INTEREST PROBLEMS | J22: =COUNTIF($C$6:$C$741,"PERCENTS AND INTEREST PROBLEMS") -> 47 | K22: =COUNTIFS($C$6:$C$741, "PERCENTS AND INTEREST PROBLEMS", $D$6:$D$741, "PS") -> 36 | L22: =J22-K22 -> 11
B23: M23-24 | C23: GEOMETRY / COORDINATE GEOMETRY | D23: DS | E23: 600 | F23: 2:19 | G23: October 01, 2018 04:06 AM | I23: PROPERTIES OF SETS | J23: =COUNTIF($C$6:$C$741,"PROPERTIES OF SETS") -> 45 | K23: =COUNTIFS($C$6:$C$741, "PROPERTIES OF SETS", $D$6:$D$741, "PS") -> 19 | L23: =J23-K23 -> 26
B24: M10-06 | C24: GEOMETRY / COORDINATE GEOMETRY | D24: PS | E24: 500 | F24: 1:04 | G24: October 01, 2018 04:08 AM | I24: REMAINDERS | J24: =COUNTIF($C$6:$C$741,"REMAINDERS") -> 24 | K24: =COUNTIFS($C$6:$C$741, "REMAINDERS", $D$6:$D$741, "PS") -> 10 | L24: =J24-K24 -> 14
B25: M10-16 | C25: GEOMETRY / COORDINATE GEOMETRY | D25: PS | E25: 500 | F25: 1:05 | G25: October 01, 2018 04:09 AM | I25: WORD PROBLEMS | J25: =COUNTIF($C$6:$C$741,"WORD PROBLEMS") -> 60 | K25: =COUNTIFS($C$6:$C$741, "WORD PROBLEMS", $D$6:$D$741, "PS") -> 35 | L25: =J25-K25 -> 25
B26: M18-20 | C26: WORD PROBLEMS | D26: DS | E26: 500 | F26: 1:08 | G26: October 01, 2018 04:10 AM | I26: WORK / RATE PROBLEMS | J26: =COUNTIF($C$6:$C$741,"WORK / RATE PROBLEMS") -> 28 | K26: =COUNTIFS($C$6:$C$741, "WORK / RATE PROBLEMS", $D$6:$D$741, "PS") -> 22 | L26: =J26-K26 -> 6
B27: M18-30 | C27: INEQUALITIES | D27: DS | E27: 600 | F27: 2:01 | G27: October 01, 2018 04:11 AM
B28: M12-24 | C28: PERCENTS AND INTEREST PROBLEMS | D28: PS | E28: 500 | F28: 0:50 | G28: October 01, 2018 04:13 AM
B29: M13-03 | C29: PERCENTS AND INTEREST PROBLEMS | D29: PS | E29: 500 | F29: 3:36 | G29: October 01, 2018 04:14 AM
B30: M03-34 | C30: PROPERTIES OF SETS | D30: PS | E30: 500 | F30: 2:01 | G30: October 01, 2018 04:18 AM
B31: M05-07 | C31: PROPERTIES OF SETS | D31: PS | E31: 500 | F31: 1:31 | G31: October 01, 2018 04:20 AM
B32: M06-11 | C32: COMBINATORICS AND PROBABILITY | D32: PS | E32: 700 | F32: 3:57 | G32: October 01, 2018 04:21 AM
B33: M21-35 | C33: REMAINDERS | D33: DS | E33: 700 | F33: 1:33 | G33: October 01, 2018 04:25 AM
B34: M07-06 | C34: WORK / RATE PROBLEMS | D34: PS | E34: 700 | F34: 3:35 | G34: October 01, 2018 04:27 AM
B35: M04-19 | C35: OVERLAPPING SETS | D35: PS | E35: 500 | F35: 0:57 | G35: October 01, 2018 04:31 AM
B36: M15-25 | C36: ARITHMETIC | D36: PS | E36: 600 | F36: 0:54 | G36: October 01, 2018 04:32 AM
B37: M22-12 | C37: WORD PROBLEMS | D37: PS | E37: 600 | F37: 2:48 | G37: October 01, 2018 04:32 AM
B38: M07-15 | C38: FRACTIONS / RATIOS / DECIMALS | D38: PS | E38: 500 | F38: 1:33 | G38: October 01, 2018 04:35 AM
... B741: M23-07 | C741: NUMBER PROPERTIES | D741: PS | E741: 500 | F741: 1:49 | G741: September 29, 2018 08:45 AM

Sheet Correct
B5: ID | C5: Type | D5: Answer | E5: Difficulty | F5: Time | G5: Date
B6: M30-08 | C6: ABSOLUTE VALUES | D6: DS | E6: 600 | F6: 1:53 | G6: October 13, 2018 03:22 AM | I6: ABSOLUTE VALUES | J6: =COUNTIF($C$6:$C$504,"ABSOLUTE VALUES") -> 14 | K6: =COUNTIFS($C$6:$C$504, "ABSOLUTE VALUES", $D$6:$D$504, "PS") -> 6 | L6: =J6-K6 -> 8
B7: M02-25 | C7: ABSOLUTE VALUES | D7: DS | E7: 700 | F7: 4:12 | G7: October 10, 2018 13:49 PM | I7: ALGEBRA | J7: =COUNTIF($C$6:$C$504,"ALGEBRA") -> 43 | K7: =COUNTIFS($C$6:$C$504, "ALGEBRA", $D$6:$D$504, "PS") -> 20 | L7: =J7-K7 -> 23
B8: D01-15 | C8: ABSOLUTE VALUES | D8: DS | E8: 700 | F8: 0:09 | G8: October 10, 2018 13:45 PM | I8: ARITHMETIC | J8: =COUNTIF($C$6:$C$504,"ARITHMETIC") -> 21 | K8: =COUNTIFS($C$6:$C$504, "ARITHMETIC", $D$6:$D$504, "PS") -> 20 | L8: =J8-K8 -> 1
B9: M31-49 | C9: ABSOLUTE VALUES | D9: DS | E9: 500 | F9: 0:59 | G9: October 10, 2018 01:53 AM | I9: COMBINATORICS AND PROBABILITY | J9: =COUNTIF($C$6:$C$504,"COMBINATORICS AND PROBABILITY") -> 35 | K9: =COUNTIFS($C$6:$C$504, "COMBINATORICS AND PROBABILITY", $D$6:$D$504, "PS") -> 31 | L9: =J9-K9 -> 4
B10: M08-11 | C10: ABSOLUTE VALUES | D10: DS | E10: 700 | F10: 1:59 | G10: October 04, 2018 02:09 AM | I10: DISTANCE / PROBLEMS | J10: =COUNTIF($C$6:$C$504,"DISTANCE / PROBLEMS") -> 9 | K10: =COUNTIFS($C$6:$C$504, "DISTANCE / PROBLEMS", $D$6:$D$504, "PS") -> 4 | L10: =J10-K10 -> 5
B11: M24-03 | C11: ABSOLUTE VALUES | D11: DS | E11: 600 | F11: 0:56 | G11: September 14, 2018 02:12 AM | I11: DIVISIBILITY / MULTIPLES / FACTORS | J11: =COUNTIF($C$6:$C$504,"DIVISIBILITY / MULTIPLES / FACTORS") -> 31 | K11: =COUNTIFS($C$6:$C$504, "DIVISIBILITY / MULTIPLES / FACTORS", $D$6:$D$504, "PS") -> 14 | L11: =J11-K11 -> 17
B12: M15-11 | C12: ABSOLUTE VALUES | D12: DS | E12: 600 | F12: 1:30 | G12: September 10, 2018 01:32 AM | I12: EXPONENTS / ROOTS | J12: =COUNTIF($C$6:$C$504,"EXPONENTS / ROOTS") -> 15 | K12: =COUNTIFS($C$6:$C$504, "EXPONENTS / ROOTS", $D$6:$D$504, "PS") -> 8 | L12: =J12-K12 -> 7
B13: M09-19 | C13: ABSOLUTE VALUES | D13: DS | E13: 600 | F13: 3:34 | G13: September 05, 2018 04:10 AM | I13: FRACTIONS / RATIOS / DECIMALS | J13: =COUNTIF($C$6:$C$504,"FRACTIONS / RATIOS / DECIMALS") -> 15 | K13: =COUNTIFS($C$6:$C$504, "FRACTIONS / RATIOS / DECIMALS", $D$6:$D$504, "PS") -> 5 | L13: =J13-K13 -> 10
B14: M27-10 | C14: ALGEBRA | D14: DS | E14: 600 | F14: 1:23 | G14: October 13, 2018 03:47 AM | I14: GEOMETRY / COORDINATE GEOMETRY | J14: =COUNTIF($C$6:$C$504,"GEOMETRY / COORDINATE GEOMETRY") -> 56 | K14: =COUNTIFS($C$6:$C$504, "GEOMETRY / COORDINATE GEOMETRY", $D$6:$D$504, "PS") -> 41 | L14: =J14-K14 -> 15
B15: M02-29 | C15: ALGEBRA | D15: DS | E15: 500 | F15: 1:05 | G15: October 11, 2018 08:52 AM | I15: INEQUALITIES | J15: =COUNTIF($C$6:$C$504,"INEQUALITIES") -> 25 | K15: =COUNTIFS($C$6:$C$504, "INEQUALITIES", $D$6:$D$504, "PS") -> 5 | L15: =J15-K15 -> 20
B16: M27-21 | C16: ALGEBRA | D16: DS | E16: 700 | F16: 2:36 | G16: October 11, 2018 08:50 AM | I16: MIN/MAX PROBLEMS | J16: =COUNTIF($C$6:$C$504,"MIN/MAX PROBLEMS") -> 6 | K16: =COUNTIFS($C$6:$C$504, "MIN/MAX PROBLEMS", $D$6:$D$504, "PS") -> 6 | L16: =J16-K16 -> 0
B17: M01-36 | C17: ALGEBRA | D17: DS | E17: 700 | F17: 1:07 | G17: October 10, 2018 14:09 PM | I17: MIXTURE PROBLEMS | J17: =COUNTIF($C$6:$C$504,"MIXTURE PROBLEMS") -> 4 | K17: =COUNTIFS($C$6:$C$504, "MIXTURE PROBLEMS", $D$6:$D$504, "PS") -> 2 | L17: =J17-K17 -> 2
B18: M01-13 | C18: ALGEBRA | D18: DS | E18: 500 | F18: 3:04 | G18: October 10, 2018 13:53 PM | I18: MUST OR COULD BE TRUE QUESTIONS | J18: =COUNTIF($C$6:$C$504,"MUST OR COULD BE TRUE QUESTIONS") -> 15 | K18: =COUNTIFS($C$6:$C$504, "MUST OR COULD BE TRUE QUESTIONS", $D$6:$D$504, "PS") -> 15 | L18: =J18-K18 -> 0
B19: M01-17 | C19: ALGEBRA | D19: DS | E19: 700 | F19: 1:31 | G19: October 10, 2018 13:47 PM | I19: NUMBER PROPERTIES | J19: =COUNTIF($C$6:$C$504,"NUMBER PROPERTIES") -> 39 | K19: =COUNTIFS($C$6:$C$504, "NUMBER PROPERTIES", $D$6:$D$504, "PS") -> 19 | L19: =J19-K19 -> 20
B20: M22-03 | C20: ALGEBRA | D20: DS | E20: 600 | F20: 2:09 | G20: October 10, 2018 01:20 AM | I20: OVERLAPPING SETS | J20: =COUNTIF($C$6:$C$504,"OVERLAPPING SETS") -> 19 | K20: =COUNTIFS($C$6:$C$504, "OVERLAPPING SETS", $D$6:$D$504, "PS") -> 14 | L20: =J20-K20 -> 5
B21: M18-08 | C21: ALGEBRA | D21: DS | E21: 600 | F21: 1:30 | G21: October 07, 2018 09:13 AM | I21: PERCENTS AND INTEREST PROBLEMS | J21: =COUNTIF($C$6:$C$504,"PERCENTS AND INTEREST PROBLEMS") -> 38 | K21: =COUNTIFS($C$6:$C$504, "PERCENTS AND INTEREST PROBLEMS", $D$6:$D$504, "PS") -> 32 | L21: =J21-K21 -> 6
B22: M19-07 | C22: ALGEBRA | D22: DS | E22: 700 | F22: 1:26 | G22: September 29, 2018 08:07 AM | I22: PROPERTIES OF SETS | J22: =COUNTIF($C$6:$C$504,"PROPERTIES OF SETS") -> 32 | K22: =COUNTIFS($C$6:$C$504, "PROPERTIES OF SETS", $D$6:$D$504, "PS") -> 17 | L22: =J22-K22 -> 15
B23: M08-36 | C23: ALGEBRA | D23: DS | E23: 600 | F23: 1:57 | G23: September 29, 2018 08:03 AM | I23: REMAINDERS | J23: =COUNTIF($C$6:$C$504,"REMAINDERS") -> 13 | K23: =COUNTIFS($C$6:$C$504, "REMAINDERS", $D$6:$D$504, "PS") -> 5 | L23: =J23-K23 -> 8
B24: M02-14 | C24: ALGEBRA | D24: DS | E24: 500 | F24: 1:04 | G24: September 29, 2018 06:03 AM | I24: WORD PROBLEMS | J24: =COUNTIF($C$6:$C$504,"WORD PROBLEMS") -> 47 | K24: =COUNTIFS($C$6:$C$504, "WORD PROBLEMS", $D$6:$D$504, "PS") -> 27 | L24: =J24-K24 -> 20
B25: M11-10 | C25: ALGEBRA | D25: DS | E25: 700 | F25: 1:43 | G25: September 26, 2018 04:34 AM | I25: WORK / RATE PROBLEMS | J25: =COUNTIF($C$6:$C$504,"WORK / RATE PROBLEMS") -> 22 | K25: =COUNTIFS($C$6:$C$504, "WORK / RATE PROBLEMS", $D$6:$D$504, "PS") -> 17 | L25: =J25-K25 -> 5
B26: M06-34 | C26: ALGEBRA | D26: DS | E26: 700 | F26: 4:24 | G26: September 26, 2018 04:06 AM
B27: M04-17 | C27: ALGEBRA | D27: DS | E27: 600 | F27: 1:34 | G27: September 21, 2018 01:33 AM
B28: M01-33 | C28: ALGEBRA | D28: DS | E28: 500 | F28: 0:55 | G28: September 14, 2018 02:08 AM
B29: M01-19 | C29: ALGEBRA | D29: DS | E29: 700 | F29: 2:49 | G29: September 14, 2018 01:39 AM
B30: M01-12 | C30: ALGEBRA | D30: DS | E30: 500 | F30: 0:26 | G30: September 13, 2018 03:33 AM
B31: M03-33 | C31: ALGEBRA | D31: DS | E31: 600 | F31: 1:24 | G31: September 10, 2018 06:24 AM
B32: D01-43 | C32: ALGEBRA | D32: DS | E32: 700 | F32: 2:19 | G32: September 10, 2018 06:22 AM
B33: M02-36 | C33: ALGEBRA | D33: DS | E33: 600 | F33: 1:02 | G33: September 10, 2018 06:20 AM
B34: M02-32 | C34: ALGEBRA | D34: DS | E34: 600 | F34: 0:52 | G34: September 10, 2018 00:59 AM
B35: M01-01 | C35: ALGEBRA | D35: DS | E35: 500 | F35: 0:39 | G35: September 10, 2018 00:58 AM
B36: D01-04 | C36: ALGEBRA | D36: DS | E36: 500 | F36: 0:39 | G36: September 05, 2018 04:14 AM
B37: M23-37 | C37: ARITHMETIC | D37: DS | E37: 500 | F37: 1:20 | G37: September 05, 2018 03:23 AM
... B504: D01-28 | C504: WORK / RATE PROBLEMS | D504: PS | E504: 700 | F504: 3:00 | G504: September 05, 2018 04:05 AM

Sheet Incorrect
B5: ID | C5: Type | D5: Type2 | E5: Difficulty | F5: Time | G5: Date | H5: Reviewed | K5: PS | L5: DS
B6: S96-02 | C6: ALGEBRA | D6: DS | E6: 700 | F6: 1:45 | G6: November 01, 2017 08:22 AM | H6: - | I6: ABSOLUTE VALUES | J6: =COUNTIF($C$6:$C$239,"ABSOLUTE VALUES") -> 9 | K6: =COUNTIFS($C$6:$C$239, "ABSOLUTE VALUES", $D$6:$D$239, "PS") -> 4 | L6: =J6-K6 -> 5
B7: S96-04 | C7: GEOMETRY / COORDINATE GEOMETRY | D7: PS | E7: 700 | F7: 2:00 | G7: November 01, 2017 08:27 AM | H7: - | I7: ALGEBRA | J7: =COUNTIF($C$6:$C$239,"ALGEBRA") -> 15 | K7: =COUNTIFS($C$6:$C$239, "ALGEBRA", $D$6:$D$239, "PS") -> 6 | L7: =J7-K7 -> 9
B8: S96-05 | C8: DIVISIBILITY / MULTIPLES / FACTORS | D8: PS | E8: 700 | F8: 2:40 | G8: November 01, 2017 08:29 AM | H8: - | I8: ARITHMETIC | J8: =COUNTIF($C$6:$C$239,"ARITHMETIC") -> 5 | K8: =COUNTIFS($C$6:$C$239, "ARITHMETIC", $D$6:$D$239, "PS") -> 5 | L8: =J8-K8 -> 0
B9: M23-35 | C9: DIVISIBILITY / MULTIPLES / FACTORS | D9: PS | E9: 600 | F9: 1:20 | G9: October 01, 2018 03:38 AM | H9: - | I9: COMBINATORICS AND PROBABILITY | J9: =COUNTIF($C$6:$C$239,"COMBINATORICS AND PROBABILITY") -> 14 | K9: =COUNTIFS($C$6:$C$239, "COMBINATORICS AND PROBABILITY", $D$6:$D$239, "PS") -> 9 | L9: =J9-K9 -> 5
B10: M26-36 | C10: ALGEBRA | D10: DS | E10: 700 | F10: 2:08 | G10: October 01, 2018 03:42 AM | H10: - | I10: DISTANCE / PROBLEMS | J10: =COUNTIF($C$6:$C$239,"DISTANCE / PROBLEMS") -> 1 | K10: =COUNTIFS($C$6:$C$239, "DISTANCE / PROBLEMS", $D$6:$D$239, "PS") -> 0 | L10: =J10-K10 -> 1
B11: M26-20 | C11: EXPONENTS / ROOTS | D11: PS | E11: 700 | F11: 2:45 | G11: October 01, 2018 03:55 AM | H11: - | I11: DIVISIBILITY / MULTIPLES / FACTORS | J11: =COUNTIF($C$6:$C$239,"DIVISIBILITY / MULTIPLES / FACTORS") -> 16 | K11: =COUNTIFS($C$6:$C$239, "DIVISIBILITY / MULTIPLES / FACTORS", $D$6:$D$239, "PS") -> 9 | L11: =J11-K11 -> 7
B12: M23-24 | C12: GEOMETRY / COORDINATE GEOMETRY | D12: DS | E12: 600 | F12: 2:19 | G12: October 01, 2018 04:06 AM | H12: - | I12: EXPONENTS / ROOTS | J12: =COUNTIF($C$6:$C$239,"EXPONENTS / ROOTS") -> 17 | K12: =COUNTIFS($C$6:$C$239, "EXPONENTS / ROOTS", $D$6:$D$239, "PS") -> 10 | L12: =J12-K12 -> 7
B13: M10-06 | C13: GEOMETRY / COORDINATE GEOMETRY | D13: PS | E13: 500 | F13: 1:04 | G13: October 01, 2018 04:08 AM | H13: - | I13: FRACTIONS / RATIOS / DECIMALS | J13: =COUNTIF($C$6:$C$239,"FRACTIONS / RATIOS / DECIMALS") -> 8 | K13: =COUNTIFS($C$6:$C$239, "FRACTIONS / RATIOS / DECIMALS", $D$6:$D$239, "PS") -> 7 | L13: =J13-K13 -> 1
B14: M06-11 | C14: COMBINATORICS AND PROBABILITY | D14: PS | E14: 700 | F14: 3:57 | G14: October 01, 2018 04:21 AM | H14: - | I14: GEOMETRY / COORDINATE GEOMETRY | J14: =COUNTIF($C$6:$C$239,"GEOMETRY / COORDINATE GEOMETRY") -> 28 | K14: =COUNTIFS($C$6:$C$239, "GEOMETRY / COORDINATE GEOMETRY", $D$6:$D$239, "PS") -> 16 | L14: =J14-K14 -> 12
B15: M21-35 | C15: REMAINDERS | D15: DS | E15: 700 | F15: 1:33 | G15: October 01, 2018 04:25 AM | H15: - | I15: INEQUALITIES | J15: =COUNTIF($C$6:$C$239,"INEQUALITIES") -> 19 | K15: =COUNTIFS($C$6:$C$239, "INEQUALITIES", $D$6:$D$239, "PS") -> 5 | L15: =J15-K15 -> 14
B16: M22-12 | C16: WORD PROBLEMS | D16: PS | E16: 600 | F16: 2:48 | G16: October 01, 2018 04:32 AM | H16: - | I16: MIN/MAX PROBLEMS | J16: =COUNTIF($C$6:$C$239,"MIN/MAX PROBLEMS") -> 2 | K16: =COUNTIFS($C$6:$C$239, "MIN/MAX PROBLEMS", $D$6:$D$239, "PS") -> 2 | L16: =J16-K16 -> 0
B17: M15-23 | C17: DIVISIBILITY / MULTIPLES / FACTORS | D17: DS | E17: 700 | F17: 0:35 | G17: October 01, 2018 04:37 AM | H17: - | I17: MIXTURE PROBLEMS | J17: =COUNTIF($C$6:$C$239,"MIXTURE PROBLEMS") -> 3 | K17: =COUNTIFS($C$6:$C$239, "MIXTURE PROBLEMS", $D$6:$D$239, "PS") -> 2 | L17: =J17-K17 -> 1
B18: M20-14 | C18: NUMBER PROPERTIES | D18: DS | E18: 700 | F18: 2:26 | G18: October 04, 2018 01:13 AM | H18: - | I18: MUST OR COULD BE TRUE QUESTIONS | J18: =COUNTIF($C$6:$C$239,"MUST OR COULD BE TRUE QUESTIONS") -> 7 | K18: =COUNTIFS($C$6:$C$239, "MUST OR COULD BE TRUE QUESTIONS", $D$6:$D$239, "PS") -> 7 | L18: =J18-K18 -> 0
B19: M23-29 | C19: REMAINDERS | D19: DS | E19: 700 | F19: 3:35 | G19: October 04, 2018 01:24 AM | H19: - | I19: NUMBER PROPERTIES | J19: =COUNTIF($C$6:$C$239,"NUMBER PROPERTIES") -> 35 | K19: =COUNTIFS($C$6:$C$239, "NUMBER PROPERTIES", $D$6:$D$239, "PS") -> 7 | L19: =J19-K19 -> 28
B20: M18-35 | C20: ALGEBRA | D20: PS | E20: 600 | F20: 1:58 | G20: October 04, 2018 01:39 AM | H20: - | I20: OVERLAPPING SETS | J20: =COUNTIF($C$6:$C$239,"OVERLAPPING SETS") -> 5 | K20: =COUNTIFS($C$6:$C$239, "OVERLAPPING SETS", $D$6:$D$239, "PS") -> 3 | L20: =J20-K20 -> 2
B21: M03-15 | C21: GEOMETRY / COORDINATE GEOMETRY | D21: DS | E21: 500 | F21: 0:36 | G21: October 04, 2018 01:52 AM | H21: - | I21: PERCENTS AND INTEREST PROBLEMS | J21: =COUNTIF($C$6:$C$239,"PERCENTS AND INTEREST PROBLEMS") -> 8 | K21: =COUNTIFS($C$6:$C$239, "PERCENTS AND INTEREST PROBLEMS", $D$6:$D$239, "PS") -> 3 | L21: =J21-K21 -> 5
B22: M13-32 | C22: INEQUALITIES | D22: DS | E22: 700 | F22: 2:29 | G22: October 04, 2018 02:02 AM | H22: - | I22: PROPERTIES OF SETS | J22: =COUNTIF($C$6:$C$239,"PROPERTIES OF SETS") -> 13 | K22: =COUNTIFS($C$6:$C$239, "PROPERTIES OF SETS", $D$6:$D$239, "PS") -> 2 | L22: =J22-K22 -> 11
B23: M28-28 | C23: GEOMETRY / COORDINATE GEOMETRY | D23: PS | E23: 700 | F23: 4:49 | G23: October 07, 2018 08:36 AM | H23: - | I23: REMAINDERS | J23: =COUNTIF($C$6:$C$239,"REMAINDERS") -> 11 | K23: =COUNTIFS($C$6:$C$239, "REMAINDERS", $D$6:$D$239, "PS") -> 5 | L23: =J23-K23 -> 6
B24: M08-21 | C24: COMBINATORICS AND PROBABILITY | D24: PS | E24: 700 | F24: 6:45 | G24: October 07, 2018 08:45 AM | H24: - | I24: WORD PROBLEMS | J24: =COUNTIF($C$6:$C$239,"WORD PROBLEMS") -> 12 | K24: =COUNTIFS($C$6:$C$239, "WORD PROBLEMS", $D$6:$D$239, "PS") -> 7 | L24: =J24-K24 -> 5
B25: M04-27 | C25: ARITHMETIC | D25: PS | E25: 500 | F25: 0:14 | G25: October 07, 2018 08:52 AM | H25: - | I25: WORK / RATE PROBLEMS | J25: =COUNTIF($C$6:$C$239,"WORK / RATE PROBLEMS") -> 6 | K25: =COUNTIFS($C$6:$C$239, "WORK / RATE PROBLEMS", $D$6:$D$239, "PS") -> 5 | L25: =J25-K25 -> 1
B26: M14-13 | C26: INEQUALITIES | D26: DS | E26: 700 | F26: 2:27 | G26: October 07, 2018 08:59 AM | H26: -
B27: M17-20 | C27: WORK / RATE PROBLEMS | D27: PS | E27: 700 | F27: 4:51 | G27: October 07, 2018 09:05 AM | H27: -
B28: M27-02 | C28: ALGEBRA | D28: DS | E28: 700 | F28: 3:31 | G28: October 07, 2018 09:14 AM | H28: -
B29: M09-17 | C29: COMBINATORICS AND PROBABILITY | D29: PS | E29: 700 | F29: 1:50 | G29: October 07, 2018 09:18 AM | H29: -
B30: M31-20 | C30: GEOMETRY / COORDINATE GEOMETRY | D30: PS | E30: 700 | F30: 1:17 | G30: October 07, 2018 09:20 AM | H30: -
B31: M11-05 | C31: GEOMETRY / COORDINATE GEOMETRY | D31: DS | E31: 700 | F31: 1:03 | G31: October 07, 2018 09:25 AM | H31: -
B32: M03-22 | C32: NUMBER PROPERTIES | D32: DS | E32: 500 | F32: 1:21 | G32: October 07, 2018 09:34 AM | H32: -
B33: M09-33 | C33: DIVISIBILITY / MULTIPLES / FACTORS | D33: PS | E33: 500 | F33: 0:56 | G33: October 07, 2018 09:35 AM | H33: -
B34: M26-32 | C34: EXPONENTS / ROOTS | D34: DS | E34: 700 | F34: 1:54 | G34: October 07, 2018 09:40 AM | H34: -
B35: M20-32 | C35: WORK / RATE PROBLEMS | D35: PS | E35: 700 | F35: 2:34 | G35: October 07, 2018 10:17 AM | H35: -
B36: M09-07 | C36: GEOMETRY / COORDINATE GEOMETRY | D36: DS | E36: 700 | F36: 3:27 | G36: October 07, 2018 10:20 AM | H36: -
B37: M22-22 | C37: NUMBER PROPERTIES | D37: DS | E37: 700 | F37: 1:14 | G37: October 07, 2018 10:30 AM | H37: -
... B242: M18-06 | C242: WORD PROBLEMS | D242: PS | E242: 700 | F242: 3:05 | G242: September 29, 2018 08:26 AM | H242: -

Sheet Sheet4
B2: Area | C2: type | D2: Level | E2: Column1 | F2: Column2 | J2: total | K2: PS | L2: DS
B3: ABSOLUTE VALUES | C3: DS | D3: 600 | E3: 2:18 | F3: October 07, 2018 11:02 AM | I3: ABSOLUTE VALUES | J3: =COUNTIF($B$3:$B$100,"ABSOLUTE VALUES") -> 4 | K3: =COUNTIFS($B$3:$B$100, "ABSOLUTE VALUES", $C$3:$C$100, "PS") -> 0 | L3: =J3-K3 -> 4
B4: ABSOLUTE VALUES | C4: DS | D4: 600 | E4: 1:27 | F4: October 08, 2018 02:31 AM | I4: ALGEBRA | J4: =COUNTIF($B$3:$B$100,"ALGEBRA") -> 8 | K4: =COUNTIFS($B$3:$B$100, "ALGEBRA", $C$3:$C$100, "PS") -> 3 | L4: =J4-K4 -> 5
B5: ABSOLUTE VALUES | C5: DS | D5: 700 | E5: 1:14 | F5: October 11, 2018 08:48 AM | I5: ARITHMETIC | J5: =COUNTIF($B$3:$B$100,"ARITHMETIC") -> 1 | K5: =COUNTIFS($B$3:$B$100, "ARITHMETIC", $C$3:$C$100, "PS") -> 1 | L5: =J5-K5 -> 0
B6: ABSOLUTE VALUES | C6: DS | D6: 600 | E6: 2:42 | F6: October 13, 2018 12:12 PM | I6: COMBINATORICS AND PROBABILITY | J6: =COUNTIF($B$3:$B$100,"COMBINATORICS AND PROBABILITY") -> 8 | K6: =COUNTIFS($B$3:$B$100, "COMBINATORICS AND PROBABILITY", $C$3:$C$100, "PS") -> 8 | L6: =J6-K6 -> 0
B7: ALGEBRA | C7: DS | D7: 700 | E7: 2:08 | F7: October 01, 2018 03:42 AM | I7: DISTANCE / PROBLEMS | J7: =COUNTIF($B$3:$B$100,"DISTANCE / PROBLEMS") -> 0 | K7: =COUNTIFS($B$3:$B$100, "DISTANCE / PROBLEMS", $C$3:$C$100, "PS") -> 0 | L7: =J7-K7 -> 0
B8: ALGEBRA | C8: DS | D8: 700 | E8: 3:31 | F8: October 07, 2018 09:14 AM | I8: DIVISIBILITY / MULTIPLES / FACTORS | J8: =COUNTIF($B$3:$B$100,"DIVISIBILITY / MULTIPLES / FACTORS") -> 5 | K8: =COUNTIFS($B$3:$B$100, "DIVISIBILITY / MULTIPLES / FACTORS", $C$3:$C$100, "PS") -> 2 | L8: =J8-K8 -> 3
B9: ALGEBRA | C9: DS | D9: 700 | E9: 2:42 | F9: October 08, 2018 02:41 AM | I9: EXPONENTS / ROOTS | J9: =COUNTIF($B$3:$B$100,"EXPONENTS / ROOTS") -> 5 | K9: =COUNTIFS($B$3:$B$100, "EXPONENTS / ROOTS", $C$3:$C$100, "PS") -> 1 | L9: =J9-K9 -> 4
B10: ALGEBRA | C10: DS | D10: 700 | E10: 2:01 | F10: October 10, 2018 01:35 AM | I10: FRACTIONS / RATIOS / DECIMALS | J10: =COUNTIF($B$3:$B$100,"FRACTIONS / RATIOS / DECIMALS") -> 3 | K10: =COUNTIFS($B$3:$B$100, "FRACTIONS / RATIOS / DECIMALS", $C$3:$C$100, "PS") -> 3 | L10: =J10-K10 -> 0
B11: ALGEBRA | C11: DS | D11: 600 | E11: 1:42 | F11: October 13, 2018 03:49 AM | I11: GEOMETRY / COORDINATE GEOMETRY | J11: =COUNTIF($B$3:$B$100,"GEOMETRY / COORDINATE GEOMETRY") -> 10 | K11: =COUNTIFS($B$3:$B$100, "GEOMETRY / COORDINATE GEOMETRY", $C$3:$C$100, "PS") -> 3 | L11: =J11-K11 -> 7
B12: ALGEBRA | C12: PS | D12: 600 | E12: 1:58 | F12: October 04, 2018 01:39 AM | I12: INEQUALITIES | J12: =COUNTIF($B$3:$B$100,"INEQUALITIES") -> 10 | K12: =COUNTIFS($B$3:$B$100, "INEQUALITIES", $C$3:$C$100, "PS") -> 0 | L12: =J12-K12 -> 10
B13: ALGEBRA | C13: PS | D13: 600 | E13: 4:43 | F13: October 13, 2018 11:59 AM | I13: MIN/MAX PROBLEMS | J13: =COUNTIF($B$3:$B$100,"MIN/MAX PROBLEMS") -> 1 | K13: =COUNTIFS($B$3:$B$100, "MIN/MAX PROBLEMS", $C$3:$C$100, "PS") -> 1 | L13: =J13-K13 -> 0
B14: ALGEBRA | C14: PS | D14: 600 | E14: 2:05 | F14: October 13, 2018 12:03 PM | I14: MIXTURE PROBLEMS | J14: =COUNTIF($B$3:$B$100,"MIXTURE PROBLEMS") -> 0 | K14: =COUNTIFS($B$3:$B$100, "MIXTURE PROBLEMS", $C$3:$C$100, "PS") -> 0 | L14: =J14-K14 -> 0
B15: ARITHMETIC | C15: PS | D15: 500 | E15: 0:14 | F15: October 07, 2018 08:52 AM | I15: MUST OR COULD BE TRUE QUESTIONS | J15: =COUNTIF($B$3:$B$100,"MUST OR COULD BE TRUE QUESTIONS") -> 1 | K15: =COUNTIFS($B$3:$B$100, "MUST OR COULD BE TRUE QUESTIONS", $C$3:$C$100, "PS") -> 1 | L15: =J15-K15 -> 0
B16: COMBINATORICS AND PROBABILITY | C16: PS | D16: 700 | E16: 3:57 | F16: October 01, 2018 04:21 AM | I16: NUMBER PROPERTIES | J16: =COUNTIF($B$3:$B$100,"NUMBER PROPERTIES") -> 11 | K16: =COUNTIFS($B$3:$B$100, "NUMBER PROPERTIES", $C$3:$C$100, "PS") -> 0 | L16: =J16-K16 -> 11
B17: COMBINATORICS AND PROBABILITY | C17: PS | D17: 700 | E17: 6:45 | F17: October 07, 2018 08:45 AM | I17: OVERLAPPING SETS | J17: =COUNTIF($B$3:$B$100,"OVERLAPPING SETS") -> 0 | K17: =COUNTIFS($B$3:$B$100, "OVERLAPPING SETS", $C$3:$C$100, "PS") -> 0 | L17: =J17-K17 -> 0
B18: COMBINATORICS AND PROBABILITY | C18: PS | D18: 700 | E18: 1:50 | F18: October 07, 2018 09:18 AM | I18: PERCENTS AND INTEREST PROBLEMS | J18: =COUNTIF($B$3:$B$100,"PERCENTS AND INTEREST PROBLEMS") -> 1 | K18: =COUNTIFS($B$3:$B$100, "PERCENTS AND INTEREST PROBLEMS", $C$3:$C$100, "PS") -> 1 | L18: =J18-K18 -> 0
B19: COMBINATORICS AND PROBABILITY | C19: PS | D19: 700 | E19: 3:12 | F19: October 07, 2018 10:31 AM | I19: PROPERTIES OF SETS | J19: =COUNTIF($B$3:$B$100,"PROPERTIES OF SETS") -> 4 | K19: =COUNTIFS($B$3:$B$100, "PROPERTIES OF SETS", $C$3:$C$100, "PS") -> 0 | L19: =J19-K19 -> 4
B20: COMBINATORICS AND PROBABILITY | C20: PS | D20: 700 | E20: 3:11 | F20: October 08, 2018 01:49 AM | I20: REMAINDERS | J20: =COUNTIF($B$3:$B$100,"REMAINDERS") -> 4 | K20: =COUNTIFS($B$3:$B$100, "REMAINDERS", $C$3:$C$100, "PS") -> 0 | L20: =J20-K20 -> 4
B21: COMBINATORICS AND PROBABILITY | C21: PS | D21: 700 | E21: 4:55 | F21: October 10, 2018 01:38 AM | I21: WORD PROBLEMS | J21: =COUNTIF($B$3:$B$100,"WORD PROBLEMS") -> 2 | K21: =COUNTIFS($B$3:$B$100, "WORD PROBLEMS", $C$3:$C$100, "PS") -> 2 | L21: =J21-K21 -> 0
B22: COMBINATORICS AND PROBABILITY | C22: PS | D22: 700 | E22: 2:12 | F22: October 13, 2018 03:20 AM | I22: WORK / RATE PROBLEMS | J22: =COUNTIF($B$3:$B$100,"WORK / RATE PROBLEMS") -> 3 | K22: =COUNTIFS($B$3:$B$100, "WORK / RATE PROBLEMS", $C$3:$C$100, "PS") -> 3 | L22: =J22-K22 -> 0
B23: COMBINATORICS AND PROBABILITY | C23: PS | D23: 700 | E23: 3:23 | F23: October 13, 2018 03:50 AM
B24: DIVISIBILITY / MULTIPLES / FACTORS | C24: DS | D24: 700 | E24: 0:35 | F24: October 01, 2018 04:37 AM
B25: DIVISIBILITY / MULTIPLES / FACTORS | C25: DS | D25: 700 | E25: 1:54 | F25: October 07, 2018 10:53 AM
B26: DIVISIBILITY / MULTIPLES / FACTORS | C26: DS | D26: 600 | E26: 1:20 | F26: October 10, 2018 01:16 AM
B27: DIVISIBILITY / MULTIPLES / FACTORS | C27: PS | D27: 600 | E27: 1:20 | F27: October 01, 2018 03:38 AM
B28: DIVISIBILITY / MULTIPLES / FACTORS | C28: PS | D28: 500 | E28: 0:56 | F28: October 07, 2018 09:35 AM
B29: EXPONENTS / ROOTS | C29: DS | D29: 700 | E29: 1:54 | F29: October 07, 2018 09:40 AM
B30: EXPONENTS / ROOTS | C30: DS | D30: 500 | E30: 1:34 | F30: October 08, 2018 02:13 AM
B31: EXPONENTS / ROOTS | C31: DS | D31: 700 | E31: 1:30 | F31: October 13, 2018 04:00 AM
B32: EXPONENTS / ROOTS | C32: DS | D32: 700 | E32: 1:18 | F32: October 13, 2018 11:35 AM
B33: EXPONENTS / ROOTS | C33: PS | D33: 700 | E33: 2:45 | F33: October 01, 2018 03:55 AM
B34: FRACTIONS / RATIOS / DECIMALS | C34: PS | D34: 600 | E34: 2:07 | F34: October 10, 2018 02:09 AM
... B83: WORK / RATE PROBLEMS | C83: PS | D83: 600 | E83: 6:31 | F83: October 10, 2018 01:53 AM

Sheet Sheet5
B2: Area | C2: type | D2: Level | E2: Column1 | F2: Column2 | J2: Total | M2: Incorrect | P2: Correct
B3: WORD PROBLEMS | C3: DS | D3: 500 | E3: 1:19 | F3: October 01, 2018 03:36 AM | J3: total | K3: PS | L3: DS | M3: Total | N3: PS | O3: DS | P3: Total | Q3: PS | R3: DS | S3: Accuracy | T3: PS Acc | U3: DS Acc
B4: DIVISIBILITY / MULTIPLES / FACTORS | C4: PS | D4: 600 | E4: 1:20 | F4: October 01, 2018 03:38 AM | I4: ABSOLUTE VALUES | J4: =COUNTIF($B$3:$B$317,"ABSOLUTE VALUES") -> 11 | K4: =COUNTIFS($B$3:$B$317, "ABSOLUTE VALUES", $C$3:$C$317, "PS") -> 2 | L4: =J4-K4 -> 9 | M4: =Sheet4!J3 -> 4 | N4: =Sheet4!K3 -> 0 | O4: =Sheet4!L3 -> 4 | P4: =J4-M4 -> 7 | Q4: =K4-N4 -> 2 | R4: =L4-O4 -> 5 | S4: =(P4/J4)*100 -> 63.636364 | T4: =(Q4/K4)*100 -> 100 | U4: =(R4/L4)*100 -> 55.555556
B5: NUMBER PROPERTIES | C5: DS | D5: 600 | E5: 1:30 | F5: October 01, 2018 03:39 AM | I5: ALGEBRA | J5: =COUNTIF($B$3:$B$317,"ALGEBRA") -> 25 | K5: =COUNTIFS($B$3:$B$317, "ALGEBRA", $C$3:$C$317, "PS") -> 12 | L5: =J5-K5 -> 13 | M5: =Sheet4!J4 -> 8 | N5: =Sheet4!K4 -> 3 | O5: =Sheet4!L4 -> 5 | P5: =J5-M5 -> 17 | Q5: =K5-N5 -> 9 | R5: =L5-O5 -> 8 | S5: =(P5/J5)*100 -> 68 | T5: =(Q5/K5)*100 -> 75 | U5: =(R5/L5)*100 -> 61.538462
B6: INEQUALITIES | C6: DS | D6: 600 | E6: 1:09 | F6: October 01, 2018 03:41 AM | I6: ARITHMETIC | J6: =COUNTIF($B$3:$B$317,"ARITHMETIC") -> 12 | K6: =COUNTIFS($B$3:$B$317, "ARITHMETIC", $C$3:$C$317, "PS") -> 12 | L6: =J6-K6 -> 0 | M6: =Sheet4!J5 -> 1 | N6: =Sheet4!K5 -> 1 | O6: =Sheet4!L5 -> 0 | P6: =J6-M6 -> 11 | Q6: =K6-N6 -> 11 | R6: =L6-O6 -> 0 | S6: =(P6/J6)*100 -> 91.666667 | T6: =(Q6/K6)*100 -> 91.666667
B7: ALGEBRA | C7: DS | D7: 700 | E7: 2:08 | F7: October 01, 2018 03:42 AM | I7: COMBINATORICS AND PROBABILITY | J7: =COUNTIF($B$3:$B$317,"COMBINATORICS AND PROBABILITY") -> 22 | K7: =COUNTIFS($B$3:$B$317, "COMBINATORICS AND PROBABILITY", $C$3:$C$317, "PS") -> 22 | L7: =J7-K7 -> 0 | M7: =Sheet4!J6 -> 8 | N7: =Sheet4!K6 -> 8 | O7: =Sheet4!L6 -> 0 | P7: =J7-M7 -> 14 | Q7: =K7-N7 -> 14 | R7: =L7-O7 -> 0 | S7: =(P7/J7)*100 -> 63.636364 | T7: =(Q7/K7)*100 -> 63.636364
B8: GEOMETRY / COORDINATE GEOMETRY | C8: DS | D8: 700 | E8: 3:34 | F8: October 01, 2018 03:44 AM | I8: DISTANCE / PROBLEMS | J8: =COUNTIF($B$3:$B$317,"DISTANCE / PROBLEMS") -> 6 | K8: =COUNTIFS($B$3:$B$317, "DISTANCE / PROBLEMS", $C$3:$C$317, "PS") -> 3 | L8: =J8-K8 -> 3 | M8: =Sheet4!J7 -> 0 | N8: =Sheet4!K7 -> 0 | O8: =Sheet4!L7 -> 0 | P8: =J8-M8 -> 6 | Q8: =K8-N8 -> 3 | R8: =L8-O8 -> 3 | S8: =(P8/J8)*100 -> 100 | T8: =(Q8/K8)*100 -> 100 | U8: =(R8/L8)*100 -> 100
B9: COMBINATORICS AND PROBABILITY | C9: PS | D9: 700 | E9: 6:29 | F9: October 01, 2018 03:48 AM | I9: DIVISIBILITY / MULTIPLES / FACTORS | J9: =COUNTIF($B$3:$B$317,"DIVISIBILITY / MULTIPLES / FACTORS") -> 20 | K9: =COUNTIFS($B$3:$B$317, "DIVISIBILITY / MULTIPLES / FACTORS", $C$3:$C$317, "PS") -> 7 | L9: =J9-K9 -> 13 | M9: =Sheet4!J8 -> 5 | N9: =Sheet4!K8 -> 2 | O9: =Sheet4!L8 -> 3 | P9: =J9-M9 -> 15 | Q9: =K9-N9 -> 5 | R9: =L9-O9 -> 10 | S9: =(P9/J9)*100 -> 75 | T9: =(Q9/K9)*100 -> 71.428571 | U9: =(R9/L9)*100 -> 76.923077
B10: EXPONENTS / ROOTS | C10: PS | D10: 700 | E10: 2:45 | F10: October 01, 2018 03:55 AM | I10: EXPONENTS / ROOTS | J10: =COUNTIF($B$3:$B$317,"EXPONENTS / ROOTS") -> 12 | K10: =COUNTIFS($B$3:$B$317, "EXPONENTS / ROOTS", $C$3:$C$317, "PS") -> 5 | L10: =J10-K10 -> 7 | M10: =Sheet4!J9 -> 5 | N10: =Sheet4!K9 -> 1 | O10: =Sheet4!L9 -> 4 | P10: =J10-M10 -> 7 | Q10: =K10-N10 -> 4 | R10: =L10-O10 -> 3 | S10: =(P10/J10)*100 -> 58.333333 | T10: =(Q10/K10)*100 -> 80 | U10: =(R10/L10)*100 -> 42.857143
B11: MUST OR COULD BE TRUE QUESTIONS | C11: PS | D11: 700 | E11: 2:33 | F11: October 01, 2018 03:57 AM | I11: FRACTIONS / RATIOS / DECIMALS | J11: =COUNTIF($B$3:$B$317,"FRACTIONS / RATIOS / DECIMALS") -> 8 | K11: =COUNTIFS($B$3:$B$317, "FRACTIONS / RATIOS / DECIMALS", $C$3:$C$317, "PS") -> 4 | L11: =J11-K11 -> 4 | M11: =Sheet4!J10 -> 3 | N11: =Sheet4!K10 -> 3 | O11: =Sheet4!L10 -> 0 | P11: =J11-M11 -> 5 | Q11: =K11-N11 -> 1 | R11: =L11-O11 -> 4 | S11: =(P11/J11)*100 -> 62.5 | T11: =(Q11/K11)*100 -> 25 | U11: =(R11/L11)*100 -> 100
B12: MIXTURE PROBLEMS | C12: DS | D12: 700 | E12: 3:06 | F12: October 01, 2018 04:00 AM | I12: GEOMETRY / COORDINATE GEOMETRY | J12: =COUNTIF($B$3:$B$317,"GEOMETRY / COORDINATE GEOMETRY") -> 34 | K12: =COUNTIFS($B$3:$B$317, "GEOMETRY / COORDINATE GEOMETRY", $C$3:$C$317, "PS") -> 21 | L12: =J12-K12 -> 13 | M12: =Sheet4!J11 -> 10 | N12: =Sheet4!K11 -> 3 | O12: =Sheet4!L11 -> 7 | P12: =J12-M12 -> 24 | Q12: =K12-N12 -> 18 | R12: =L12-O12 -> 6 | S12: =(P12/J12)*100 -> 70.588235 | T12: =(Q12/K12)*100 -> 85.714286 | U12: =(R12/L12)*100 -> 46.153846
B13: NUMBER PROPERTIES | C13: DS | D13: 600 | E13: 1:47 | F13: October 01, 2018 04:03 AM | I13: INEQUALITIES | J13: =COUNTIF($B$3:$B$317,"INEQUALITIES") -> 22 | K13: =COUNTIFS($B$3:$B$317, "INEQUALITIES", $C$3:$C$317, "PS") -> 0 | L13: =J13-K13 -> 22 | M13: =Sheet4!J12 -> 10 | N13: =Sheet4!K12 -> 0 | O13: =Sheet4!L12 -> 10 | P13: =J13-M13 -> 12 | Q13: =K13-N13 -> 0 | R13: =L13-O13 -> 12 | S13: =(P13/J13)*100 -> 54.545455 | U13: =(R13/L13)*100 -> 54.545455
B14: NUMBER PROPERTIES | C14: DS | D14: 600 | E14: 0:40 | F14: October 01, 2018 04:05 AM | I14: MIN/MAX PROBLEMS | J14: =COUNTIF($B$3:$B$317,"MIN/MAX PROBLEMS") -> 5 | K14: =COUNTIFS($B$3:$B$317, "MIN/MAX PROBLEMS", $C$3:$C$317, "PS") -> 5 | L14: =J14-K14 -> 0 | M14: =Sheet4!J13 -> 1 | N14: =Sheet4!K13 -> 1 | O14: =Sheet4!L13 -> 0 | P14: =J14-M14 -> 4 | Q14: =K14-N14 -> 4 | R14: =L14-O14 -> 0 | S14: =(P14/J14)*100 -> 80 | T14: =(Q14/K14)*100 -> 80
B15: GEOMETRY / COORDINATE GEOMETRY | C15: DS | D15: 600 | E15: 2:19 | F15: October 01, 2018 04:06 AM | I15: MIXTURE PROBLEMS | J15: =COUNTIF($B$3:$B$317,"MIXTURE PROBLEMS") -> 3 | K15: =COUNTIFS($B$3:$B$317, "MIXTURE PROBLEMS", $C$3:$C$317, "PS") -> 1 | L15: =J15-K15 -> 2 | M15: =Sheet4!J14 -> 0 | N15: =Sheet4!K14 -> 0 | O15: =Sheet4!L14 -> 0 | P15: =J15-M15 -> 3 | Q15: =K15-N15 -> 1 | R15: =L15-O15 -> 2 | S15: =(P15/J15)*100 -> 100 | T15: =(Q15/K15)*100 -> 100 | U15: =(R15/L15)*100 -> 100
B16: GEOMETRY / COORDINATE GEOMETRY | C16: PS | D16: 500 | E16: 1:04 | F16: October 01, 2018 04:08 AM | I16: MUST OR COULD BE TRUE QUESTIONS | J16: =COUNTIF($B$3:$B$317,"MUST OR COULD BE TRUE QUESTIONS") -> 11 | K16: =COUNTIFS($B$3:$B$317, "MUST OR COULD BE TRUE QUESTIONS", $C$3:$C$317, "PS") -> 11 | L16: =J16-K16 -> 0 | M16: =Sheet4!J15 -> 1 | N16: =Sheet4!K15 -> 1 | O16: =Sheet4!L15 -> 0 | P16: =J16-M16 -> 10 | Q16: =K16-N16 -> 10 | R16: =L16-O16 -> 0 | S16: =(P16/J16)*100 -> 90.909091 | T16: =(Q16/K16)*100 -> 90.909091
B17: GEOMETRY / COORDINATE GEOMETRY | C17: PS | D17: 500 | E17: 1:05 | F17: October 01, 2018 04:09 AM | I17: NUMBER PROPERTIES | J17: =COUNTIF($B$3:$B$317,"NUMBER PROPERTIES") -> 28 | K17: =COUNTIFS($B$3:$B$317, "NUMBER PROPERTIES", $C$3:$C$317, "PS") -> 6 | L17: =J17-K17 -> 22 | M17: =Sheet4!J16 -> 11 | N17: =Sheet4!K16 -> 0 | O17: =Sheet4!L16 -> 11 | P17: =J17-M17 -> 17 | Q17: =K17-N17 -> 6 | R17: =L17-O17 -> 11 | S17: =(P17/J17)*100 -> 60.714286 | T17: =(Q17/K17)*100 -> 100 | U17: =(R17/L17)*100 -> 50
B18: WORD PROBLEMS | C18: DS | D18: 500 | E18: 1:08 | F18: October 01, 2018 04:10 AM | I18: OVERLAPPING SETS | J18: =COUNTIF($B$3:$B$317,"OVERLAPPING SETS") -> 9 | K18: =COUNTIFS($B$3:$B$317, "OVERLAPPING SETS", $C$3:$C$317, "PS") -> 9 | L18: =J18-K18 -> 0 | M18: =Sheet4!J17 -> 0 | N18: =Sheet4!K17 -> 0 | O18: =Sheet4!L17 -> 0 | P18: =J18-M18 -> 9 | Q18: =K18-N18 -> 9 | R18: =L18-O18 -> 0 | S18: =(P18/J18)*100 -> 100 | T18: =(Q18/K18)*100 -> 100
B19: INEQUALITIES | C19: DS | D19: 600 | E19: 2:01 | F19: October 01, 2018 04:11 AM | I19: PERCENTS AND INTEREST PROBLEMS | J19: =COUNTIF($B$3:$B$317,"PERCENTS AND INTEREST PROBLEMS") -> 17 | K19: =COUNTIFS($B$3:$B$317, "PERCENTS AND INTEREST PROBLEMS", $C$3:$C$317, "PS") -> 17 | L19: =J19-K19 -> 0 | M19: =Sheet4!J18 -> 1 | N19: =Sheet4!K18 -> 1 | O19: =Sheet4!L18 -> 0 | P19: =J19-M19 -> 16 | Q19: =K19-N19 -> 16 | R19: =L19-O19 -> 0 | S19: =(P19/J19)*100 -> 94.117647 | T19: =(Q19/K19)*100 -> 94.117647
B20: PERCENTS AND INTEREST PROBLEMS | C20: PS | D20: 500 | E20: 0:50 | F20: October 01, 2018 04:13 AM | I20: PROPERTIES OF SETS | J20: =COUNTIF($B$3:$B$317,"PROPERTIES OF SETS") -> 22 | K20: =COUNTIFS($B$3:$B$317, "PROPERTIES OF SETS", $C$3:$C$317, "PS") -> 11 | L20: =J20-K20 -> 11 | M20: =Sheet4!J19 -> 4 | N20: =Sheet4!K19 -> 0 | O20: =Sheet4!L19 -> 4 | P20: =J20-M20 -> 18 | Q20: =K20-N20 -> 11 | R20: =L20-O20 -> 7 | S20: =(P20/J20)*100 -> 81.818182 | T20: =(Q20/K20)*100 -> 100 | U20: =(R20/L20)*100 -> 63.636364
B21: PERCENTS AND INTEREST PROBLEMS | C21: PS | D21: 500 | E21: 3:36 | F21: October 01, 2018 04:14 AM | I21: REMAINDERS | J21: =COUNTIF($B$3:$B$317,"REMAINDERS") -> 9 | K21: =COUNTIFS($B$3:$B$317, "REMAINDERS", $C$3:$C$317, "PS") -> 0 | L21: =J21-K21 -> 9 | M21: =Sheet4!J20 -> 4 | N21: =Sheet4!K20 -> 0 | O21: =Sheet4!L20 -> 4 | P21: =J21-M21 -> 5 | Q21: =K21-N21 -> 0 | R21: =L21-O21 -> 5 | S21: =(P21/J21)*100 -> 55.555556 | U21: =(R21/L21)*100 -> 55.555556
B22: PROPERTIES OF SETS | C22: PS | D22: 500 | E22: 2:01 | F22: October 01, 2018 04:18 AM | I22: WORD PROBLEMS | J22: =COUNTIF($B$3:$B$317,"WORD PROBLEMS") -> 26 | K22: =COUNTIFS($B$3:$B$317, "WORD PROBLEMS", $C$3:$C$317, "PS") -> 19 | L22: =J22-K22 -> 7 | M22: =Sheet4!J21 -> 2 | N22: =Sheet4!K21 -> 2 | O22: =Sheet4!L21 -> 0 | P22: =J22-M22 -> 24 | Q22: =K22-N22 -> 17 | R22: =L22-O22 -> 7 | S22: =(P22/J22)*100 -> 92.307692 | T22: =(Q22/K22)*100 -> 89.473684 | U22: =(R22/L22)*100 -> 100
B23: PROPERTIES OF SETS | C23: PS | D23: 500 | E23: 1:31 | F23: October 01, 2018 04:20 AM | I23: WORK / RATE PROBLEMS | J23: =COUNTIF($B$3:$B$317,"WORK / RATE PROBLEMS") -> 13 | K23: =COUNTIFS($B$3:$B$317, "WORK / RATE PROBLEMS", $C$3:$C$317, "PS") -> 12 | L23: =J23-K23 -> 1 | M23: =Sheet4!J22 -> 3 | N23: =Sheet4!K22 -> 3 | O23: =Sheet4!L22 -> 0 | P23: =J23-M23 -> 10 | Q23: =K23-N23 -> 9 | R23: =L23-O23 -> 1 | S23: =(P23/J23)*100 -> 76.923077 | T23: =(Q23/K23)*100 -> 75 | U23: =(R23/L23)*100 -> 100
B24: COMBINATORICS AND PROBABILITY | C24: PS | D24: 700 | E24: 3:57 | F24: October 01, 2018 04:21 AM
B25: REMAINDERS | C25: DS | D25: 700 | E25: 1:33 | F25: October 01, 2018 04:25 AM
B26: WORK / RATE PROBLEMS | C26: PS | D26: 700 | E26: 3:35 | F26: October 01, 2018 04:27 AM
B27: OVERLAPPING SETS | C27: PS | D27: 500 | E27: 0:57 | F27: October 01, 2018 04:31 AM | I27: Column1 | J27: total | K27: PS | L27: DS | M27: Total2 | N27: PS3 | O27: DS4 | P27: Total5 | Q27: PS6 | R27: DS7 | S27: Accuracy | T27: PS Acc | U27: DS Acc
B28: ARITHMETIC | C28: PS | D28: 600 | E28: 0:54 | F28: October 01, 2018 04:32 AM | I28: INEQUALITIES | J28: 22 | K28: 0 | L28: 22 | M28: 10 | N28: 0 | O28: 10 | P28: 12 | Q28: 0 | R28: 12 | S28: 54.545455 | U28: 54.545455
B29: WORD PROBLEMS | C29: PS | D29: 600 | E29: 2:48 | F29: October 01, 2018 04:32 AM | I29: REMAINDERS | J29: 9 | K29: 0 | L29: 9 | M29: 4 | N29: 0 | O29: 4 | P29: 5 | Q29: 0 | R29: 5 | S29: 55.555556 | U29: 55.555556
B30: FRACTIONS / RATIOS / DECIMALS | C30: PS | D30: 500 | E30: 1:33 | F30: October 01, 2018 04:35 AM | I30: EXPONENTS / ROOTS | J30: 12 | K30: 5 | L30: 7 | M30: 5 | N30: 1 | O30: 4 | P30: 7 | Q30: 4 | R30: 3 | S30: 58.333333 | T30: 80 | U30: 42.857143
B31: ALGEBRA | C31: PS | D31: 500 | E31: 0:30 | F31: October 01, 2018 04:37 AM | I31: NUMBER PROPERTIES | J31: 28 | K31: 6 | L31: 22 | M31: 11 | N31: 0 | O31: 11 | P31: 17 | Q31: 6 | R31: 11 | S31: 60.714286 | T31: 100 | U31: 50
B32: DIVISIBILITY / MULTIPLES / FACTORS | C32: DS | D32: 700 | E32: 0:35 | F32: October 01, 2018 04:37 AM | I32: FRACTIONS / RATIOS / DECIMALS | J32: 8 | K32: 4 | L32: 4 | M32: 3 | N32: 3 | O32: 0 | P32: 5 | Q32: 1 | R32: 4 | S32: 62.5 | T32: 25 | U32: 100
B33: ABSOLUTE VALUES | C33: PS | D33: 500 | E33: 0:50 | F33: October 01, 2018 04:38 AM | I33: ABSOLUTE VALUES | J33: 11 | K33: 2 | L33: 9 | M33: 4 | N33: 0 | O33: 4 | P33: 7 | Q33: 2 | R33: 5 | S33: 63.636364 | T33: 100 | U33: 55.555556
B34: GEOMETRY / COORDINATE GEOMETRY | C34: PS | D34: 600 | E34: 1:26 | F34: October 04, 2018 01:12 AM | I34: COMBINATORICS AND PROBABILITY | J34: 22 | K34: 22 | L34: 0 | M34: 8 | N34: 8 | O34: 0 | P34: 14 | Q34: 14 | R34: 0 | S34: 63.636364 | T34: 63.636364
B35: NUMBER PROPERTIES | C35: DS | D35: 700 | E35: 2:26 | F35: October 04, 2018 01:13 AM | I35: ALGEBRA | J35: 25 | K35: 12 | L35: 13 | M35: 8 | N35: 3 | O35: 5 | P35: 17 | Q35: 9 | R35: 8 | S35: 68 | T35: 75 | U35: 61.538462
B36: COMBINATORICS AND PROBABILITY | C36: PS | D36: 600 | E36: 1:31 | F36: October 04, 2018 01:16 AM | I36: GEOMETRY / COORDINATE GEOMETRY | J36: 34 | K36: 21 | L36: 13 | M36: 10 | N36: 3 | O36: 7 | P36: 24 | Q36: 18 | R36: 6 | S36: 70.588235 | T36: 85.714286 | U36: 46.153846
B37: PERCENTS AND INTEREST PROBLEMS | C37: PS | D37: 500 | E37: 1:14 | F37: October 04, 2018 01:17 AM | I37: DIVISIBILITY / MULTIPLES / FACTORS | J37: 20 | K37: 7 | L37: 13 | M37: 5 | N37: 2 | O37: 3 | P37: 15 | Q37: 5 | R37: 10 | S37: 75 | T37: 71.428571 | U37: 76.923077
B38: WORK / RATE PROBLEMS | C38: PS | D38: 700 | E38: 3:59 | F38: October 04, 2018 01:19 AM | I38: WORK / RATE PROBLEMS | J38: 13 | K38: 12 | L38: 1 | M38: 3 | N38: 3 | O38: 0 | P38: 10 | Q38: 9 | R38: 1 | S38: 76.923077 | T38: 75 | U38: 100
B39: WORD PROBLEMS | C39: PS | D39: 500 | E39: 1:32 | F39: October 04, 2018 01:23 AM | I39: MIN/MAX PROBLEMS | J39: 5 | K39: 5 | L39: 0 | M39: 1 | N39: 1 | O39: 0 | P39: 4 | Q39: 4 | R39: 0 | S39: 80 | T39: 80
B40: REMAINDERS | C40: DS | D40: 700 | E40: 3:35 | F40: October 04, 2018 01:24 AM | I40: PROPERTIES OF SETS | J40: 22 | K40: 11 | L40: 11 | M40: 4 | N40: 0 | O40: 4 | P40: 18 | Q40: 11 | R40: 7 | S40: 81.818182 | T40: 100 | U40: 63.636364
B41: OVERLAPPING SETS | C41: PS | D41: 500 | E41: 1:52 | F41: October 04, 2018 01:28 AM | I41: MUST OR COULD BE TRUE QUESTIONS | J41: 11 | K41: 11 | L41: 0 | M41: 1 | N41: 1 | O41: 0 | P41: 10 | Q41: 10 | R41: 0 | S41: 90.909091 | T41: 90.909091
B42: FRACTIONS / RATIOS / DECIMALS | C42: DS | D42: 500 | E42: 2:23 | F42: October 04, 2018 01:30 AM | I42: ARITHMETIC | J42: 12 | K42: 12 | L42: 0 | M42: 1 | N42: 1 | O42: 0 | P42: 11 | Q42: 11 | R42: 0 | S42: 91.666667 | T42: 91.666667
B43: ARITHMETIC | C43: PS | D43: 500 | E43: 0:48 | F43: October 04, 2018 01:32 AM | I43: WORD PROBLEMS | J43: 26 | K43: 19 | L43: 7 | M43: 2 | N43: 2 | O43: 0 | P43: 24 | Q43: 17 | R43: 7 | S43: 92.307692 | T43: 89.473684 | U43: 100
B44: GEOMETRY / COORDINATE GEOMETRY | C44: PS | D44: 600 | E44: 1:19 | F44: October 04, 2018 01:33 AM | I44: PERCENTS AND INTEREST PROBLEMS | J44: 17 | K44: 17 | L44: 0 | M44: 1 | N44: 1 | O44: 0 | P44: 16 | Q44: 16 | R44: 0 | S44: 94.117647 | T44: 94.117647
B45: GEOMETRY / COORDINATE GEOMETRY | C45: PS | D45: 700 | E45: 4:12 | F45: October 04, 2018 01:34 AM | I45: DISTANCE / PROBLEMS | J45: 6 | K45: 3 | L45: 3 | M45: 0 | N45: 0 | O45: 0 | P45: 6 | Q45: 3 | R45: 3 | S45: 100 | T45: 100 | U45: 100
B46: ALGEBRA | C46: PS | D46: 600 | E46: 1:58 | F46: October 04, 2018 01:39 AM | I46: MIXTURE PROBLEMS | J46: 3 | K46: 1 | L46: 2 | M46: 0 | N46: 0 | O46: 0 | P46: 3 | Q46: 1 | R46: 2 | S46: 100 | T46: 100 | U46: 100
B47: ALGEBRA | C47: PS | D47: 600 | E47: 1:29 | F47: October 04, 2018 01:41 AM | I47: OVERLAPPING SETS | J47: 9 | K47: 9 | L47: 0 | M47: 0 | N47: 0 | O47: 0 | P47: 9 | Q47: 9 | R47: 0 | S47: 100 | T47: 100
B48: WORD PROBLEMS | C48: PS | D48: 500 | E48: 2:51 | F48: October 04, 2018 01:42 AM
B49: PROPERTIES OF SETS | C49: PS | D49: 500 | E49: 0:36 | F49: October 04, 2018 01:45 AM
B50: PROPERTIES OF SETS | C50: PS | D50: 500 | E50: 2:05 | F50: October 04, 2018 01:46 AM
B51: COMBINATORICS AND PROBABILITY | C51: PS | D51: 700 | E51: 2:29 | F51: October 04, 2018 01:48 AM
B52: GEOMETRY / COORDINATE GEOMETRY | C52: DS | D52: 500 | E52: 1:40 | F52: October 04, 2018 01:50 AM
B53: GEOMETRY / COORDINATE GEOMETRY | C53: DS | D53: 500 | E53: 0:36 | F53: October 04, 2018 01:52 AM
B54: NUMBER PROPERTIES | C54: DS | D54: 600 | E54: 1:12 | F54: October 04, 2018 01:52 AM
B55: PERCENTS AND INTEREST PROBLEMS | C55: PS | D55: 500 | E55: 2:38 | F55: October 04, 2018 01:54 AM
B56: DIVISIBILITY / MULTIPLES / FACTORS | C56: DS | D56: 700 | E56: 2:51 | F56: October 04, 2018 01:56 AM
B57: DIVISIBILITY / MULTIPLES / FACTORS | C57: DS | D57: 600 | E57: 1:44 | F57: October 04, 2018 01:59 AM
B58: INEQUALITIES | C58: DS | D58: 500 | E58: 1:20 | F58: October 04, 2018 02:01 AM
B59: INEQUALITIES | C59: DS | D59: 700 | E59: 2:29 | F59: October 04, 2018 02:02 AM
... B317: OVERLAPPING SETS | C317: PS | D317: 600 | E317: 2:12 | F317: October 13, 2018 12:15 PM
