Workbook

Sheet Summary
J7: No. of | L7: No. of | N7: No. of
B8: Exam | C8: Score | D8: Verbal | E8: Quant | F8: IR | G8: SC | H8: RC | I8: CR | J8: Easy | K8: Accuracy Easy | L8: Medium | M8: Accuracy Medium | N8: Hard | O8: Accuracy Hard
B9: GMAT Prep 1 | C9: 740 | D9: 38 | E9: 51 | F9: 1 | G9: ='GMAT Prep 1'!N40 -> 0.71428571 | H9: ='GMAT Prep 1'!N41 -> 0.71428571 | I9: ='GMAT Prep 1'!N42 -> 0.875 | J9: ='GMAT Prep 1'!K45+'GMAT Prep 1'!L45 -> 9 | K9: ='GMAT Prep 1'!M45 -> 0.88888889 | L9: ='GMAT Prep 1'!K46+'GMAT Prep 1'!L46 -> 21 | M9: ='GMAT Prep 1'!M46 -> 0.80952381 | N9: ='GMAT Prep 1'!K47+'GMAT Prep 1'!L47 -> 10 | O9: ='GMAT Prep 1'!M47 -> 0.6
B10: GMAT Prep 2 | C10: 760 | D10: 42 | E10: 50 | F10: 8 | G10: ='GMAT Prep 2'!N40 -> 0.71428571 | H10: ='GMAT Prep 2'!N41 -> 0.76923077 | I10: ='GMAT Prep 2'!N42 -> 0.88888889 | J10: ='GMAT Prep 2'!K45+'GMAT Prep 2'!L45 -> 10 | K10: ='GMAT Prep 2'!M45 -> 1 | L10: ='GMAT Prep 2'!K46+'GMAT Prep 2'!L46 -> 11 | M10: ='GMAT Prep 2'!M46 -> 0.81818182 | N10: ='GMAT Prep 2'!K47+'GMAT Prep 2'!L47 -> 15 | O10: ='GMAT Prep 2'!M47 -> 0.73333333
B11: Manhattan 1 | C11: 700 | D11: 37 | E11: 48 | F11: 3.1 | G11: ='Manhattan Verbal 1'!K41 -> 0.92857143 | H11: ='Manhattan Verbal 1'!K42 -> 0.5 | I11: ='Manhattan Verbal 1'!K43 -> 0.5
B12: Manhattan 2 | C12: 700 | D12: 37 | E12: 48 | F12: 3.8 | G12: ='Manhattan Verbal 2'!L41 -> 0.42857143 | H12: ='Manhattan Verbal 2'!L42 -> 0.5 | I12: ='Manhattan Verbal 2'!L43 -> 0.9
B13: GMAT Prep 3 | C13: 740 | D13: 42 | E13: 49 | F13: 8 | G13: ='GMAT Prep 3'!N40 -> 0.71428571 | H13: ='GMAT Prep 3'!N41 -> 0.84615385 | I13: ='GMAT Prep 3'!N42 -> 0.88888889 | J13: ='GMAT Prep 3'!K45+'GMAT Prep 3'!L45 -> 13 | K13: ='GMAT Prep 3'!M45 -> 0.92307692 | L13: ='GMAT Prep 3'!K46+'GMAT Prep 3'!L46 -> 11 | M13: ='GMAT Prep 2'!M46 -> 0.81818182 | N13: ='GMAT Prep 3'!K47+'GMAT Prep 3'!L47 -> 12 | O13: ='GMAT Prep 3'!M47 -> 0.66666667
B14: GMAT Prep 4 | C14: 710 | D14: 34 | E14: 50 | F14: 5 | G14: ='GMAT Prep 4'!N40 -> 0.69230769 | H14: ='GMAT Prep 4'!N41 -> 0.57142857 | I14: ='GMAT Prep 4'!N42 -> 0.55555556 | J14: - | K14: ='GMAT Prep 4'!M45 -> 0.7 | L14: ='GMAT Prep 4'!K46+'GMAT Prep 4'!L46 -> 15 | M14: ='GMAT Prep 4'!M46 -> 0.73333333 | N14: ='GMAT Prep 4'!K47+'GMAT Prep 4'!L47 -> 11 | O14: ='GMAT Prep 4'!M47 -> 0.36363636
B15: GMAT Prep 5 | C15: Score not valid
B16: GMAT Prep 6 | C16: 730 | D16: 36 | E16: 51 | F16: 8 | G16: ='GMAT Prep 6'!N40 -> 0.85714286 | H16: ='GMAT Prep 6'!N41 -> 0.84615385 | I16: ='GMAT Prep 6'!N42 -> 0.77777778 | J16: ='GMAT Prep 6'!K45+'GMAT Prep 6'!L45 -> 6 | K16: ='GMAT Prep 6'!M45 -> 1 | L16: ='GMAT Prep 6'!K46+'GMAT Prep 6'!L46 -> 22 | M16: ='GMAT Prep 6'!M46 -> 1 | N16: ='GMAT Prep 6'!K47+'GMAT Prep 6'!L47 -> 13 | O16: ='GMAT Prep 6'!M47 -> 0.30769231

Sheet GMAT Prep 4
D1: Level | E1: Section | F1: Right/Wrong
B2: 1 | C2: https://gmatclub.com/forum/during-the-month-of-may-crabs-arrive-on-delaware-s-beaches-to-lay-egg-74651.html | D2: 600-700 | E2: CR | F2: Right | G2: 0.45
B3: 2 | C3: https://gmatclub.com/forum/astronomers-theorize-that-a-black-hole-forms-when-a-massive-object-147401.html#:~:text=TAGS&text=Aug%204%2C%202019-,Astronomers%20theorize%20that%20a%20black%20hole%20forms%20when%20a%20massive,strong%20that%20nothing%20escapes%20it. | D3: Sub 600 | E3: RC | F3: Wrong | G3: Easy
B4: 3 | C4: https://gmatclub.com/forum/astronomers-theorize-that-a-black-hole-forms-when-a-massive-object-147401.html#:~:text=TAGS&text=Aug%204%2C%202019-,Astronomers%20theorize%20that%20a%20black%20hole%20forms%20when%20a%20massive,strong%20that%20nothing%20escapes%20it. | D4: Sub 600 | E4: RC | F4: Right | G4: Easy
B5: 4 | C5: https://gmatclub.com/forum/astronomers-theorize-that-a-black-hole-forms-when-a-massive-object-147401.html#:~:text=TAGS&text=Aug%204%2C%202019-,Astronomers%20theorize%20that%20a%20black%20hole%20forms%20when%20a%20massive,strong%20that%20nothing%20escapes%20it. | D5: 700 | E5: RC | F5: Right | G5: Hard
B6: 5 | C6: https://gmatclub.com/forum/while-acknowledging-that-there-are-greater-employment-opportunities-fo-84343.html#:~:text=While%20acknowledging%20that%20there%20are%20greater%20employment%20opportunities%20for%20Latin,complex%20than%20these%20theorists%20presume. | D6: 700 | E6: RC | F6: Wrong | G6: Hard
B7: 6 | C7: https://gmatclub.com/forum/while-acknowledging-that-there-are-greater-employment-opportunities-fo-84343.html#:~:text=While%20acknowledging%20that%20there%20are%20greater%20employment%20opportunities%20for%20Latin,complex%20than%20these%20theorists%20presume. | D7: 700 | E7: RC | F7: Right | G7: Hard
B8: 7 | C8: https://gmatclub.com/forum/while-acknowledging-that-there-are-greater-employment-opportunities-fo-84343.html#:~:text=While%20acknowledging%20that%20there%20are%20greater%20employment%20opportunities%20for%20Latin,complex%20than%20these%20theorists%20presume. | D8: Sub 600 | E8: RC | F8: Wrong | G8: Easy
B9: 8 | C9: https://gmatclub.com/forum/while-acknowledging-that-there-are-greater-employment-opportunities-fo-84343.html#:~:text=While%20acknowledging%20that%20there%20are%20greater%20employment%20opportunities%20for%20Latin,complex%20than%20these%20theorists%20presume. | D9: Sub 600 | E9: RC | F9: Right | G9: Easy
B10: 9 | C10: https://gmatclub.com/forum/in-1852-robert-angus-smith-published-a-detailed-report-of-the-chemistr-162523.html#:~:text=In%201852%2C%20Smith%20published%20a,fade%20and%20metals%20to%20corrode. | D10: 700 | E10: SC | F10: Right | G10: 0.55
B11: 10 | C11: https://gmatclub.com/forum/from-1965-on-the-region-s-standard-of-living-has-soared-but-also-unp-169629.html | D11: 600-700 | E11: SC | F11: Right | G11: 0.15
B12: 11 | C12: https://gmatclub.com/forum/while-digging-in-the-egyptian-desert-huge-fossil-bones-have-been-foun-9950.html | D12: 600-700 | E12: SC | F12: Wrong | G12: 0.25
B13: 12 | C13: https://gmatclub.com/forum/a-survey-of-entrepreneurs-who-started-companies-last-year-shows-that-200481.html | D13: 600-700 | E13: CR | F13: Right | G13: 0.45
B14: 13 | C14: https://gmatclub.com/forum/tourists-have-long-complained-that-hotel-accommodations-in-13294.html | D14: 600-700 | E14: CR | F14: Right | G14: 0.35
B15: 14 | C15: https://gmatclub.com/forum/during-her-presidency-of-the-short-lived-woman-s-state-temperance-soci-251679.html | D15: Sub 600 | E15: SC | F15: Right | G15: 0.05
B16: 15 | C16: https://gmatclub.com/forum/most-of-portugal-s-250-000-university-students-boycotted-classes-in-a-105146.html#:~:text=01%3A39)%20wrong-,Most%20of%20Portugal's%20250%2C000%20university%20students%20boycotted%20classes%20in%20a,previously%20paying%20%247%20per%20year. | D16: 700 | E16: SC | F16: Wrong | G16: 0.75
B17: 16 | C17: https://gmatclub.com/forum/charcoal-from-a-hearth-site-in-colorado-2-000-miles-south-of-alaska-11419.html | D17: 600-700 | E17: CR | F17: Right | G17: 0.35
B18: 17 | C18: https://gmatclub.com/forum/elk-now-live-almost-solely-in-the-rocky-mountains-which-would-make-it-53921.html#:~:text=This%20is%20the%20sentence%20with,strip%20in%20the%20extreme%20Southwest. | D18: 600-700 | E18: SC | F18: Right | G18: 0.25
B19: 18 | C19: https://gmatclub.com/forum/the-most-widely-known-images-of-yosemite-national-park-160637.html | D19: 600-700 | E19: SC | F19: Right | G19: 0.45
B20: 19 | C20: https://gmatclub.com/forum/researchers-hypothesize-that-granitic-soil-is-the-ideal-construction-29388.html#:~:text=Researchers%20hypothesize%20that%20granitic%20soil%20is%20the%20ideal%20construction%20material,could%20cause%20tunnels%20to%20collapse. | D20: 700 | E20: SC | F20: Wrong | G20: 0.75
B21: 20 | C21: https://gmatclub.com/forum/the-city-has-proposed-a-number-of-water-treatment-and-conservation-pro-68378.html | D21: 600-700 | E21: SC | F21: Wrong | G21: 0.25
B22: 21 | C22: https://gmatclub.com/forum/in-little-more-than-a-decade-argentina-has-become-the-world-s-leading-158929.html | D22: 600-700 | E22: SC | F22: Right | G22: 0.35
B23: 22 | C23: https://gmatclub.com/forum/which-of-the-following-if-true-provides-evidence-that-most-82558.html | D23: 700 | E23: CR | F23: Wrong | G23: 0.65
B24: 23 | C24: https://gmatclub.com/forum/a-recent-study-compared-property-crime-rates-162526.html | D24: 600-700 | E24: CR | F24: Wrong | G24: 0.35
B25: 24 | C25: https://gmatclub.com/forum/the-steel-industry-has-changed-radically-over-the-last-two-decades-as-63371.html | D25: 600-700 | E25: SC | F25: Right | G25: 0.45
B26: 25 | C26: https://gmatclub.com/forum/earth-s-surface-consists-of-rigid-plates-that-are-constantly-shifting-220752.html#:~:text=Aug%2010%2C%202019-,Earth's%20surface%20consists%20of%20rigid%20plates%20that,shifting%20and%20jostling%20one%20another.&text=When%20the%20edge%20of%20one,erupts%20through%20the%20overlying%20one. | D26: Sub 600 | E26: RC | F26: Wrong | G26: Easy
B27: 26 | C27: https://gmatclub.com/forum/earth-s-surface-consists-of-rigid-plates-that-are-constantly-shifting-220752.html#:~:text=Aug%2010%2C%202019-,Earth's%20surface%20consists%20of%20rigid%20plates%20that,shifting%20and%20jostling%20one%20another.&text=When%20the%20edge%20of%20one,erupts%20through%20the%20overlying%20one. | D27: Sub 600 | E27: RC | F27: Right | G27: Easy
B28: 27 | C28: https://gmatclub.com/forum/earth-s-surface-consists-of-rigid-plates-that-are-constantly-shifting-220752.html#:~:text=Aug%2010%2C%202019-,Earth's%20surface%20consists%20of%20rigid%20plates%20that,shifting%20and%20jostling%20one%20another.&text=When%20the%20edge%20of%20one,erupts%20through%20the%20overlying%20one. | D28: Sub 600 | E28: RC | F28: Right | G28: Easy
B29: 28 | C29: https://gmatclub.com/forum/earth-s-surface-consists-of-rigid-plates-that-are-constantly-shifting-220752.html#:~:text=Aug%2010%2C%202019-,Earth's%20surface%20consists%20of%20rigid%20plates%20that,shifting%20and%20jostling%20one%20another.&text=When%20the%20edge%20of%20one,erupts%20through%20the%20overlying%20one. | D29: 700 | E29: RC | F29: Wrong | G29: Hard
B30: 29 | C30: https://gmatclub.com/forum/last-august-the-xt-chain-of-gasoline-stations-had-a-temporary-sales-160887.html | D30: 700 | E30: CR | F30: Wrong | G30: 0.85
B31: 30 | C31: https://gmatclub.com/forum/people-with-a-certain-eye-disorder-are-virtually-unable-to-see-in-mode-59492.html | D31: 600-700 | E31: CR | F31: Wrong | G31: 0.45
B32: 31 | C32: https://gmatclub.com/forum/in-american-genesis-which-covers-the-century-of-technological-innovat-220361.html#:~:text=vksunder%20wrote%3A,the%20independent%20nineteenth%2Dcentury%20inventor. | D32: Sub 600 | E32: RC | F32: Right | G32: Easy | K32: 4
B33: 32 | C33: https://gmatclub.com/forum/in-american-genesis-which-covers-the-century-of-technological-innovat-220361.html#:~:text=vksunder%20wrote%3A,the%20independent%20nineteenth%2Dcentury%20inventor. | D33: 700 | E33: RC | F33: Right | G33: Hard
B34: 33 | C34: https://gmatclub.com/forum/in-american-genesis-which-covers-the-century-of-technological-innovat-220361.html#:~:text=vksunder%20wrote%3A,the%20independent%20nineteenth%2Dcentury%20inventor. | D34: 700 | E34: RC | F34: Wrong | G34: Hard
B35: 34 | C35: https://gmatclub.com/forum/the-town-of-enderton-is-located-in-an-area-where-forest-fires-are-quit-24732.html#:~:text=01%3A47)%20wrong-,The%20town%20of%20Enderton%20is%20located%20in%20an%20area%20where,fire%20there%20is%20particularly%20serious. | D35: Sub 600 | E35: CR | F35: Right | G35: 0.05
B36: 35 | C36: https://gmatclub.com/forum/finally-reaching-a-decision-on-an-issue-that-has-long-been-politically-60019.html | D36: 600-700 | E36: SC | F36: Right | G36: 0.25
B37: 36 | C37: https://gmatclub.com/forum/when-an-active-tooth-in-the-sharks-jaws-is-lost-or-worn-31942.html | D37: 600-700 | E37: SC | F37: Right | G37: 0.45
K39: Correct | L39: Wrong | M39: Total | N39: % Correct
J40: SC | K40: 9 | L40: 4 | M40: 13 | N40: =K40/M40 -> 0.69230769
J41: RC | K41: 8 | L41: 6 | M41: 14 | N41: =K41/M41 -> 0.57142857
...

Sheet GMAT Prep 3
D1: Level | E1: Section | F1: Right/Wrong
B2: 1 | C2: https://gmatclub.com/forum/grassland-songbirds-often-nest-in-the-same-grassland-wetland-complexes-200037.html | D2: 700 | E2: RC | F2: Wrong | G2: Hard
B3: 2 | C3: https://gmatclub.com/forum/grassland-songbirds-often-nest-in-the-same-grassland-wetland-complexes-200037.html | D3: 600-700 | E3: RC | F3: Right | G3: Medium
B4: 3 | C4: https://gmatclub.com/forum/grassland-songbirds-often-nest-in-the-same-grassland-wetland-complexes-200037.html | D4: 700 | E4: RC | F4: Wrong | G4: Hard
B5: 4 | C5: https://gmatclub.com/forum/in-each-of-the-past-five-years-barraland-s-prison-population-has-incr-160672.html | D5: 600-700 | E5: CR | F5: Right | G5: 0.25
B6: 5 | C6: https://gmatclub.com/forum/in-1938-at-the-government-convened-national-health-conference-205058.html | D6: Sub 600 | E6: RC | F6: Right | G6: Easy
B7: 6 | C7: https://gmatclub.com/forum/in-1938-at-the-government-convened-national-health-conference-205058.html | D7: 700 | E7: RC | F7: Right | G7: Hard
B8: 7 | C8: https://gmatclub.com/forum/in-1938-at-the-government-convened-national-health-conference-205058.html | D8: Sub 600 | E8: RC | F8: Right | G8: Easy
B9: 8 | C9: https://gmatclub.com/forum/in-1938-at-the-government-convened-national-health-conference-205058.html | D9: Sub 600 | E9: RC | F9: Right | G9: Easy
B10: 9 | C10: https://gmatclub.com/forum/companies-that-must-determine-well-in-advance-of-the-selling-season-ho-219220.html | D10: 600-700 | E10: RC | F10: Right | G10: Medium
B11: 10 | C11: https://gmatclub.com/forum/companies-that-must-determine-well-in-advance-of-the-selling-season-ho-219220.html | D11: Sub 600 | E11: RC | F11: Right | G11: Easy
B12: 11 | C12: https://gmatclub.com/forum/companies-that-must-determine-well-in-advance-of-the-selling-season-ho-219220.html | D12: Sub 600 | E12: RC | F12: Right | G12: Easy
B13: 12 | C13: https://gmatclub.com/forum/researchers-are-using-computer-images-to-help-surgeons-plan-difficult-133155.html | D13: 600-700 | E13: SC | F13: Wrong | G13: 0.45
B14: 13 | C14: https://gmatclub.com/forum/at-an-orientation-meeting-the-travelers-were-told-that-a-visa-a-land-18856.html | D14: Sub 600 | E14: SC | F14: Right | G14: 0.05
B15: 14 | C15: https://gmatclub.com/forum/a-manufacturer-of-workstations-for-computer-aided-design-seeks-203281.html | D15: 600-700 | E15: CR | F15: Right | G15: 0.45
B16: 15 | C16: https://gmatclub.com/forum/the-total-market-value-of-real-estate-in-altonville-has-steadily-decli-138180.html | D16: 700 | E16: CR | F16: Right | G16: 0.75
B17: 16 | C17: https://gmatclub.com/forum/responding-to-the-public-s-fascination-with-and-sometimes-undue-alarm-80581.html#:~:text=Ron's%20explanation%20below%2C-,Responding%20to%20the%20public's%20fascination%20with%2Dand%20sometimes%20undue%20alarm,comet%20may%20collide%20with%20Earth.&text=In%20choosing%20between%20C%20and%20D%2C%20first%20consider%20the%20intended%20meaning. | D17: 700 | E17: SC | F17: Right | G17: 0.75
B18: 17 | C18: https://gmatclub.com/forum/although-women-s-wages-are-improving-department-of-labor-statistics-163178.html#:~:text=Although%20women's%20wages%20are%20improving%2C%20Department%20of%20Labor%20statistics%20show,been%20roughly%20static%20since%201960.&text=Moreover%2C%20while%20some%20women's%20wages,Since%201960%2C%20Mrs. | D18: Sub 600 | E18: SC | F18: Right | G18: 0.05
B19: 18 | C19: https://gmatclub.com/forum/telomerase-is-an-enzyme-that-is-produced-only-in-cells-that-are-active-31920.html | D19: 700 | E19: CR | F19: Right | G19: 0.65
B20: 19 | C20: https://gmatclub.com/forum/according-to-findings-derived-from-functional-magnetic-resonance-172084.html | D20: 600-700 | E20: SC | F20: Wrong | G20: 0.45
B21: 20 | C21: https://gmatclub.com/forum/it-is-illegal-to-advertise-prescription-medications-in-hedland-except-52016.html#:~:text=TAGS&text=02%3A17)%20wrong-,It%20is%20illegal%20to%20advertise%20prescription%20medications%20in%20Hedland%20except,general%20advertising%20of%20prescription%20medications. | D21: 600-700 | E21: CR | F21: Right | G21: 0.25
B22: 21 | C22: https://gmatclub.com/forum/the-discovery-that-earths-inner-core-rotates-independently-of-and-more-105144.html | D22: 700 | E22: SC | F22: Right | G22: 0.65
B23: 22 | C23: https://gmatclub.com/forum/travel-agents-are-market-intermediaries-who-make-their-89086.html | D23: 600-700 | E23: CR | F23: Right | G23: 0.45
B24: 23 | C24: https://gmatclub.com/forum/the-quality-of-unrefined-olive-oil-is-not-actually-defined-52837.html | D24: 600-700 | E24: CR | F24: Right | G24: 0.45
B25: 24 | C25: https://gmatclub.com/forum/written-in-ink-or-engraved-by-stylus-more-than-2-000-letters-and-docu-166639.html#:~:text=Jul%2030%2C%202019-,sivasanjeev%20wrote%3A%20Written%20in%20ink%20or%20engraved%20by%20stylus%2C%20more,so%20vivid%20in%20their%20details | D25: 600-700 | E25: SC | F25: Right | G25: 0.45
B26: 25 | C26: https://gmatclub.com/forum/now-the-fourth-most-important-crop-worldwide-166643.html | D26: Sub 600 | E26: SC | F26: Right | G26: 0.05
B27: 26 | C27: https://gmatclub.com/forum/medicare-the-united-states-government-s-health-insurance-program-for-82456.html#:~:text=for%20choice%20B-,Medicare%2C%20the%20United%20States%20government's%20health%20insurance%20program%20for%20the,20%20percent%20of%20the%20costs. | D27: 600-700 | E27: SC | F27: Right | G27: 0.25
B28: 27 | C28: https://gmatclub.com/forum/according-to-a-1996-survey-by-the-national-association-of-college-and-85428.html | D28: 700 | E28: SC | F28: Wrong | G28: 0.95
B29: 28 | C29: https://gmatclub.com/forum/unlike-frogs-that-metamorphose-from-tadpoles-into-adults-151036.html#:~:text=%5Bquote%3D%22pqhai%22%5D,up%20in%20summer%20or%20freeze | D29: Sub 600 | E29: SC | F29: Wrong | G29: 0.05
B30: 29 | C30: https://gmatclub.com/forum/manatees-aquatic-mammals-inhabiting-florida-s-rivers-and-coastal-96112.html | D30: 700 | E30: CR | F30: Wrong | G30: 0.65
B31: 30 | C31: https://gmatclub.com/forum/mice-that-have-been-given-morphine-are-very-likely-to-72808.html | D31: 700 | E31: CR | F31: Right | G31: 0.65
B32: 31 | C32: https://gmatclub.com/forum/the-fields-of-antebellum-pre-civil-war-political-history-and-women-s-64341.html#:~:text=understand%20the%20passage%3A-,The%20fields%20of%20antebellum%20(pre%2DCivil%20War)%20political%20history,and%20focus%20on%20separate%20issues.&text=Women's%20historians%2C%20meanwhile%20ignore%20party,of%20the%20woman's%20rights%20movement. | D32: Sub 600 | E32: RC | F32: Right | G32: Easy
B33: 32 | C33: https://gmatclub.com/forum/the-fields-of-antebellum-pre-civil-war-political-history-and-women-s-64341.html#:~:text=understand%20the%20passage%3A-,The%20fields%20of%20antebellum%20(pre%2DCivil%20War)%20political%20history,and%20focus%20on%20separate%20issues.&text=Women's%20historians%2C%20meanwhile%20ignore%20party,of%20the%20woman's%20rights%20movement. | D33: 700 | E33: RC | F33: Right | G33: Hard
B34: 33 | C34: https://gmatclub.com/forum/the-fields-of-antebellum-pre-civil-war-political-history-and-women-s-64341.html#:~:text=understand%20the%20passage%3A-,The%20fields%20of%20antebellum%20(pre%2DCivil%20War)%20political%20history,and%20focus%20on%20separate%20issues.&text=Women's%20historians%2C%20meanwhile%20ignore%20party,of%20the%20woman's%20rights%20movement. | D34: 700 | E34: RC | F34: Right | G34: Hard
B35: 34 | C35: https://gmatclub.com/forum/most-european-countries-offer-a-variety-of-programs-for-assisting-work-266813.html#:~:text=01%3A25)%20wrong-,Most%20European%20countries%20offer%20a%20variety%20of%20programs%20for%20assisting,subsidize%20public%20nurseries%20and%20kindergartens. | D35: Sub 600 | E35: SC | F35: Right | G35: 0.05
B36: 35 | C36: https://gmatclub.com/forum/citing-the-recent-increase-in-earnings-by-several-computer-50818.html | D36: Sub 600 | E36: SC | F36: Right | G36: 0.05
B37: 36 | C37: https://gmatclub.com/forum/a-swiss-government-panel-recommended-that-the-country-sell-18855.html#:~:text=Aug%2018%2C%202015-,Swiss%20government%20panel%20recommended%20that%20the%20country%20sell%20about%20half,E%20is%20the%20right%20answer. | D37: Sub 600 | E37: SC | F37: Right | G37: 0.05
K39: Correct | L39: Wrong | M39: Total | N39: % Correct
J40: SC | K40: 10 | L40: 4 | M40: 14 | N40: =K40/M40 -> 0.71428571
J41: RC | K41: 11 | L41: 2 | M41: 13 | N41: =K41/M41 -> 0.84615385
...

Sheet GMAT Prep 2
D1: Level | E1: Section | F1: Right/Wrong
B2: 1 | C2: https://gmatclub.com/forum/in-the-1980-s-astronomer-bohdan-paczynski-proposed-a-way-of-determini-176240.html | D2: Sub 600 | E2: RC | F2: Right | G2: Easy
B3: 2 | C3: https://gmatclub.com/forum/in-the-1980-s-astronomer-bohdan-paczynski-proposed-a-way-of-determini-176240.html | D3: Sub 600 | E3: RC | F3: Right | G3: Easy
B4: 3 | C4: https://gmatclub.com/forum/in-the-1980-s-astronomer-bohdan-paczynski-proposed-a-way-of-determini-176240.html | D4: Sub 600 | E4: RC | F4: Right | G4: Easy
B5: 4 | C5: https://gmatclub.com/forum/the-growing-popularity-of-computer-based-activities-was-widely-predict-80846.html | D5: 700 | E5: CR | F5: Right | G5: 0.55
B6: 5 | C6: https://gmatclub.com/forum/in-a-new-book-about-the-antiparty-feeling-of-the-early-political-leade-176249.html | D6: 600-700 | E6: RC | F6: Right | G6: Medium
B7: 6 | C7: https://gmatclub.com/forum/in-a-new-book-about-the-antiparty-feeling-of-the-early-political-leade-176249.html | D7: 700 | E7: RC | F7: Right | G7: Hard
B8: 7 | C8: https://gmatclub.com/forum/in-a-new-book-about-the-antiparty-feeling-of-the-early-political-leade-176249.html | D8: Sub 600 | E8: RC | F8: Right | G8: Easy
B9: 8 | C9: https://gmatclub.com/forum/in-a-new-book-about-the-antiparty-feeling-of-the-early-political-leade-176249.html | D9: Sub 600 | E9: RC | F9: Right | G9: Easy
B10: 9 | C10: https://gmatclub.com/forum/is-it-possible-to-decrease-inflation-without-causing-a-recession-and-i-200098.html#:~:text=The%20orthodox%20answer%20is%20%E2%80%9Cno,caused%20by%20workers'%20and%20employers' | D10: 700 | E10: RC | F10: Wrong | G10: Hard
B11: 10 | C11: https://gmatclub.com/forum/is-it-possible-to-decrease-inflation-without-causing-a-recession-and-i-200098.html#:~:text=The%20orthodox%20answer%20is%20%E2%80%9Cno,caused%20by%20workers'%20and%20employers' | D11: 600-700 | E11: RC | F11: Wrong | G11: Medium
B12: 11 | C12: https://gmatclub.com/forum/is-it-possible-to-decrease-inflation-without-causing-a-recession-and-i-200098.html#:~:text=The%20orthodox%20answer%20is%20%E2%80%9Cno,caused%20by%20workers'%20and%20employers' | D12: Sub 600 | E12: RC | F12: Right | G12: Medium
B13: 12 | C13: https://gmatclub.com/forum/there-are-no-legal-limits-as-there-are-for-cod-and-haddock-on-the-si-137187.html#:~:text=Answer%20is%20A-,A.,to%20their%20depletion%20through%20overfishing. | D13: 700 | E13: SC | F13: Right | G13: 0.55
B14: 13 | C14: https://gmatclub.com/forum/in-contrast-to-the-ongoing-trade-imbalances-with-china-and-japan-the-83077.html | D14: 600-700 | E14: SC | F14: Right | G14: 0.45
B15: 14 | C15: https://gmatclub.com/forum/insect-infestations-in-certain-cotton-growing-regions-of-the-world-hav-65459.html | D15: 700 | E15: CR | F15: Right | G15: 0.55
B16: 15 | C16: https://gmatclub.com/forum/kitchen-magazine-plans-to-license-the-use-of-its-name-by-a-line-of-coo-76306.html | D16: 700 | E16: CR | F16: Wrong | G16: 0.55
B17: 16 | C17: https://gmatclub.com/forum/more-than-300-rivers-drain-into-siberia-s-lake-baikal-which-holds-56738.html | D17: 600-700 | E17: SC | F17: Right | G17: 0.45
B18: 17 | C18: https://gmatclub.com/forum/for-the-farmer-who-takes-care-to-keep-them-cool-providing-them-with-161370.html | D18: 700 | E18: SC | F18: Right | G18: 0.95
B19: 18 | C19: https://gmatclub.com/forum/in-countries-where-automobile-insurance-includes-compensation-for-whip-102322.html | D19: 700 | E19: CR | F19: Right | G19: 0.85
B20: 19 | C20: https://gmatclub.com/forum/a-new-york-city-ordinance-of-1897-regulated-the-use-of-bicycles-manda-21317.html | D20: 600-700 | E20: SC | F20: Wrong | G20: 0.35
B21: 20 | C21: https://gmatclub.com/forum/magazine-publisher-our-magazine-does-not-have-a-liberal-bias-it-is-t-148440.html | D21: 600-700 | E21: CR | F21: Right | G21: 0.25
B22: 21 | C22: https://gmatclub.com/forum/fossils-of-a-whale-that-beached-on-an-african-shore-more-than-a-millio-197188.html#:~:text=Fossils%20of%20a%20%5Bwhale%20that,%5D%20was%20butchered%20by%20hominids%22. | D22: Sub 600 | E22: SC | F22: Right | G22: 0.05
B23: 22 | C23: https://gmatclub.com/forum/in-countries-in-which-new-life-sustaining-drugs-cannot-be-patented-su-43446.html | D23: 600-700 | E23: CR | F23: Right | G23: 0.25
B24: 23 | C24: https://gmatclub.com/forum/comcorp-shipping-clerk-last-week-no-shipments-of-building-supplies-199429.html | D24: 700 | E24: CR | F24: Right | G24: 0.85
B25: 24 | C25: https://gmatclub.com/forum/based-on-records-from-ancient-athens-each-year-young-athenian-women-90069.html | D25: 700 | E25: SC | F25: Right | G25: 0.65
B26: 25 | C26: https://gmatclub.com/forum/with-a-new-park-stadium-and-entertainment-complex-along-the-delaware-89983.html | D26: 600-700 | E26: SC | F26: Right | G26: 0.35
B27: 26 | C27: https://gmatclub.com/forum/for-the-first-time-in-the-modern-era-non-hispanic-whites-are-official-62739.html | D27: Sub 600 | E27: SC | F27: Right | G27: 0.15
B28: 27 | C28: https://gmatclub.com/forum/only-seven-people-this-century-have-been-killed-by-the-great-white-sha-72055.html | D28: 700 | E28: SC | F28: Right | G28: 0.55
B29: 28 | C29: https://gmatclub.com/forum/today-s-technology-allows-manufacturers-to-make-small-cars-more-fuel-118295.html#:~:text=Nov%2028%2C%202017-,Today's%20technology%20allows%20manufacturers%20to%20make%20small%20cars%20more%20fuel,time%20in%20their%20production%20history.&text=A)%20The%20%22are%22%20is,now%20is%20also%20a%20time. | D29: 700 | E29: SC | F29: Wrong | G29: 0.55
B30: 29 | C30: https://gmatclub.com/forum/following-several-years-of-declining-advertising-sales-the-greenville-73545.html | D30: 700 | E30: CR | F30: Right | G30: 0.85
B31: 30 | C31: https://gmatclub.com/forum/lyme-disease-is-caused-by-a-bacterium-transmitted-to-humans-by-deer-ti-77944.html | D31: 700 | E31: CR | F31: Right | G31: 0.95
B32: 31 | C32: https://gmatclub.com/forum/some-historians-contend-that-conditions-in-the-united-states-during-th-56739.html | D32: 700 | E32: RC | F32: Wrong | G32: Hard
B33: 32 | C33: https://gmatclub.com/forum/some-historians-contend-that-conditions-in-the-united-states-during-th-56739.html | D33: 600-700 | E33: RC | F33: Right | G33: Medium
B34: 33 | C34: https://gmatclub.com/forum/some-historians-contend-that-conditions-in-the-united-states-during-th-56739.html | D34: Sub 600 | E34: RC | F34: Right | G34: Easy
B35: 34 | C35: https://gmatclub.com/forum/many-financial-experts-believe-that-policy-makers-at-the-federal-reser-140004.html#:~:text=Apr%2013%2C%202014-,Many%20financial%20experts%20believe%20that%20policy%20makers%20at%20the%20Federal,unchanged%20for%20the%20foreseeable%20future. | D35: 600-700 | E35: SC | F35: Right | G35: 0.25
B36: 35 | C36: https://gmatclub.com/forum/unlike-most-severance-packages-which-require-workers-to-stay-until-th-128166.html#:~:text=Sep%2028%2C%202017-,Unlike%20most%20severance%20packages%2C%20which%20require%20workers%20to%20stay%20until,job%20before%20they%20are%20terminated.&text=Kudos%20please%20if%20you%20like%20my%20explanation!&text=2. | D36: 600-700 | E36: SC | F36: Right | G36: 0.35
B37: 36 | C37: https://gmatclub.com/forum/the-striking-differences-between-the-semantic-organization-of-native-a-133932.html | D37: Sub 600 | E37: SC | F37: Right | G37: 0.15
K39: Correct | L39: Wrong | M39: Total | N39: % Correct
J40: SC | K40: 10 | L40: 4 | M40: 14 | N40: =K40/M40 -> 0.71428571
J41: RC | K41: 10 | L41: 3 | M41: 13 | N41: =K41/M41 -> 0.76923077
...

Sheet GMAT Prep 1
D1: Level | E1: Section | F1: Right/Wrong
B2: 1 | C2: https://gmatclub.com/forum/unless-tiger-hunting-decreases-tigers-will-soon-be-extinct-in-the-wil-130388.html | D2: Sub 600 | E2: SC | F2: Right | G2: 0.15
B3: 2 | C3: https://gmatclub.com/forum/even-more-than-mountainside-slides-of-mud-or-snow-naturally-occurring-16455.html | D3: Sub 600 | E3: RC | F3: Right | G3: Easy
B4: 3 | C4: https://gmatclub.com/forum/even-more-than-mountainside-slides-of-mud-or-snow-naturally-occurring-16455.html | D4: Sub 600 | E4: RC | F4: Right | G4: Easy
B5: 4 | C5: https://gmatclub.com/forum/even-more-than-mountainside-slides-of-mud-or-snow-naturally-occurring-16455.html | D5: Sub 600 | E5: RC | F5: Right | G5: Easy
B6: 5 | C6: https://gmatclub.com/forum/the-united-states-government-has-a-long-standing-policy-of-using-feder-156465.html | D6: Sub 600 | E6: RC | F6: Right | G6: Easy
B7: 6 | C7: https://gmatclub.com/forum/the-united-states-government-has-a-long-standing-policy-of-using-feder-156465.html | D7: 700 | E7: RC | F7: Wrong | G7: Hard
B8: 7 | C8: https://gmatclub.com/forum/the-united-states-government-has-a-long-standing-policy-of-using-feder-156465.html | D8: 600-700 | E8: RC | F8: Wrong | G8: Medium
B9: 8 | C9: https://gmatclub.com/forum/the-united-states-government-has-a-long-standing-policy-of-using-feder-156465.html | D9: Sub 600 | E9: RC | F9: Wrong | G9: Easy
B10: 9 | C10: https://gmatclub.com/forum/so-dogged-were-frances-perkin-s-investigations-of-the-garment-industry-113690.html | D10: 700 | E10: SC | F10: Right | G10: 0.55
B11: 10 | C11: https://gmatclub.com/forum/since-february-the-federal-reserve-has-raised-its-short-term-interest-78308.html | D11: 600-700 | E11: SC | F11: Wrong | G11: 0.35
B12: 11 | C12: https://gmatclub.com/forum/in-attempting-to-solve-the-problems-caused-by-a-lowering-of-169457.html | D12: Sub 600 | E12: SC | F12: Right | G12: 0.05
B13: 12 | C13: https://gmatclub.com/forum/in-many-corporations-employees-are-being-replaced-by-automated-equipm-123019.html | D13: Sub 600 | E13: CR | F13: Right | G13: 0.15
B14: 13 | C14: https://gmatclub.com/forum/in-kravonia-the-average-salary-for-jobs-requiring-a-college-15609.html | D14: 600-700 | E14: CR | F14: Right | G14: 0.35
B15: 14 | C15: https://gmatclub.com/forum/the-state-has-proposed-new-rules-that-would-set-minimum-staffing-level-98741.html | D15: 600-700 | E15: SC | F15: Right | G15: 0.25
B16: 15 | C16: https://gmatclub.com/forum/in-archaeology-there-must-be-a-balance-between-explanation-of-the-val-78777.html#:~:text=nightwing79%20wrote%3A%20In%20archaeology%2C%20there,promote%20respect%20for%20archaeological%20sites. | D16: Sub 600 | E16: SC | F16: Right | G16: 0.05
B17: 16 | C17: https://gmatclub.com/forum/citizens-of-parktown-are-worried-by-the-increased-frequency-of-serious-186042.html | D17: 700 | E17: CR | F17: Right | G17: 0.55
B18: 17 | C18: https://gmatclub.com/forum/the-health-benefits-of-tea-have-been-the-subject-of-much-research-in-68379.html | D18: 700 | E18: SC | F18: Wrong | G18: 0.55
B19: 18 | C19: https://gmatclub.com/forum/rivaling-the-pyramids-of-egypt-or-even-the-ancient-cities-of-the-maya-67423.html | D19: 700 | E19: SC | F19: Right | G19: 0.55
B20: 19 | C20: https://gmatclub.com/forum/not-only-did-the-systematic-clearing-of-forests-in-the-united-states-81150.html | D20: 700 | E20: SC | F20: Wrong | G20: 0.85
B21: 20 | C21: https://gmatclub.com/forum/galileo-did-not-invent-the-telescope-but-on-hearing-in-1609-that-su-78199.html#:~:text=01%3A31)%20wrong-,Galileo%20did%20not%20invent%20the%20telescope%2C%20but%20on%20hearing%2C%20in,organ%20pipe%20and%20spectacle%20lenses. | D21: 600-700 | E21: SC | F21: Right | G21: 0.35
B22: 21 | C22: https://gmatclub.com/forum/between-1990-and-2000-the-global-economy-grew-more-than-it-did-during-24214.html | D22: 600-700 | E22: SC | F22: Right | G22: 0.35
B23: 22 | C23: https://gmatclub.com/forum/first-time-computer-buyers-buying-pxc-home-computers-typically-buy-66119.html | D23: 600-700 | E23: CR | F23: Right | G23: 0.45
B24: 23 | C24: https://gmatclub.com/forum/yeasts-capable-of-leavening-bread-are-widespread-and-in-the-many-cent-73672.html | D24: 600-700 | E24: CR | F24: Right | G24: 0.35
B25: 24 | C25: https://gmatclub.com/forum/at-the-annual-stockholders-meeting-investors-heard-a-presentation-on-113498.html | D25: 700 | E25: SC | F25: Right | G25: 0.55
B26: 25 | C26: https://gmatclub.com/forum/colonial-historian-david-allen-s-intensive-study-of-five-communities-i-176230.html | D26: 600-700 | E26: RC | F26: Right | G26: Medium
B27: 26 | C27: https://gmatclub.com/forum/colonial-historian-david-allen-s-intensive-study-of-five-communities-i-176230.html | D27: 600-700 | E27: RC | F27: Right | G27: Medium
B28: 27 | C28: https://gmatclub.com/forum/colonial-historian-david-allen-s-intensive-study-of-five-communities-i-176230.html | D28: 600-700 | E28: RC | F28: Right | G28: Medium
B29: 28 | C29: https://gmatclub.com/forum/colonial-historian-david-allen-s-intensive-study-of-five-communities-i-176230.html | D29: 600-700 | E29: RC | F29: Right | G29: Medium
B30: 29 | C30: https://gmatclub.com/forum/sales-of-telephones-have-increased-dramatically-over-the-last-year-in-136352.html | D30: 700 | E30: CR | F30: Wrong | G30: 0.65
B31: 30 | C31: https://gmatclub.com/forum/excavations-of-the-roman-city-of-sepphoris-have-uncovered-numerous-det-75701.html | D31: 700 | E31: CR | F31: Right | G31: 0.65
B32: 31 | C32: https://gmatclub.com/forum/many-people-believe-that-because-wages-are-lower-in-developing-countri-176235.html#:~:text=%22Many%20people%20believe%20that%20because,of%20jobs%20in%20developed%20countries. | D32: 600-700 | E32: RC | F32: Right | G32: Medium
B33: 32 | C33: https://gmatclub.com/forum/many-people-believe-that-because-wages-are-lower-in-developing-countri-176235.html#:~:text=%22Many%20people%20believe%20that%20because,of%20jobs%20in%20developed%20countries. | D33: 600-700 | E33: RC | F33: Right | G33: Medium
B34: 33 | C34: https://gmatclub.com/forum/many-people-believe-that-because-wages-are-lower-in-developing-countri-176235.html#:~:text=%22Many%20people%20believe%20that%20because,of%20jobs%20in%20developed%20countries. | D34: 600-700 | E34: RC | F34: Wrong | G34: Medium
B35: 34 | C35: https://gmatclub.com/forum/technological-improvements-and-reduced-equipment-costs-have-made-conve-26675.html | D35: 700 | E35: CR | F35: Right | G35: 0.75
B36: 35 | C36: https://gmatclub.com/forum/according-to-a-survey-of-graduating-medical-students-conducted-by-asso-80793.html | D36: 600-700 | E36: SC | F36: Wrong | G36: 0.55
B37: 36 | C37: https://gmatclub.com/forum/studying-the-fruit-fly-a-household-nuisance-but-a-time-honored-experi-39552.html | D37: 600-700 | E37: SC | F37: Right | G37: 0.05
K39: Correct | L39: Wrong | M39: Total | N39: % Correct
J40: SC | K40: 10 | L40: 4 | M40: 14 | N40: =K40/M40 -> 0.71428571
J41: RC | K41: 10 | L41: 4 | M41: 14 | N41: =K41/M41 -> 0.71428571
...

Sheet GMAT Prep 6
D1: Level | E1: Section | F1: Right/Wrong
B2: 1 | C2: https://gmatclub.com/forum/most-states-impose-limitations-on-the-authority-of-the-legislature-to-37141.html | D2: 600-700 | E2: SC | F2: Right | G2: 0.25
B3: 2 | C3: https://gmatclub.com/forum/columnist-people-should-avoid-using-a-certain-artificial-48998.html | D3: 700 | E3: CR | F3: Wrong | G3: 0.55
B4: 3 | C4: https://gmatclub.com/forum/many-large-department-stores-in-montalia-now-provide-shopping-carts-190889.html | D4: Sub 600 | E4: CR | F4: Right | G4: 0.05
B5: 4 | C5: https://gmatclub.com/forum/even-though-recent-national-statistics-suggest-a-240778.html | D5: Sub 600 | E5: SC | F5: Right | G5: 0.05
B6: 5 | C6: https://gmatclub.com/forum/diabetics-often-suffer-dangerously-low-blood-sugar-levels-222749.html | D6: Sub 600 | E6: CR | F6: Right | G6: 0.05
B7: 6 | C7: https://gmatclub.com/forum/a-new-drug-taken-twice-daily-for-one-month-is-an-effective-treatment-222505.html | D7: 700 | E7: CR | F7: Wrong | G7: 0.55
B8: 7 | C8: https://gmatclub.com/forum/discussion-of-greenhouse-effects-has-usually-focused-on-whether-the-81888.html | D8: 600-700 | E8: SC | F8: Right | G8: 0.45
B9: 8 | C9: https://gmatclub.com/forum/regulations-will-not-allow-a-pesticide-that-is-toxic-to-humans-to-be-u-105777.html | D9: 600-700 | E9: CR | F9: Right | G9: 0.35
B10: 9 | C10: https://gmatclub.com/forum/five-years-ago-as-part-of-a-plan-to-encourage-citizens-of-levaska-to-63930.html | D10: 600-700 | E10: CR | F10: Right | G10: 0.45
B11: 10 | C11: https://gmatclub.com/forum/located-at-the-very-coal-mines-that-provided-them-with-fuel-the-use-222968.html | D11: 600-700 | E11: SC | F11: Right | G11: 0.35
B12: 11 | C12: https://gmatclub.com/forum/as-a-trophy-property-the-price-offered-for-the-office-building-may-sa-232338.html | D12: Sub 600 | E12: SC | F12: Right | G12: 0.15
B13: 12 | C13: https://gmatclub.com/forum/for-several-years-buddy-s-bolt-barn-224155.html | D13: 600-700 | E13: CR | F13: Right | G13: 0.45
B14: 13 | C14: https://gmatclub.com/forum/although-the-cacao-plant-probably-originated-in-the-upper-amazon-regio-216107.html | D14: 600-700 | E14: SC | F14: Right | G14: 0.35
B15: 14 | C15: During the past 40 years, the star FG Sagittae has changed color from blue to yellow—direct evidence that its temper | D15: Sub 600 | E15: RC | F15: Right | G15: Easy
B16: 15 | C16: During the past 40 years, the star FG Sagittae has changed color from blue to yellow—direct evidence that its temper | D16: 700 | E16: RC | F16: Right | G16: Hard
B17: 16 | C17: During the past 40 years, the star FG Sagittae has changed color from blue to yellow—direct evidence that its temper | D17: 600-700 | E17: RC | F17: Wrong | G17: Medium
B18: 17 | C18: https://gmatclub.com/forum/a-recently-published-report-indicates-that-the-salaries-of-teachers-99793.html | D18: 600-700 | E18: SC | F18: Wrong | G18: 0.45
B19: 18 | C19: https://gmatclub.com/forum/historical-documents-have-revealed-that-among-the-timucua-of-florida-232340.html | D19: 600-700 | E19: RC | F19: Wrong | G19: Medium
B20: 19 | C20: https://gmatclub.com/forum/historical-documents-have-revealed-that-among-the-timucua-of-florida-232340.html | D20: 700 | E20: RC | F20: Right | G20: Hard
B21: 20 | C21: https://gmatclub.com/forum/historical-documents-have-revealed-that-among-the-timucua-of-florida-232340.html | D21: 600-700 | E21: RC | F21: Right | G21: Medium
B22: 21 | C22: https://gmatclub.com/forum/historical-documents-have-revealed-that-among-the-timucua-of-florida-232340.html | D22: 600-700 | E22: RC | F22: Right | G22: Medium
B23: 22 | C23: https://gmatclub.com/forum/in-1981-children-in-the-united-states-spent-an-average-of-slightly-les-68662.html | D23: 700 | E23: SC | F23: Wrong | G23: 0.65
B24: 23 | C24: https://gmatclub.com/forum/many-caliovian-consumers-are-committed-to-using-products-containing-233020.html | D24: 600-700 | E24: CR | F24: Right | G24: 0.45
B25: 24 | C25: https://gmatclub.com/forum/many-of-vebrol-corporation-s-department-heads-will-retire-this-year-t-232342.html | D25: 600-700 | E25: CR | F25: Right | G25: 0.45
B26: 25 | C26: https://gmatclub.com/forum/human-mortality-statistics-on-natural-deaths-suggest-the-possibility-218837.html | D26: 600-700 | E26: SC | F26: Right | G26: 0.25
B27: 26 | C27: https://gmatclub.com/forum/like-the-dreyfus-affair-at-the-century-and-the-sacco-vanzetti-trial-in-216997.html | D27: 700 | E27: SC | F27: Right | G27: 0.65
B28: 27 | C28: https://gmatclub.com/forum/the-quality-of-early-pieces-of-blown-glass-excavated-in-italy-and-west-74055.html | D28: 600-700 | E28: SC | F28: Right | G28: 0.35
B29: 28 | C29: https://gmatclub.com/forum/bumblebees-live-in-colonies-of-several-hundred-that-often-have-many-qu-218099.html | D29: 600-700 | E29: SC | F29: Right | G29: 0.25
B30: 29 | C30: https://gmatclub.com/forum/many-politicians-business-leaders-and-scholars-discount-the-role-of-137377.html | D30: 600-700 | E30: RC | F30: Right | G30: Medium
B31: 30 | C31: https://gmatclub.com/forum/many-politicians-business-leaders-and-scholars-discount-the-role-of-137377.html | D31: 600-700 | E31: RC | F31: Right | G31: Medium
B32: 31 | C32: https://gmatclub.com/forum/many-politicians-business-leaders-and-scholars-discount-the-role-of-137377.html | D32: 600-700 | E32: RC | F32: Right | G32: Medium | K32: 4
B33: 32 | C33: https://gmatclub.com/forum/as-charles-darwin-observed-natural-selection-operates-whenever-81321.html | D33: 600-700 | E33: SC | F33: Right | G33: 0.35
B34: 33 | C34: https://gmatclub.com/forum/changes-in-the-composition-of-the-light-of-a-supernova-an-exploding-43394.html | D34: Sub 600 | E34: SC | F34: Right | G34: 0.05
B35: 34 | C35: https://gmatclub.com/forum/in-the-wealth-of-nations-1776-scottish-economist-adam-smith-222662.html | D35: 700 | E35: RC | F35: Right | G35: Medium
B36: 35 | C36: https://gmatclub.com/forum/in-the-wealth-of-nations-1776-scottish-economist-adam-smith-222662.html | D36: 700 | E36: RC | F36: Wrong | G36: Hard
B37: 36 | C37: https://gmatclub.com/forum/in-the-wealth-of-nations-1776-scottish-economist-adam-smith-222662.html | D37: 700 | E37: RC | F37: Wrong | G37: Hard
K39: Correct | L39: Wrong | M39: Total | N39: % Correct
J40: SC | K40: 12 | L40: 2 | M40: 14 | N40: =K40/M40 -> 0.85714286
J41: RC | K41: 11 | L41: 4 | M41: 13 | N41: =K41/M41 -> 0.84615385
...

Sheet Manhattan Verbal 1
D1: Level | E1: Section | F1: Right/Wrong | G1: % ILE
B2: 1 | C2: https://gmatclub.com/forum/on-average-the-number-of-speeding-tickets-issued-in-county-x-every-ye-131511.html | D2: Sub 600 | E2: CR | F2: Right | G2: 0.15
B3: 2 | C3: https://gmatclub.com/forum/nearly-2000-years-after-its-initial-construction-the-united-nations-122439.html | D3: 600-700 | E3: SC | F3: Right | G3: 0.35
B4: 3 | C4: https://gmatclub.com/forum/if-interest-rates-remain-at-their-current-high-levels-many-people-who-152413.html | D4: 700-800 | E4: CR | F4: Wrong | G4: 0.65
B5: 4 | C5: https://gmatclub.com/forum/a-spokesman-for-the-organization-says-that-curt-gowdy-who-92846.html | D5: 600-700 | E5: SC | F5: Right | G5: 0.35
B6: 5 | C6: https://gmatclub.com/forum/local-authorities-are-considering-an-amendment-to-the-litter-law-that-85259.html | D6: 600-700 | E6: CR | F6: Right | G6: 0.55
B7: 6 | C7: https://gmatclub.com/forum/lysosomal-storage-diseases-form-a-category-of-genetic-disorders-result-134931.html | D7: 700-800 | E7: RC | F7: Wrong | G7: Hard
B8: 7 | C8: https://gmatclub.com/forum/lysosomal-storage-diseases-form-a-category-of-genetic-disorders-result-134931.html | D8: 700-800 | E8: RC | F8: Right | G8: Easy
B9: 8 | C9: https://gmatclub.com/forum/lysosomal-storage-diseases-form-a-category-of-genetic-disorders-result-134931.html | D9: Sub 600 | E9: RC | F9: Right | G9: Easy
B10: 9 | C10: https://gmatclub.com/forum/american-economists-continually-attempt-to-gauge-the-health-of-the-eco-153811.html | D10: 700-800 | E10: RC | F10: Right | G10: Medium
B11: 10 | C11: https://gmatclub.com/forum/american-economists-continually-attempt-to-gauge-the-health-of-the-eco-153811.html | D11: 700-800 | E11: RC | F11: Right | G11: easy
B12: 11 | C12: https://gmatclub.com/forum/american-economists-continually-attempt-to-gauge-the-health-of-the-eco-153811.html | D12: 600-700 | E12: RC | F12: Wrong | G12: Hard
B13: 12 | C13: https://gmatclub.com/forum/twenty-years-ago-rats-on-a-doc-301789.html | D13: 700-800 | E13: CR | F13: Wrong | G13: 0.75
B14: 13 | C14: https://gmatclub.com/forum/when-housing-prices-climb-too-quickly-the-federal-reserve-often-respo-82433.html | D14: 700-800 | E14: SC | F14: Right | G14: 0.15
B15: 14 | C15: https://gmatclub.com/forum/before-the-civil-war-harriet-tubman-along-with-other-former-slaves-193118.html | D15: 600-700 | E15: SC | F15: Right | G15: 0.45
B16: 15 | C16: https://gmatclub.com/forum/for-the-last-five-years-the-xyz-courier-company-has-made-regular-deli-117201.html | D16: 700-800 | E16: CR | F16: Wrong | G16: 0.95
B17: 16 | C17: https://gmatclub.com/forum/two-years-ago-the-cost-of-the-raw-material-used-in-a-103017.html | D17: 700-800 | E17: CR | F17: Right | G17: 0.65
B18: 17 | C18: https://gmatclub.com/forum/a-local-medical-software-company-suffers-from-understaffing-one-cause-295023.html | D18: 700-800 | E18: CR | F18: Right | G18: 0.65
B19: 18 | C19: https://gmatclub.com/forum/bowerbirds-derive-their-name-from-the-elaborate-bowers-of-sticks-and-273618.html | D19: 700-800 | E19: SC | F19: Right | G19: 0.75
B20: 19 | C20: https://gmatclub.com/forum/the-action-packed-gaming-company-based-on-the-success-of-the-previous-105403.html | D20: 700-800 | E20: CR | F20: Wrong | G20: 0.95
B21: 20 | C21: https://gmatclub.com/forum/numerous-studies-have-shown-that-the-income-levels-of-working-adults-85451.html | D21: 600-700 | E21: SC | F21: Right | G21: 0.35
B22: 21 | C22: https://gmatclub.com/forum/in-the-early-to-mid-1980s-a-business-practice-known-as-a-leveraged-b-63899.html | D22: 700-800 | E22: RC | F22: Wrong | G22: Hard
B23: 22 | C23: https://gmatclub.com/forum/in-the-early-to-mid-1980s-a-business-practice-known-as-a-leveraged-b-63899.html | D23: 600-700 | E23: RC | F23: Wrong | G23: Medium
B24: 23 | C24: https://gmatclub.com/forum/in-the-early-to-mid-1980s-a-business-practice-known-as-a-leveraged-b-63899.html | D24: Sub 600 | E24: RC | F24: Right | G24: Easy
B25: 24 | C25: https://gmatclub.com/forum/a-recent-study-of-the-united-states-tort-system-indicates-140112.html | D25: 600-700 | E25: SC | F25: Right | G25: 0.15
B26: 25 | C26: https://gmatclub.com/forum/in-1997-the-frequency-of-calvings-among-dairy-cows-increased-acro-117632.html#:~:text=Jan%206%2C%202016-,In%201997%20the%20frequency%20of%20calvings%20among%20dairy%20cows%20increased,%2D%2Dthan%20in%E2%80%94after%20Norway. | D26: 700-800 | E26: SC | F26: Right | G26: 0.35
B27: 26 | C27: https://gmatclub.com/forum/given-its-authoritative-coverage-of-other-science-topics-the-textbook-83553.html#:~:text=Jun%206%2C%202013-,Given%20its%20authoritative%20coverage%20of%20other%20science%20topics%2C%20the%20textbook's,scholarship%20in%20that%20particular%20area.&text=tentative%2C%20which%20leads-,Wrong.,of%20%22which%22%20is%20incorrect. | D27: 700-800 | E27: SC | F27: Right | G27: 0.45
B28: 27 | C28: https://gmatclub.com/forum/the-standard-framework-of-cap-and-trade-is-fundamentally-conservative-285036.html | D28: 700-800 | E28: SC | F28: Right | G28: 0.95
B29: 28 | C29: https://gmatclub.com/forum/low-levels-of-calcium-in-the-blood-are-known-to-cause-laryngeal-polyps-296199.html | D29: 700-800 | E29: CR | F29: Wrong | G29: 0.95
B30: 29 | C30: https://gmatclub.com/forum/noting-that-the-price-of-oil-and-other-fuel-components-a-major-factor-173471.html | D30: 700-800 | E30: SC | F30: Right | G30: 0.45
B31: 30 | C31: https://gmatclub.com/forum/equally-at-ease-scrambling-up-the-craggiest-and-treacherous-mountain-159510.html | D31: 600-700 | E31: SC | F31: Right | G31: 0.35
B32: 31 | C32: https://gmatclub.com/forum/in-april-1841-medical-missionary-reverend-peter-parker-m-d-address-141461.html | D32: 700-800 | E32: RC | F32: Wrong | G32: Hard
B33: 32 | C33: https://gmatclub.com/forum/in-april-1841-medical-missionary-reverend-peter-parker-m-d-address-141461.html | D33: 700-800 | E33: RC | F33: Right | G33: Hard
B34: 33 | C34: https://gmatclub.com/forum/in-april-1841-medical-missionary-reverend-peter-parker-m-d-address-141461.html | D34: 600-700 | E34: RC | F34: Wrong | G34: Hard
B35: 34 | C35: https://gmatclub.com/forum/two-years-ago-chapter-internet-the-only-internet-provider-in-the-coun-288502.html | D35: 700-800 | E35: CR | F35: Right | G35: 0.85
B36: 35 | C36: https://gmatclub.com/forum/in-deciding-between-a-low-deductible-medical-insurance-plan-169721.html | D36: 600-700 | E36: SC | F36: Right | G36: 0.25
B37: 36 | C37: https://gmatclub.com/forum/since-the-1980s-when-chile-adopted-free-market-economic-policies-269785.html | D37: 700-800 | E37: SC | F37: Wrong | G37: 0.95
H40: Correct | I40: Wrong | J40: Total | K40: % Correct
G41: SC | H41: 13 | I41: 1 | J41: 14 | K41: =H41/J41 -> 0.92857143
G42: RC | H42: 6 | I42: 6 | J42: 12 | K42: =H42/J42 -> 0.5
...

Sheet Manhattan Verbal 2
D1: Level | E1: Section | F1: Right/Wrong | G1: % ILE
B2: 1 | C2: Studies have shown that people who keep daily diet records are far more successful at losing weight than people who don’t keep track of what they eat. Researchers believe that many weight-loss efforts fail because people eat more calories than they intend to con | D2: Sub 600 | E2: CR | F2: Right | G2: 0.95
B3: 2 | C3: https://gmatclub.com/forum/an-emerging-genre-of-management-texts-purports-to-catalogue-the-293948.html | D3: 700 - 800 | E3: RC | F3: Right | G3: HARD
B4: 3 | C4: https://gmatclub.com/forum/an-emerging-genre-of-management-texts-purports-to-catalogue-the-293948.html | D4: 700 - 800 | E4: RC | F4: Right | G4: MEDIUM
B5: 4 | C5: https://gmatclub.com/forum/an-emerging-genre-of-management-texts-purports-to-catalogue-the-293948.html | D5: 700 - 800 | E5: RC | F5: Wrong | G5: HARD
B6: 5 | C6: https://gmatclub.com/forum/it-was-not-long-after-the-1930s-commenced-that-such-baritone-singers-58623.html | D6: 700 - 800 | E6: SC | F6: Right | G6: 0.55
B7: 6 | C7: https://gmatclub.com/forum/policy-makers-remain-concerned-about-the-prospect-of-inflation-althou-126221.html#:~:text=Kindly%20elaborate.&text=ruturajp%20wrote%3A%20Policy%20makers%20remain,of%20other%20goods%20so%20far.&text=So%20policy%20makers%20remain%20concerned,prospect%20(possibility)%20of%20inflation. | D7: 700 - 800 | E7: SC | F7: Wrong | G7: 0.95
B8: 7 | C8: https://gmatclub.com/forum/the-emerging-field-of-architectural-climatology-centers-on-t-155204.html | D8: 700 - 800 | E8: SC | F8: Wrong | G8: 0.95
B9: 8 | C9: https://gmatclub.com/forum/everyone-who-has-graduated-from-topnotch-high-school-has-an-intelligen-67058.html | D9: 700 - 800 | E9: CR | F9: Wrong | G9: 0.95
B10: 9 | C10: https://gmatclub.com/forum/independent-contractors-pay-higher-taxes-and-paid-less-consistently-207743.html#:~:text=sentence%20for%20D%3A-,Independent%20contractors%20pay%20higher%20taxes%20and%20are%20paid%20less%20consistently,of%20work%20for%20multiple%20businesses. | D10: 700 - 800 | E10: SC | F10: Wrong | G10: 0.75
B11: 10 | C11: https://gmatclub.com/forum/in-the-early-to-mid-1980s-a-business-practice-known-as-a-leveraged-b-63899.html#:~:text=Dec%2010%2C%202019-,In%20the%20early%20to%20mid%2D1980s%2C%20a%20business%20practice%20known,any%20of%20their%20own%20assets. | D11: 700 - 800 | E11: RC | F11: Wrong | G11: HARD
B12: 11 | C12: https://gmatclub.com/forum/in-the-early-to-mid-1980s-a-business-practice-known-as-a-leveraged-b-63899.html#:~:text=Dec%2010%2C%202019-,In%20the%20early%20to%20mid%2D1980s%2C%20a%20business%20practice%20known,any%20of%20their%20own%20assets. | D12: 600-700 | E12: RC | F12: Right | G12: Easy
B13: 12 | C13: https://gmatclub.com/forum/in-the-early-to-mid-1980s-a-business-practice-known-as-a-leveraged-b-63899.html#:~:text=Dec%2010%2C%202019-,In%20the%20early%20to%20mid%2D1980s%2C%20a%20business%20practice%20known,any%20of%20their%20own%20assets. | D13: Sub 600 | E13: RC | F13: Right | G13: Easy
B14: 13 | C14: https://gmatclub.com/forum/political-analyst-because-our-city-is-a-border-city-unauthorized-imm-85313.html | D14: 700 - 800 | E14: CR | F14: Right | G14: 0.95
B15: 14 | C15: https://gmatclub.com/forum/sales-at-a-local-sandwich-shop-have-been-declining-steadily-since-a-he-63920.html | D15: 600-700 | E15: CR | F15: Right | G15: 0.55
B16: 15 | C16: https://gmatclub.com/forum/nearly-2000-years-after-its-initial-construction-the-united-nations-122439.html | D16: 700 - 800 | E16: SC | F16: Right | G16: 0.35
B17: 16 | C17: https://gmatclub.com/forum/in-their-latest-press-release-the-company-s-new-management-stated-a-146375.html | D17: 700 - 800 | E17: SC | F17: Right | G17: 0.45
B18: 17 | C18: https://gmatclub.com/forum/noting-that-the-price-of-oil-and-other-fuel-components-a-major-factor-173471.html | D18: 700 - 800 | E18: SC | F18: Wrong | G18: 0.55
B19: 18 | C19: https://gmatclub.com/forum/the-single-celled-parasite-known-as-toxoplasma-gondii-infects-more-195490.html | D19: 700 - 800 | E19: RC | F19: Wrong | G19: HARD
B20: 19 | C20: https://gmatclub.com/forum/the-single-celled-parasite-known-as-toxoplasma-gondii-infects-more-195490.html | D20: 700 - 800 | E20: RC | F20: Right | G20: HARD
B21: 20 | C21: https://gmatclub.com/forum/the-single-celled-parasite-known-as-toxoplasma-gondii-infects-more-195490.html | D21: 700 - 800 | E21: RC | F21: Wrong | G21: HARD
B22: 21 | C22: https://gmatclub.com/forum/the-media-claim-that-the-economy-is-entering-a-phase-of-growth-and-pro-32011.html | D22: 700 - 800 | E22: CR | F22: Right | G22: 0.55
B23: 22 | C23: https://gmatclub.com/forum/the-climbing-season-of-2006-was-the-deadliest-on-record-for-132421.html | D23: 700 - 800 | E23: CR | F23: Right | G23: 0.65
B24: 23 | C24: https://gmatclub.com/forum/residents-of-iqaluit-the-largest-town-in-the-canadian-territory-of-nu-200580.html | D24: 700 - 800 | E24: SC | F24: Wrong | G24: 0.75
B25: 24 | C25: https://gmatclub.com/forum/the-standard-framework-of-cap-and-trade-is-fundamentally-conservative-285036.html#:~:text=02%3A15)%20wrong-,The%20standard%20framework%20of%20cap%20and%20trade%20is%20fundamentally%20conservative,company%20must%20pay%20to%20pollute. | D25: 700 - 800 | E25: SC | F25: Right | G25: 0.95
B26: 25 | C26: https://gmatclub.com/forum/a-recent-and-popular-self-help-book-wryly-notes-that-if-adolescence-82097.html#:~:text=Sep%2017%2C%202017-,sk88%20wrote%3A%20A%20recent%20and%20popular%20self%2Dhelp%20book%20wryly,aspect%2C%20at%20least%20in%20retrospect.&text=The%20original%20contains%20a%20verb,adolescence%20was%E2%80%9D%20is%20improper%20subjunctive. | D26: 700 - 800 | E26: SC | F26: Right | G26: 0.25
B27: 26 | C27: https://gmatclub.com/forum/for-profit-colleges-serve-far-fewer-students-than-either-public-or-pri-85314.html | D27: 700 - 800 | E27: CR | F27: Right | G27: 0.65
B28: 27 | C28: https://gmatclub.com/forum/according-to-a-recent-magazine-article-of-those-office-employees-who-109613.html | D28: 700 - 800 | E28: CR | F28: Right | G28: 0.95
B29: 28 | C29: https://gmatclub.com/forum/florida-s-gainesville-hawthorne-state-trail-a-mixed-use-147921.html | D29: 700 - 800 | E29: SC | F29: Right | G29: 0.55
B30: 29 | C30: https://gmatclub.com/forum/measuring-more-than-five-feet-tall-and-ten-feet-long-the-ja-142095.html | D30: 700 - 800 | E30: RC | F30: Wrong
B31: 30 | C31: https://gmatclub.com/forum/measuring-more-than-five-feet-tall-and-ten-feet-long-the-ja-142095.html | D31: 600-700 | E31: RC | F31: Wrong
B32: 31 | C32: https://gmatclub.com/forum/measuring-more-than-five-feet-tall-and-ten-feet-long-the-ja-142095.html | D32: 600-700 | E32: RC | F32: Right
B33: 32 | C33: https://gmatclub.com/forum/according-to-the-national-science-foundation-in-2003-there-were-51309.html#:~:text=Sep%2017%2C%202017-,ColumbiaDream%20wrote%3A%20According%20to%20the%20National%20Science%20Foundation%2C%20in%202003,twice%20as%20much%20as%201981.&text=OFFICIAL%20EXPLANATION-,In%20the%20original%20sentence%2C%20%E2%80%9Cmuch%E2%80%9D%20incorrectly%20references%20the,quantity%20of%20female%20graduate%20students. | D33: 700 - 800 | E33: SC | F33: Wrong | G33: 0.75
B34: 33 | C34: https://gmatclub.com/forum/john-in-several-months-of-going-to-the-apex-health-club-148980.html | D34: 700 - 800 | E34: CR | F34: Right | G34: 0.95
B35: 34 | C35: https://gmatclub.com/forum/stymieing-the-armada-s-plans-to-meet-up-with-the-duke-of-parma-s-army-238039.html#:~:text=Feb%2011%2C%202018-,techiesam%20wrote%3A%20Stymieing%20the%20Armada's%20plans%20to%20meet%20up%20with,vessels%20filled%20with%20flammable%20materials | D35: 700 - 800 | E35: SC | F35: Wrong | G35: 0.65
B36: 35 | C36: https://gmatclub.com/forum/analyst-creative-professionals-such-as-clothing-designers-graphic-46586.html | D36: 700 - 800 | E36: CR | F36: Right | G36: 0.45
B37: 36 | C37: https://gmatclub.com/forum/based-on-recent-box-office-receipts-the-public-s-appetite-51356.html#:~:text=Aug%2029%2C%202007-,Piter%20wrote%3A%20Based%20on%20recent%20box%20office%20receipts%2C%20the%20public's,to%20be%20on%20the%20rise.&text=Aug%2029%2C%202007-,Based%20on%20recent%20box%20office%20receipts%2C%20the%20public's%20appetite%20for,to%20be%20on%20the%20rise. | D37: 600-700 | E37: SC | F37: Wrong | G37: 0.55
F38: `
I40: Correct | J40: Wrong | K40: Total | L40: % Correct
H41: SC | I41: 6 | J41: 8 | K41: 14 | L41: =I41/K41 -> 0.42857143
...
