Workbook
Name OG_2016_PS_Diag_Results_1: 'Diag Q'!$C$3:$G$26
Name DiffLevelHard: Analysis!$AF$4
Name EL_Category: 'Error Log'!$F$2
Name EL_AnswerChoice: 'Error Log'!$G$2
Name OG_2016_SC_Results: SC!$E$3:$H$173
Name OG_2016_DS_Diag_Results_1: 'Diag Q'!$C$27:$G$50
Name EL_Section: 'Error Log'!$C$2
Name EL_Percentile: 'Error Log'!$E$2
Name OG_2016_CR_Results: CR!$E$3:$H$142
Name DiffLevelNA: Analysis!$AF$6
Name OG_2016_CR_Results: 'RC'!$E$3:$H$141
Name DiffLevelEasy: Analysis!$AF$2
Name EL_Question: 'Error Log'!$A$2
Name EL_QuestionNo: #REF!
Name EL_DifferentLevel: 'Error Log'!$D$2
Name OG_2016_DS_Diag_Results: 'Diag Q'!$C$27:$G$50
Name EL_Result: 'Error Log'!$H$2
Name OG_2016_PS_Results: PS!$A$3:$H$264
Name DiffLevelMedium: Analysis!$AF$3
Name EL_TimeTotal: 'Error Log'!$I$2
Name OG_2016_PS_Diag_Results: 'Diag Q'!$C$3:$G$26
Name DiffLevelVeryHard: Analysis!$AF$5

Sheet About
C2: GMAT CLUB - Contributing to Each Other's Learning | M2: =HYPERLINK("https://gmatclub.com/forum/error-log-for-gmat-official-guide-339692.html","Need Help? Visit this discussion:") -> Need Help? Visit this discussion:
B4: Error Log to the Official GMAT Guide 2021 Edition
B5: NOTE: Please go to FIle > Save a Copy to create YOUR editable version of this file FEATURES: - New Questions highlighted with a dedicated Column for easy filtering - Track your progress through the Official Guide for GMAT Review 2021 edition - To analyze your mistakes in the Official Guide (Error log and Analysis tabs) - To help find specific practice questions and build your custom practice tests that focus on your weak areas Good Luck on the GMAT! GMAT Club Updated: 11/18/2020 (fixed PS numbering)

Sheet Diag Q
A1: The GMAT Club Guide to the Official GMAT Guide 2021 Edition
B2: Difficulty | C2: Percentile | D2: Type | E2: OA | F2: Primary Category
A3: 1 | B3: =IF(C3<24%,"Easy", IF(C3>74%, "Very Hard", IF(C3<50%, "Medium", "Hard"))) -> Medium | C3: 0.45 | D3: PS | E3: A | F3: Arithmetic/Word Problems/Inequalities
A4: 2 | B4: =IF(C4<24%,"Easy", IF(C4>74%, "Very Hard", IF(C4<50%, "Medium", "Hard"))) -> Easy | C4: 0.05 | D4: PS | E4: D | F4: Statistics and Sets Problems
A5: 3 | B5: =IF(C5<24%,"Easy", IF(C5>74%, "Very Hard", IF(C5<50%, "Medium", "Hard"))) -> Easy | C5: 0.05 | D5: PS | E5: E | F5: Sequences
A6: 4 | B6: =IF(C6<24%,"Easy", IF(C6>74%, "Very Hard", IF(C6<50%, "Medium", "Hard"))) -> Medium | C6: 0.25 | D6: PS | E6: B | F6: Overlapping Sets/Percents and Interest Problems/Probability
A7: 5 | B7: =IF(C7<24%,"Easy", IF(C7>74%, "Very Hard", IF(C7<50%, "Medium", "Hard"))) -> Hard | C7: 0.55 | D7: PS | E7: B | F7: Geometry
A8: 6 | B8: =IF(C8<24%,"Easy", IF(C8>74%, "Very Hard", IF(C8<50%, "Medium", "Hard"))) -> Medium | C8: 0.45 | D8: PS | E8: A | F8: Overlapping Sets
A9: 7 | B9: =IF(C9<24%,"Easy", IF(C9>74%, "Very Hard", IF(C9<50%, "Medium", "Hard"))) -> Hard | C9: 0.65 | D9: PS | E9: E | F9: Probability
A10: 8 | B10: =IF(C10<24%,"Easy", IF(C10>74%, "Very Hard", IF(C10<50%, "Medium", "Hard"))) -> Hard | C10: 0.55 | D10: PS | E10: E | F10: Fractions/Ratios/Decimals/Statistics and Sets Problems
A11: 9 | B11: =IF(C11<24%,"Easy", IF(C11>74%, "Very Hard", IF(C11<50%, "Medium", "Hard"))) -> Easy | C11: 0.05 | D11: PS | E11: D | F11: Statistics and Sets Problems
A12: 10 | B12: =IF(C12<24%,"Easy", IF(C12>74%, "Very Hard", IF(C12<50%, "Medium", "Hard"))) -> Very Hard | C12: 0.75 | D12: PS | E12: C | F12: Geometry
A13: 11 | B13: =IF(C13<24%,"Easy", IF(C13>74%, "Very Hard", IF(C13<50%, "Medium", "Hard"))) -> Very Hard | C13: 0.95 | D13: PS | E13: C | F13: Combinations
A14: 12 | B14: =IF(C14<24%,"Easy", IF(C14>74%, "Very Hard", IF(C14<50%, "Medium", "Hard"))) -> Easy | C14: 0.15 | D14: PS | E14: C | F14: Percents and Interest Problems
... A50: 48 | B50: =IF(C50<24%,"Easy", IF(C50>74%, "Very Hard", IF(C50<50%, "Medium", "Hard"))) -> Medium | C50: 0.35 | D50: DS | E50: C | F50: Geometry

Sheet Diag V
A1: The GMAT Club Guide to the Official GMAT Guide 2021 Edition
A2: Question | B2: Difficulty | C2: Percentile | D2: Type | E2: OA | F2: Primary Category
A3: 49 | B3: =IF(C3<24%,"Easy", IF(C3>74%, "Very Hard", IF(C3<50%, "Medium", "Hard"))) -> Easy | C3: 0.18 | D3: RC | E3: E | F3: Business/Short Passage
A4: =A3+1 -> 50 | B4: =IF(C4<24%,"Easy", IF(C4>74%, "Very Hard", IF(C4<50%, "Medium", "Hard"))) -> Medium | C4: 0.39 | D4: RC | E4: C | F4: Business/Short Passage
A5: =A4+1 -> 51 | B5: =IF(C5<24%,"Easy", IF(C5>74%, "Very Hard", IF(C5<50%, "Medium", "Hard"))) -> Easy | C5: 0.19 | D5: RC | E5: B | F5: Business/Short Passage
A6: =A5+1 -> 52 | B6: =IF(C6<24%,"Easy", IF(C6>74%, "Very Hard", IF(C6<50%, "Medium", "Hard"))) -> Easy | C6: 0.22 | D6: RC | E6: A | F6: Business/Short Passage
A7: =A6+1 -> 53 | B7: =IF(C7<24%,"Easy", IF(C7>74%, "Very Hard", IF(C7<50%, "Medium", "Hard"))) -> Medium | C7: 0.35 | D7: RC | E7: D | F7: Business/Short Passage
A8: =A7+1 -> 54 | B8: =IF(C8<24%,"Easy", IF(C8>74%, "Very Hard", IF(C8<50%, "Medium", "Hard"))) -> Medium | C8: 0.39 | D8: RC | E8: C | F8: Science/Long Passage
A9: =A8+1 -> 55 | B9: =IF(C9<24%,"Easy", IF(C9>74%, "Very Hard", IF(C9<50%, "Medium", "Hard"))) -> Easy | C9: 0.22 | D9: RC | E9: A | F9: Science/Long Passage
A10: =A9+1 -> 56 | B10: =IF(C10<24%,"Easy", IF(C10>74%, "Very Hard", IF(C10<50%, "Medium", "Hard"))) -> Hard | C10: 0.51 | D10: RC | E10: A | F10: Science/Long Passage
A11: =A10+1 -> 57 | B11: =IF(C11<24%,"Easy", IF(C11>74%, "Very Hard", IF(C11<50%, "Medium", "Hard"))) -> Hard | C11: 0.59 | D11: RC | E11: B | F11: Science/Long Passage
A12: =A11+1 -> 58 | B12: =IF(C12<24%,"Easy", IF(C12>74%, "Very Hard", IF(C12<50%, "Medium", "Hard"))) -> Medium | C12: 0.31 | D12: RC | E12: A | F12: Science/Long Passage
A13: =A12+1 -> 59 | B13: =IF(C13<24%,"Easy", IF(C13>74%, "Very Hard", IF(C13<50%, "Medium", "Hard"))) -> Medium | C13: 0.37 | D13: RC | E13: B | F13: Science/Long Passage
A14: =A13+1 -> 60 | B14: =IF(C14<24%,"Easy", IF(C14>74%, "Very Hard", IF(C14<50%, "Medium", "Hard"))) -> Medium | C14: 0.35 | D14: RC | E14: D | F14: Social Science/Short Passage
A15: =A14+1 -> 61 | B15: =IF(C15<24%,"Easy", IF(C15>74%, "Very Hard", IF(C15<50%, "Medium", "Hard"))) -> Medium | C15: 0.36 | D15: RC | E15: B | F15: Social Science/Short Passage
... A54: =A53+1 -> 100 | B54: =IF(C54<24%,"Easy", IF(C54>74%, "Very Hard", IF(C54<50%, "Medium", "Hard"))) -> Easy | C54: 0.05 | D54: SC | E54: E | F54: Parallel Structure

Sheet PS
A1: The GMAT Club Guide to the Official GMAT Guide 2021 Edition
A2: Question | B2: ID | C2: New? | D2: Difficulty | E2: Percentile | F2: OA | G2: Primary Category | H2: Text
A3: 1 | B3: PS02991 | D3: =IF(E3<24%,"Easy", IF(E3>74%, "Very Hard", IF(E3<50%, "Medium", "Hard"))) -> Easy | E3: 0.05 | F3: B | G3: Geometry | H3: In the figure the 6 small squares are identical each with sides of l
A4: =A3+1 -> 2 | B4: PS09868 | D4: =IF(E4<24%,"Easy", IF(E4>74%, "Very Hard", IF(E4<50%, "Medium", "Hard"))) -> Easy | E4: 0.05 | F4: D | G4: Arithmetic/Graphs and Illustrations | H4: The table shows a summary of the ticket sales from four performances o
A5: =A4+1 -> 3 | B5: PS10002 | D5: =IF(E5<24%,"Easy", IF(E5>74%, "Very Hard", IF(E5<50%, "Medium", "Hard"))) -> Easy | E5: 0.05 | F5: D | G5: Statistics and Sets Problems | H5: During a trip that they took together carmen juan maria a
A6: =A5+1 -> 4 | B6: PS07308 | D6: =IF(E6<24%,"Easy", IF(E6>74%, "Very Hard", IF(E6<50%, "Medium", "Hard"))) -> Easy | E6: 0.05 | F6: C | G6: Word Problems | H6: Each week a clothing salesperson receives a commission equal
A7: =A6+1 -> 5 | B7: PS07799 | D7: =IF(E7<24%,"Easy", IF(E7>74%, "Very Hard", IF(E7<50%, "Medium", "Hard"))) -> Easy | E7: 0.05 | F7: A | G7: Arithmetic/Word Problems | H7: A certain restaurant that regularly advertises through the mail has
A8: =A7+1 -> 6 | B8: PS02599 | D8: =IF(E8<24%,"Easy", IF(E8>74%, "Very Hard", IF(E8<50%, "Medium", "Hard"))) -> Easy | E8: 0.05 | F8: E | G8: Geometry | H8: In the figure above what are the coordinates of point r
A9: =A8+1 -> 7 | B9: PS08877 | D9: =IF(E9<24%,"Easy", IF(E9>74%, "Very Hard", IF(E9<50%, "Medium", "Hard"))) -> Easy | E9: 0.05 | F9: E | G9: Percents and Interest Problems | H9: The price of a coat in a certain store is 500 if the price of the co
A10: =A9+1 -> 8 | B10: PS05410 | D10: =IF(E10<24%,"Easy", IF(E10>74%, "Very Hard", IF(E10<50%, "Medium", "Hard"))) -> Easy | E10: 0.05 | F10: C | G10: Arithmetic | H10: (1/2-1/3)+(1/3-1/4)+(1/4-1/5)+(1/5-1/6)
A11: =A10+1 -> 9 | B11: PS05001 | D11: =IF(E11<24%,"Easy", IF(E11>74%, "Very Hard", IF(E11<50%, "Medium", "Hard"))) -> Easy | E11: 0.05 | F11: E | G11: Word Problems | H11: While a family was away on vacation they paid a neighborhood boy
A12: =A11+1 -> 10 | B12: PS17812 | D12: =IF(E12<24%,"Easy", IF(E12>74%, "Very Hard", IF(E12<50%, "Medium", "Hard"))) -> Easy | E12: 0.15 | F12: B | G12: Word Problems | H12: Last year 48 000 of a certain store s profit was shared by its 2 owne
A13: =A12+1 -> 11 | B13: PS02295 | D13: =IF(E13<24%,"Easy", IF(E13>74%, "Very Hard", IF(E13<50%, "Medium", "Hard"))) -> Easy | E13: 0.05 | F13: D | G13: Fractions/Ratios/Decimals | H13: On a vacation rose exchanged 500 00 for euros at an exchange rate of
A14: =A13+1 -> 12 | B14: PS08461 | D14: =IF(E14<24%,"Easy", IF(E14>74%, "Very Hard", IF(E14<50%, "Medium", "Hard"))) -> Easy | E14: 0.05 | F14: E | G14: Fractions/Ratios/Decimals | H14: Each of the 12 squares shown is labeled x y v or w what is the ratio
A15: =A14+1 -> 13 | B15: PS02382 | D15: =IF(E15<24%,"Easy", IF(E15>74%, "Very Hard", IF(E15<50%, "Medium", "Hard"))) -> Easy | E15: 0.05 | F15: A | G15: Coordinate Geometry | H15: In the xy coordinate plane if the point 0 2 lies on the graph of th
A16: 14 | B16: PS01248 | D16: =IF(E16<24%,"Easy", IF(E16>74%, "Very Hard", IF(E16<50%, "Medium", "Hard"))) -> Easy | E16: 0.05 | F16: B | G16: Number Properties/Word Problems | H16: Bouquets are to be made using white tulips and red tulips and the rat
A17: 15 | B17: PS07369 | D17: =IF(E17<24%,"Easy", IF(E17>74%, "Very Hard", IF(E17<50%, "Medium", "Hard"))) -> Easy | E17: 0.15 | F17: C | G17: Word Problems | H17: Over the past 7 weeks the smith family had weekly grocery bills of
A18: 16 | B18: PS14861 | D18: =IF(E18<24%,"Easy", IF(E18>74%, "Very Hard", IF(E18<50%, "Medium", "Hard"))) -> Easy | E18: 0.05 | F18: E | G18: Arithmetic/Percents and Interest Problems | H18: 125% of 5
A19: 17 | B19: PS02764 | D19: =IF(E19<24%,"Easy", IF(E19>74%, "Very Hard", IF(E19<50%, "Medium", "Hard"))) -> Easy | E19: 0.05 | F19: C | G19: Statistics and Sets Problems | H19: During a recent storm 9 neighborhoods experienced power failures of
A20: 18 | B20: PS02286 | D20: =IF(E20<24%,"Easy", IF(E20>74%, "Very Hard", IF(E20<50%, "Medium", "Hard"))) -> Easy | E20: 0.05 | F20: D | G20: Distance/Rate Problems/Word Problems | H20: When traveling at a constant speed of 32 miles per hour a certain mot
A21: =A20+1 -> 19 | B21: PS11906 | D21: =IF(E21<24%,"Easy", IF(E21>74%, "Very Hard", IF(E21<50%, "Medium", "Hard"))) -> Easy | E21: 0.05 | F21: E | G21: Percents and Interest Problems/Word Problems | H21: A technician makes a round trip to and from a certain service center b
A22: =A21+1 -> 20 | B22: PS15957 | D22: =IF(E22<24%,"Easy", IF(E22>74%, "Very Hard", IF(E22<50%, "Medium", "Hard"))) -> Medium | E22: 0.25 | F22: B | G22: Word Problems | H22: From 2000 to 2003 the number of employees at a certain company increa
A23: =A22+1 -> 21 | B23: PS00984 | D23: =IF(E23<24%,"Easy", IF(E23>74%, "Very Hard", IF(E23<50%, "Medium", "Hard"))) -> Easy | E23: 0.05 | F23: E | G23: Statistics and Sets Problems | H23: Which of the following statements must be true about the average arit
A24: =A23+1 -> 22 | B24: PS15358 | D24: =IF(E24<24%,"Easy", IF(E24>74%, "Very Hard", IF(E24<50%, "Medium", "Hard"))) -> Easy | E24: 0.15 | F24: B | G24: Algebra | H24: A collection of 16 coins each with a face value of either 10 cents or
A25: 23 | B25: PS09707 | D25: =IF(E25<24%,"Easy", IF(E25>74%, "Very Hard", IF(E25<50%, "Medium", "Hard"))) -> Easy | E25: 0.05 | F25: C | G25: Word Problems | H25: A retailer purchased eggs at 2 80 per dozen and sold the eggs at 3 eg
A26: =A25+1 -> 24 | B26: PS02127 | D26: =IF(E26<24%,"Easy", IF(E26>74%, "Very Hard", IF(E26<50%, "Medium", "Hard"))) -> Easy | E26: 0.05 | F26: C | G26: Probability | H26: In a set of 24 cards each card is numbered with a different positive
A27: =A26+1 -> 25 | B27: PS12542 | D27: =IF(E27<24%,"Easy", IF(E27>74%, "Very Hard", IF(E27<50%, "Medium", "Hard"))) -> Easy | E27: 0.05 | F27: E | G27: Geometry | H27: If the circumference of a circle inscribed in a square is 25 what is
A28: =A27+1 -> 26 | B28: PS03972 | D28: =IF(E28<24%,"Easy", IF(E28>74%, "Very Hard", IF(E28<50%, "Medium", "Hard"))) -> Easy | E28: 0.05 | F28: E | G28: Inequalities | H28: If 1 x y z which of the following has the greatest value
A29: =A28+1 -> 27 | B29: PS00087 | D29: =IF(E29<24%,"Easy", IF(E29>74%, "Very Hard", IF(E29<50%, "Medium", "Hard"))) -> Medium | E29: 0.25 | F29: C | G29: Number Properties/Statistics and Sets Problems | H29: Set x consists of eight consecutive integers set y consists of all th
A30: =A29+1 -> 28 | B30: PS05239 | D30: =IF(E30<24%,"Easy", IF(E30>74%, "Very Hard", IF(E30<50%, "Medium", "Hard"))) -> Easy | E30: 0.05 | F30: B | G30: Arithmetic | H30: Of the following which is the closest to
A31: 29 | B31: PS15402 | D31: =IF(E31<24%,"Easy", IF(E31>74%, "Very Hard", IF(E31<50%, "Medium", "Hard"))) -> Easy | E31: 0.15 | F31: B | G31: Algebra | H31: Thabo owns exactly 140 books and each book is either paperback fictio
A32: =A31+1 -> 30 | B32: PS04571 | D32: =IF(E32<24%,"Easy", IF(E32>74%, "Very Hard", IF(E32<50%, "Medium", "Hard"))) -> Easy | E32: 0.05 | F32: C | G32: Arithmetic | H32: If the average arithmetic mean of the four numbers 3 15 32 and n
A33: =A32+1 -> 31 | B33: PS13801 | D33: =IF(E33<24%,"Easy", IF(E33>74%, "Very Hard", IF(E33<50%, "Medium", "Hard"))) -> Easy | E33: 0.05 | F33: D | G33: Word Problems/Geometry | H33: Abdul barb and carlos all live on the same straight road on which
A34: =A33+1 -> 32 | B34: PS00534 | D34: =IF(E34<24%,"Easy", IF(E34>74%, "Very Hard", IF(E34<50%, "Medium", "Hard"))) -> Easy | E34: 0.05 | F34: D | G34: Geometry | H34: In the figure shown what is the value of x
A35: =A34+1 -> 33 | B35: PS17479 | D35: =IF(E35<24%,"Easy", IF(E35>74%, "Very Hard", IF(E35<50%, "Medium", "Hard"))) -> Easy | E35: 0.05 | F35: E | G35: Word Problems/Work/Rate Problems | H35: During a certain time period car x traveled north along a straight ro
A36: =A35+1 -> 34 | B36: PS13707 | D36: =IF(E36<24%,"Easy", IF(E36>74%, "Very Hard", IF(E36<50%, "Medium", "Hard"))) -> Easy | E36: 0.05 | F36: C | G36: Fractions/Ratios/Decimals/Word Problems | H36: Cheryl purchased 5 identical hollow pine doors and 6 identical solid o
A37: =A36+1 -> 35 | B37: PS01233 | D37: =IF(E37<24%,"Easy", IF(E37>74%, "Very Hard", IF(E37<50%, "Medium", "Hard"))) -> Easy | E37: 0.15 | F37: C | G37: Min/Max Problems/Word Problems | H37: A certain store will order 25 crates of apples the apples will be of
A38: =A37+1 -> 36 | B38: PS02007 | D38: =IF(E38<24%,"Easy", IF(E38>74%, "Very Hard", IF(E38<50%, "Medium", "Hard"))) -> Easy | E38: 0.15 | F38: E | G38: Word Problems | H38: A bicycle store purchased two bicycles one for 250 and the other for
A39: =A38+1 -> 37 | B39: PS10628 | D39: =IF(E39<24%,"Easy", IF(E39>74%, "Very Hard", IF(E39<50%, "Medium", "Hard"))) -> Easy | E39: 0.05 | F39: C | G39: Geometry | H39: In the figure shown ac 2 and bd dc 1 what is the measure of
A40: =A39+1 -> 38 | B40: PS12786 | D40: =IF(E40<24%,"Easy", IF(E40>74%, "Very Hard", IF(E40<50%, "Medium", "Hard"))) -> Easy | E40: 0 | F40: E | G40: Absolute Values/Modulus/ | H40: If k 2 m 2 which of the following must be true
...

Sheet DS
A1: The GMAT Club Guide to the Official GMAT Guide 2021 Edition
A2: Question | B2: ID | C2: New? | D2: Difficulty | E2: Percentile | F2: OA | G2: Primary Category | H2: Text
A3: 263 | B3: DS02562 | D3: =IF(E3<24%,"Easy", IF(E3>74%, "Very Hard", IF(E3<50%, "Medium", "Hard"))) -> Easy | E3: 0.05 | F3: E | G3: Word Problems | H3: What is the number of pages of a certain journal article the size of
A4: =A3+1 -> 264 | B4: DS10471 | D4: =IF(E4<24%,"Easy", IF(E4>74%, "Very Hard", IF(E4<50%, "Medium", "Hard"))) -> Easy | E4: 0.05 | F4: C | G4: Word Problems | H4: If a certain vase contains only roses and tulips how many tulips are
A5: =A4+1 -> 265 | B5: DS18950.02 | C5: Yes | D5: =IF(E5<24%,"Easy", IF(E5>74%, "Very Hard", IF(E5<50%, "Medium", "Hard"))) -> Easy | E5: 0.05 | F5: C | G5: Geometry | H5: In the xy-coordinate plane above what are the coordinates of point N
A6: =A5+1 -> 266 | B6: DS03802 | D6: =IF(E6<24%,"Easy", IF(E6>74%, "Very Hard", IF(E6<50%, "Medium", "Hard"))) -> Easy | E6: 0.05 | F6: A | G6: Algebra | H6: The cost of 10 pounds of apples and 2 pounds of grapes was
A7: =A6+1 -> 267 | B7: DS05863 | D7: =IF(E7<24%,"Easy", IF(E7>74%, "Very Hard", IF(E7<50%, "Medium", "Hard"))) -> Easy | E7: 0.05 | F7: E | G7: Statistics and Sets Problems | H7: What was the median annual salary for the employees at compan
A8: =A7+1 -> 268 | B8: DS03422 | D8: =IF(E8<24%,"Easy", IF(E8>74%, "Very Hard", IF(E8<50%, "Medium", "Hard"))) -> Easy | E8: 0.05 | F8: D | G8: Arithmetic | H8: How many basic units of currency x are equivalent to 250 basi
A9: =A8+1 -> 269 | B9: DS16840.02 | C9: Yes | D9: =IF(E9<24%,"Easy", IF(E9>74%, "Very Hard", IF(E9<50%, "Medium", "Hard"))) -> Easy | E9: 0.05 | F9: E | G9: Geometry | H9: In the xy-coordinate plane what are the x-coordinates of the four ver
A10: =A9+1 -> 270 | B10: DS12265 | D10: =IF(E10<24%,"Easy", IF(E10>74%, "Very Hard", IF(E10<50%, "Medium", "Hard"))) -> Easy | E10: 0.05 | F10: C | G10: Word Problems | H10: A company bought 3 printers and 1 scanner what was the price of the
A11: =A10+1 -> 271 | B11: DS17639 | D11: =IF(E11<24%,"Easy", IF(E11>74%, "Very Hard", IF(E11<50%, "Medium", "Hard"))) -> Easy | E11: 0.05 | F11: A | G11: Geometry | H11: In the figure above point d is on ac what is the degree measure of
A12: =A11+1 -> 272 | B12: DS07822 | D12: =IF(E12<24%,"Easy", IF(E12>74%, "Very Hard", IF(E12<50%, "Medium", "Hard"))) -> Easy | E12: 0.05 | F12: C | G12: Fractions/Ratios/Decimals/Word Problems | H12: Each of the 256 solid colored marbles in a box is either blue green
A13: =A12+1 -> 273 | B13: DS15940 | D13: =IF(E13<24%,"Easy", IF(E13>74%, "Very Hard", IF(E13<50%, "Medium", "Hard"))) -> Easy | E13: 0.15 | F13: C | G13: Fractions/Ratios/Decimals/Mixture Problems/Word Problems | H13: A certain mixture of paint requires blue yellow and red paints in
A14: =A13+1 -> 274 | B14: DS50241.02 | C14: Yes | D14: =IF(E14<24%,"Easy", IF(E14>74%, "Very Hard", IF(E14<50%, "Medium", "Hard"))) -> Easy | E14: 0.05 | F14: e | G14: Overlapping Sets | H14: There are 2 groups of students who took a history test. Was the averag
A15: =A14+1 -> 275 | B15: DS05338 | D15: =IF(E15<24%,"Easy", IF(E15>74%, "Very Hard", IF(E15<50%, "Medium", "Hard"))) -> Easy | E15: 0.05 | F15: C | G15: Word Problems | H15: The research funds of a certain company were divided among three depar
A16: =A15+1 -> 276 | B16: DS03138 | D16: =IF(E16<24%,"Easy", IF(E16>74%, "Very Hard", IF(E16<50%, "Medium", "Hard"))) -> Easy | E16: 0.05 | F16: C | G16: Word Problems | H16: In a certain class some students donated cans of food to a local food
A17: =A16+1 -> 277 | B17: DS00254 | D17: =IF(E17<24%,"Easy", IF(E17>74%, "Very Hard", IF(E17<50%, "Medium", "Hard"))) -> Easy | E17: 0.05 | F17: E | G17: Statistics and Sets Problems | H17: Each of the n employees at a certain company has a different annual sa
A18: =A17+1 -> 278 | B18: DS10687 | D18: =IF(E18<24%,"Easy", IF(E18>74%, "Very Hard", IF(E18<50%, "Medium", "Hard"))) -> Easy | E18: 0.05 | F18: C | G18: Word Problems | H18: In a recent town election what was the ratio of the number of votes
A19: =A18+1 -> 279 | B19: DS02541 | D19: =IF(E19<24%,"Easy", IF(E19>74%, "Very Hard", IF(E19<50%, "Medium", "Hard"))) -> Easy | E19: 0.05 | F19: E | G19: Word Problems | H19: How many men are in a certain company s vanpool program
A20: =A19+1 -> 280 | B20: DS08054 | D20: =IF(E20<24%,"Easy", IF(E20>74%, "Very Hard", IF(E20<50%, "Medium", "Hard"))) -> Easy | E20: 0.05 | F20: C | G20: Probability | H20: Each of the marbles in a jar is either red or white or blue if one ma
A21: =A20+1 -> 281 | B21: DS04594 | D21: =IF(E21<24%,"Easy", IF(E21>74%, "Very Hard", IF(E21<50%, "Medium", "Hard"))) -> Easy | E21: 0.05 | F21: C | G21: Geometry | H21: In the figure above what is the value of z
A22: =A21+1 -> 282 | B22: DS04630 | D22: =IF(E22<24%,"Easy", IF(E22>74%, "Very Hard", IF(E22<50%, "Medium", "Hard"))) -> Easy | E22: 0.05 | F22: D | G22: Percent and Interest Problems | H22: What is the value of 10 percent of y
A23: =A22+1 -> 283 | B23: DS12062 | D23: =IF(E23<24%,"Easy", IF(E23>74%, "Very Hard", IF(E23<50%, "Medium", "Hard"))) -> Easy | E23: 0.05 | F23: C | G23: Word Problems | H23: Last semester professor k taught two classes a and b each student
A24: =A23+1 -> 284 | B24: DS06802 | D24: =IF(E24<24%,"Easy", IF(E24>74%, "Very Hard", IF(E24<50%, "Medium", "Hard"))) -> Easy | E24: 0.05 | F24: A | G24: Word Problems | H24: Was the amount of john s heating bill for february greater than it was
A25: =A24+1 -> 285 | B25: DS06662 | D25: =IF(E25<24%,"Easy", IF(E25>74%, "Very Hard", IF(E25<50%, "Medium", "Hard"))) -> Easy | E25: 0.05 | F25: C | G25: Sequences | H25: If sequence s has 120 terms what is the 105th term of s
A26: =A25+1 -> 286 | B26: DS15650.02 | C26: Yes | D26: =IF(E26<24%,"Easy", IF(E26>74%, "Very Hard", IF(E26<50%, "Medium", "Hard"))) -> Easy | E26: 0.15 | F26: c | G26: Geometry | H26: If all of the six faces of a concrete block are rectangular what is
A27: =A26+1 -> 287 | B27: DS00858 | D27: =IF(E27<24%,"Easy", IF(E27>74%, "Very Hard", IF(E27<50%, "Medium", "Hard"))) -> Easy | E27: 0.05 | F27: C | G27: Work/Rate Problems | H27: Machine r and machine s work at their respective constant rates how
A28: =A27+1 -> 288 | B28: DS06065 | D28: =IF(E28<24%,"Easy", IF(E28>74%, "Very Hard", IF(E28<50%, "Medium", "Hard"))) -> Easy | E28: 0.05 | F28: C | G28: Inequalities | H28: If u 0 and v 0 which is greater u v or v u
A29: =A28+1 -> 289 | B29: DS00660 | D29: =IF(E29<24%,"Easy", IF(E29>74%, "Very Hard", IF(E29<50%, "Medium", "Hard"))) -> Easy | E29: 0.05 | F29: E | G29: Word Problems | H29: What was the range of the selling prices of the 30 wallets sold by a
A30: =A29+1 -> 290 | B30: DS08723 | D30: =IF(E30<24%,"Easy", IF(E30>74%, "Very Hard", IF(E30<50%, "Medium", "Hard"))) -> Easy | E30: 0.05 | F30: E | G30: Word Problems | H30: Three houses are being sold through a real estate agent
A31: =A30+1 -> 291 | B31: DS04605 | D31: =IF(E31<24%,"Easy", IF(E31>74%, "Very Hard", IF(E31<50%, "Medium", "Hard"))) -> Easy | E31: 0.05 | F31: C | G31: Algebra | H31: If a b c 12 what is the value of b 1 a b 8 2 b c
A32: =A31+1 -> 292 | B32: DS11254 | D32: =IF(E32<24%,"Easy", IF(E32>74%, "Very Hard", IF(E32<50%, "Medium", "Hard"))) -> Easy | E32: 0.05 | F32: E | G32: Inequalities | H32: Is rw
A33: =A32+1 -> 293 | B33: DS06633 | D33: =IF(E33<24%,"Easy", IF(E33>74%, "Very Hard", IF(E33<50%, "Medium", "Hard"))) -> Easy | E33: 0.05 | F33: D | G33: Algebra | H33: Is x 1 y
A34: =A33+1 -> 294 | B34: DS07949 | D34: =IF(E34<24%,"Easy", IF(E34>74%, "Very Hard", IF(E34<50%, "Medium", "Hard"))) -> Easy | E34: 0.05 | F34: E | G34: Overlapping Sets | H34: How many people in a group of 50 own neither a fax machine nor a laser
A35: =A34+1 -> 295 | B35: DS06475 | D35: =IF(E35<24%,"Easy", IF(E35>74%, "Very Hard", IF(E35<50%, "Medium", "Hard"))) -> Easy | E35: 0.05 | F35: D | G35: Exponents/Powers | H35: What is the value of w
A36: =A35+1 -> 296 | B36: 27860.02 | C36: Yes | D36: =IF(E36<24%,"Easy", IF(E36>74%, "Very Hard", IF(E36<50%, "Medium", "Hard"))) -> Easy | E36: 0.05 | F36: c | G36: Geometry | H36: What is the value of z in the figure above?
A37: =A36+1 -> 297 | B37: DS04839 | D37: =IF(E37<24%,"Easy", IF(E37>74%, "Very Hard", IF(E37<50%, "Medium", "Hard"))) -> Easy | E37: 0.05 | F37: D | G37: Percent and Interest Problems | H37: A certain investment earned a fixed rate of 4 percent interest per yea
A38: =A37+1 -> 298 | B38: DS06397 | D38: =IF(E38<24%,"Easy", IF(E38>74%, "Very Hard", IF(E38<50%, "Medium", "Hard"))) -> Easy | E38: 0.05 | F38: A | G38: Coordinate Geometry/Geometry | H38: What is the circumference of circle c 1 the radius of circle c is
A39: =A38+1 -> 299 | B39: DS07813 | D39: =IF(E39<24%,"Easy", IF(E39>74%, "Very Hard", IF(E39<50%, "Medium", "Hard"))) -> Easy | E39: 0.05 | F39: D | G39: Algebra | H39: What is the value of t
A40: =A39+1 -> 300 | B40: DS11109 | D40: =IF(E40<24%,"Easy", IF(E40>74%, "Very Hard", IF(E40<50%, "Medium", "Hard"))) -> Easy | E40: 0.05 | F40: D | G40: Word Problems | H40: For a certain car repair the total charge consisted of a charge for p
...

Sheet RC
A1: The GMAT Club Guide to the Official GMAT Guide 2021 Edition
A2: Passage | B2: Question | C2: ID | D2: Difficulty | E2: % Wrong | F2: OA | G2: Primary Category | H2: Text
A3: 1 | B3: 503 | C3: RC00504-01 | D3: =IF(E3<24%,"Easy", IF(E3>74%, "Very Hard", IF(E3<50%, "Medium", "Hard"))) -> Medium | E3: 0.25 | F3: D | G3: Short Passage/Science | H3: Scientist long believed that two nerve cluster in the human hypothalam
B4: =B3+1 -> 504 | C4: RC00504-05 | D4: =IF(E4<24%,"Easy", IF(E4>74%, "Very Hard", IF(E4<50%, "Medium", "Hard"))) -> Easy | E4: 0.07 | F4: D | G4: Short Passage/Science | H4: Scientist long believed that two nerve cluster in the human hypothalam
B5: =B4+1 -> 505 | C5: RC00504-04 | D5: =IF(E5<24%,"Easy", IF(E5>74%, "Very Hard", IF(E5<50%, "Medium", "Hard"))) -> Medium | E5: 0.28 | F5: B | G5: Short Passage/Science | H5: Scientist long believed that two nerve cluster in the human hypothalam
A6: 2 | B6: =B5+1 -> 506 | C6: RC00525-01 | D6: =IF(E6<24%,"Easy", IF(E6>74%, "Very Hard", IF(E6<50%, "Medium", "Hard"))) -> Medium | E6: 0.41 | F6: B | G6: Business | H6: In their study of whether offering a guarantee of service quality will
B7: =B6+1 -> 507 | C7: RC00525-02 | D7: =IF(E7<24%,"Easy", IF(E7>74%, "Very Hard", IF(E7<50%, "Medium", "Hard"))) -> Medium | E7: 0.31 | F7: C | G7: Business | H7: In their study of whether offering a guarantee of service quality will
B8: =B7+1 -> 508 | C8: RC00525-07 | D8: =IF(E8<24%,"Easy", IF(E8>74%, "Very Hard", IF(E8<50%, "Medium", "Hard"))) -> Easy | E8: 0.09 | F8: C | G8: Business | H8: In their study of whether offering a guarantee of service quality will
A9: 3 | B9: =B8+1 -> 509 | C9: RC00455-03 | D9: =IF(E9<24%,"Easy", IF(E9>74%, "Very Hard", IF(E9<50%, "Medium", "Hard"))) -> Medium | E9: 0.4 | F9: A | G9: Short Passage/Science | H9: One proposal for preserving rain forests is to promote the adop
B10: =B9+1 -> 510 | C10: RC00455-05 | D10: =IF(E10<24%,"Easy", IF(E10>74%, "Very Hard", IF(E10<50%, "Medium", "Hard"))) -> Easy | E10: 0.21 | F10: C | G10: Short Passage/Science | H10: One proposal for preserving rain forests is to promote the adop
A11: 4 | B11: =B10+1 -> 511 | C11: RC00344-02 | D11: =IF(E11<24%,"Easy", IF(E11>74%, "Very Hard", IF(E11<50%, "Medium", "Hard"))) -> Easy | E11: 0.15 | F11: D | G11: Business/Social Science/Short Passage | H11: The argument for monetizing or putting a monetary value on ecosystem
B12: =B11+1 -> 512 | C12: RC00344-04 | D12: =IF(E12<24%,"Easy", IF(E12>74%, "Very Hard", IF(E12<50%, "Medium", "Hard"))) -> Easy | E12: 0.16 | F12: C | G12: Business/Social Science/Short Passage | H12: The argument for monetizing or putting a monetary value on ecosystem
B13: =B12+1 -> 513 | C13: RC00344-05 | D13: =IF(E13<24%,"Easy", IF(E13>74%, "Very Hard", IF(E13<50%, "Medium", "Hard"))) -> Easy | E13: 0.17 | F13: A | G13: Business/Social Science/Short Passage | H13: The argument for monetizing or putting a monetary value on ecosystem
B14: =B13+1 -> 514 | C14: RC00344-06 | D14: =IF(E14<24%,"Easy", IF(E14>74%, "Very Hard", IF(E14<50%, "Medium", "Hard"))) -> Medium | E14: 0.27 | F14: C | G14: Business/Social Science/Short Passage | H14: The argument for monetizing or putting a monetary value on ecosystem
A15: 5 | B15: =B14+1 -> 515 | C15: RC00359-01 | D15: =IF(E15<24%,"Easy", IF(E15>74%, "Very Hard", IF(E15<50%, "Medium", "Hard"))) -> Medium | E15: 0.3 | F15: C | G15: Business/Short Passage | H15: Much research has been devoted to investigating what motivates consu
B16: =B15+1 -> 516 | C16: RC00359-03 | D16: =IF(E16<24%,"Easy", IF(E16>74%, "Very Hard", IF(E16<50%, "Medium", "Hard"))) -> Easy | E16: 0.17 | F16: C | G16: Business/Short Passage | H16: Much research has been devoted to investigating what motivates consu
B17: =B16+1 -> 517 | C17: RC00359-05 | D17: =IF(E17<24%,"Easy", IF(E17>74%, "Very Hard", IF(E17<50%, "Medium", "Hard"))) -> Medium | E17: 0.3 | F17: E | G17: Business/Short Passage | H17: Much research has been devoted to investigating what motivates consu
B18: =B17+1 -> 518 | C18: RC00359-06 | D18: =IF(E18<24%,"Easy", IF(E18>74%, "Very Hard", IF(E18<50%, "Medium", "Hard"))) -> Easy | E18: 0.18 | F18: A | G18: Business/Short Passage | H18: Much research has been devoted to investigating what motivates consu
A19: 6 | B19: =B18+1 -> 519 | C19: RC00419-01 | D19: =IF(E19<24%,"Easy", IF(E19>74%, "Very Hard", IF(E19<50%, "Medium", "Hard"))) -> Easy | E19: 0.16 | F19: C | G19: Business/Long Passage | H19: Historians remain divided over the role of banks in facilitating eco
B20: =B19+1 -> 520 | C20: RC00419-02 | D20: =IF(E20<24%,"Easy", IF(E20>74%, "Very Hard", IF(E20<50%, "Medium", "Hard"))) -> Easy | E20: 0.1 | F20: B | G20: Business/Long Passage | H20: Historians remain divided over the role of banks in facilitating eco
B21: =B20+1 -> 521 | C21: RC00419-04 | D21: =IF(E21<24%,"Easy", IF(E21>74%, "Very Hard", IF(E21<50%, "Medium", "Hard"))) -> Medium | E21: 0.37 | F21: B | G21: Business/Long Passage | H21: Historians remain divided over the role of banks in facilitating eco
B22: =B21+1 -> 522 | C22: RC00419-05 | D22: =IF(E22<24%,"Easy", IF(E22>74%, "Very Hard", IF(E22<50%, "Medium", "Hard"))) -> Medium | E22: 0.29 | F22: A | G22: Business/Long Passage | H22: Historians remain divided over the role of banks in facilitating eco
B23: =B22+1 -> 523 | C23: RC00419-06 | D23: =IF(E23<24%,"Easy", IF(E23>74%, "Very Hard", IF(E23<50%, "Medium", "Hard"))) -> Medium | E23: 0.46 | F23: D | G23: Business/Long Passage | H23: Historians remain divided over the role of banks in facilitating eco
A24: 7 | B24: =B23+1 -> 524 | C24: RC00458-01 | D24: =IF(E24<24%,"Easy", IF(E24>74%, "Very Hard", IF(E24<50%, "Medium", "Hard"))) -> Easy | E24: 0.22 | F24: C | G24: Business/Short Passage | H24: In recent years western business managers have been heeding the
B25: =B24+1 -> 525 | C25: RC00458-02 | D25: =IF(E25<24%,"Easy", IF(E25>74%, "Very Hard", IF(E25<50%, "Medium", "Hard"))) -> Easy | E25: 0.23 | F25: E | G25: Business/Short Passage | H25: In recent years western business managers have been heeding the
B26: =B25+1 -> 526 | C26: RC00458-03 | D26: =IF(E26<24%,"Easy", IF(E26>74%, "Very Hard", IF(E26<50%, "Medium", "Hard"))) -> Easy | E26: 0.15 | F26: B | G26: Business/Short Passage | H26: In recent years western business managers have been heeding the
B27: =B26+1 -> 527 | C27: RC00458-05 | D27: =IF(E27<24%,"Easy", IF(E27>74%, "Very Hard", IF(E27<50%, "Medium", "Hard"))) -> Easy | E27: 0.15 | F27: D | G27: Business/Short Passage | H27: In recent years western business managers have been heeding the
A28: 8 | B28: =B27+1 -> 528 | C28: RC00497-02 | D28: =IF(E28<24%,"Easy", IF(E28>74%, "Very Hard", IF(E28<50%, "Medium", "Hard"))) -> Easy | E28: 0.19 | F28: C | G28: Business/Long Passage | H28: In an effort to explain why business acquisitions often fail scholars
B29: =B28+1 -> 529 | C29: RC00497-03 | D29: =IF(E29<24%,"Easy", IF(E29>74%, "Very Hard", IF(E29<50%, "Medium", "Hard"))) -> Medium | E29: 0.27 | F29: B | G29: Business/Long Passage | H29: In an effort to explain why business acquisitions often fail scholars
B30: =B29+1 -> 530 | C30: RC00497-04 | D30: =IF(E30<24%,"Easy", IF(E30>74%, "Very Hard", IF(E30<50%, "Medium", "Hard"))) -> Medium | E30: 0.42 | F30: D | G30: Business/Long Passage | H30: In an effort to explain why business acquisitions often fail scholars
B31: =B30+1 -> 531 | C31: RC00497-05 | D31: =IF(E31<24%,"Easy", IF(E31>74%, "Very Hard", IF(E31<50%, "Medium", "Hard"))) -> Medium | E31: 0.29 | F31: A | G31: Business/Long Passage | H31: In an effort to explain why business acquisitions often fail scholars
A32: 9 | B32: =B31+1 -> 532 | C32: RC00017-02 | D32: =IF(E32<24%,"Easy", IF(E32>74%, "Very Hard", IF(E32<50%, "Medium", "Hard"))) -> Easy | E32: 0.15 | F32: C | G32: Humanities/Social Science/Short Passage | H32: When jamaican born social activist marcus garvey came to the united st
B33: =B32+1 -> 533 | C33: RC00017-03 | D33: =IF(E33<24%,"Easy", IF(E33>74%, "Very Hard", IF(E33<50%, "Medium", "Hard"))) -> Medium | E33: 0.26 | F33: D | G33: Humanities/Social Science/Short Passage | H33: When jamaican born social activist marcus garvey came to the united st
B34: =B33+1 -> 534 | C34: RC00017-04 | D34: =IF(E34<24%,"Easy", IF(E34>74%, "Very Hard", IF(E34<50%, "Medium", "Hard"))) -> Hard | E34: 0.56 | F34: B | G34: Humanities/Social Science/Short Passage | H34: When jamaican born social activist marcus garvey came to the united st
B35: =B34+1 -> 535 | C35: RC00017-05 | D35: =IF(E35<24%,"Easy", IF(E35>74%, "Very Hard", IF(E35<50%, "Medium", "Hard"))) -> Medium | E35: 0.29 | F35: B | G35: Humanities/Social Science/Short Passage | H35: When jamaican born social activist marcus garvey came to the united st
A36: 10 | B36: =B35+1 -> 536 | C36: RC38200-01.01 | D36: =IF(E36<24%,"Easy", IF(E36>74%, "Very Hard", IF(E36<50%, "Medium", "Hard"))) -> Easy | E36: 0.16 | F36: B | G36: Social Science/Long Passage | H36: Arboria is floundering in the global marketplace incurring devastati
B37: =B36+1 -> 537 | C37: RC38200-02.01 | D37: =IF(E37<24%,"Easy", IF(E37>74%, "Very Hard", IF(E37<50%, "Medium", "Hard"))) -> Easy | E37: 0.23 | F37: D | G37: Social Science/Long Passage | H37: Arboria is floundering in the global marketplace incurring devastati
B38: =B37+1 -> 538 | C38: RC38200-03.01 | D38: =IF(E38<24%,"Easy", IF(E38>74%, "Very Hard", IF(E38<50%, "Medium", "Hard"))) -> Easy | E38: 0.04 | F38: E | G38: Social Science/Long Passage | H38: Arboria is floundering in the global marketplace incurring devastati
B39: =B38+1 -> 539 | C39: RC38200-04.01 | D39: =IF(E39<24%,"Easy", IF(E39>74%, "Very Hard", IF(E39<50%, "Medium", "Hard"))) -> Medium | E39: 0.27 | F39: D | G39: Social Science/Long Passage | H39: Arboria is floundering in the global marketplace incurring devastati
B40: =B39+1 -> 540 | C40: RC38200-05.01 | D40: =IF(E40<24%,"Easy", IF(E40>74%, "Very Hard", IF(E40<50%, "Medium", "Hard"))) -> Medium | E40: 0.25 | F40: E | G40: Social Science/Long Passage | H40: Arboria is floundering in the global marketplace incurring devastati
...

Sheet CR
A1: The GMAT Club Guide to the Official GMAT Guide 2021 Edition
A2: Question | B2: ID | C2: New? | D2: Difficulty | E2: Percentile | F2: OA | G2: Primary Category | H2: Text
A3: 652 | B3: CR700041.01 | D3: =IF(E3<24%,"Easy", IF(E3>74%, "Very Hard", IF(E3<50%, "Medium", "Hard"))) -> Easy | E3: 0.15 | F3: B | G3: Strengthen | H3: Arts advocate few universities require that students who are speciali
A4: =A3+1 -> 653 | B4: CR48541.01 | D4: =IF(E4<24%,"Easy", IF(E4>74%, "Very Hard", IF(E4<50%, "Medium", "Hard"))) -> Medium | E4: 0.25 | F4: B | G4: Strengthen | H4: A successful coffee stand that serves the workers in a large office bu
A5: =A4+1 -> 654 | B5: CR53631.01 | D5: =IF(E5<24%,"Easy", IF(E5>74%, "Very Hard", IF(E5<50%, "Medium", "Hard"))) -> Very Hard | E5: 0.85 | F5: B | G5: Assumption | H5: Ramirez the film industry claims that pirated dvds which are usually
A6: =A5+1 -> 655 | B6: CR79041.01 | D6: =IF(E6<24%,"Easy", IF(E6>74%, "Very Hard", IF(E6<50%, "Medium", "Hard"))) -> Medium | E6: 0.25 | F6: B | G6: Resolve Paradox | H6: Harunia province has a relatively dry climate and is attracting a fast
A7: =A6+1 -> 656 | B7: CR31551.01 | D7: =IF(E7<24%,"Easy", IF(E7>74%, "Very Hard", IF(E7<50%, "Medium", "Hard"))) -> Easy | E7: 0.05 | F7: D | G7: Strengthen | H7: Loss of the gocha mangrove forests has caused coastal erosion reducin
A8: =A7+1 -> 657 | B8: CR07651.01 | D8: =IF(E8<24%,"Easy", IF(E8>74%, "Very Hard", IF(E8<50%, "Medium", "Hard"))) -> Easy | E8: 0.15 | F8: D | G8: Weaken | H8: Executives at the fizzles beverage company plan to boost profits in co
A9: =A8+1 -> 658 | B9: CR33061.01 | D9: =IF(E9<24%,"Easy", IF(E9>74%, "Very Hard", IF(E9<50%, "Medium", "Hard"))) -> Medium | E9: 0.25 | F9: D | G9: Resolve Paradox | H9: Economist in 2015 the average per person amount paid for goods and
A10: =A9+1 -> 659 | B10: CR09616 | D10: =IF(E10<24%,"Easy", IF(E10>74%, "Very Hard", IF(E10<50%, "Medium", "Hard"))) -> Easy | E10: 0.05 | F10: E | G10: Inference | H10: Neuroscientist memory evolved to help animals react appropriately to
A11: =A10+1 -> 660 | B11: CR25061.01 | D11: =IF(E11<24%,"Easy", IF(E11>74%, "Very Hard", IF(E11<50%, "Medium", "Hard"))) -> Medium | E11: 0.25 | F11: C | G11: Evaluate Argument | H11: In country x s last election the reform party beat its main opponent
A12: =A11+1 -> 661 | B12: CR40751.01 | D12: =IF(E12<24%,"Easy", IF(E12>74%, "Very Hard", IF(E12<50%, "Medium", "Hard"))) -> Medium | E12: 0.25 | F12: C | G12: Weaken | H12: A company that manufactures plastic products from recyclable plastic
A13: =A12+1 -> 662 | B13: CR73241.01 | D13: =IF(E13<24%,"Easy", IF(E13>74%, "Very Hard", IF(E13<50%, "Medium", "Hard"))) -> Medium | E13: 0.25 | F13: D | G13: Strengthen | H13: Researchers asked volunteers to imagine they were running a five kilom
A14: =A13+1 -> 663 | B14: CR41141.01 | D14: =IF(E14<24%,"Easy", IF(E14>74%, "Very Hard", IF(E14<50%, "Medium", "Hard"))) -> Easy | E14: 0.05 | F14: A | G14: Complete the Passage | H14: According to a study after a week of high altitude living twenty men
A15: =A14+1 -> 664 | B15: CR11741.01 | D15: =IF(E15<24%,"Easy", IF(E15>74%, "Very Hard", IF(E15<50%, "Medium", "Hard"))) -> Medium | E15: 0.35 | F15: D | G15: Assumption | H15: Editorial our city s public transportation agency is facing a budget
... A32: =A31+1 -> 681 | B32: CR01102 | D32: =IF(E32<24%,"Easy", IF(E32>74%, "Very Hard", IF(E32<50%, "Medium", "Hard"))) -> Easy | E32: 0.15 | F32: D | G32: Strengthen | H32: More and more law firms specializing in corporate taxes are paid on a
A33: =A32+1 -> 682 | B33: CR67830.02 | C33: Yes | D33: =IF(E33<24%,"Easy", IF(E33>74%, "Very Hard", IF(E33<50%, "Medium", "Hard"))) -> Easy | E33: 0.05 | F33: B | G33: Weaken | H33: Pretzel Vendor: The new license fee for operating a pretzel stand outs
A34: =A33+1 -> 683 | B34: CR00766 | D34: =IF(E34<24%,"Easy", IF(E34>74%, "Very Hard", IF(E34<50%, "Medium", "Hard"))) -> Easy | E34: 0.05 | F34: D | G34: Resolve Paradox | H34: Beginning in 1966 all new cars sold in morodia were required to have s
A35: =A34+1 -> 684 | B35: CR14430.02 | C35: Yes | D35: =IF(E35<24%,"Easy", IF(E35>74%, "Very Hard", IF(E35<50%, "Medium", "Hard"))) -> Easy | E35: 0.05 | F35: E | G35: Strengthen | H35: Manufacturers of mechanical pencils make most of their profit on penci
A36: =A35+1 -> 685 | B36: CR04882 | D36: =IF(E36<24%,"Easy", IF(E36>74%, "Very Hard", IF(E36<50%, "Medium", "Hard"))) -> Easy | E36: 0.15 | F36: D | G36: Strengthen | H36: Enterprise bank currently requires customers with checking accounts to
A37: =A36+1 -> 686 | B37: CR08330.02 | C37: Yes | D37: =IF(E37<24%,"Easy", IF(E37>74%, "Very Hard", IF(E37<50%, "Medium", "Hard"))) -> Easy | E37: 0.05 | F37: A | G37: Weaken | H37: Highway Official: When resurfacing our concrete bridges we should use
A38: =A37+1 -> 687 | B38: CR05667 | D38: =IF(E38<24%,"Easy", IF(E38>74%, "Very Hard", IF(E38<50%, "Medium", "Hard"))) -> Easy | E38: 0.05 | F38: C | G38: Logical Flaw/Cause and Effect | H38: In virtually any industry technological improvements increase labor
A39: =A38+1 -> 688 | B39: CR08471 | D39: =IF(E39<24%,"Easy", IF(E39>74%, "Very Hard", IF(E39<50%, "Medium", "Hard"))) -> Easy | E39: 0.05 | F39: B | G39: Bold Face CR | H39: Chaco canyon a settlement of the ancient anasazi culture
A40: =A39+1 -> 689 | B40: CR04364 | D40: =IF(E40<24%,"Easy", IF(E40>74%, "Very Hard", IF(E40<50%, "Medium", "Hard"))) -> Easy | E40: 0.15 | F40: D | G40: Strengthen/Resolve Paradox | H40: The maxilux car company s design for its new luxury model the max
A41: =A40+1 -> 690 | B41: CR05186 | D41: =IF(E41<24%,"Easy", IF(E41>74%, "Very Hard", IF(E41<50%, "Medium", "Hard"))) -> Easy | E41: 0.05 | F41: D | G41: Additional Evidence/Complete the Passage | H41: Most bicycle helmets provide good protection for the top and back of
A42: =A41+1 -> 691 | B42: CR01867 | D42: =IF(E42<24%,"Easy", IF(E42>74%, "Very Hard", IF(E42<50%, "Medium", "Hard"))) -> Easy | E42: 0.15 | F42: C | G42: Assumption/Complete the Passage | H42: In a typical year innovair s airplanes are involved in 35 collisions
A43: =A42+1 -> 692 | B43: CR12558 | D43: =IF(E43<24%,"Easy", IF(E43>74%, "Very Hard", IF(E43<50%, "Medium", "Hard"))) -> Easy | E43: 0.15 | F43: E | G43: Strengthen | H43: Many agriculturally intensive areas of the world are beginning to enco
A44: =A43+1 -> 693 | B44: CR03367 | D44: =IF(E44<24%,"Easy", IF(E44>74%, "Very Hard", IF(E44<50%, "Medium", "Hard"))) -> Easy | E44: 0.05 | F44: B | G44: Method of Reasoning/Resolve Paradox | H44: Hollywood restaurant is replacing some of its standard tables with tal
A45: =A44+1 -> 694 | B45: CR07660 | D45: =IF(E45<24%,"Easy", IF(E45>74%, "Very Hard", IF(E45<50%, "Medium", "Hard"))) -> Medium | E45: 0.25 | F45: A | G45: Strengthen | H45: A major network news organization experienced a drop in viewership in
A46: =A45+1 -> 695 | B46: CR04366 | D46: =IF(E46<24%,"Easy", IF(E46>74%, "Very Hard", IF(E46<50%, "Medium", "Hard"))) -> Easy | E46: 0.05 | F46: E | G46: Conclusion/Strengthen | H46: Only a reduction of 10 percent in the number of scheduled flights usin
A47: =A46+1 -> 696 | B47: CR07712 | D47: =IF(E47<24%,"Easy", IF(E47>74%, "Very Hard", IF(E47<50%, "Medium", "Hard"))) -> Easy | E47: 0.15 | F47: B | G47: Assumption | H47: Farmer worldwide just three grain crops rice wheat and corn accoun
A48: =A47+1 -> 697 | B48: CR08770 | D48: =IF(E48<24%,"Easy", IF(E48>74%, "Very Hard", IF(E48<50%, "Medium", "Hard"))) -> Medium | E48: 0.25 | F48: E | G48: Strengthen | H48: The air quality board recently informed coffee roast a small coffee
A49: =A48+1 -> 698 | B49: CR03695 | D49: =IF(E49<24%,"Easy", IF(E49>74%, "Very Hard", IF(E49<50%, "Medium", "Hard"))) -> Easy | E49: 0.15 | F49: D | G49: Weaken | H49: People who do regular volunteer work tend to live longer on average
... A53: =A52+1 -> 702 | B53: CR02702 | D53: =IF(E53<24%,"Easy", IF(E53>74%, "Very Hard", IF(E53<50%, "Medium", "Hard"))) -> Easy | E53: 0.05 | F53: D | G53: Bold Face CR | H53: Economist tropicorp which constantly seeks profitable investment opp
A54: =A53+1 -> 703 | B54: CR41700.02 | C54: Yes | D54: =IF(E54<24%,"Easy", IF(E54>74%, "Very Hard", IF(E54<50%, "Medium", "Hard"))) -> Easy | E54: 0.05 | F54: D | G54: Inference/Strengthen | H54: Brown tides are growths of algae on the sea's surface that prevent sun
A55: =A54+1 -> 704 | B55: CR18310.02 | C55: Yes | D55: =IF(E55<24%,"Easy", IF(E55>74%, "Very Hard", IF(E55<50%, "Medium", "Hard"))) -> Very Hard | E55: 0.95 | F55: D | G55: Weaken | H55: In persons with astigmatism the clear outer layer of the eye is defor
A56: =A55+1 -> 705 | B56: CR74231.01 | D56: =IF(E56<24%,"Easy", IF(E56>74%, "Very Hard", IF(E56<50%, "Medium", "Hard"))) -> Medium | E56: 0.35 | F56: B | G56: Weaken | H56: Marketing executive for magu corporation whenever magu opens a manufa
A57: =A56+1 -> 706 | B57: CR30650.02 | C57: Yes | D57: =IF(E57<24%,"Easy", IF(E57>74%, "Very Hard", IF(E57<50%, "Medium", "Hard"))) -> Easy | E57: 0.05 | F57: C | G57: Weaken | H57: In the last few years plant scientists have been able to genetically
A58: =A57+1 -> 707 | B58: CR44040.02 | C58: Yes | D58: =IF(E58<24%,"Easy", IF(E58>74%, "Very Hard", IF(E58<50%, "Medium", "Hard"))) -> Very Hard | E58: 0.95 | F58: D | G58: Weaken | H58: Educational Theorist: Recent editorials have called for limits on the
A59: =A58+1 -> 708 | B59: CR78590.02 | C59: Yes | D59: =IF(E59<24%,"Easy", IF(E59>74%, "Very Hard", IF(E59<50%, "Medium", "Hard"))) -> Very Hard | E59: 0.95 | F59: D | G59: Logical Flaw | H59: Airline Representative: The percentage of flight delays caused by airl
...

Sheet SC
A1: The GMAT Club Guide to the Official GMAT Guide 2021 Edition
A2: Question | B2: ID | C2: New? | D2: Difficulty | E2: Percentile | F2: OA | G2: Primary Category | H2: Text
A3: 819 | B3: SC39850.02 | C3: Yes | D3: =IF(E3<24%,"Easy", IF(E3>74%, "Very Hard", IF(E3<50%, "Medium", "Hard"))) -> Easy | E3: 0.05 | F3: E | G3: Idioms/Diction/Meaning | H3: The market for so-called functional beverages drinks that promise
A4: =A3+1 -> 820 | B4: SC01527 | D4: Easy | E4: 0.05 | F4: A | G4: Construction/Parallel Structure | H4: According to some critics watching television not only undermines one
A5: =A4+1 -> 821 | B5: SC20160.02 | C5: Yes | D5: Easy | E5: 0.05 | F5: E | G5: Grammatical Construction/Idioms/Verb Tense/Form/Parallel Structure | H5: To show that it is serious about addressing the state's power crisis
A6: =A5+1 -> 822 | B6: SC33440.02 | C6: Yes | D6: =IF(E6<24%,"Easy", IF(E6>74%, "Very Hard", IF(E6<50%, "Medium", "Hard"))) -> Easy | E6: 0.05 | F6: B | G6: Parallel Structure/Pronouns | H6: Once made exclusively from the wool of sheep that roam the Isle of Lew
A7: =A6+1 -> 823 | B7: SC12999 | D7: =IF(E7<24%,"Easy", IF(E7>74%, "Very Hard", IF(E7<50%, "Medium", "Hard"))) -> Easy | E7: 0.05 | F7: D | G7: Parallel Structure | H7: In her presentation the head of the better business bureau emphasized
A8: =A7+1 -> 824 | B8: SC15382 | D8: =IF(E8<24%,"Easy", IF(E8>74%, "Very Hard", IF(E8<50%, "Medium", "Hard"))) -> Easy | E8: 0.05 | F8: B | G8: Modifiers/Subject Verb Agreement | H8: Recent interdisciplinary studies advance the argument that emotions
A9: =A8+1 -> 825 | B9: SC01455 | D9: =IF(E9<24%,"Easy", IF(E9>74%, "Very Hard", IF(E9<50%, "Medium", "Hard"))) -> Easy | E9: 0.05 | F9: B | G9: Construction/Verb Tense/Form | H9: In a speech before the senate banking committee the chairman of the f
A10: =A9+1 -> 826 | B10: SC00740.02 | C10: Yes | D10: =IF(E10<24%,"Easy", IF(E10>74%, "Very Hard", IF(E10<50%, "Medium", "Hard"))) -> Easy | E10: 0.05 | F10: C | G10: Grammatical Construction/Idioms/Verb Tense/Form/Meaning | H10: The company's CEO backed away from her plan for dividing the firm into
A11: =A10+1 -> 827 | B11: SC52050.02 | C11: Yes | D11: =IF(E11<24%,"Easy", IF(E11>74%, "Very Hard", IF(E11<50%, "Medium", "Hard"))) -> Easy | E11: 0.05 | F11: C | G11: Grammatical Construction/Modifiers/Pronouns/Idioms | H11: The cactus is now heavily plundered in deserts in the southwestern Uni
A12: =A11+1 -> 828 | B12: SC08150.02 | C12: Yes | D12: =IF(E12<24%,"Easy", IF(E12>74%, "Very Hard", IF(E12<50%, "Medium", "Hard"))) -> Medium | E12: 0.35 | F12: B | G12: Grammatical Construction/Modifiers/Meaning/Pronouns/Style and Usage/Diction | H12: Satellite radio transmissions a popular feature in car stereos
A13: =A12+1 -> 829 | B13: SC21130.02 | C13: Yes | D13: =IF(E13<24%,"Easy", IF(E13>74%, "Very Hard", IF(E13<50%, "Medium", "Hard"))) -> Easy | E13: 0.15 | F13: B | G13: Grammatical Construction/Conjunctions/Nouns/Style and Usage/Diction/Verb Tense/Form | H13: Although the company's executives have admitted that there had been ac
A14: =A13+1 -> 830 | B14: SC03014 | D14: =IF(E14<24%,"Easy", IF(E14>74%, "Very Hard", IF(E14<50%, "Medium", "Hard"))) -> Easy | E14: 0.05 | F14: D | G14: Construction/Parallel Structure | H14: As with ants the elaborate social structure of termites includes a
A15: =A14+1 -> 831 | B15: SC02078 | D15: =IF(E15<24%,"Easy", IF(E15>74%, "Very Hard", IF(E15<50%, "Medium", "Hard"))) -> Easy | E15: 0.05 | F15: C | G15: Parallel Structure/Participle Parallelism/Verb Tense/Form | H15: While noble sissle may be best known for his collaboration with eubie
A16: =A15+1 -> 832 | B16: SC03881 | D16: =IF(E16<24%,"Easy", IF(E16>74%, "Very Hard", IF(E16<50%, "Medium", "Hard"))) -> Easy | E16: 0.05 | F16: D | G16: Comparisons/Meaning/Modifiers | H16: Air traffic routes over the north pole are currently used by only two
A17: =A16+1 -> 833 | B17: SC01680 | D17: =IF(E17<24%,"Easy", IF(E17>74%, "Very Hard", IF(E17<50%, "Medium", "Hard"))) -> Easy | E17: 0.05 | F17: D | G17: Construction/Idioms | H17: Og 2016 from an experiment using special extrasensory perception car
A18: =A17+1 -> 834 | B18: SC02272 | D18: =IF(E18<24%,"Easy", IF(E18>74%, "Very Hard", IF(E18<50%, "Medium", "Hard"))) -> Medium | E18: 0.45 | F18: D | G18: Idioms/Parallel Structure | H18: A long term study of some 1 000 physicians indicates that the more cof
A19: =A18+1 -> 835 | B19: SC02069 | D19: =IF(E19<24%,"Easy", IF(E19>74%, "Very Hard", IF(E19<50%, "Medium", "Hard"))) -> Easy | E19: 0.05 | F19: B | G19: Clauses/Conjunctions/Punctuation/Style and Usage | H19: Hurricanes at first begin traveling from east to west because that di
A20: =A19+1 -> 836 | B20: SC03083 | D20: =IF(E20<24%,"Easy", IF(E20>74%, "Very Hard", IF(E20<50%, "Medium", "Hard"))) -> Easy | E20: 0.05 | F20: B | G20: Participle Parallelism | H20: Travelers from earth to mars would have to endure low levels of gravit
A21: =A20+1 -> 837 | B21: SC01739 | D21: =IF(E21<24%,"Easy", IF(E21>74%, "Very Hard", IF(E21<50%, "Medium", "Hard"))) -> Easy | E21: 0.05 | F21: D | G21: Comparisons | H21: Unlike the virginal whose single set of strings runs parallel to the
A22: =A21+1 -> 838 | B22: SC91050.02 | C22: Yes | D22: =IF(E22<24%,"Easy", IF(E22>74%, "Very Hard", IF(E22<50%, "Medium", "Hard"))) -> Easy | E22: 0.15 | F22: C | G22: Pronouns/Verb Tense/Form | H22: Many population studies have linked a high-salt diet to high rates of
A23: =A22+1 -> 839 | B23: SC00150.02 | C23: Yes | D23: =IF(E23<24%,"Easy", IF(E23>74%, "Very Hard", IF(E23<50%, "Medium", "Hard"))) -> Hard | E23: 0.65 | F23: E | G23: Verb Tense/Form/Style and Usage/Meaning/Comparisons | H23: Partly as a result of Proposition 13 which severely limits property
A24: =A23+1 -> 840 | B24: SC61940.02 | C24: Yes | D24: =IF(E24<24%,"Easy", IF(E24>74%, "Very Hard", IF(E24<50%, "Medium", "Hard"))) -> Medium | E24: 0.25 | F24: B | G24: Grammatical Construction/Subject Verb Agreement/Pronouns | H24: According to scientists human expansion and the human appropriation
A25: =A24+1 -> 841 | B25: SC02000 | D25: =IF(E25<24%,"Easy", IF(E25>74%, "Very Hard", IF(E25<50%, "Medium", "Hard"))) -> Easy | E25: 0.05 | F25: C | G25: Parallel Structure/Verb Tense/Form | H25: Although alice walker published a number of essays poetry collections
A26: =A25+1 -> 842 | B26: SC01436 | D26: =IF(E26<24%,"Easy", IF(E26>74%, "Very Hard", IF(E26<50%, "Medium", "Hard"))) -> Easy | E26: 0.05 | F26: E | G26: Idioms/Verb Tense/Form | H26: Heating oil and natural gas futures rose sharply yesterday as long te
A27: =A26+1 -> 843 | B27: SC00970 | D27: =IF(E27<24%,"Easy", IF(E27>74%, "Very Hard", IF(E27<50%, "Medium", "Hard"))) -> Medium | E27: 0.25 | F27: E | G27: Verb Tense/Form | H27: Because it regarded the environmentalists as members of an out of stat
A28: =A27+1 -> 844 | B28: SC07348 | D28: =IF(E28<24%,"Easy", IF(E28>74%, "Very Hard", IF(E28<50%, "Medium", "Hard"))) -> Medium | E28: 0.35 | F28: A | G28: Grammatical Construction | H28: In 1913 the largely self taught indian mathematician srinivasa ramanu
A29: =A28+1 -> 845 | B29: SC05201 | D29: =IF(E29<24%,"Easy", IF(E29>74%, "Very Hard", IF(E29<50%, "Medium", "Hard"))) -> Easy | E29: 0.05 | F29: D | G29: Parallel Structure/Subject Verb Agreement | H29: Cost cutting and restructuring has allowed the manufacturing company
A30: =A29+1 -> 846 | B30: SC13010 | D30: =IF(E30<24%,"Easy", IF(E30>74%, "Very Hard", IF(E30<50%, "Medium", "Hard"))) -> Easy | E30: 0.15 | F30: E | G30: Parallel Structure/Subject Verb Agreement | H30: The life and casualty company hopes that by increasing its environment
A31: =A30+1 -> 847 | B31: SC03079 | D31: =IF(E31<24%,"Easy", IF(E31>74%, "Very Hard", IF(E31<50%, "Medium", "Hard"))) -> Easy | E31: 0.05 | F31: C | G31: Idioms/Pronouns/Such as/Like | H31: Like ancient egyptian architectural materials that were recycled in th
A32: =A31+1 -> 848 | B32: SC09877 | D32: =IF(E32<24%,"Easy", IF(E32>74%, "Very Hard", IF(E32<50%, "Medium", "Hard"))) -> Medium | E32: 0.25 | F32: B | G32: Adjectives and Adverbs/Infinitive/Pronouns/Which/That | H32: Especially in the early years new entrepreneurs may need to find reso
A33: =A32+1 -> 849 | B33: SC01975 | D33: =IF(E33<24%,"Easy", IF(E33>74%, "Very Hard", IF(E33<50%, "Medium", "Hard"))) -> Easy | E33: 0.05 | F33: C | G33: Comparisons | H33: Unlike the nests of leaf cutters and most other ants situated undergr
A34: =A33+1 -> 850 | B34: SC04452 | D34: =IF(E34<24%,"Easy", IF(E34>74%, "Very Hard", IF(E34<50%, "Medium", "Hard"))) -> Easy | E34: 0.05 | F34: D | G34: Idioms/Modifiers/Pronouns | H34: Turtles like other reptiles can endure long fasts in their ability
A35: =A34+1 -> 851 | B35: SC02025 | D35: =IF(E35<24%,"Easy", IF(E35>74%, "Very Hard", IF(E35<50%, "Medium", "Hard"))) -> Easy | E35: 0.15 | F35: E | G35: Such as/Like | H35: Thai village crafts as with other cultures have developed through
A36: =A35+1 -> 852 | B36: SC27250.02 | C36: Yes | D36: =IF(E36<24%,"Easy", IF(E36>74%, "Very Hard", IF(E36<50%, "Medium", "Hard"))) -> Easy | E36: 0.05 | F36: D | G36: Pronouns/Modifiers/Meaning/Idioms/Verb Tense/Form/Diction/Style and Usage | H36: With near to all tortilla chips made from corn kernels that have been
A37: =A36+1 -> 853 | B37: SC01554 | D37: =IF(E37<24%,"Easy", IF(E37>74%, "Very Hard", IF(E37<50%, "Medium", "Hard"))) -> Easy | E37: 0.05 | F37: B | G37: Construction | H37: To estimate the expansion rate of the universe is a notoriously
A38: =A37+1 -> 854 | B38: SC94340.02 | C38: Yes | D38: =IF(E38<24%,"Easy", IF(E38>74%, "Very Hard", IF(E38<50%, "Medium", "Hard"))) -> Easy | E38: 0.05 | F38: C | G38: Grammatical Construction/Verb Tense/Form/Clauses/Diction/Style and Usage/Modifiers/Meaning | H38: Although the earliest inhabitants of Mapungubwe building their dwelli
A39: =A38+1 -> 855 | B39: SC01059 | D39: =IF(E39<24%,"Easy", IF(E39>74%, "Very Hard", IF(E39<50%, "Medium", "Hard"))) -> Medium | E39: 0.25 | F39: B | G39: Construction/Verb Tense/Form | H39: The commerce department reported that the nation s economy grew at a
A40: =A39+1 -> 856 | B40: SC01470 | D40: =IF(E40<24%,"Easy", IF(E40>74%, "Very Hard", IF(E40<50%, "Medium", "Hard"))) -> Easy | E40: 0.15 | F40: E | G40: Construction/Idioms | H40: Thomas mann s novel doctor faustus offers an examination not only of
...

Sheet Error Log
A1: GMAT Club Guide to the Official GMAT Guide 2021 Edition
A2: Question | B2: Verbal/Quant | C2: Section | D2: Difficulty Level | E2: Percentile | F2: Category | G2: Eneter Your Answer Here | H2: Result | I2: Completed Time
A3: 1 | B3: Quant | C3: PS | D3: =IF($G3="","",PS!D3) -> Easy | E3: =IF($G3="","",PS!E3) -> 0.05 | F3: =IF($G3="","",PS!G3) -> Geometry | G3: C | H3: =IF(G3="","NA",IF(G3=PS!F3,"Correct","Incorrect")) -> Incorrect
A4: =A3+1 -> 2 | B4: Quant | C4: PS | D4: =IF($G4="","",PS!D4) -> Easy | E4: =IF($G4="","",PS!E4) -> 0.05 | F4: =IF($G4="","",PS!G4) -> Arithmetic/Graphs and Illustrations | G4: D | H4: =IF(G4="","NA",IF(G4=PS!F4,"Correct","Incorrect")) -> Correct
A5: =A4+1 -> 3 | B5: Quant | C5: PS | D5: =IF($G5="","",PS!D5) | E5: =IF($G5="","",PS!E5) | F5: =IF($G5="","",PS!G5) | H5: =IF(G5="","NA",IF(G5=PS!F5,"Correct","Incorrect")) -> NA | L5: How to Use Error Log: It is pretty simple - only Modify the "G" Column for your Answer (A, B, C, D, E) and/or the completed Time Column for the time you spent on the question if you care to track timing. Unless you know Excel Formulas, DO NOT MODIFY other cells :-)
A6: =A5+1 -> 4 | B6: Quant | C6: PS | D6: =IF($G6="","",PS!D6) | E6: =IF($G6="","",PS!E6) | F6: =IF($G6="","",PS!G6) | H6: =IF(G6="","NA",IF(G6=PS!F6,"Correct","Incorrect")) -> NA
A7: =A6+1 -> 5 | B7: Quant | C7: PS | D7: =IF($G7="","",PS!D7) | E7: =IF($G7="","",PS!E7) | F7: =IF($G7="","",PS!G7) | H7: =IF(G7="","NA",IF(G7=PS!F7,"Correct","Incorrect")) -> NA
A8: =A7+1 -> 6 | B8: Quant | C8: PS | D8: =IF($G8="","",PS!D8) | E8: =IF($G8="","",PS!E8) | F8: =IF($G8="","",PS!G8) | H8: =IF(G8="","NA",IF(G8=PS!F8,"Correct","Incorrect")) -> NA
A9: =A8+1 -> 7 | B9: Quant | C9: PS | D9: =IF($G9="","",PS!D9) | E9: =IF($G9="","",PS!E9) | F9: =IF($G9="","",PS!G9) | H9: =IF(G9="","NA",IF(G9=PS!F9,"Correct","Incorrect")) -> NA
A10: =A9+1 -> 8 | B10: Quant | C10: PS | D10: =IF($G10="","",PS!D10) | E10: =IF($G10="","",PS!E10) | F10: =IF($G10="","",PS!G10) | H10: =IF(G10="","NA",IF(G10=PS!F10,"Correct","Incorrect")) -> NA
A11: =A10+1 -> 9 | B11: Quant | C11: PS | D11: =IF($G11="","",PS!D11) | E11: =IF($G11="","",PS!E11) | F11: =IF($G11="","",PS!G11) | H11: =IF(G11="","NA",IF(G11=PS!F11,"Correct","Incorrect")) -> NA
A12: =A11+1 -> 10 | B12: Quant | C12: PS | D12: =IF($G12="","",PS!D12) | E12: =IF($G12="","",PS!E12) | F12: =IF($G12="","",PS!G12) | H12: =IF(G12="","NA",IF(G12=PS!F12,"Correct","Incorrect")) -> NA
A13: =A12+1 -> 11 | B13: Quant | C13: PS | D13: =IF($G13="","",PS!D13) | E13: =IF($G13="","",PS!E13) | F13: =IF($G13="","",PS!G13) | H13: =IF(G13="","NA",IF(G13=PS!F13,"Correct","Incorrect")) -> NA
A14: =A13+1 -> 12 | B14: Quant | C14: PS | D14: =IF($G14="","",PS!D14) | E14: =IF($G14="","",PS!E14) | F14: =IF($G14="","",PS!G14) | H14: =IF(G14="","NA",IF(G14=PS!F14,"Correct","Incorrect")) -> NA
A15: =A14+1 -> 13 | B15: Quant | C15: PS | D15: =IF($G15="","",PS!D15) | E15: =IF($G15="","",PS!E15) | F15: =IF($G15="","",PS!G15) | H15: =IF(G15="","NA",IF(G15=PS!F15,"Correct","Incorrect")) -> NA
A16: =A15+1 -> 14 | B16: Quant | C16: PS | D16: =IF($G16="","",PS!D16) | E16: =IF($G16="","",PS!E16) | F16: =IF($G16="","",PS!G16) | H16: =IF(G16="","NA",IF(G16=PS!F16,"Correct","Incorrect")) -> NA
A17: =A16+1 -> 15 | B17: Quant | C17: PS | D17: =IF($G17="","",PS!D17) | E17: =IF($G17="","",PS!E17) | F17: =IF($G17="","",PS!G17) | H17: =IF(G17="","NA",IF(G17=PS!F17,"Correct","Incorrect")) -> NA
... A27: =A26+1 -> 25 | B27: Quant | C27: PS | D27: =IF($G27="","",PS!D27) | E27: =IF($G27="","",PS!E27) | F27: =IF($G27="","",PS!G27) | H27: =IF(G27="","NA",IF(G27=PS!F27,"Correct","Incorrect")) -> NA
A28: =A27+1 -> 26 | B28: Quant | C28: PS | D28: =IF($G28="","",PS!D28) -> Easy | E28: =IF($G28="","",PS!E28) -> 0.05 | F28: =IF($G28="","",PS!G28) -> Inequalities | G28: E | H28: =IF(G28="","NA",IF(G28=PS!F28,"Correct","Incorrect")) -> Correct
A29: =A28+1 -> 27 | B29: Quant | C29: PS | D29: =IF($G29="","",PS!D29) | E29: =IF($G29="","",PS!E29) | F29: =IF($G29="","",PS!G29) | H29: =IF(G29="","NA",IF(G29=PS!F29,"Correct","Incorrect")) -> NA
A30: =A29+1 -> 28 | B30: Quant | C30: PS | D30: =IF($G30="","",PS!D30) | E30: =IF($G30="","",PS!E30) | F30: =IF($G30="","",PS!G30) | H30: =IF(G30="","NA",IF(G30=PS!F30,"Correct","Incorrect")) -> NA
A31: =A30+1 -> 29 | B31: Quant | C31: PS | D31: =IF($G31="","",PS!D31) | E31: =IF($G31="","",PS!E31) | F31: =IF($G31="","",PS!G31) | H31: =IF(G31="","NA",IF(G31=PS!F31,"Correct","Incorrect")) -> NA
A32: =A31+1 -> 30 | B32: Quant | C32: PS | D32: =IF($G32="","",PS!D32) | E32: =IF($G32="","",PS!E32) | F32: =IF($G32="","",PS!G32) | H32: =IF(G32="","NA",IF(G32=PS!F32,"Correct","Incorrect")) -> NA
A33: =A32+1 -> 31 | B33: Quant | C33: PS | D33: =IF($G33="","",PS!D33) | E33: =IF($G33="","",PS!E33) | F33: =IF($G33="","",PS!G33) | H33: =IF(G33="","NA",IF(G33=PS!F33,"Correct","Incorrect")) -> NA
A34: =A33+1 -> 32 | B34: Quant | C34: PS | D34: =IF($G34="","",PS!D34) | E34: =IF($G34="","",PS!E34) | F34: =IF($G34="","",PS!G34) | H34: =IF(G34="","NA",IF(G34=PS!F34,"Correct","Incorrect")) -> NA
