Workbook

Sheet INTRO
B3: Note: to save a copy for your personal use, please go to File > Make a Copy
B5: GMAT Club Guide to the GMAT Verbal Review 2021
B6: Use this guide to: - Lookup True Questoin Difficulty (New! RC Difficulty) - Track your progress through the Official Guide for Verbal GMAT Review 2020 edition - To analyze your mistakes in the Verbal OG 2021 (Error Log Tab) - To help find specific practice questions and build your custom practice tests that focus on your weak areas Good Luck on the GMAT! GMAT Club

Sheet RC
A1: GMAT Club Guide to The GMAT Verbal Review 2021
A2: Passage | B2: Question | C2: ID | D2: New ? | E2: Difficulty | F2: % Wrong | G2: OA | H2: Primary Category | I2: Link
A3: 1 | B3: 1 | C3: RC00184-01 | E3: =IF(F3>59%, "Very Hard", IF(F3>39%, "Hard", IF(F3>19%, "Medium", "Easy"))) -> Easy | F3: 0.18 | G3: C | H3: Short Passage/Humanities | I3: https://gmatclub.com/forum/human-beings-born-with-a-drive-to-explore-and-experiment-206699.html | J3: '
B4: 2 | C4: RC00184-02 | E4: =IF(F4>59%, "Very Hard", IF(F4>39%, "Hard", IF(F4>19%, "Medium", "Easy"))) -> Medium | F4: 0.23 | G4: E | H4: Short Passage/Humanities | I4: https://gmatclub.com/forum/human-beings-born-with-a-drive-to-explore-and-experiment-206699.html | J4: '
B5: 3 | C5: RC00184-03 | E5: =IF(F5>59%, "Very Hard", IF(F5>39%, "Hard", IF(F5>19%, "Medium", "Easy"))) -> Easy | F5: 0.03 | G5: D | H5: Short Passage/Humanities | I5: https://gmatclub.com/forum/human-beings-born-with-a-drive-to-explore-and-experiment-206699.html | J5: '
B6: 4 | C6: RC00184-04 | E6: =IF(F6>59%, "Very Hard", IF(F6>39%, "Hard", IF(F6>19%, "Medium", "Easy"))) -> Medium | F6: 0.28 | G6: E | H6: Short Passage/Humanities | I6: https://gmatclub.com/forum/human-beings-born-with-a-drive-to-explore-and-experiment-206699.html | J6: '
A7: 2 | B7: 5 | C7: RC00144-03 | E7: =IF(F7>59%, "Very Hard", IF(F7>39%, "Hard", IF(F7>19%, "Medium", "Easy"))) -> Medium | F7: 0.24 | G7: A | H7: Long Passage/Business | I7: https://gmatclub.com/forum/structural-unemployment-the-unemployment-that-remains-even-at-the-peak-242711.html | J7: '
B8: 6 | C8: RC00144-04 | E8: =IF(F8>59%, "Very Hard", IF(F8>39%, "Hard", IF(F8>19%, "Medium", "Easy"))) -> Medium | F8: 0.28 | G8: C | H8: Long Passage/Business | I8: https://gmatclub.com/forum/structural-unemployment-the-unemployment-that-remains-even-at-the-peak-242711.html | J8: '
B9: 7 | C9: RC00144-05 | E9: =IF(F9>59%, "Very Hard", IF(F9>39%, "Hard", IF(F9>19%, "Medium", "Easy"))) -> Easy | F9: 0.16 | G9: D | H9: Long Passage/Business | I9: https://gmatclub.com/forum/structural-unemployment-the-unemployment-that-remains-even-at-the-peak-242711.html | J9: '
B10: 8 | C10: RC00144-06 | E10: =IF(F10>59%, "Very Hard", IF(F10>39%, "Hard", IF(F10>19%, "Medium", "Easy"))) -> Medium | F10: 0.31 | G10: B | H10: Long Passage/Business | I10: https://gmatclub.com/forum/structural-unemployment-the-unemployment-that-remains-even-at-the-peak-242711.html | J10: '
B11: 9 | C11: RC00144-07 | E11: =IF(F11>59%, "Very Hard", IF(F11>39%, "Hard", IF(F11>19%, "Medium", "Easy"))) -> Easy | F11: 0.17 | G11: C | H11: Long Passage/Business | I11: https://gmatclub.com/forum/structural-unemployment-the-unemployment-that-remains-even-at-the-peak-242711.html | J11: '
B12: 10 | C12: RC00144-08 | E12: =IF(F12>59%, "Very Hard", IF(F12>39%, "Hard", IF(F12>19%, "Medium", "Easy"))) -> Medium | F12: 0.39 | G12: D | H12: Long Passage/Business | I12: https://gmatclub.com/forum/structural-unemployment-the-unemployment-that-remains-even-at-the-peak-242711.html | J12: '
A13: 3 | B13: 11 | C13: RC00113-01 | E13: =IF(F13>59%, "Very Hard", IF(F13>39%, "Hard", IF(F13>19%, "Medium", "Easy"))) -> Hard | F13: 0.4 | G13: D | H13: Long Passage/Science | I13: https://gmatclub.com/forum/in-1971-researchers-hoping-to-predict-earthquakes-in-the-short-term-by-222825.html | J13: '
B14: 12 | C14: RC00113-02 | E14: =IF(F14>59%, "Very Hard", IF(F14>39%, "Hard", IF(F14>19%, "Medium", "Easy"))) -> Easy | F14: 0.15 | G14: B | H14: Long Passage/Science | I14: https://gmatclub.com/forum/in-1971-researchers-hoping-to-predict-earthquakes-in-the-short-term-by-222825.html | J14: '
B15: 13 | C15: RC00113-03 | E15: =IF(F15>59%, "Very Hard", IF(F15>39%, "Hard", IF(F15>19%, "Medium", "Easy"))) -> Medium | F15: 0.22 | G15: E | H15: Long Passage/Science | I15: https://gmatclub.com/forum/in-1971-researchers-hoping-to-predict-earthquakes-in-the-short-term-by-222825.html | J15: '
B16: 14 | C16: RC00113-04 | E16: =IF(F16>59%, "Very Hard", IF(F16>39%, "Hard", IF(F16>19%, "Medium", "Easy"))) -> Medium | F16: 0.32 | G16: C | H16: Long Passage/Science | I16: https://gmatclub.com/forum/in-1971-researchers-hoping-to-predict-earthquakes-in-the-short-term-by-222825.html | J16: '
B17: 15 | C17: RC00113-05 | E17: =IF(F17>59%, "Very Hard", IF(F17>39%, "Hard", IF(F17>19%, "Medium", "Easy"))) -> Medium | F17: 0.2 | G17: D | H17: Long Passage/Science | I17: https://gmatclub.com/forum/in-1971-researchers-hoping-to-predict-earthquakes-in-the-short-term-by-222825.html | J17: '
B18: 16 | C18: RC00113-07 | E18: =IF(F18>59%, "Very Hard", IF(F18>39%, "Hard", IF(F18>19%, "Medium", "Easy"))) -> Very Hard | F18: 0.76 | G18: C | H18: Long Passage/Science | I18: https://gmatclub.com/forum/in-1971-researchers-hoping-to-predict-earthquakes-in-the-short-term-by-222825.html | J18: '
A19: 4 | B19: 17 | C19: RC00492-01 | E19: =IF(F19>59%, "Very Hard", IF(F19>39%, "Hard", IF(F19>19%, "Medium", "Easy"))) -> Medium | F19: 0.21 | G19: E | H19: Long Passage/Business | I19: https://gmatclub.com/forum/a-key-decision-required-of-advertising-managers-206881.html | J19: '
B20: 18 | C20: RC00492-02 | E20: =IF(F20>59%, "Very Hard", IF(F20>39%, "Hard", IF(F20>19%, "Medium", "Easy"))) -> Medium | F20: 0.2 | G20: B | H20: Long Passage/Business | I20: https://gmatclub.com/forum/a-key-decision-required-of-advertising-managers-206881.html | J20: '
B21: 19 | C21: RC00492-03 | E21: =IF(F21>59%, "Very Hard", IF(F21>39%, "Hard", IF(F21>19%, "Medium", "Easy"))) -> Hard | F21: 0.44 | G21: A | H21: Long Passage/Business | I21: https://gmatclub.com/forum/a-key-decision-required-of-advertising-managers-206881.html | J21: '
B22: 20 | C22: RC00492-04 | E22: =IF(F22>59%, "Very Hard", IF(F22>39%, "Hard", IF(F22>19%, "Medium", "Easy"))) -> Easy | F22: 0.12 | G22: D | H22: Long Passage/Business | I22: https://gmatclub.com/forum/a-key-decision-required-of-advertising-managers-206881.html | J22: '
B23: 21 | C23: RC00492-05 | E23: =IF(F23>59%, "Very Hard", IF(F23>39%, "Hard", IF(F23>19%, "Medium", "Easy"))) -> Easy | F23: 0.17 | G23: B | H23: Long Passage/Business | I23: https://gmatclub.com/forum/a-key-decision-required-of-advertising-managers-206881.html | J23: '
B24: 22 | C24: RC00492-06 | E24: =IF(F24>59%, "Very Hard", IF(F24>39%, "Hard", IF(F24>19%, "Medium", "Easy"))) -> Hard | F24: 0.47 | G24: E | H24: Long Passage/Business | I24: https://gmatclub.com/forum/a-key-decision-required-of-advertising-managers-206881.html | J24: '
B25: 23 | C25: RC00492-07 | E25: =IF(F25>59%, "Very Hard", IF(F25>39%, "Hard", IF(F25>19%, "Medium", "Easy"))) -> Hard | F25: 0.44 | G25: C | H25: Long Passage/Business | I25: https://gmatclub.com/forum/a-key-decision-required-of-advertising-managers-206881.html | J25: '
A26: 5 | B26: 24 | C26: RC00222-01 | E26: =IF(F26>59%, "Very Hard", IF(F26>39%, "Hard", IF(F26>19%, "Medium", "Easy"))) -> Easy | F26: 0.11 | G26: C | H26: Short Passage/Science | I26: https://gmatclub.com/forum/suppose-we-were-in-a-spaceship-in-free-fall-where-objects-are-weightl-204210.html | J26: '
B27: =B26+1 -> 25 | C27: RC00222-02 | E27: =IF(F27>59%, "Very Hard", IF(F27>39%, "Hard", IF(F27>19%, "Medium", "Easy"))) -> Easy | F27: 0.14 | G27: B | H27: Short Passage/Science | I27: https://gmatclub.com/forum/suppose-we-were-in-a-spaceship-in-free-fall-where-objects-are-weightl-204210.html | J27: '
B28: =B27+1 -> 26 | C28: RC00222-03 | E28: =IF(F28>59%, "Very Hard", IF(F28>39%, "Hard", IF(F28>19%, "Medium", "Easy"))) -> Hard | F28: 0.5 | G28: A | H28: Short Passage/Science | I28: https://gmatclub.com/forum/suppose-we-were-in-a-spaceship-in-free-fall-where-objects-are-weightl-204210.html | J28: '
B29: =B28+1 -> 27 | C29: RC00222-04 | E29: =IF(F29>59%, "Very Hard", IF(F29>39%, "Hard", IF(F29>19%, "Medium", "Easy"))) -> Medium | F29: 0.31 | G29: D | H29: Short Passage/Science | I29: https://gmatclub.com/forum/suppose-we-were-in-a-spaceship-in-free-fall-where-objects-are-weightl-204210.html | J29: '
B30: =B29+1 -> 28 | C30: RC00222-05.02 | D30: New | E30: =IF(F30>59%, "Very Hard", IF(F30>39%, "Hard", IF(F30>19%, "Medium", "Easy"))) -> Easy | F30: 0.17 | G30: E | H30: Short Passage/Science | I30: https://gmatclub.com/forum/suppose-we-were-in-a-spaceship-in-free-fall-where-objects-are-weightl-204210.html | J30: '
A31: 6 | B31: =B30+1 -> 29 | C31: RC38000-01.02 | D31: New | E31: =IF(F31>59%, "Very Hard", IF(F31>39%, "Hard", IF(F31>19%, "Medium", "Easy"))) -> Hard | F31: 0.5 | G31: C | H31: Long Passage/Business | I31: http://gmatclub.com/forum/most-pre-1990-literature-on-businesses-use-of-information-technology-16566.html | J31: '
B32: =B31+1 -> 30 | C32: RC38000-02.02 | D32: New | E32: =IF(F32>59%, "Very Hard", IF(F32>39%, "Hard", IF(F32>19%, "Medium", "Easy"))) -> Medium | F32: 0.37 | G32: B | H32: Long Passage/Business | I32: http://gmatclub.com/forum/most-pre-1990-literature-on-businesses-use-of-information-technology-16566.html | J32: '
B33: =B32+1 -> 31 | C33: RC38000-03.02 | D33: New | E33: =IF(F33>59%, "Very Hard", IF(F33>39%, "Hard", IF(F33>19%, "Medium", "Easy"))) -> Easy | F33: 0.17 | G33: A | H33: Long Passage/Business | I33: http://gmatclub.com/forum/most-pre-1990-literature-on-businesses-use-of-information-technology-16566.html | J33: '
B34: =B33+1 -> 32 | C34: RC38000-04.02 | D34: New | E34: =IF(F34>59%, "Very Hard", IF(F34>39%, "Hard", IF(F34>19%, "Medium", "Easy"))) -> Easy | F34: 0.19 | G34: E | H34: Long Passage/Business | I34: http://gmatclub.com/forum/most-pre-1990-literature-on-businesses-use-of-information-technology-16566.html | J34: '
B35: =B34+1 -> 33 | C35: RC38000-05.02 | D35: New | E35: =IF(F35>59%, "Very Hard", IF(F35>39%, "Hard", IF(F35>19%, "Medium", "Easy"))) -> Medium | F35: 0.32 | G35: A | H35: Long Passage/Business | I35: http://gmatclub.com/forum/most-pre-1990-literature-on-businesses-use-of-information-technology-16566.html | J35: '
B36: =B35+1 -> 34 | C36: RC38000-06.02 | D36: New | E36: =IF(F36>59%, "Very Hard", IF(F36>39%, "Hard", IF(F36>19%, "Medium", "Easy"))) -> Hard | F36: 0.43 | G36: E | H36: Long Passage/Business | I36: http://gmatclub.com/forum/most-pre-1990-literature-on-businesses-use-of-information-technology-16566.html | J36: '
B37: =B36+1 -> 35 | C37: RC38000-07.02 | D37: New | E37: =IF(F37>59%, "Very Hard", IF(F37>39%, "Hard", IF(F37>19%, "Medium", "Easy"))) -> Easy | F37: 0.19 | G37: B | H37: Long Passage/Business | I37: http://gmatclub.com/forum/most-pre-1990-literature-on-businesses-use-of-information-technology-16566.html | J37: '
B38: =B37+1 -> 36 | C38: RC38000-08.02 | D38: New | E38: =IF(F38>59%, "Very Hard", IF(F38>39%, "Hard", IF(F38>19%, "Medium", "Easy"))) -> Easy | F38: 0.11 | G38: D | H38: Long Passage/Business | I38: http://gmatclub.com/forum/most-pre-1990-literature-on-businesses-use-of-information-technology-16566.html | J38: '
A39: 6 | B39: =B38+1 -> 37 | C39: RC00267-01 | E39: =IF(F39>59%, "Very Hard", IF(F39>39%, "Hard", IF(F39>19%, "Medium", "Easy"))) -> Very Hard | F39: 0.79 | G39: B | H39: Short Passage/Science | I39: https://gmatclub.com/forum/the-dry-mountain-ranges-of-the-western-united-states-contain-rocks-248026.html | J39: '
B40: =B39+1 -> 38 | C40: RC00267-02 | E40: =IF(F40>59%, "Very Hard", IF(F40>39%, "Hard", IF(F40>19%, "Medium", "Easy"))) -> Very Hard | F40: 0.71 | G40: B | H40: Short Passage/Science | I40: https://gmatclub.com/forum/the-dry-mountain-ranges-of-the-western-united-states-contain-rocks-248026.html | J40: '
...

Sheet CR
A1: GMAT Club Guide to The GMAT Verbal Review 2021
A2: Question | B2: ID | C2: New ? | D2: Difficulty | E2: Percentile | F2: OA | G2: Primary Category | H2: Link
A3: 113 | B3: CR14249 | D3: =IF(E3>74%, "Very Hard", IF(E3>49%, "Hard", IF(E3>24%, "Medium", "Easy"))) -> Easy | E3: 0.05 | F3: C | G3: Strengthen | H3: https://gmatclub.com/forum/phishco-runs-a-number-of-farms-in-the-arid-province-of-nufa-depending-220705.html
A4: =A3+1 -> 114 | B4: CR12701.02 | C4: New | D4: =IF(E4>74%, "Very Hard", IF(E4>49%, "Hard", IF(E4>24%, "Medium", "Easy"))) -> Medium | E4: 0.35 | F4: D | G4: Weaken | H4: http://gmatclub.com/forum/stockholders-have-been-critical-of-the-flyna-company-a-major-furnitur-321874.html
A5: =A4+1 -> 115 | B5: CR12721.02 | C5: New | D5: =IF(E5>74%, "Very Hard", IF(E5>49%, "Hard", IF(E5>24%, "Medium", "Easy"))) -> Medium | E5: 0.45 | F5: D | G5: Strengthen | H5: http://gmatclub.com/forum/the-xct-automobile-is-considered-less-valuable-than-the-znk-automobile-321875.html
A6: =A5+1 -> 116 | B6: CR07612 | D6: =IF(E6>74%, "Very Hard", IF(E6>49%, "Hard", IF(E6>24%, "Medium", "Easy"))) -> Easy | E6: 0.05 | F6: B | G6: Inference | H6: https://gmatclub.com/forum/the-sustained-massive-use-of-pesticides-in-farming-has-two-152683.html
A7: =A6+1 -> 117 | B7: CR00701 | D7: =IF(E7>74%, "Very Hard", IF(E7>49%, "Hard", IF(E7>24%, "Medium", "Easy"))) -> Easy | E7: 0.05 | F7: B | G7: Complete the passage | H7: https://gmatclub.com/forum/manufacturers-are-now-required-to-make-all-cigarette-lighters-child-re-159898.html
A8: =A7+1 -> 118 | B8: CR04192 | D8: =IF(E8>74%, "Very Hard", IF(E8>49%, "Hard", IF(E8>24%, "Medium", "Easy"))) -> Easy | E8: 0.05 | F8: A | G8: Complete the passage | H8: https://gmatclub.com/forum/a-business-analysis-of-the-appenian-railroad-system-divided-its-long-d-206878.html
A9: =A8+1 -> 119 | B9: CR52441.01 | D9: =IF(E9>74%, "Very Hard", IF(E9>49%, "Hard", IF(E9>24%, "Medium", "Easy"))) -> Medium | E9: 0.25 | F9: C | G9: Strengthen | H9: https://gmatclub.com/forum/in-its-search-for-new-technologies-for-solar-energy-that-can-produce-294495.html
A10: =A9+1 -> 120 | B10: CR03129 | D10: =IF(E10>74%, "Very Hard", IF(E10>49%, "Hard", IF(E10>24%, "Medium", "Easy"))) -> Easy | E10: 0.05 | F10: D | G10: Strengthen | H10: https://gmatclub.com/forum/verbal-review-2-16-ed-although-ackerburg-s-subway-system-is-currently-209027.html
A11: =A10+1 -> 121 | B11: CR59590.02 | C11: New | D11: =IF(E11>74%, "Very Hard", IF(E11>49%, "Hard", IF(E11>24%, "Medium", "Easy"))) -> Easy | E11: 0.15 | F11: B | G11: Resolve Paradox | H11: http://gmatclub.com/forum/at-several-locations-on-the-northwest-coast-of-north-americ-321876.html
A12: =A11+1 -> 122 | B12: CR20531.01 | D12: =IF(E12>74%, "Very Hard", IF(E12>49%, "Hard", IF(E12>24%, "Medium", "Easy"))) -> Easy | E12: 0.05 | F12: B | G12: Assumption | H12: https://gmatclub.com/forum/sparrow-airlines-is-planning-to-reduce-its-costs-by-cleaning-its-plane-294496.html
A13: =A12+1 -> 123 | B13: CR00828 | D13: =IF(E13>74%, "Very Hard", IF(E13>49%, "Hard", IF(E13>24%, "Medium", "Easy"))) -> Easy | E13: 0.15 | F13: B | G13: Assumption | H13: https://gmatclub.com/forum/patrick-usually-provides-child-care-for-six-children-144657.html
A14: =A13+1 -> 124 | B14: CR10639 | D14: =IF(E14>74%, "Very Hard", IF(E14>49%, "Hard", IF(E14>24%, "Medium", "Easy"))) -> Medium | E14: 0.25 | F14: A | G14: Strengthen | H14: https://gmatclub.com/forum/editorial-consumers-in-north-america-think-that-by-drinking-frozen-co-242652.html
A15: =A14+1 -> 125 | B15: CR07618 | D15: =IF(E15>74%, "Very Hard", IF(E15>49%, "Hard", IF(E15>24%, "Medium", "Easy"))) -> Easy | E15: 0.05 | F15: C | G15: Conclusion | H15: https://gmatclub.com/forum/a-computer-equipped-with-signature-recognition-software-68722.html
A16: =A15+1 -> 126 | B16: CR02958 | D16: =IF(E16>74%, "Very Hard", IF(E16>49%, "Hard", IF(E16>24%, "Medium", "Easy"))) -> Easy | E16: 0.05 | F16: D | G16: Resolve Paradox | H16: https://gmatclub.com/forum/the-rate-at-which-a-road-wears-depends-on-various-factors-including-c-221752.html
A17: =A16+1 -> 127 | B17: CR75231.01 | D17: =IF(E17>74%, "Very Hard", IF(E17>49%, "Hard", IF(E17>24%, "Medium", "Easy"))) -> Hard | E17: 0.55 | F17: E | G17: Assumption | H17: https://gmatclub.com/forum/ythex-has-developed-a-small-diesel-engine-that-produces-30-percent-les-294497.html
A18: =A17+1 -> 128 | B18: CR04073 | D18: =IF(E18>74%, "Very Hard", IF(E18>49%, "Hard", IF(E18>24%, "Medium", "Easy"))) -> Easy | E18: 0.05 | F18: A | G18: Must be True | H18: https://gmatclub.com/forum/in-parts-of-south-america-vitamin-a-deficiency-is-a-serious-health-pr-86372.html
A19: =A18+1 -> 129 | B19: CR06018 | D19: =IF(E19>74%, "Very Hard", IF(E19>49%, "Hard", IF(E19>24%, "Medium", "Easy"))) -> Easy | E19: 0.05 | F19: C | G19: Complete the passage | H19: https://gmatclub.com/forum/the-last-members-of-a-now-extinct-species-of-a-european-wild-deer-call-33561.html
A20: =A19+1 -> 130 | B20: CR28931.01 | D20: =IF(E20>74%, "Very Hard", IF(E20>49%, "Hard", IF(E20>24%, "Medium", "Easy"))) -> Very Hard | E20: 0.75 | F20: A | G20: Assumption | H20: https://gmatclub.com/forum/super-express-shipping-company-has-implemented-a-new-distribution-294498.html
A21: =A20+1 -> 131 | B21: CR04738 | D21: =IF(E21>74%, "Very Hard", IF(E21>49%, "Hard", IF(E21>24%, "Medium", "Easy"))) -> Easy | E21: 0.15 | F21: B | G21: Weaken | H21: https://gmatclub.com/forum/cocoa-grown-organically-on-trees-within-the-shade-of-the-rain-forest-268678.html
A22: =A21+1 -> 132 | B22: CR91131.02 | C22: New | D22: =IF(E22>74%, "Very Hard", IF(E22>49%, "Hard", IF(E22>24%, "Medium", "Easy"))) -> Hard | E22: 0.55 | F22: B | G22: Evaluate Argument/Strengthen | H22: http://gmatclub.com/forum/psychologists-conducted-an-experiment-in-which-half-of-the-volunteers-321877.html
A23: =A22+1 -> 133 | B23: CR07847 | D23: =IF(E23>74%, "Very Hard", IF(E23>49%, "Hard", IF(E23>24%, "Medium", "Easy"))) -> Easy | E23: 0.05 | F23: A | G23: Inference | H23: https://gmatclub.com/forum/high-levels-of-fertilizer-and-pesticides-needed-when-14620.html
A24: =A23+1 -> 134 | B24: CR02270 | D24: =IF(E24>74%, "Very Hard", IF(E24>49%, "Hard", IF(E24>24%, "Medium", "Easy"))) -> Medium | E24: 0.25 | F24: D | G24: Inference | H24: https://gmatclub.com/forum/ten-years-ago-the-number-of-taxpayers-in-green-county-was-slightly-gre-219422.html
A25: =A24+1 -> 135 | B25: CR01298 | D25: =IF(E25>74%, "Very Hard", IF(E25>49%, "Hard", IF(E25>24%, "Medium", "Easy"))) -> Medium | E25: 0.35 | F25: A | G25: Resolve Paradox | H25: https://gmatclub.com/forum/from-1900-until-the-1930s-pellagra-a-disease-later-discovered-to-res-268729.html
A26: =A25+1 -> 136 | B26: CR07589 | D26: =IF(E26>74%, "Very Hard", IF(E26>49%, "Hard", IF(E26>24%, "Medium", "Easy"))) -> Easy | E26: 0.05 | F26: C | G26: Assumption | H26: https://gmatclub.com/forum/the-interview-is-an-essential-part-of-a-successful-hiring-program-beca-204962.html
A27: =A26+1 -> 137 | B27: CR07785 | D27: =IF(E27>74%, "Very Hard", IF(E27>49%, "Hard", IF(E27>24%, "Medium", "Easy"))) -> Easy | E27: 0.15 | F27: E | G27: Evaluate Argument | H27: https://gmatclub.com/forum/many-leadership-theories-have-provided-evidence-that-leaders-affect-gr-221750.html
A28: =A27+1 -> 138 | B28: CR03535 | D28: =IF(E28>74%, "Very Hard", IF(E28>49%, "Hard", IF(E28>24%, "Medium", "Easy"))) -> Easy | E28: 0.05 | F28: C | G28: Strengthen | H28: https://gmatclub.com/forum/a-major-health-insurance-company-in-lagolia-161150.html
A29: =A28+1 -> 139 | B29: CR03826 | D29: =IF(E29>74%, "Very Hard", IF(E29>49%, "Hard", IF(E29>24%, "Medium", "Easy"))) -> Medium | E29: 0.25 | F29: B | G29: Resolve Paradox | H29: https://gmatclub.com/forum/automobile-ownership-was-rare-in-sabresia-as-recently-as-30-years-ago-268709.html
A30: =A29+1 -> 140 | B30: CR01430 | D30: =IF(E30>74%, "Very Hard", IF(E30>49%, "Hard", IF(E30>24%, "Medium", "Easy"))) -> Easy | E30: 0.05 | F30: A | G30: Additional Evidence | H30: https://gmatclub.com/forum/to-evaluate-a-plan-to-save-money-on-office-space-19630.html
A31: =A30+1 -> 141 | B31: CR04180 | D31: =IF(E31>74%, "Very Hard", IF(E31>49%, "Hard", IF(E31>24%, "Medium", "Easy"))) -> Medium | E31: 0.25 | F31: A | G31: Weaken | H31: https://gmatclub.com/forum/a-child-learning-to-play-the-piano-will-not-succeed-unless-the-child-268745.html
A32: =A31+1 -> 142 | B32: CR05096 | D32: =IF(E32>74%, "Very Hard", IF(E32>49%, "Hard", IF(E32>24%, "Medium", "Easy"))) -> Easy | E32: 0.15 | F32: D | G32: Weaken | H32: https://gmatclub.com/forum/nutritionists-are-advising-people-to-eat-more-fish-since-the-omega-219279.html
A33: =A32+1 -> 143 | B33: CR02851 | D33: =IF(E33>74%, "Very Hard", IF(E33>49%, "Hard", IF(E33>24%, "Medium", "Easy"))) -> Medium | E33: 0.35 | F33: B | G33: Complete the passage | H33: https://gmatclub.com/forum/market-forecaster-the-price-of-pecans-is-high-when-pecans-are-compara-268684.html
A34: =A33+1 -> 144 | B34: CR06331 | D34: =IF(E34>74%, "Very Hard", IF(E34>49%, "Hard", IF(E34>24%, "Medium", "Easy"))) -> Easy | E34: 0.05 | F34: B | G34: Logical Flaw | H34: https://gmatclub.com/forum/it-is-often-said-that-high-rates-of-inflation-tend-to-diminish-people-209026.html
... A78: =A77+1 -> 188 | B78: CR09046 | D78: =IF(E78>74%, "Very Hard", IF(E78>49%, "Hard", IF(E78>24%, "Medium", "Easy"))) -> Hard | E78: 0.65 | F78: B | G78: Evaluate Argument | H78: https://gmatclub.com/forum/economist-paying-extra-for-fair-trade-coffee-coffee-labeled-with-the-241317.html
A79: =A78+1 -> 189 | B79: CR66900.02 | C79: New | D79: =IF(E79>74%, "Very Hard", IF(E79>49%, "Hard", IF(E79>24%, "Medium", "Easy"))) -> Medium | E79: 0.45 | F79: C | G79: Resolve Paradox | H79: http://gmatclub.com/forum/twenty-five-years-ago-2-000-married-people-were-asked-to-rank-four-ca-321879.html
A80: =A79+1 -> 190 | B80: CR59820.02 | C80: New | D80: =IF(E80>74%, "Very Hard", IF(E80>49%, "Hard", IF(E80>24%, "Medium", "Easy"))) -> Very Hard | E80: 0.95 | F80: E | G80: Bold Face CR | H80: http://gmatclub.com/forum/in-order-to-achieve-self-sufficiency-in-electricity-production-the-has-321880.html
A81: =A80+1 -> 191 | B81: CR89820.02 | C81: New | D81: =IF(E81>74%, "Very Hard", IF(E81>49%, "Hard", IF(E81>24%, "Medium", "Easy"))) -> Medium | E81: 0.45 | F81: E | G81: Evaluate Argument/Weaken | H81: http://gmatclub.com/forum/in-cecropia-inspections-of-fishing-boats-that-estimate-the-number-of-321882.html
A82: =A81+1 -> 192 | B82: CR55030.02 | C82: New | D82: =IF(E82>74%, "Very Hard", IF(E82>49%, "Hard", IF(E82>24%, "Medium", "Easy"))) -> Medium | E82: 0.25 | F82: C | G82: Bold Face CR | H82: http://gmatclub.com/forum/consultant-a-significant-number-of-complex-repair-jobs-carried-out-321883.html
A83: =A82+1 -> 193 | B83: CR08540.02 | C83: New | D83: =IF(E83>74%, "Very Hard", IF(E83>49%, "Hard", IF(E83>24%, "Medium", "Easy"))) -> Very Hard | E83: 0.95 | F83: E | G83: Inference | H83: http://gmatclub.com/forum/half-of-metroburg-s-operating-budget-comes-from-a-payroll-tax-of-2-per-321884.html
...

Sheet SC
A1: GMAT Club Guide to The GMAT Verbal Review 2021
A2: Question | B2: ID | C2: New ? | D2: Difficulty | E2: Percentile | F2: OA | G2: Primary Category | H2: Link
A3: 234 | B3: SC01545 | D3: =IF(E3>74%, "Very Hard", IF(E3>49%, "Hard", IF(E3>24%, "Medium", "Easy"))) -> Easy | E3: 0.05 | F3: C | G3: Comparisons | H3: https://gmatclub.com/forum/with-respect-to-most-species-of-animals-they-are-evenly-divided-in-268628.html
A4: =A3+1 -> 235 | B4: SC07435 | D4: =IF(E4>74%, "Very Hard", IF(E4>49%, "Hard", IF(E4>24%, "Medium", "Easy"))) -> Easy | E4: 0.05 | F4: A | G4: Gerund; Grammatical Construction | H4: https://gmatclub.com/forum/using-digital-enhancements-of-skull-fragments-from-five-prehistoric-221379.html
A5: =A4+1 -> 236 | B5: SC14890 | D5: =IF(E5>74%, "Very Hard", IF(E5>49%, "Hard", IF(E5>24%, "Medium", "Easy"))) -> Easy | E5: 0.05 | F5: C | G5: Grammatical Construction | H5: https://gmatclub.com/forum/the-interior-minister-explained-that-one-of-the-village-planning-221374.html
A6: =A5+1 -> 237 | B6: SC02940 | D6: =IF(E6>74%, "Very Hard", IF(E6>49%, "Hard", IF(E6>24%, "Medium", "Easy"))) -> Easy | E6: 0.05 | F6: E | G6: Comparisons; Parallel Structure | H6: https://gmatclub.com/forum/like-ants-termites-have-an-elaborate-social-structure-in-which-a-few-39919.html
A7: =A6+1 -> 238 | B7: SC01519 | D7: =IF(E7>74%, "Very Hard", IF(E7>49%, "Hard", IF(E7>24%, "Medium", "Easy"))) -> Easy | E7: 0.05 | F7: E | G7: Grammatical Construction; Modifiers | H7: https://gmatclub.com/forum/verbal-og-2016-global-warming-is-said-to-be-responsible-for-extreme-219616.html
A8: =A7+1 -> 239 | B8: SC02548 | D8: =IF(E8>74%, "Very Hard", IF(E8>49%, "Hard", IF(E8>24%, "Medium", "Easy"))) -> Easy | E8: 0.05 | F8: E | G8: Parallel Structure | H8: https://gmatclub.com/forum/hundreds-of-species-of-fish-generate-and-discharge-electric-158181.html
A9: =A8+1 -> 240 | B9: SC05367 | D9: =IF(E9>74%, "Very Hard", IF(E9>49%, "Hard", IF(E9>24%, "Medium", "Easy"))) -> Easy | E9: 0.05 | F9: C | G9: Grammatical Construction | H9: https://gmatclub.com/forum/native-to-south-america-when-peanuts-were-introduced-to-158183.html
A10: =A9+1 -> 241 | B10: SC03552 | D10: =IF(E10>74%, "Very Hard", IF(E10>49%, "Hard", IF(E10>24%, "Medium", "Easy"))) -> Easy | E10: 0.05 | F10: D | G10: Parallel Structure; Participle Parallelism | H10: https://gmatclub.com/forum/it-stood-twelve-feet-tall-weighed-nine-thousand-pounds-and-wielded-221385.html
A11: =A10+1 -> 242 | B11: SC04083 | D11: =IF(E11>74%, "Very Hard", IF(E11>49%, "Hard", IF(E11>24%, "Medium", "Easy"))) -> Easy | E11: 0.15 | F11: E | G11: Meaning; Modifiers | H11: https://gmatclub.com/forum/studying-skeletons-unearthed-near-rome-dna-evidence-was-recovered-by-242647.html
A12: =A11+1 -> 243 | B12: SC01594 | D12: =IF(E12>74%, "Very Hard", IF(E12>49%, "Hard", IF(E12>24%, "Medium", "Easy"))) -> Easy | E12: 0.15 | F12: D | G12: Absolute Phrases; Meaning; Modifiers | H12: https://gmatclub.com/forum/butterflies-come-in-more-than-17-000-species-displaying-a-wing-patter-268489.html
A13: =A12+1 -> 244 | B13: SC04652 | D13: =IF(E13>74%, "Very Hard", IF(E13>49%, "Hard", IF(E13>24%, "Medium", "Easy"))) -> Easy | E13: 0.15 | F13: B | G13: Verb Tense/Form | H13: https://gmatclub.com/forum/a-march-2000-census-bureau-survey-showed-that-mexico-accounted-for-mor-81147.html
A14: =A13+1 -> 245 | B14: SC01579 | D14: =IF(E14>74%, "Very Hard", IF(E14>49%, "Hard", IF(E14>24%, "Medium", "Easy"))) -> Easy | E14: 0.05 | F14: E | G14: Subject Verb Agreement | H14: https://gmatclub.com/forum/recently-declassified-information-from-military-satellites-in-orbit-th-241567.html
A15: =A14+1 -> 246 | B15: SC04026 | D15: =IF(E15>74%, "Very Hard", IF(E15>49%, "Hard", IF(E15>24%, "Medium", "Easy"))) -> Easy | E15: 0.15 | F15: C | G15: Grammatical Construction | H15: https://gmatclub.com/forum/child-development-specialists-believe-that-in-confining-babies-mucle-241571.html
... A36: =A35+1 -> 267 | B36: SC81661.01 | D36: =IF(E36>74%, "Very Hard", IF(E36>49%, "Hard", IF(E36>24%, "Medium", "Easy"))) -> Medium | E36: 0.25 | F36: C | G36: Parallel structure; Pronouns; Verb/Tense form | H36: https://gmatclub.com/forum/in-the-united-states-one-of-the-earliest-challengers-of-the-economic-294451.html
A37: =A36+1 -> 268 | B37: SC94920.02 | C37: New | D37: =IF(E37>74%, "Very Hard", IF(E37>49%, "Hard", IF(E37>24%, "Medium", "Easy"))) -> Hard | E37: 0.55 | F37: B | G37: Grammatical Construction/Meaning/Idioms | H37: http://gmatclub.com/forum/some-business-experts-think-that-allowing-employees-to-buy-their-emplo-321778.html
A38: =A37+1 -> 269 | B38: SC71661.01 | D38: =IF(E38>74%, "Very Hard", IF(E38>49%, "Hard", IF(E38>24%, "Medium", "Easy"))) -> Easy | E38: 0.15 | F38: A | G38: Subject/Verb agreement | H38: https://gmatclub.com/forum/desertification-a-process-in-which-the-biological-productivity-of-the-294510.html
A39: =A38+1 -> 270 | B39: SC42661.01 | D39: =IF(E39>74%, "Very Hard", IF(E39>49%, "Hard", IF(E39>24%, "Medium", "Easy"))) -> Easy | E39: 0.05 | F39: A | G39: Modifiers | H39: https://gmatclub.com/forum/open-to-the-public-and-operated-like-conventional-hotels-condominium-294455.html
A40: =A39+1 -> 271 | B40: SC52661.01 | D40: =IF(E40>74%, "Very Hard", IF(E40>49%, "Hard", IF(E40>24%, "Medium", "Easy"))) -> Easy | E40: 0.05 | F40: C | G40: Construction; Diction | H40: https://gmatclub.com/forum/the-methods-proposed-for-reducing-the-amount-of-interest-to-be-paid-294486.html
A41: =A40+1 -> 272 | B41: SC62661.01 | D41: =IF(E41>74%, "Very Hard", IF(E41>49%, "Hard", IF(E41>24%, "Medium", "Easy"))) -> Easy | E41: 0.05 | F41: D | G41: Parallel structure; Pronouns | H41: https://gmatclub.com/forum/despite-the-puritan-sumptuary-laws-prohibiting-the-wearing-of-bright-294490.html
A42: =A41+1 -> 273 | B42: SC72661.01 | D42: =IF(E42>74%, "Very Hard", IF(E42>49%, "Hard", IF(E42>24%, "Medium", "Easy"))) -> Easy | E42: 0.05 | F42: C | G42: Idiom; construction; diction | H42: https://gmatclub.com/forum/like-darwin-and-his-fruitful-voyage-on-the-beagle-banks-s-trip-294491.html
A43: =A42+1 -> 274 | B43: SC82661.01 | D43: =IF(E43>74%, "Very Hard", IF(E43>49%, "Hard", IF(E43>24%, "Medium", "Easy"))) -> Easy | E43: 0.05 | F43: E | G43: Idiom; Verb/Tense form | H43: https://gmatclub.com/forum/when-more-and-more-factories-move-out-of-the-cities-each-year-294492.html
A44: =A43+1 -> 275 | B44: SC92661.01 | D44: =IF(E44>74%, "Very Hard", IF(E44>49%, "Hard", IF(E44>24%, "Medium", "Easy"))) -> Easy | E44: 0.05 | F44: C | G44: Pronouns | H44: https://gmatclub.com/forum/the-thousands-of-volcanic-islands-and-coral-atolls-of-the-south-seas-294493.html
A45: =A44+1 -> 276 | B45: SC03661.01 | D45: =IF(E45>74%, "Very Hard", IF(E45>49%, "Hard", IF(E45>24%, "Medium", "Easy"))) -> Easy | E45: 0.05 | F45: E | G45: Comparison; Indioms | H45: https://gmatclub.com/forum/in-contrast-with-a-dark-surface-and-its-tendency-toward-heat-absorptio-294489.html
A46: =A45+1 -> 277 | B46: SC37620.01 | D46: =IF(E46>74%, "Very Hard", IF(E46>49%, "Hard", IF(E46>24%, "Medium", "Easy"))) -> Medium | E46: 0.45 | F46: E | G46: Modifiers | H46: https://gmatclub.com/forum/the-greatest-road-system-built-in-the-americas-prior-to-the-arrival-of-197171.html
A47: =A46+1 -> 278 | B47: SC99250.01 | D47: =IF(E47>74%, "Very Hard", IF(E47>49%, "Hard", IF(E47>24%, "Medium", "Easy"))) -> Medium | E47: 0.25 | F47: E | G47: Grammatical construction | H47: https://gmatclub.com/forum/due-to-poaching-and-increased-cultivation-in-their-native-habitats-re-96900.html
A48: =A47+1 -> 279 | B48: SC04215 | D48: =IF(E48>74%, "Very Hard", IF(E48>49%, "Hard", IF(E48>24%, "Medium", "Easy"))) -> Easy | E48: 0.05 | F48: D | G48: Meaning; Modifiers; Parallel Structure; Pronouns | H48: https://gmatclub.com/forum/developed-by-pennsylvania-s-palatine-germans-about-1750-conestoga-289885.html
A49: =A48+1 -> 280 | B49: SC60440.01 | D49: =IF(E49>74%, "Very Hard", IF(E49>49%, "Hard", IF(E49>24%, "Medium", "Easy"))) -> Easy | E49: 0.05 | F49: B | G49: Parallel Structure | H49: https://gmatclub.com/forum/the-current-economic-downturn-has-significantly-reduced-advertising-46052.html
... A62: =A61+1 -> 293 | B62: SC07143 | D62: =IF(E62>74%, "Very Hard", IF(E62>49%, "Hard", IF(E62>24%, "Medium", "Easy"))) -> Easy | E62: 0.05 | F62: C | G62: Modifiers; Comparisons | H62: https://gmatclub.com/forum/in-1974-a-large-area-of-the-surface-of-mercury-was-photographed-from-221378.html
A63: =A62+1 -> 294 | B63: SC46270.02 | C63: New | D63: =IF(E63>74%, "Very Hard", IF(E63>49%, "Hard", IF(E63>24%, "Medium", "Easy"))) -> Easy | E63: 0.15 | F63: B | G63: Grammatical Construction/Subject Verb Agreement/Idioms | H63: http://gmatclub.com/forum/the-survival-of-a-rare-new-zealand-species-of-mistletoe-that-produces-321779.html
A64: =A63+1 -> 295 | B64: SC05894 | D64: =IF(E64>74%, "Very Hard", IF(E64>49%, "Hard", IF(E64>24%, "Medium", "Easy"))) -> Easy | E64: 0.05 | F64: A | G64: Construction; Diction; Meaning; Parallel Structure | H64: https://gmatclub.com/forum/the-computer-company-reported-strong-second-quarter-earnings-67968.html
A65: =A64+1 -> 296 | B65: SC01562 | D65: =IF(E65>74%, "Very Hard", IF(E65>49%, "Hard", IF(E65>24%, "Medium", "Easy"))) -> Hard | E65: 0.55 | F65: D | G65: Modifiers; Use of Being; Meaning | H65: https://gmatclub.com/forum/long-overshadowed-by-the-maya-and-aztec-civilizations-historians-are-268473.html
A66: =A65+1 -> 297 | B66: SC02370 | D66: =IF(E66>74%, "Very Hard", IF(E66>49%, "Hard", IF(E66>24%, "Medium", "Easy"))) -> Medium | E66: 0.25 | F66: C | G66: Modifiers; Pronouns | H66: https://gmatclub.com/forum/the-bank-holds-3-billion-in-loans-that-are-seriously-delinquent-or-in-45320.html
A67: =A66+1 -> 298 | B67: SC01435 | D67: =IF(E67>74%, "Very Hard", IF(E67>49%, "Hard", IF(E67>24%, "Medium", "Easy"))) -> Easy | E67: 0.05 | F67: A | G67: Comparisons | H67: https://gmatclub.com/forum/a-researcher-claims-that-a-tornado-of-a-given-size-and-strength-is-lik-268494.html
A68: =A67+1 -> 299 | B68: SC04603 | D68: =IF(E68>74%, "Very Hard", IF(E68>49%, "Hard", IF(E68>24%, "Medium", "Easy"))) -> Hard | E68: 0.65 | F68: E | G68: Clauses; Modifiers; Pronouns; Punctuations | H68: https://gmatclub.com/forum/qotd-heirloom-tomatoes-grown-from-seeds-249273.html
A69: =A68+1 -> 300 | B69: SC05381 | D69: =IF(E69>74%, "Very Hard", IF(E69>49%, "Hard", IF(E69>24%, "Medium", "Easy"))) -> Easy | E69: 0.05 | F69: A | G69: Parallel structure | H69: https://gmatclub.com/forum/in-the-textbook-publishing-business-the-second-quarter-is-historicall-168403.html
A70: =A69+1 -> 301 | B70: SC01485 | D70: =IF(E70>74%, "Very Hard", IF(E70>49%, "Hard", IF(E70>24%, "Medium", "Easy"))) -> Medium | E70: 0.35 | F70: D | G70: Comparisons | H70: https://gmatclub.com/forum/because-of-the-sharp-increases-in-the-price-of-gold-and-silver-the-272364.html
A71: =A70+1 -> 302 | B71: SC02791 | D71: =IF(E71>74%, "Very Hard", IF(E71>49%, "Hard", IF(E71>24%, "Medium", "Easy"))) -> Easy | E71: 0.05 | F71: D | G71: Comparisons | H71: https://gmatclub.com/forum/ms-chambers-is-among-the-forecasters-who-predict-that-the-47750.html
A72: =A71+1 -> 303 | B72: SC00987 | D72: =IF(E72>74%, "Very Hard", IF(E72>49%, "Hard", IF(E72>24%, "Medium", "Easy"))) -> Medium | E72: 0.25 | F72: C | G72: Idioms; Meaning; Parallel structure | H72: https://gmatclub.com/forum/in-keeping-with-her-commitment-to-her-christian-faith-sojourner-truth-268554.html
...

Sheet Error Log
A1: GMAT Club Guide to The GMAT Official Guide 2021
A2: Question | B2: Section | C2: Difficulty Level | D2: Percentile | E2: Category | F2: Your Answer | G2: Result | H2: Completed Time
A3: 1 | B3: RC | C3: =IF($F3="","",'RC'!E3) | D3: =IF($F3="","",'RC'!F3) | E3: =IF($F3="","",'RC'!H3) | G3: =IF(F3="","NA",IF(F3='RC'!G3,"Correct","Incorrect")) -> NA
A4: 2 | B4: RC | C4: =IF($F4="","",'RC'!E4) | D4: =IF($F4="","",'RC'!F4) | E4: =IF($F4="","",'RC'!H4) | G4: =IF(F4="","NA",IF(F4='RC'!G4,"Correct","Incorrect")) -> NA
A5: 3 | B5: RC | C5: =IF($F5="","",'RC'!E5) | D5: =IF($F5="","",'RC'!F5) | E5: =IF($F5="","",'RC'!H5) | G5: =IF(F5="","NA",IF(F5='RC'!G5,"Correct","Incorrect")) -> NA
A6: 4 | B6: RC | C6: =IF($F6="","",'RC'!E6) | D6: =IF($F6="","",'RC'!F6) | E6: =IF($F6="","",'RC'!H6) | G6: =IF(F6="","NA",IF(F6='RC'!G6,"Correct","Incorrect")) -> NA
A7: 5 | B7: RC | C7: =IF($F7="","",'RC'!E7) | D7: =IF($F7="","",'RC'!F7) | E7: =IF($F7="","",'RC'!H7) | G7: =IF(F7="","NA",IF(F7='RC'!G7,"Correct","Incorrect")) -> NA
A8: 6 | B8: RC | C8: =IF($F8="","",'RC'!E8) | D8: =IF($F8="","",'RC'!F8) | E8: =IF($F8="","",'RC'!H8) | G8: =IF(F8="","NA",IF(F8='RC'!G8,"Correct","Incorrect")) -> NA
A9: 7 | B9: RC | C9: =IF($F9="","",'RC'!E9) | D9: =IF($F9="","",'RC'!F9) | E9: =IF($F9="","",'RC'!H9) | G9: =IF(F9="","NA",IF(F9='RC'!G9,"Correct","Incorrect")) -> NA
A10: 8 | B10: RC | C10: =IF($F10="","",'RC'!E10) | D10: =IF($F10="","",'RC'!F10) | E10: =IF($F10="","",'RC'!H10) | G10: =IF(F10="","NA",IF(F10='RC'!G10,"Correct","Incorrect")) -> NA
A11: 9 | B11: RC | C11: =IF($F11="","",'RC'!E11) | D11: =IF($F11="","",'RC'!F11) | E11: =IF($F11="","",'RC'!H11) | G11: =IF(F11="","NA",IF(F11='RC'!G11,"Correct","Incorrect")) -> NA
A12: 10 | B12: RC | C12: =IF($F12="","",'RC'!E12) | D12: =IF($F12="","",'RC'!F12) | E12: =IF($F12="","",'RC'!H12) | G12: =IF(F12="","NA",IF(F12='RC'!G12,"Correct","Incorrect")) -> NA
A13: 11 | B13: RC | C13: =IF($F13="","",'RC'!E13) | D13: =IF($F13="","",'RC'!F13) | E13: =IF($F13="","",'RC'!H13) | G13: =IF(F13="","NA",IF(F13='RC'!G13,"Correct","Incorrect")) -> NA
A14: 12 | B14: RC | C14: =IF($F14="","",'RC'!E14) | D14: =IF($F14="","",'RC'!F14) | E14: =IF($F14="","",'RC'!H14) | G14: =IF(F14="","NA",IF(F14='RC'!G14,"Correct","Incorrect")) -> NA
... A114: 112 | B114: RC | C114: =IF($F114="","",'RC'!E114) | D114: =IF($F114="","",'RC'!F114) | E114: =IF($F114="","",'RC'!H114) | G114: =IF(F114="","NA",IF(F114='RC'!G114,"Correct","Incorrect")) -> NA
A115: =A114+1 -> 113 | B115: CR | C115: =IF($F115="","",CR!D3) | D115: =IF($F115="","",CR!E3) | E115: =IF($F115="","",CR!G3) | G115: =IF(F115="","NA",IF(F115=CR!F3,"Correct","Incorrect")) -> NA
A116: =A115+1 -> 114 | B116: CR | C116: =IF($F116="","",CR!D4) | D116: =IF($F116="","",CR!E4) | E116: =IF($F116="","",CR!G4) | G116: =IF(F116="","NA",IF(F116=CR!F4,"Correct","Incorrect")) -> NA
A117: =A116+1 -> 115 | B117: CR | C117: =IF($F117="","",CR!D5) | D117: =IF($F117="","",CR!E5) | E117: =IF($F117="","",CR!G5) | G117: =IF(F117="","NA",IF(F117=CR!F5,"Correct","Incorrect")) -> NA
A118: =A117+1 -> 116 | B118: CR | C118: =IF($F118="","",CR!D6) | D118: =IF($F118="","",CR!E6) | E118: =IF($F118="","",CR!G6) | G118: =IF(F118="","NA",IF(F118=CR!F6,"Correct","Incorrect")) -> NA
A119: =A118+1 -> 117 | B119: CR | C119: =IF($F119="","",CR!D7) | D119: =IF($F119="","",CR!E7) | E119: =IF($F119="","",CR!G7) | G119: =IF(F119="","NA",IF(F119=CR!F7,"Correct","Incorrect")) -> NA
A120: =A119+1 -> 118 | B120: CR | C120: =IF($F120="","",CR!D8) | D120: =IF($F120="","",CR!E8) | E120: =IF($F120="","",CR!G8) | G120: =IF(F120="","NA",IF(F120=CR!F8,"Correct","Incorrect")) -> NA
A121: =A120+1 -> 119 | B121: CR | C121: =IF($F121="","",CR!D9) | D121: =IF($F121="","",CR!E9) | E121: =IF($F121="","",CR!G9) | G121: =IF(F121="","NA",IF(F121=CR!F9,"Correct","Incorrect")) -> NA
A122: =A121+1 -> 120 | B122: CR | C122: =IF($F122="","",CR!D10) | D122: =IF($F122="","",CR!E10) | E122: =IF($F122="","",CR!G10) | G122: =IF(F122="","NA",IF(F122=CR!F10,"Correct","Incorrect")) -> NA
A123: =A122+1 -> 121 | B123: CR | C123: =IF($F123="","",CR!D11) | D123: =IF($F123="","",CR!E11) | E123: =IF($F123="","",CR!G11) | G123: =IF(F123="","NA",IF(F123=CR!F11,"Correct","Incorrect")) -> NA
A124: =A123+1 -> 122 | B124: CR | C124: =IF($F124="","",CR!D12) | D124: =IF($F124="","",CR!E12) | E124: =IF($F124="","",CR!G12) | G124: =IF(F124="","NA",IF(F124=CR!F12,"Correct","Incorrect")) -> NA
A125: =A124+1 -> 123 | B125: CR | C125: =IF($F125="","",CR!D13) | D125: =IF($F125="","",CR!E13) | E125: =IF($F125="","",CR!G13) | G125: =IF(F125="","NA",IF(F125=CR!F13,"Correct","Incorrect")) -> NA
A126: =A125+1 -> 124 | B126: CR | C126: =IF($F126="","",CR!D14) | D126: =IF($F126="","",CR!E14) | E126: =IF($F126="","",CR!G14) | G126: =IF(F126="","NA",IF(F126=CR!F14,"Correct","Incorrect")) -> NA
... A235: =A234+1 -> 233 | B235: CR | C235: =IF($F235="","",CR!D123) | D235: =IF($F235="","",CR!E123) | E235: =IF($F235="","",CR!G123) | G235: =IF(F235="","NA",IF(F235=CR!F123,"Correct","Incorrect")) -> NA
A236: =A235+1 -> 234 | B236: SC | C236: =IF($F236="","",SC!D3) | D236: =IF($F236="","",SC!E3) | E236: =IF($F236="","",SC!G3) | G236: =IF(F236="","NA",IF(F236=SC!F3,"Correct","Incorrect")) -> NA
A237: =A236+1 -> 235 | B237: SC | C237: =IF($F237="","",SC!D4) | D237: =IF($F237="","",SC!E4) | E237: =IF($F237="","",SC!G4) | G237: =IF(F237="","NA",IF(F237=SC!F4,"Correct","Incorrect")) -> NA
A238: =A237+1 -> 236 | B238: SC | C238: =IF($F238="","",SC!D5) | D238: =IF($F238="","",SC!E5) | E238: =IF($F238="","",SC!G5) | G238: =IF(F238="","NA",IF(F238=SC!F5,"Correct","Incorrect")) -> NA
A239: =A238+1 -> 237 | B239: SC | C239: =IF($F239="","",SC!D6) | D239: =IF($F239="","",SC!E6) | E239: =IF($F239="","",SC!G6) | G239: =IF(F239="","NA",IF(F239=SC!F6,"Correct","Incorrect")) -> NA
A240: =A239+1 -> 238 | B240: SC | C240: =IF($F240="","",SC!D7) | D240: =IF($F240="","",SC!E7) | E240: =IF($F240="","",SC!G7) | G240: =IF(F240="","NA",IF(F240=SC!F7,"Correct","Incorrect")) -> NA
A241: =A240+1 -> 239 | B241: SC | C241: =IF($F241="","",SC!D8) | D241: =IF($F241="","",SC!E8) | E241: =IF($F241="","",SC!G8) | G241: =IF(F241="","NA",IF(F241=SC!F8,"Correct","Incorrect")) -> NA
A242: =A241+1 -> 240 | B242: SC | C242: =IF($F242="","",SC!D9) | D242: =IF($F242="","",SC!E9) | E242: =IF($F242="","",SC!G9) | G242: =IF(F242="","NA",IF(F242=SC!F9,"Correct","Incorrect")) -> NA
A243: =A242+1 -> 241 | B243: SC | C243: =IF($F243="","",SC!D10) | D243: =IF($F243="","",SC!E10) | E243: =IF($F243="","",SC!G10) | G243: =IF(F243="","NA",IF(F243=SC!F10,"Correct","Incorrect")) -> NA
A244: =A243+1 -> 242 | B244: SC | C244: =IF($F244="","",SC!D11) | D244: =IF($F244="","",SC!E11) | E244: =IF($F244="","",SC!G11) | G244: =IF(F244="","NA",IF(F244=SC!F11,"Correct","Incorrect")) -> NA
A245: =A244+1 -> 243 | B245: SC | C245: =IF($F245="","",SC!D12) | D245: =IF($F245="","",SC!E12) | E245: =IF($F245="","",SC!G12) | G245: =IF(F245="","NA",IF(F245=SC!F12,"Correct","Incorrect")) -> NA
A246: =A245+1 -> 244 | B246: SC | C246: =IF($F246="","",SC!D13) | D246: =IF($F246="","",SC!E13) | E246: =IF($F246="","",SC!G13) | G246: =IF(F246="","NA",IF(F246=SC!F13,"Correct","Incorrect")) -> NA
A247: =A246+1 -> 245 | B247: SC | C247: =IF($F247="","",SC!D14) | D247: =IF($F247="","",SC!E14) | E247: =IF($F247="","",SC!G14) | G247: =IF(F247="","NA",IF(F247=SC!F14,"Correct","Incorrect")) -> NA
...
