Workbook
Name DiffLevelVeryHard: Analysis!$AF$5
Name DiffLevelMedium: Analysis!$AF$3
Name EL_Question: 'Error Log'!$A$2
Name EL_TimeTotal: 'Error Log'!$I$2
Name EL_DifferentLevel: 'Error Log'!$D$2
Name EL_Section: 'Error Log'!$C$2
Name EL_Result: 'Error Log'!$H$2
Name EL_Percentile: 'Error Log'!$E$2
Name DiffLevelHard: Analysis!$AF$4
Name EL_Category: 'Error Log'!$F$2
Name EL_AnswerChoice: 'Error Log'!$G$2
Name DiffLevelEasy: Analysis!$AF$2
Name DiffLevelNA: Analysis!$AF$6
Name OG_2016_PS_Results: PS!$A$3:$H$214

Sheet About
C2: GMAT CLUB - Contributing to Each Other's Learning
B4: ERROR LOG for the Official GMAT Quantitative Review 2021 Edition
B5: NOTE: Go to File > Make Copy or File > Download as to get your own personal copy Use this guide to: - Track your progress through the Official Guide for GMAT QUANTITATIVE Review 2021 ed. - To analyze your mistakes in the Official Guide (Error log and Analysis tabs) - To help find specific practice questions and build your custom practice tests that focus on your weak areas Good Luck on the GMAT! GMAT Club

Sheet PS
A1: GMAT Club Guide to The GMAT Official Guide Quantitative Review 2021
A2: Question | B2: ID | C2: New? | D2: Difficulty | E2: Percentile | F2: OA | G2: Primary Category | H2: Text
A3: 1 | B3: PS03439 | D3: =IF(E3>74%, "Very Hard", IF(E3>49%, "Hard", IF(E3<25%, "Easy", "Medium"))) -> Easy | E3: 0.05 | F3: A | G3: Work/Rate Problems | H3: Working at a constant rate a copy machine makes 20 copies of a one pa
A4: 2 | B4: PS11042 | D4: =IF(E4>74%, "Very Hard", IF(E4>49%, "Hard", IF(E4<25%, "Easy", "Medium"))) -> Easy | E4: 0.05 | F4: D | G4: Algebra | H4: If x y 2 and x 2 y 2 2 what is the value of xy
A5: 3 | B5: PS02978 | D5: =IF(E5>74%, "Very Hard", IF(E5>49%, "Hard", IF(E5<25%, "Easy", "Medium"))) -> Easy | E5: 0.05 | F5: A | G5: Arithmetic | H5: The sum s of the first n consecutive positive even integers is given
A6: 4 | B6: PS08375 | D6: =IF(E6>74%, "Very Hard", IF(E6>49%, "Hard", IF(E6<25%, "Easy", "Medium"))) -> Easy | E6: 0.15 | F6: B | G6: Graphs and Illustrations/Word Problems | H6: A certain harbor has docking stations along its west and south docks
A7: 5 | B7: PS03887 | D7: =IF(E7>74%, "Very Hard", IF(E7>49%, "Hard", IF(E7<25%, "Easy", "Medium"))) -> Easy | E7: 0.05 | F7: D | G7: Arithmetic | H7: 6(87.30 + 0.65) − 5(87.30)
A8: 6 | B8: PS13800 | D8: =IF(E8>74%, "Very Hard", IF(E8>49%, "Hard", IF(E8<25%, "Easy", "Medium"))) -> Easy | E8: 0.05 | F8: E | G8: Arithmetic | H8: Points a b c and d in that order lie on a line if ab 3 cm ac
A9: 7 | B9: PS05292 | D9: =IF(E9>74%, "Very Hard", IF(E9>49%, "Hard", IF(E9<25%, "Easy", "Medium"))) -> Easy | E9: 0.05 | F9: C | G9: Algebra | H9: What is the value of x 2yz xyz 2 if x 2 y 1 and z
A10: 8 | B10: PS11468 | D10: =IF(E10>74%, "Very Hard", IF(E10>49%, "Hard", IF(E10<25%, "Easy", "Medium"))) -> Easy | E10: 0.05 | F10: E | G10: Word Problems | H10: A souvenir vendor purchased 1 000 shirts for a special event at a pric
A11: 9 | B11: PS06937 | D11: =IF(E11>74%, "Very Hard", IF(E11>49%, "Hard", IF(E11<25%, "Easy", "Medium"))) -> Easy | E11: 0.05 | F11: A | G11: Inequalities | H11: If x y and y z which of the following represents the greatest num
A12: 10 | B12: PS12926 | D12: =IF(E12>74%, "Very Hard", IF(E12>49%, "Hard", IF(E12<25%, "Easy", "Medium"))) -> Easy | E12: 0.05 | F12: C | G12: Word Problems | H12: To order certain plants from a catalog it costs 3 00 per plant
A13: 11 | B13: PS00812 | D13: =IF(E13>74%, "Very Hard", IF(E13>49%, "Hard", IF(E13<25%, "Easy", "Medium"))) -> Easy | E13: 0.05 | F13: C | G13: Word Problems | H13: A rug manufacturer produces rugs at a cost of 75 per rug what is the
A14: 12 | B14: PS07793 | D14: =IF(E14>74%, "Very Hard", IF(E14>49%, "Hard", IF(E14<25%, "Easy", "Medium"))) -> Easy | E14: 0.15 | F14: C | G14: Percents and Interest Problems | H14: The value of maureen s investment portfolio has decreased by 5 8 perce
... A38: 36 | B38: PS00918 | D38: =IF(E38>74%, "Very Hard", IF(E38>49%, "Hard", IF(E38<25%, "Easy", "Medium"))) -> Medium | E38: 0.25 | F38: C | G38: Arithmetic | H38: 1 − 0.000001 =
A39: =A38+1 -> 37 | B39: PS57330.02 | C39: New | D39: =IF(E39>74%, "Very Hard", IF(E39>49%, "Hard", IF(E39<25%, "Easy", "Medium"))) -> Easy | E39: 0.05 | F39: A | G39: Word Problems | H39: In a certain history class of 17 juniors and seniors each junior has
A40: =A39+1 -> 38 | B40: PS04362 | D40: =IF(E40>74%, "Very Hard", IF(E40>49%, "Hard", IF(E40<25%, "Easy", "Medium"))) -> Easy | E40: 0.05 | F40: C | G40: Absolute Values/Modulus/Arithmetic | H40: |−4|(|−20|−|5|)=
A41: =A40+1 -> 39 | B41: PS12934 | D41: =IF(E41>74%, "Very Hard", IF(E41>49%, "Hard", IF(E41<25%, "Easy", "Medium"))) -> Easy | E41: 0.05 | F41: C | G41: Word Problems | H41: If the total amount that jill spent on a shopping trip excluding taxe
A42: =A41+1 -> 40 | B42: PS15469 | D42: =IF(E42>74%, "Very Hard", IF(E42>49%, "Hard", IF(E42<25%, "Easy", "Medium"))) -> Easy | E42: 0.05 | F42: E | G42: Inequalities | H42: How many integers x satisfy both 2 x 4 and 0 x
A43: =A42+1 -> 41 | B43: PS09322 | D43: =IF(E43>74%, "Very Hard", IF(E43>49%, "Hard", IF(E43<25%, "Easy", "Medium"))) -> Easy | E43: 0.05 | F43: D | G43: Percents and Interest Problems | H43: At the opening of a trading day at a certain stock exchange the price
A44: =A43+1 -> 42 | B44: PS14237 | D44: =IF(E44>74%, "Very Hard", IF(E44>49%, "Hard", IF(E44<25%, "Easy", "Medium"))) -> Easy | E44: 0.05 | F44: D | G44: Algebra/Word Problems | H44: As shown in the diagram above a lever resting on a fulcrum has weight
A45: =A44+1 -> 43 | B45: PS01650 | D45: =IF(E45>74%, "Very Hard", IF(E45>49%, "Hard", IF(E45<25%, "Easy", "Medium"))) -> Medium | E45: 0.45 | F45: D | G45: Algebra/Exponents/Powers | H45: If r and s are positive integers such that 2 r 4 s 16 then 2r
A46: =A45+1 -> 44 | B46: PS06726 | D46: =IF(E46>74%, "Very Hard", IF(E46>49%, "Hard", IF(E46<25%, "Easy", "Medium"))) -> Easy | E46: 0.05 | F46: A | G46: Word Problems | H46: Three people each contributed x dollars toward the purchase of a car
A47: =A46+1 -> 45 | B47: PS07080 | D47: =IF(E47>74%, "Very Hard", IF(E47>49%, "Hard", IF(E47<25%, "Easy", "Medium"))) -> Easy | E47: 0.05 | F47: B | G47: Word Problems | H47: Last week jack worked 70 hours and earned 1 260 if he earned his re
A48: =A47+1 -> 46 | B48: PS13426 | D48: =IF(E48>74%, "Very Hard", IF(E48>49%, "Hard", IF(E48<25%, "Easy", "Medium"))) -> Easy | E48: 0.15 | F48: C | G48: Exponents/Powers | H48: If a and b are positive integers and 2 a b 23 what is the value
A49: =A48+1 -> 47 | B49: PS01099 | D49: =IF(E49>74%, "Very Hard", IF(E49>49%, "Hard", IF(E49<25%, "Easy", "Medium"))) -> Medium | E49: 0.25 | F49: C | G49: Work/Rate Problems | H49: Five machines at a certain factory operate at the same constant rate
A50: =A49+1 -> 48 | B50: PS01443 | D50: =IF(E50>74%, "Very Hard", IF(E50>49%, "Hard", IF(E50<25%, "Easy", "Medium"))) -> Hard | E50: 0.55 | F50: D | G50: Word Problems | H50: A certain toll station on a highway has 7 tollbooths and each tollboo
A51: =A50+1 -> 49 | B51: PS13829 | D51: =IF(E51>74%, "Very Hard", IF(E51>49%, "Hard", IF(E51<25%, "Easy", "Medium"))) -> Hard | E51: 0.55 | F51: B | G51: Number Properties/Divisibility/Multiples/Factors | H51: How many integers between 1 and 16 inclusive have exactly 3 differen
... A56: =A55+1 -> 54 | B56: PS04971 | D56: =IF(E56>74%, "Very Hard", IF(E56>49%, "Hard", IF(E56<25%, "Easy", "Medium"))) -> Medium | E56: 0.35 | F56: B | G56: Distance/Rate Problems | H56: A certain bridge is 4 024 feet long approximately how many minutes
A57: =A56+1 -> 55 | B57: PS25440.02 | C57: New | D57: =IF(E57>74%, "Very Hard", IF(E57>49%, "Hard", IF(E57<25%, "Easy", "Medium"))) -> Easy | E57: 0.05 | F57: D | G57: Word Problems | H57: A purse contains 57 coins all of which are nickels dimes or quarter
A58: =A57+1 -> 56 | B58: PS12657 | D58: =IF(E58>74%, "Very Hard", IF(E58>49%, "Hard", IF(E58<25%, "Easy", "Medium"))) -> Easy | E58: 0.05 | F58: D | G58: Percents and Interest Problems | H58: The annual interest rate earned by an investment increased by 10 perce
A59: =A58+1 -> 57 | B59: PS07394 | D59: =IF(E59>74%, "Very Hard", IF(E59>49%, "Hard", IF(E59<25%, "Easy", "Medium"))) -> Medium | E59: 0.25 | F59: C | G59: Fractions/Ratios/Decimals/Percents and Interest Problems | H59: A total of 5 liters of gasoline is to be poured into two empty contain
A60: =A59+1 -> 58 | B60: PS13882 | D60: =IF(E60>74%, "Very Hard", IF(E60>49%, "Hard", IF(E60<25%, "Easy", "Medium"))) -> Easy | E60: 0.05 | F60: B | G60: Algebra | H60: What is the larger of the 2 solutions of the equation x 2 4x
A61: =A60+1 -> 59 | B61: PS89821.02 | C61: New | D61: =IF(E61>74%, "Very Hard", IF(E61>49%, "Hard", IF(E61<25%, "Easy", "Medium"))) -> Easy | E61: 0.05 | F61: A | G61: Algebra | H61: In the formula shown if g is a constant and x = 6 when t = 2 what i
A62: =A61+1 -> 60 | B62: PS10921 | D62: =IF(E62>74%, "Very Hard", IF(E62>49%, "Hard", IF(E62<25%, "Easy", "Medium"))) -> Medium | E62: 0.35 | F62: C | G62: Arithmetic | H62: 9 897 0 0096 198 76 is approximately
A63: =A62+1 -> 61 | B63: PS13205 | D63: =IF(E63>74%, "Very Hard", IF(E63>49%, "Hard", IF(E63<25%, "Easy", "Medium"))) -> Easy | E63: 0.05 | F63: A | G63: Geometry | H63: If a square region has area n what is the length of the dia
A64: =A63+1 -> 62 | B64: PS00817 | D64: =IF(E64>74%, "Very Hard", IF(E64>49%, "Hard", IF(E64<25%, "Easy", "Medium"))) -> Easy | E64: 0.15 | F64: C | G64: Number Properties | H64: The prime sum of an integer n greater than 1 is the sum of
A65: =A64+1 -> 63 | B65: PS02256 | D65: =IF(E65>74%, "Very Hard", IF(E65>49%, "Hard", IF(E65<25%, "Easy", "Medium"))) -> Medium | E65: 0.45 | F65: A | G65: Percents and Interest Problems/Word Problems | H65: A machine at a toy factory assembles a certain kind of toy at a co
A66: =A65+1 -> 64 | B66: PS10339 | D66: =IF(E66>74%, "Very Hard", IF(E66>49%, "Hard", IF(E66<25%, "Easy", "Medium"))) -> Easy | E66: 0.05 | F66: D | G66: Percents and Interest Problems | H66: When a subscription to a new magazine was purchased for m months the
A67: =A66+1 -> 65 | B67: PS10422 | D67: =IF(E67>74%, "Very Hard", IF(E67>49%, "Hard", IF(E67<25%, "Easy", "Medium"))) -> Easy | E67: 0.15 | F67: B | G67: Word Problems | H67: At a garage sale all of the prices of the items sold were d
...

Sheet DS
A1: GMAT Club Guide to The GMAT Official Guide Quantitative Review 2021
A2: Question | B2: ID | C2: New? | D2: Difficulty | E2: Percentile | F2: OA | G2: Primary Category
A3: 213 | B3: DS05149 | D3: =IF(E3>74%, "Very Hard", IF(E3>49%, "Hard", IF(E3<25%, "Easy", "Medium"))) -> Easy | E3: 0.05 | F3: D | G3: Algebra | H3: Dees 2x 8 12 1 2x 10 14 2 3x
A4: =A3+1 -> 214 | B4: DS96720.02 | C4: New | D4: =IF(E4>74%, "Very Hard", IF(E4>49%, "Hard", IF(E4<25%, "Easy", "Medium"))) -> Easy | E4: 0.05 | F4: C | G4: Fractions/Ratios/Decimals/Word Problems | H4: Each car at a certain dealership is either blue or white. What is the
A5: =A4+1 -> 215 | B5: DS01503 | D5: =IF(E5>74%, "Very Hard", IF(E5>49%, "Hard", IF(E5<25%, "Easy", "Medium"))) -> Easy | E5: 0.05 | F5: E | G5: Sequences | H5: If m is a set of consecutive even integers is 0 in set m
A6: =A5+1 -> 216 | B6: DS35330.02 | C6: New | D6: =IF(E6>74%, "Very Hard", IF(E6>49%, "Hard", IF(E6<25%, "Easy", "Medium"))) -> Easy | E6: 0.05 | F6: C | G6: Probability | H6: A box contains only white balls and black balls. What is the probabili
A7: =A6+1 -> 217 | B7: DS15510 | D7: =IF(E7>74%, "Very Hard", IF(E7>49%, "Hard", IF(E7<25%, "Easy", "Medium"))) -> Easy | E7: 0.05 | F7: A | G7: Algebra/Word Problems | H7: Rita's monthly salary is 2 3 juanita s monthly salary what is their
A8: =A7+1 -> 218 | B8: DS37130.02 | C8: New | D8: =IF(E8>74%, "Very Hard", IF(E8>49%, "Hard", IF(E8<25%, "Easy", "Medium"))) -> Easy | E8: 0.05 | F8: C | G8: Word Problems | H8: Each of the 120 students in a certain dormitory is either a junior or
A9: =A8+1 -> 219 | B9: DS13384 | D9: =IF(E9>74%, "Very Hard", IF(E9>49%, "Hard", IF(E9<25%, "Easy", "Medium"))) -> Easy | E9: 0.05 | F9: E | G9: Number Properties | H9: What is the value of the integer x
A10: =A9+1 -> 220 | B10: DS04644 | D10: =IF(E10>74%, "Very Hard", IF(E10>49%, "Hard", IF(E10<25%, "Easy", "Medium"))) -> Easy | E10: 0.05 | F10: D | G10: Inequalities | H10: Is 2x > 2y (1) x>y (2) 3x>3y
A11: =A10+1 -> 221 | B11: DS38720.02 | C11: New | D11: =IF(E11>74%, "Very Hard", IF(E11>49%, "Hard", IF(E11<25%, "Easy", "Medium"))) -> Easy | E11: 0.05 | F11: A | G11: Word Problems | H11: If the average (arithmetic mean) cost per sweater for 3 pullover sweat
A12: =A11+1 -> 222 | B12: DS04636 | D12: =IF(E12>74%, "Very Hard", IF(E12>49%, "Hard", IF(E12<25%, "Easy", "Medium"))) -> Easy | E12: 0.05 | F12: E | G12: Inequalities | H12: If p and q are positive is p q less than
A13: =A12+1 -> 223 | B13: DS02779 | D13: =IF(E13>74%, "Very Hard", IF(E13>49%, "Hard", IF(E13<25%, "Easy", "Medium"))) -> Easy | E13: 0.15 | F13: B | G13: Word Problems | H13: In each quarter of 1998 company m earned more money than in the previ
A14: =A13+1 -> 224 | B14: DS69610.02 | C14: New | D14: =IF(E14>74%, "Very Hard", IF(E14>49%, "Hard", IF(E14<25%, "Easy", "Medium"))) -> Easy | E14: 0.05 | F14: E | G14: Statistics and Sets Problems/Word Problems | H14: The range of the heights of a group of high school juniors and seniors
A15: =A14+1 -> 225 | B15: DS04510 | D15: =IF(E15>74%, "Very Hard", IF(E15>49%, "Hard", IF(E15<25%, "Easy", "Medium"))) -> Easy | E15: 0.05 | F15: A | G15: Word Problems | H15: In a certain factory hours worked by each employee in excess of
A16: =A15+1 -> 226 | B16: DS01104 | D16: =IF(E16>74%, "Very Hard", IF(E16>49%, "Hard", IF(E16<25%, "Easy", "Medium"))) -> Easy | E16: 0.05 | F16: D | G16: Number Properties | H16: Is the integer p even 1 the integer p 2 1 is odd 2 the integer
A17: =A16+1 -> 227 | B17: DS05172 | D17: =IF(E17>74%, "Very Hard", IF(E17>49%, "Hard", IF(E17<25%, "Easy", "Medium"))) -> Easy | E17: 0.15 | F17: D | G17: Algebra | H17: If x 0 what is the value of x 5 1 x 1 2 32 2 x
A18: =A17+1 -> 228 | B18: DS17640 | D18: =IF(E18>74%, "Very Hard", IF(E18>49%, "Hard", IF(E18<25%, "Easy", "Medium"))) -> Medium | E18: 0.25 | F18: C | G18: Geometry | H18: In the quilting pattern shown above a small square has its vertices o
A19: =A18+1 -> 229 | B19: DS02589 | D19: =IF(E19>74%, "Very Hard", IF(E19>49%, "Hard", IF(E19<25%, "Easy", "Medium"))) -> Easy | E19: 0.15 | F19: E | G19: Percent and Interest Problems | H19: Did insurance company k have more than 300 million in total net profi
A20: =A19+1 -> 230 | B20: DS15349 | D20: =IF(E20>74%, "Very Hard", IF(E20>49%, "Hard", IF(E20<25%, "Easy", "Medium"))) -> Medium | E20: 0.45 | F20: E | G20: Work/Rate Problems | H20: How many hours would it take pump a and pump b working together each
A21: =A20+1 -> 231 | B21: DS04573 | D21: =IF(E21>74%, "Very Hard", IF(E21>49%, "Hard", IF(E21<25%, "Easy", "Medium"))) -> Easy | E21: 0.05 | F21: D | G21: Inequalities | H21: What is the value of the integer n
A22: =A21+1 -> 232 | B22: DS12033 | D22: =IF(E22>74%, "Very Hard", IF(E22>49%, "Hard", IF(E22<25%, "Easy", "Medium"))) -> Easy | E22: 0.15 | F22: E | G22: Algebra/Inequalities | H22: Is zw positive
A23: =A22+1 -> 233 | B23: DS03006 | D23: =IF(E23>74%, "Very Hard", IF(E23>49%, "Hard", IF(E23<25%, "Easy", "Medium"))) -> Easy | E23: 0.15 | F23: D | G23: Fractions/Ratios/Decimals/Geometry | H23: In the scale drawing of a certain house plan if 1 centimeter represent
A24: =A23+1 -> 234 | B24: DS23820.02 | C24: New | D24: =IF(E24>74%, "Very Hard", IF(E24>49%, "Hard", IF(E24<25%, "Easy", "Medium"))) -> Medium | E24: 0.35 | F24: B | G24: Distance/Rate Problems | H24: Maria left home 1/4 hour after her husband and drove over the same rou
A25: =A24+1 -> 235 | B25: DS03939 | D25: =IF(E25>74%, "Very Hard", IF(E25>49%, "Hard", IF(E25<25%, "Easy", "Medium"))) -> Easy | E25: 0.15 | F25: C | G25: Coordinate Geometry | H25: In the rectangular coordinate system above if opq and qrs have equa
A26: =A25+1 -> 236 | B26: DS07258 | D26: =IF(E26>74%, "Very Hard", IF(E26>49%, "Hard", IF(E26<25%, "Easy", "Medium"))) -> Medium | E26: 0.45 | F26: E | G26: Word Problems | H26: In a school that had a total of 600 students enrolled in the junior an
A27: =A26+1 -> 237 | B27: DS06650 | D27: =IF(E27>74%, "Very Hard", IF(E27>49%, "Hard", IF(E27<25%, "Easy", "Medium"))) -> Easy | E27: 0.05 | F27: B | G27: Percent and Interest Problems | H27: How much did credit card fraud cost united states banks in year x to
A28: =A27+1 -> 238 | B28: DS17319 | D28: =IF(E28>74%, "Very Hard", IF(E28>49%, "Hard", IF(E28<25%, "Easy", "Medium"))) -> Easy | E28: 0.05 | F28: D | G28: Number Properties | H28: Is the positive integer n odd
A29: =A28+1 -> 239 | B29: DS01130 | D29: =IF(E29>74%, "Very Hard", IF(E29>49%, "Hard", IF(E29<25%, "Easy", "Medium"))) -> Medium | E29: 0.35 | F29: D | G29: Coordinate Geometry | H29: In the xy plane circle c has center 1 0 and radius 2 if line k is
A30: =A29+1 -> 240 | B30: DS14170 | D30: =IF(E30>74%, "Very Hard", IF(E30>49%, "Hard", IF(E30<25%, "Easy", "Medium"))) -> Medium | E30: 0.35 | F30: C | G30: Percent and Interest Problems/Word Problems | H30: Company x s profits this year increased by 25 over last year s profit
A31: =A30+1 -> 241 | B31: DS87910.02 | C31: New | D31: =IF(E31>74%, "Very Hard", IF(E31>49%, "Hard", IF(E31<25%, "Easy", "Medium"))) -> Medium | E31: 0.45 | F31: B | G31: Statistics and Sets Problems/Word Problems | H31: A certain company consists of three divisions A B and C. Of the emp
A32: =A31+1 -> 242 | B32: DS09385 | D32: =IF(E32>74%, "Very Hard", IF(E32>49%, "Hard", IF(E32<25%, "Easy", "Medium"))) -> Easy | E32: 0.05 | F32: D | G32: Functions and Custom Characters | H32: For all x the expression x is defined to be ax a where a is
A33: =A32+1 -> 243 | B33: DS09260 | D33: =IF(E33>74%, "Very Hard", IF(E33>49%, "Hard", IF(E33<25%, "Easy", "Medium"))) -> Easy | E33: 0.05 | F33: C | G33: Inequalities | H33: Is k m 0 1 k 0 2 km
A34: =A33+1 -> 244 | B34: DS08352 | D34: =IF(E34>74%, "Very Hard", IF(E34>49%, "Hard", IF(E34<25%, "Easy", "Medium"))) -> Medium | E34: 0.25 | F34: D | G34: Functions and Custom Characters | H34: The symbol represents which one of the following operations additio
A35: =A34+1 -> 245 | B35: DS05989 | D35: =IF(E35>74%, "Very Hard", IF(E35>49%, "Hard", IF(E35<25%, "Easy", "Medium"))) -> Hard | E35: 0.55 | F35: B | G35: Exponents/Powers | H35: What is the value of 2 x 2 x 1 x 0 2 4 x 4 x
A36: =A35+1 -> 246 | B36: DS13457 | D36: =IF(E36>74%, "Very Hard", IF(E36>49%, "Hard", IF(E36<25%, "Easy", "Medium"))) -> Easy | E36: 0.15 | F36: A | G36: Fractions/Ratios/Decimals | H36: What is the ratio of c to d
A37: =A36+1 -> 247 | B37: DS15099 | D37: =IF(E37>74%, "Very Hard", IF(E37>49%, "Hard", IF(E37<25%, "Easy", "Medium"))) -> Medium | E37: 0.35 | F37: C | G37: Functions and Custom Characters/Word Problems | H37: A candle company determines that for a certain specialty candle the
A38: =A37+1 -> 248 | B38: DS40410.02 | C38: New | D38: =IF(E38>74%, "Very Hard", IF(E38>49%, "Hard", IF(E38<25%, "Easy", "Medium"))) -> Easy | E38: 0.05 | F38: A | G38: Statistics and Sets Problems/Word Problems | H38: A certain ski shop sold 125 pairs of skis and 100 pairs of ski boots
A39: =A38+1 -> 249 | B39: DS93510.02 | C39: New | D39: =IF(E39>74%, "Very Hard", IF(E39>49%, "Hard", IF(E39<25%, "Easy", "Medium"))) -> Very Hard | E39: 0.85 | F39: E | G39: Statistics and Sets Problems | H39: Is the standard deviation of the numbers in list R less than the stand
A40: =A39+1 -> 250 | B40: DS96502.01 | D40: =IF(E40>74%, "Very Hard", IF(E40>49%, "Hard", IF(E40<25%, "Easy", "Medium"))) -> Easy | E40: 0.05 | F40: C | G40: Geometry | H40: Is the length of rectangular field f greater than the length of rectan
...

Sheet Error Log
A1: GMAT Club Guide to The GMAT Official Guide Quantitative Review 2021
A2: Question | B2: Verbal/Quant | C2: Section | D2: Difficulty Level | E2: Percentile | F2: Category | G2: Your Answer | H2: Result | I2: Completed Time
A3: 1 | B3: Quant | C3: PS | D3: =IF($G3="","",PS!D3) | E3: =IF($G3="","",PS!E3) | F3: =IF($G3="","",PS!G3) | H3: =IF(G3="","NA",IF(G3=PS!F3, "Correct","Incorrect")) -> NA
A4: 2 | B4: Quant | C4: PS | D4: =IF($G4="","",PS!D4) | E4: =IF($G4="","",PS!E4) | F4: =IF($G4="","",PS!G4) | H4: =IF(G4="","NA",IF(G4=PS!F4, "Correct","Incorrect")) -> NA
A5: =A4+1 -> 3 | B5: Quant | C5: PS | D5: =IF($G5="","",PS!D5) | E5: =IF($G5="","",PS!E5) | F5: =IF($G5="","",PS!G5) | H5: =IF(G5="","NA",IF(G5=PS!F5, "Correct","Incorrect")) -> NA
A6: =A5+1 -> 4 | B6: Quant | C6: PS | D6: =IF($G6="","",PS!D6) | E6: =IF($G6="","",PS!E6) | F6: =IF($G6="","",PS!G6) | H6: =IF(G6="","NA",IF(G6=PS!F6, "Correct","Incorrect")) -> NA
A7: =A6+1 -> 5 | B7: Quant | C7: PS | D7: =IF($G7="","",PS!D7) | E7: =IF($G7="","",PS!E7) | F7: =IF($G7="","",PS!G7) | H7: =IF(G7="","NA",IF(G7=PS!F7, "Correct","Incorrect")) -> NA
A8: =A7+1 -> 6 | B8: Quant | C8: PS | D8: =IF($G8="","",PS!D8) | E8: =IF($G8="","",PS!E8) | F8: =IF($G8="","",PS!G8) | H8: =IF(G8="","NA",IF(G8=PS!F8, "Correct","Incorrect")) -> NA
A9: =A8+1 -> 7 | B9: Quant | C9: PS | D9: =IF($G9="","",PS!D9) | E9: =IF($G9="","",PS!E9) | F9: =IF($G9="","",PS!G9) | H9: =IF(G9="","NA",IF(G9=PS!F9, "Correct","Incorrect")) -> NA
A10: =A9+1 -> 8 | B10: Quant | C10: PS | D10: =IF($G10="","",PS!D10) | E10: =IF($G10="","",PS!E10) | F10: =IF($G10="","",PS!G10) | H10: =IF(G10="","NA",IF(G10=PS!F10, "Correct","Incorrect")) -> NA
A11: =A10+1 -> 9 | B11: Quant | C11: PS | D11: =IF($G11="","",PS!D11) | E11: =IF($G11="","",PS!E11) | F11: =IF($G11="","",PS!G11) | H11: =IF(G11="","NA",IF(G11=PS!F11, "Correct","Incorrect")) -> NA
A12: =A11+1 -> 10 | B12: Quant | C12: PS | D12: =IF($G12="","",PS!D12) | E12: =IF($G12="","",PS!E12) | F12: =IF($G12="","",PS!G12) | H12: =IF(G12="","NA",IF(G12=PS!F12, "Correct","Incorrect")) -> NA
A13: =A12+1 -> 11 | B13: Quant | C13: PS | D13: =IF($G13="","",PS!D13) | E13: =IF($G13="","",PS!E13) | F13: =IF($G13="","",PS!G13) | H13: =IF(G13="","NA",IF(G13=PS!F13, "Correct","Incorrect")) -> NA
A14: =A13+1 -> 12 | B14: Quant | C14: PS | D14: =IF($G14="","",PS!D14) | E14: =IF($G14="","",PS!E14) | F14: =IF($G14="","",PS!G14) | H14: =IF(G14="","NA",IF(G14=PS!F14, "Correct","Incorrect")) -> NA
A15: =A14+1 -> 13 | B15: Quant | C15: PS | D15: =IF($G15="","",PS!D15) | E15: =IF($G15="","",PS!E15) | F15: =IF($G15="","",PS!G15) | H15: =IF(G15="","NA",IF(G15=PS!F15, "Correct","Incorrect")) -> NA
A16: =A15+1 -> 14 | B16: Quant | C16: PS | D16: =IF($G16="","",PS!D16) | E16: =IF($G16="","",PS!E16) | F16: =IF($G16="","",PS!G16) | H16: =IF(G16="","NA",IF(G16=PS!F16, "Correct","Incorrect")) -> NA
... A38: =A37+1 -> 36 | B38: Quant | C38: PS | D38: =IF($G38="","",PS!D38) | E38: =IF($G38="","",PS!E38) | F38: =IF($G38="","",PS!G38) | H38: =IF(G38="","NA",IF(G38=PS!F38, "Correct","Incorrect")) -> NA
A39: =A38+1 -> 37 | B39: Quant | C39: PS | D39: =IF($G39="","",PS!D39) -> Easy | E39: =IF($G39="","",PS!E39) -> 0.05 | F39: =IF($G39="","",PS!G39) -> Word Problems | G39: A | H39: =IF(G39="","NA",IF(G39=PS!F39, "Correct","Incorrect")) -> Correct
A40: =A39+1 -> 38 | B40: Quant | C40: PS | D40: =IF($G40="","",PS!D40) | E40: =IF($G40="","",PS!E40) | F40: =IF($G40="","",PS!G40) | H40: =IF(G40="","NA",IF(G40=PS!F40, "Correct","Incorrect")) -> NA
A41: =A40+1 -> 39 | B41: Quant | C41: PS | D41: =IF($G41="","",PS!D41) | E41: =IF($G41="","",PS!E41) | F41: =IF($G41="","",PS!G41) | H41: =IF(G41="","NA",IF(G41=PS!F41, "Correct","Incorrect")) -> NA
A42: =A41+1 -> 40 | B42: Quant | C42: PS | D42: =IF($G42="","",PS!D42) | E42: =IF($G42="","",PS!E42) | F42: =IF($G42="","",PS!G42) | H42: =IF(G42="","NA",IF(G42=PS!F42, "Correct","Incorrect")) -> NA
A43: =A42+1 -> 41 | B43: Quant | C43: PS | D43: =IF($G43="","",PS!D43) | E43: =IF($G43="","",PS!E43) | F43: =IF($G43="","",PS!G43) | H43: =IF(G43="","NA",IF(G43=PS!F43, "Correct","Incorrect")) -> NA
A44: =A43+1 -> 42 | B44: Quant | C44: PS | D44: =IF($G44="","",PS!D44) | E44: =IF($G44="","",PS!E44) | F44: =IF($G44="","",PS!G44) | H44: =IF(G44="","NA",IF(G44=PS!F44, "Correct","Incorrect")) -> NA
A45: =A44+1 -> 43 | B45: Quant | C45: PS | D45: =IF($G45="","",PS!D45) | E45: =IF($G45="","",PS!E45) | F45: =IF($G45="","",PS!G45) | H45: =IF(G45="","NA",IF(G45=PS!F45, "Correct","Incorrect")) -> NA
A46: =A45+1 -> 44 | B46: Quant | C46: PS | D46: =IF($G46="","",PS!D46) | E46: =IF($G46="","",PS!E46) | F46: =IF($G46="","",PS!G46) | H46: =IF(G46="","NA",IF(G46=PS!F46, "Correct","Incorrect")) -> NA
A47: =A46+1 -> 45 | B47: Quant | C47: PS | D47: =IF($G47="","",PS!D47) | E47: =IF($G47="","",PS!E47) | F47: =IF($G47="","",PS!G47) | H47: =IF(G47="","NA",IF(G47=PS!F47, "Correct","Incorrect")) -> NA
A48: =A47+1 -> 46 | B48: Quant | C48: PS | D48: =IF($G48="","",PS!D48) | E48: =IF($G48="","",PS!E48) | F48: =IF($G48="","",PS!G48) | H48: =IF(G48="","NA",IF(G48=PS!F48, "Correct","Incorrect")) -> NA
A49: =A48+1 -> 47 | B49: Quant | C49: PS | D49: =IF($G49="","",PS!D49) | E49: =IF($G49="","",PS!E49) | F49: =IF($G49="","",PS!G49) | H49: =IF(G49="","NA",IF(G49=PS!F49, "Correct","Incorrect")) -> NA
A50: =A49+1 -> 48 | B50: Quant | C50: PS | D50: =IF($G50="","",PS!D50) | E50: =IF($G50="","",PS!E50) | F50: =IF($G50="","",PS!G50) | H50: =IF(G50="","NA",IF(G50=PS!F50, "Correct","Incorrect")) -> NA
A51: =A50+1 -> 49 | B51: Quant | C51: PS | D51: =IF($G51="","",PS!D51) | E51: =IF($G51="","",PS!E51) | F51: =IF($G51="","",PS!G51) | H51: =IF(G51="","NA",IF(G51=PS!F51, "Correct","Incorrect")) -> NA
... A214: =A213+1 -> 212 | B214: Quant | C214: PS | D214: =IF($G214="","",PS!D214) | E214: =IF($G214="","",PS!E214) | F214: =IF($G214="","",PS!G214) | H214: =IF(G214="","NA",IF(G214=PS!F214, "Correct","Incorrect")) -> NA
A215: =A214+1 -> 213 | B215: Quant | C215: DS | D215: =IF($G215="","",DS!D3) | E215: =IF($G215="","",DS!E3) | F215: =IF($G215="","",DS!G3) | H215: =IF(G215="","NA",IF(G215=DS!F3, "Correct","Incorrect")) -> NA
A216: =A215+1 -> 214 | B216: Quant | C216: DS | D216: =IF($G216="","",DS!D4) | E216: =IF($G216="","",DS!E4) | F216: =IF($G216="","",DS!G4) | H216: =IF(G216="","NA",IF(G216=DS!F4, "Correct","Incorrect")) -> NA
A217: =A216+1 -> 215 | B217: Quant | C217: DS | D217: =IF($G217="","",DS!D5) | E217: =IF($G217="","",DS!E5) | F217: =IF($G217="","",DS!G5) | H217: =IF(G217="","NA",IF(G217=DS!F5, "Correct","Incorrect")) -> NA
A218: =A217+1 -> 216 | B218: Quant | C218: DS | D218: =IF($G218="","",DS!D6) | E218: =IF($G218="","",DS!E6) | F218: =IF($G218="","",DS!G6) | H218: =IF(G218="","NA",IF(G218=DS!F6, "Correct","Incorrect")) -> NA
A219: =A218+1 -> 217 | B219: Quant | C219: DS | D219: =IF($G219="","",DS!D7) | E219: =IF($G219="","",DS!E7) | F219: =IF($G219="","",DS!G7) | H219: =IF(G219="","NA",IF(G219=DS!F7, "Correct","Incorrect")) -> NA
A220: =A219+1 -> 218 | B220: Quant | C220: DS | D220: =IF($G220="","",DS!D8) | E220: =IF($G220="","",DS!E8) | F220: =IF($G220="","",DS!G8) | H220: =IF(G220="","NA",IF(G220=DS!F8, "Correct","Incorrect")) -> NA
A221: =A220+1 -> 219 | B221: Quant | C221: DS | D221: =IF($G221="","",DS!D9) | E221: =IF($G221="","",DS!E9) | F221: =IF($G221="","",DS!G9) | H221: =IF(G221="","NA",IF(G221=DS!F9, "Correct","Incorrect")) -> NA
A222: =A221+1 -> 220 | B222: Quant | C222: DS | D222: =IF($G222="","",DS!D10) | E222: =IF($G222="","",DS!E10) | F222: =IF($G222="","",DS!G10) | H222: =IF(G222="","NA",IF(G222=DS!F10, "Correct","Incorrect")) -> NA
A223: =A222+1 -> 221 | B223: Quant | C223: DS | D223: =IF($G223="","",DS!D11) | E223: =IF($G223="","",DS!E11) | F223: =IF($G223="","",DS!G11) | H223: =IF(G223="","NA",IF(G223=DS!F11, "Correct","Incorrect")) -> NA
...

Sheet Analysis
A1: GMAT Club Guide to The GMAT Official Guide Quantitative Review 2021
A3: Table 1. Analysis Table with General Information | AF3: Difficult level | AG3: Answer Choice | AH3: Section | AI3: Timer precise
AF4: Easy | AG4: A | AH4: PS | AI4: 0
A5: Section | B5: Sub-Section | C5: Result | G5: Your avg. Time | AF5: Medium | AG5: B | AH5: DS | AI5: 1
C6: Correct | D6: Incorrect | E6: NA | F6: Grand Total | AF6: Hard | AG6: C | AH6: RC
A7: Quant | B7: PS | C7: =COUNTIFS('Error Log'!$H$3:$H$375,C$6,'Error Log'!$C$3:$C$375,$B7) -> 1 | D7: =COUNTIFS('Error Log'!$H$3:$H$375,D$6,'Error Log'!$C$3:$C$375,$B7) -> 0 | E7: =COUNTIFS('Error Log'!$H$3:$H$375,E$6,'Error Log'!$C$3:$C$375,$B7) -> 211 | F7: =SUM(C7:E7) -> 212 | G7: =IFERROR(AVERAGEIFS('Error Log'!$I$3:$I$302,'Error Log'!$C$3:$C$375,Analysis!B7,'Error Log'!$G$3:$G$302,"<>"),0) -> 0 | AF7: Very Hard | AG7: D | AH7: CR
B8: DS | C8: =COUNTIFS('Error Log'!$H$3:$H$375,C$6,'Error Log'!$C$3:$C$375,$B8) -> 0 | D8: =COUNTIFS('Error Log'!$H$3:$H$375,D$6,'Error Log'!$C$3:$C$375,$B8) -> 0 | E8: =COUNTIFS('Error Log'!$H$3:$H$375,E$6,'Error Log'!$C$3:$C$375,$B8) -> 161 | F8: =SUM(C8:E8) -> 161 | G8: =IFERROR(AVERAGEIFS('Error Log'!$I$3:$I$302,'Error Log'!$C$3:$C$375,Analysis!B8,'Error Log'!$G$3:$G$302,"<>"),0) -> 0 | AF8: N/A | AG8: E | AH8: SC
A9: Quant Total | C9: =SUM(C7:C8) -> 1 | D9: =SUM(D7:D8) -> 0 | E9: =SUM(E7:E8) -> 372 | F9: =SUM(C9:E9) -> 373 | G9: =IFERROR(AVERAGEIFS('Error Log'!$I$3:$I$302,'Error Log'!$B$3:$B$302,"Quant",'Error Log'!$G$3:$G$302,"<>"),0) -> 0 | AH9: Practice
A12: Figure 2.
A33: Table 3. Analysis table with difficult level
A35: Section | B35: Sub-Section | C35: Difficult Level | D35: Result | G35: Grand Total | H35: Your avg. Time
D36: Correct | E36: Incorrect | F36: NA
A37: Quant | B37: PS | C37: Easy | D37: =COUNTIFS('Error Log'!$H$3:$H$375,D$36,'Error Log'!$C$3:$C$375,$B$37,'Error Log'!$D$3:$D$375,$C37) -> 1 | E37: =COUNTIFS('Error Log'!$H$3:$H$375,E$36,'Error Log'!$C$3:$C$375,$B$37,'Error Log'!$D$3:$D$375,C37) -> 0 | F37: =COUNTIFS('Error Log'!$H$3:$H$375,F$36,'Error Log'!$C$3:$C$375,$B$37,'Error Log'!$D$3:$D$375,C37) -> 0 | G37: =SUM(D37:F37) -> 1 | H37: =IFERROR(AVERAGEIFS('Error Log'!$I$3:$I$302,'Error Log'!$C$3:$C$375,Analysis!B37,'Error Log'!$G$3:$G$302,"<>",'Error Log'!$D$3:$D$375,C37),0) -> 0
C38: Medium | D38: =COUNTIFS('Error Log'!$H$3:$H$375,D$36,'Error Log'!$C$3:$C$375,$B$37,'Error Log'!$D$3:$D$375,$C38) -> 0 | E38: =COUNTIFS('Error Log'!$H$3:$H$375,E$36,'Error Log'!$C$3:$C$375,$B$37,'Error Log'!$D$3:$D$375,C38) -> 0 | F38: =COUNTIFS('Error Log'!$H$3:$H$375,F$36,'Error Log'!$C$3:$C$375,$B$37,'Error Log'!$D$3:$D$375,C38) -> 0 | G38: =SUM(D38:F38) -> 0 | H38: =IFERROR(AVERAGEIFS('Error Log'!$I$3:$I$302,'Error Log'!$C$3:$C$375,Analysis!B37,'Error Log'!$G$3:$G$302,"<>",'Error Log'!$D$3:$D$375,C38),0) -> 0
C39: Hard | D39: =COUNTIFS('Error Log'!$H$3:$H$375,D$36,'Error Log'!$C$3:$C$375,$B$37,'Error Log'!$D$3:$D$375,$C39) -> 0 | E39: =COUNTIFS('Error Log'!$H$3:$H$375,E$36,'Error Log'!$C$3:$C$375,$B$37,'Error Log'!$D$3:$D$375,C39) -> 0 | F39: =COUNTIFS('Error Log'!$H$3:$H$375,F$36,'Error Log'!$C$3:$C$375,$B$37,'Error Log'!$D$3:$D$375,C39) -> 0 | G39: =SUM(D39:F39) -> 0 | H39: =IFERROR(AVERAGEIFS('Error Log'!$I$3:$I$302,'Error Log'!$C$3:$C$375,Analysis!B37,'Error Log'!$G$3:$G$302,"<>",'Error Log'!$D$3:$D$375,C39),0) -> 0
C40: Very Hard | D40: =COUNTIFS('Error Log'!$H$3:$H$375,D$36,'Error Log'!$C$3:$C$375,$B$37,'Error Log'!$D$3:$D$375,$C40) -> 0 | E40: =COUNTIFS('Error Log'!$H$3:$H$375,E$36,'Error Log'!$C$3:$C$375,$B$37,'Error Log'!$D$3:$D$375,C40) -> 0 | F40: =COUNTIFS('Error Log'!$H$3:$H$375,F$36,'Error Log'!$C$3:$C$375,$B$37,'Error Log'!$D$3:$D$375,C40) -> 0 | G40: =SUM(D40:F40) -> 0 | H40: =IFERROR(AVERAGEIFS('Error Log'!$I$3:$I$302,'Error Log'!$C$3:$C$375,Analysis!B37,'Error Log'!$G$3:$G$302,"<>",'Error Log'!$D$3:$D$375,C40),0) -> 0
C41: N/A | D41: =COUNTIFS('Error Log'!$H$3:$H$375,D$36,'Error Log'!$C$3:$C$375,$B$37,'Error Log'!$D$3:$D$375,$C41) -> 0 | E41: =COUNTIFS('Error Log'!$H$3:$H$375,E$36,'Error Log'!$C$3:$C$375,$B$37,'Error Log'!$D$3:$D$375,C41) -> 0 | F41: =COUNTIFS('Error Log'!$H$3:$H$375,F$36,'Error Log'!$C$3:$C$375,$B$37,'Error Log'!$D$3:$D$375,C41) -> 0 | G41: =SUM(D41:F41) -> 0 | H41: =IFERROR(AVERAGEIFS('Error Log'!$I$3:$I$302,'Error Log'!$C$3:$C$375,Analysis!B37,'Error Log'!$G$3:$G$302,"<>",'Error Log'!$D$3:$D$375,C41),0) -> 0
B42: DS | C42: Easy | D42: =COUNTIFS('Error Log'!$H$3:$H$375,D$36,'Error Log'!$C$3:$C$375,B42,'Error Log'!$D$3:$D$375,$C42) -> 0 | E42: =COUNTIFS('Error Log'!$H$3:$H$375,E$36,'Error Log'!$C$3:$C$375,$B$42,'Error Log'!$D$3:$D$375,$C42) -> 0 | F42: =COUNTIFS('Error Log'!$H$3:$H$375,F$36,'Error Log'!$C$3:$C$375,$B$42,'Error Log'!$D$3:$D$375,$C42) -> 0 | G42: =SUM(D42:F42) -> 0 | H42: =IFERROR(AVERAGEIFS('Error Log'!$I$3:$I$302,'Error Log'!$C$3:$C$375,Analysis!B42,'Error Log'!$G$3:$G$302,"<>",'Error Log'!$D$3:$D$375,C42),0) -> 0
C43: Medium | D43: =COUNTIFS('Error Log'!$H$3:$H$375,D$36,'Error Log'!$C$3:$C$375,B43,'Error Log'!$D$3:$D$375,$C43) -> 0 | E43: =COUNTIFS('Error Log'!$H$3:$H$375,E$36,'Error Log'!$C$3:$C$375,$B$42,'Error Log'!$D$3:$D$375,$C43) -> 0 | F43: =COUNTIFS('Error Log'!$H$3:$H$375,F$36,'Error Log'!$C$3:$C$375,$B$42,'Error Log'!$D$3:$D$375,$C43) -> 0 | G43: =SUM(D43:F43) -> 0 | H43: =IFERROR(AVERAGEIFS('Error Log'!$I$3:$I$302,'Error Log'!$C$3:$C$375,Analysis!B42,'Error Log'!$G$3:$G$302,"<>",'Error Log'!$D$3:$D$375,C43),0) -> 0
C44: Hard | D44: =COUNTIFS('Error Log'!$H$3:$H$375,D$36,'Error Log'!$C$3:$C$375,B44,'Error Log'!$D$3:$D$375,$C44) -> 0 | E44: =COUNTIFS('Error Log'!$H$3:$H$375,E$36,'Error Log'!$C$3:$C$375,$B$42,'Error Log'!$D$3:$D$375,$C44) -> 0 | F44: =COUNTIFS('Error Log'!$H$3:$H$375,F$36,'Error Log'!$C$3:$C$375,$B$42,'Error Log'!$D$3:$D$375,$C44) -> 0 | G44: =SUM(D44:F44) -> 0 | H44: =IFERROR(AVERAGEIFS('Error Log'!$I$3:$I$302,'Error Log'!$C$3:$C$375,Analysis!B42,'Error Log'!$G$3:$G$302,"<>",'Error Log'!$D$3:$D$375,C44),0) -> 0
C45: Very Hard | D45: =COUNTIFS('Error Log'!$H$3:$H$375,D$36,'Error Log'!$C$3:$C$375,B45,'Error Log'!$D$3:$D$375,$C45) -> 0 | E45: =COUNTIFS('Error Log'!$H$3:$H$375,E$36,'Error Log'!$C$3:$C$375,$B$42,'Error Log'!$D$3:$D$375,$C45) -> 0 | F45: =COUNTIFS('Error Log'!$H$3:$H$375,F$36,'Error Log'!$C$3:$C$375,$B$42,'Error Log'!$D$3:$D$375,$C45) -> 0 | G45: =SUM(D45:F45) -> 0 | H45: =IFERROR(AVERAGEIFS('Error Log'!$I$3:$I$302,'Error Log'!$C$3:$C$375,Analysis!B42,'Error Log'!$G$3:$G$302,"<>",'Error Log'!$D$3:$D$375,C45),0) -> 0
C46: N/A | D46: =COUNTIFS('Error Log'!$H$3:$H$375,D$36,'Error Log'!$C$3:$C$375,B46,'Error Log'!$D$3:$D$375,$C46) -> 0 | E46: =COUNTIFS('Error Log'!$H$3:$H$375,E$36,'Error Log'!$C$3:$C$375,$B$42,'Error Log'!$D$3:$D$375,$C46) -> 0 | F46: =COUNTIFS('Error Log'!$H$3:$H$375,F$36,'Error Log'!$C$3:$C$375,$B$42,'Error Log'!$D$3:$D$375,$C46) -> 0 | G46: =SUM(D46:F46) -> 0 | H46: =IFERROR(AVERAGEIFS('Error Log'!$I$3:$I$302,'Error Log'!$C$3:$C$375,Analysis!B42,'Error Log'!$G$3:$G$302,"<>",'Error Log'!$D$3:$D$375,C46),0) -> 0
A47: Quant Total | D47: =SUM(D37:D46) -> 1 | E47: =SUM(E37:E46) -> 0 | F47: =SUM(F37:F46) -> 0 | G47: =SUM(G37:G46) -> 1 | H47: =IFERROR(AVERAGEIFS('Error Log'!$I$3:$I$302,'Error Log'!$B$3:$B$302,"Quant",'Error Log'!$G$3:$G$302,"<>"),0) -> 0
