Workbook
Name T_N: [1]DB!$L$2:$L$7

Sheet GMAT Summary
E1: Total Hours | G1: =Time!K1 -> 403.18
E3: 1 | F3: Quant Theory | G3: =Time!M4 -> 21.95
E4: 2 | F4: Quant Practice | G4: =Time!M5 -> 81.16
E5: 3 | F5: Quant Total | G5: =G4+G3 -> 103.11
E6: 4 | F6: Verbal Theory | G6: =Time!M7 -> 90.99
E7: 5 | F7: Verbal Practice | G7: =Time!M8 -> 160.38
E8: 6 | F8: Verbal Total | G8: =G7+G6 -> 251.37

Sheet Time
G1: Total Hours | K1: =M6+M9+M10 -> 403.18
A4: Sr No | B4: Date | C4: Day | D4: Time hrs | E4: =L4 -> Quant Theory | F4: =L7 -> Verbal Theory | G4: =L5 -> Quant Practice | H4: =L8 -> Verbal Practice | I4: Mock Test | K4: 1 | L4: Quant Theory | M4: =SUM(E5:E474) -> 21.95
A5: 1 | B5: 43939 | C5: Sat | D5: =SUM(E5:I5) -> 2 | E5: 2 | F5: 0 | G5: 0 | H5: 0 | I5: 0 | K5: 2 | L5: Quant Practice | M5: =SUM(G5:G474) -> 81.16 | N5: 0
A6: 2 | B6: 43940 | C6: Sun | D6: =SUM(E6:I6) -> 4 | E6: 4 | F6: 0 | G6: 0 | H6: 0 | I6: 0 | K6: 3 | L6: Quant Total | M6: =M5+M4 -> 103.11 | N6: 1
A7: 3 | B7: 43941 | C7: Mon | D7: =SUM(E7:I7) -> 5.5 | E7: 5.5 | F7: 0 | G7: 0 | H7: 0 | I7: 0 | K7: 4 | L7: Verbal Theory | M7: =SUM(F5:F474) -> 90.99 | N7: 0
A8: 4 | B8: 43942 | C8: Tue | D8: =SUM(E8:I8) -> 3.5 | E8: 1.5 | F8: 2 | G8: 0 | H8: 0 | I8: 0 | K8: 5 | L8: Verbal Practice | M8: =SUM(H5:H474) -> 160.38 | N8: 0
A9: 5 | B9: 43943 | C9: Wed | D9: =SUM(E9:I9) -> 5.5 | E9: 0 | F9: 1.5 | G9: 1 | H9: 3 | I9: 0 | K9: 6 | L9: Verbal Total | M9: =M8+M7 -> 251.37 | N9: 0
A10: 6 | B10: 43944 | C10: Thu | D10: =SUM(E10:I10) -> 6.7 | E10: 0.2 | F10: 2 | G10: 2 | H10: 2.5 | I10: 0 | K10: 7 | L10: Test | M10: =SUM(I5:I147) -> 48.7 | N10: 0
A11: 7 | B11: 43945 | C11: Fri | D11: =SUM(E11:I11) -> 3.2 | E11: 0.2 | F11: 2 | G11: =0.3+0.2 -> 0.5 | H11: 0.5 | I11: 0 | N11: 0
A12: 8 | B12: 43946 | C12: Sat | D12: =SUM(E12:I12) -> 6.2 | E12: 0 | G12: 1 | H12: 5.2 | I12: 0 | N12: 0
A13: 9 | B13: 43947 | C13: Sun | D13: =SUM(E13:I13) -> 5.5 | E13: 0 | F13: 0 | G13: 0 | H13: 2.5 | I13: 3 | J13: 710 | N13: 1
A14: 10 | B14: 43948 | C14: Mon | D14: =SUM(E14:I14) -> 6.4 | E14: 0 | F14: 3 | G14: =0.7+0.7 -> 1.4 | H14: 2 | I14: 0 | N14: 0
A15: 11 | B15: 43949 | C15: Tue | D15: =SUM(E15:I15) -> 6.35 | E15: 0 | F15: 3 | G15: =0.55+2.8 -> 3.35 | H15: 0 | I15: 0 | N15: 0
A16: 12 | B16: 43950 | C16: Wed | D16: =SUM(E16:I16) -> 5.03 | E16: 1 | F16: 2 | G16: 0 | H16: =1+0.28+0.75 -> 2.03 | I16: 0 | N16: 0
A17: 13 | B17: 43951 | C17: Thu | D17: =SUM(E17:I17) -> 6.1 | E17: 0 | F17: 4 | G17: =0.6+0.5 -> 1.1 | H17: 1 | I17: 0 | N17: 0
A18: 14 | B18: 43952 | C18: Fri | D18: =SUM(E18:I18) -> 2.38 | E18: 0 | F18: 1 | G18: 0 | H18: =0.58+0.8 -> 1.38 | I18: 0 | N18: 0
A19: 15 | B19: 43953 | C19: Sat | D19: =SUM(E19:I19) -> 4.3 | E19: 0 | F19: 0 | G19: 0.5 | H19: 3.8 | I19: 0 | N19: 0
A20: 16 | B20: 43954 | C20: Sun | D20: =SUM(E20:I20) -> 6.95 | E20: 0 | F20: 2 | G20: 0 | H20: =0.75+1.7 -> 2.45 | I20: 2.5 | J20: 710 | N20: 1
A21: 17 | B21: 43955 | C21: Mon | D21: =SUM(E21:I21) -> 5 | E21: 2.5 | F21: 0.5 | G21: 0 | H21: 2 | I21: 0 | N21: 0
A22: 18 | B22: 43956 | C22: Tue | D22: =SUM(E22:I22) -> 0.5 | E22: 0 | F22: 0 | G22: 0 | H22: 0.5 | I22: 0 | N22: 0
A23: 19 | B23: 43957 | C23: Wed | D23: =SUM(E23:I23) -> 3 | E23: 0 | F23: 3 | G23: 0 | H23: 0 | I23: 0 | N23: 0
A24: 20 | B24: 43958 | C24: Thu | D24: =SUM(E24:I24) -> 4.2 | E24: 0 | F24: =1.5+2.7 -> 4.2 | G24: 0 | H24: 0 | I24: 0 | N24: 0
A25: 21 | B25: 43959 | C25: Fri | D25: =SUM(E25:I25) -> 5.31 | E25: 0 | F25: =0.36+1.25+0.83+0.83+0.54+1.5 -> 5.31 | G25: 0 | H25: 0 | I25: 0 | N25: 0
A26: 22 | B26: 43960 | C26: Sat | D26: =SUM(E26:I26) -> 7.3 | E26: 0 | F26: =0.5+4.8+2 -> 7.3 | G26: 0 | H26: 0 | I26: 0 | N26: 0
A27: 23 | B27: 43961 | C27: Sun | D27: =SUM(E27:I27) -> 4.66 | E27: 0 | F27: 0 | G27: =1.5+0.66 -> 2.16 | H27: 0 | I27: 2.5 | J27: 610 | N27: 1
A28: 24 | B28: 43962 | C28: Mon | D28: =SUM(E28:I28) -> 3.05 | E28: 0 | F28: 0.3 | G28: 0 | H28: 2.75 | I28: 0 | N28: 0
A29: 24 | B29: 43963 | C29: Tue | D29: =SUM(E29:I29) -> 5.33 | E29: 0 | F29: 5.33 | G29: 0 | H29: 0 | I29: 0 | N29: 0
A30: 25 | B30: 43964 | C30: Wed | D30: =SUM(E30:I30) -> 5.44 | E30: 0 | F30: 1.75 | G30: =0.5+0.78+0.75 -> 2.03 | H30: =1+0.66 -> 1.66 | I30: 0 | N30: 0
A31: 26 | B31: 43965 | C31: Thu | D31: =SUM(E31:I31) -> 5.5 | E31: 0 | F31: 0 | G31: =0.75+0.5 -> 1.25 | H31: 4.25 | I31: 0 | N31: 0
A32: 27 | B32: 43966 | C32: Fri | D32: =SUM(E32:I32) -> 4.66 | E32: 0 | F32: 0 | G32: =0.5+1.66 -> 2.16 | H32: 2.5 | I32: 0 | N32: 0
A33: 28 | B33: 43967 | C33: Sat | D33: =SUM(E33:I33) -> 6.04 | E33: 0 | F33: 0.75 | G33: =0.33+0.25+0.66+0.5+1 -> 2.74 | H33: =0.75+0.25+0.5+0.3+0.75 -> 2.55 | I33: 0 | N33: 0
A34: 29 | B34: 43968 | C34: Sun | D34: =SUM(E34:I34) -> 3.6 | E34: 0 | F34: 0 | G34: 0 | H34: 0 | I34: =1+2.6 -> 3.6 | J34: 730 | N34: 1
A35: 30 | B35: 43969 | C35: Mon | D35: =SUM(E35:I35) -> 0.5 | E35: 0 | F35: 0.5 | G35: 0 | H35: 0 | I35: 0 | N35: 0
A36: 31 | B36: 43970 | C36: Tue | D36: =SUM(E36:I36) -> 2 | E36: 0 | F36: 0 | G36: 1 | H36: 1 | I36: 0 | N36: 0
A37: 32 | B37: 43971 | C37: Wed | D37: =SUM(E37:I37) -> 3.25 | E37: 1.8 | F37: 0 | G37: 0 | H37: 1.45 | I37: 0 | N37: 0
A38: 33 | B38: 43972 | C38: Thu | D38: =SUM(E38:I38) -> 1.65 | E38: 0 | F38: 0 | G38: 0.5 | H38: 1.15 | I38: 0 | N38: 0
A39: 34 | B39: 43973 | C39: Fri | D39: =SUM(E39:I39) -> 2.7 | E39: 0 | F39: 0 | G39: 2 | H39: 0.7 | I39: 0 | N39: 0
A40: 35 | B40: 43974 | C40: Sat | D40: =SUM(E40:I40) -> 4 | E40: 0 | F40: 0 | G40: 0 | H40: 4 | I40: 0 | N40: 0
A41: 36 | B41: 43975 | C41: Sun | D41: =SUM(E41:I41) -> 3.5 | E41: 0 | F41: 0 | G41: 0 | H41: 1 | I41: 2.5 | J41: 680 | N41: 1
A42: 37 | B42: 43976 | C42: Mon | D42: =SUM(E42:I42) -> 5.03 | E42: 0 | F42: 1 | G42: =0.4+0.25+0.75 -> 1.4 | H42: =0.5+1.75+0.38 -> 2.63 | I42: 0 | N42: 0
A43: 38 | B43: 43977 | C43: Tue | D43: =SUM(E43:I43) -> 6.13 | E43: 0 | F43: =0.45+0.45+0.5 -> 1.4 | G43: =0.5+0.4+0.2 -> 1.1 | H43: =0.5+0.25+0.25+0.43+0.4+0.5+0.3+1 -> 3.63 | I43: 0 | N43: 0
A44: 39 | B44: 43978 | C44: Wed | D44: =SUM(E44:I44) -> 6.76 | E44: 0 | F44: =0.75+1.5 -> 2.25 | G44: =1.08+0.83 -> 1.91 | H44: 2.6 | I44: 0 | N44: 0
A45: 40 | B45: 43979 | C45: Thu | D45: =SUM(E45:I45) -> 7 | E45: 0 | F45: 1.3 | G45: 1.16 | H45: =0.4+0.7+0.5+0.16+0.8+0.36+0.83+0.33+0.46 -> 4.54 | I45: 0 | N45: 0
A46: 41 | B46: 43980 | C46: Fri | D46: =SUM(E46:I46) -> 5.06 | E46: 0 | F46: =0.5+0.75+0.25 -> 1.5 | G46: 1.35 | H46: =0.83+0.6+0.15+0.63 -> 2.21 | I46: 0 | N46: 0
A47: 42 | B47: 43981 | C47: Sat | D47: =SUM(E47:I47) -> 4.1 | E47: 0 | F47: 1.5 | G47: 1.1 | H47: 1.5 | I47: 0 | N47: 0
A48: 43 | B48: 43982 | C48: Sun | D48: =SUM(E48:I48) -> 3 | E48: 0 | F48: 0 | G48: 0 | H48: 0.5 | I48: 2.5 | J48: 680 | N48: 1
A49: 44 | B49: 43983 | C49: Mon | D49: =SUM(E49:I49) -> 5.45 | E49: 0 | F49: 0 | G49: =0.25+1+0.5 -> 1.75 | H49: =1.75+0.45+0.5+1 -> 3.7 | I49: 0 | N49: 0
A50: 45 | B50: 43984 | C50: Tue | D50: =SUM(E50:I50) -> 3.63 | E50: 0 | F50: 0 | G50: 1.2 | H50: =0.5+0.78+0.5+0.65 -> 2.43 | I50: 0 | N50: 0
A51: 46 | B51: 43985 | C51: Wed | D51: =SUM(E51:I51) -> 5.45 | E51: 1.2 | F51: 0 | G51: 0 | H51: =1+1.5+0.25+0.5+0.5+0.5 -> 4.25 | I51: 0 | N51: 0
A52: 47 | B52: 43986 | C52: Thu | D52: =SUM(E52:I52) -> 5.7 | E52: 0 | F52: 1 | G52: 2 | H52: =1.1+0.5+1.1 -> 2.7 | I52: 0 | N52: 0
A53: 48 | B53: 43987 | C53: Fri | D53: =SUM(E53:I53) -> 2.95 | E53: 0 | F53: 0 | G53: 0 | H53: =0.75+2.2 -> 2.95 | I53: 0 | N53: 0
A54: 49 | B54: 43988 | C54: Sat | D54: =SUM(E54:I54) -> 2.75 | E54: 1 | F54: 0 | G54: 0 | H54: 1.75 | I54: 0 | N54: 0
A55: 50 | B55: 43989 | C55: Sun | D55: =SUM(E55:I55) -> 0 | E55: 0 | F55: 0 | G55: 0 | H55: 0 | I55: 0 | N55: 1
A56: 51 | B56: 43990 | C56: Mon | D56: =SUM(E56:I56) -> 6.08 | E56: 0 | F56: 0 | G56: 1 | H56: =1.5+0.28+0.5 -> 2.28 | I56: 2.8 | J56: 690 | N56: 0
A57: 52 | B57: 43991 | C57: Tue | D57: =SUM(E57:I57) -> 5.75 | E57: 0 | F57: 4 | G57: =75/60 -> 1.25 | H57: 0.5 | I57: 0 | N57: 0
A58: 53 | B58: 43992 | C58: Wed | D58: =SUM(E58:I58) -> 7.21 | E58: 0 | F58: 0.75 | G58: =0.7+1.6+1+0.16 -> 3.46 | H58: 3 | I58: 0 | N58: 0
A59: 54 | B59: 43993 | C59: Thu | D59: =SUM(E59:I59) -> 6.2 | E59: 0 | F59: 1.5 | G59: 0.6 | H59: 4.1 | I59: 0 | N59: 0
A60: 55 | B60: 43994 | C60: Fri | D60: =SUM(E60:I60) -> 4.7 | E60: 0 | F60: 0 | G60: =0.8+0.9 -> 1.7 | H60: 3 | I60: 0 | N60: 0
A61: 56 | B61: 43995 | C61: Sat | D61: =SUM(E61:I61) -> 6.1 | E61: 0 | F61: 0.7 | G61: 3.7 | H61: 1.7 | I61: 0 | N61: 0
A62: 57 | B62: 43996 | C62: Sun | D62: =SUM(E62:I62) -> 4.9 | E62: 0.1 | F62: 1.8 | G62: 0 | H62: 0 | I62: 3 | J62: 750 | N62: 1
A63: 58 | B63: 43997 | C63: Mon | D63: =SUM(E63:I63) -> 4.43 | E63: 0 | F63: 2.5 | G63: 0.83 | H63: 1.1 | I63: 0 | N63: 0
A64: 59 | B64: 43998 | C64: Tue | D64: =SUM(E64:I64) -> 5.6 | E64: 0 | F64: 3 | G64: 1 | H64: 1.6 | I64: 0 | N64: 0
A65: 60 | B65: 43999 | C65: Wed | D65: =SUM(E65:I65) -> 5.2 | E65: 0 | F65: 3 | G65: 1 | H65: 1.2 | I65: 0 | N65: 0
A66: 61 | B66: 44000 | C66: Thu | D66: =SUM(E66:I66) -> 4.25 | E66: 0 | F66: 0 | G66: 1 | H66: 0.25 | I66: 3 | N66: 0
A67: 62 | B67: 44001 | C67: Fri | D67: =SUM(E67:I67) -> 5.2 | E67: 0 | F67: 3 | G67: 1 | H67: 1.2 | I67: 0 | N67: 0
A68: 63 | B68: 44002 | C68: Sat | D68: =SUM(E68:I68) -> 2.5 | E68: 0 | F68: 0 | G68: 2.5 | H68: 0 | I68: 0 | N68: 0
A69: 64 | B69: 44003 | C69: Sun | D69: =SUM(E69:I69) -> 3.2 | E69: 0.1 | F69: 0.5 | G69: 0 | H69: 0 | I69: 2.6 | J69: 730 | N69: 1
A70: 65 | B70: 44004 | C70: Mon | D70: =SUM(E70:I70) -> 2.1 | E70: 0 | F70: 0 | G70: 1 | H70: 1.1 | I70: 0 | N70: 0
A71: 66 | B71: 44005 | C71: Tue | D71: =SUM(E71:I71) -> 5.91 | E71: 0 | F71: 0.5 | G71: =0.5+0.91+1 -> 2.41 | H71: 3 | I71: 0 | N71: 0
A72: 67 | B72: 44006 | C72: Wed | D72: =SUM(E72:I72) -> 6.25 | E72: 0 | F72: 2.25 | G72: 1 | H72: 3 | I72: 0 | N72: 0
A73: 68 | B73: 44007 | C73: Thu | D73: =SUM(E73:I73) -> 6 | E73: 0 | F73: 0.5 | G73: 1.5 | H73: 4 | I73: 0 | N73: 0
A74: 69 | B74: 44008 | C74: Fri | D74: =SUM(E74:I74) -> 1.5 | E74: 0 | F74: 0.5 | G74: 0 | H74: 1 | I74: 0 | N74: 0
A75: 70 | B75: 44009 | C75: Sat | D75: =SUM(E75:I75) -> 6.1 | E75: 0 | F75: 0 | G75: 1.6 | H75: 4 | I75: 0.5 | N75: 0
A76: 71 | B76: 44010 | C76: Sun | D76: =SUM(E76:I76) -> 4.85 | E76: 0 | F76: 0 | G76: =0.6+0.75 -> 1.35 | H76: 0.9 | I76: 2.6 | J76: 750 | N76: 1
A77: 72 | B77: 44011 | C77: Mon | D77: =SUM(E77:I77) -> 2.5 | E77: 0 | F77: 1 | G77: 1 | H77: 0.5 | I77: 0 | N77: 0
A78: 73 | B78: 44012 | C78: Tue | D78: =SUM(E78:I78) -> 2.9 | E78: 0 | F78: 0 | G78: 0 | H78: =1.2+1.7 -> 2.9 | I78: 0 | N78: 0
A79: 74 | B79: 44013 | C79: Wed | D79: =SUM(E79:I79) -> 1.2 | E79: 0 | F79: 0 | G79: 0 | H79: 1.2 | I79: 0 | N79: 0
A80: 75 | B80: 44014 | C80: Thu | D80: =SUM(E80:I80) -> 3.5 | E80: 0 | F80: 0 | G80: 0.8 | H80: 2.7 | I80: 0 | N80: 0
A81: 76 | B81: 44015 | C81: Fri | D81: =SUM(E81:I81) -> 2.34 | E81: 0 | F81: 0 | G81: 0 | H81: =1.59+0.75 -> 2.34 | I81: 0 | N81: 0
A82: 77 | B82: 44016 | C82: Sat | D82: =SUM(E82:I82) -> 6.55 | E82: 0 | F82: 0 | G82: 2.7 | H82: =0.6+0.75+1.5+1 -> 3.85 | I82: 0 | N82: 0
A83: 78 | B83: 44017 | C83: Sun | D83: =SUM(E83:I83) -> 6.72 | E83: 0 | F83: 0 | G83: 1.32 | H83: 2.8 | I83: 2.6 | J83: 770 | N83: 1
A84: 79 | B84: 44018 | C84: Mon | D84: =SUM(E84:I84) -> 6 | E84: 0 | F84: 0 | G84: 1.5 | H84: 4.5 | I84: 0 | N84: 0
A85: 80 | B85: 44019 | C85: Tue | D85: =SUM(E85:I85) -> 6.5 | E85: 0 | F85: 0 | G85: 1 | H85: 2.5 | I85: 3 | J85: 770 | N85: 0
A86: 81 | B86: 44020 | C86: Wed | D86: =SUM(E86:I86) -> 5.6 | E86: 0 | F86: 1 | G86: 2 | H86: 2.6 | I86: 0 | N86: 0
A87: 82 | B87: 44021 | C87: Thu | D87: =SUM(E87:I87) -> 6.08 | E87: 0 | F87: 0 | G87: 0.78 | H87: 2.3 | I87: 3 | J87: 740 | N87: 0
A88: 83 | B88: 44022 | C88: Fri | D88: =SUM(E88:I88) -> 5.5 | E88: 0 | F88: 0 | G88: 2 | H88: 3.5 | I88: 0 | N88: 0
A89: 84 | B89: 44023 | C89: Sat | D89: =SUM(E89:I89) -> 6.5 | E89: 0 | F89: 0 | G89: 1 | H89: 2.5 | I89: 3 | J89: 770 | N89: 0
A90: 85 | B90: 44024 | C90: Sun | D90: =SUM(E90:I90) -> 5.25 | E90: 0.5 | F90: 0.5 | G90: 0.5 | H90: 0.75 | I90: 3 | J90: 780 | N90: 1
A91: 86 | B91: 44025 | C91: Mon | D91: =SUM(E91:I91) -> 5 | E91: 0.25 | F91: 2.5 | G91: 1 | H91: =0.5+0.75 -> 1.25 | I91: 0 | N91: 0
A92: 87 | B92: 44026 | C92: Tue | D92: =SUM(E92:I92) -> 3.2 | E92: 0.1 | F92: 0.1 | G92: 0 | H92: 0 | I92: 3 | J92: 750 | N92: 0
N93: 0
N94: 0
N95: 0

Sheet Test Results
A1: OGMAT Diagnostic Test | C1: Ravi | F1: Lovely | P1: V40 | Q1: TARGET | R1: V42
B2: Problem Solving | C2: 21/24 | D2: Excellent | E2: 43943 | F2: 22/24 | G2: Excellent | O2: Correct | P2: 27 | R2: 30
B3: Data Sufficiency | C3: 21/24 | D3: Excellent | E3: 43944 | F3: 18/24 | G3: Above Average | O3: Wrong | P3: 9 | R3: 6
B4: RC | C4: 15/17 | D4: Above Average | E4: 43945 | F4: 14/17 | G4: Above Average | O4: SC | P4: 14 | Q4: 12 | R4: 12 | S4: 1.5min
B5: CR | C5: 14/17 | D5: Excellent | E5: 43946 | F5: 11/17 | G5: Above Average | O5: CR | P5: 9 | Q5: 6 | R5: 8 | S5: 2 min
B6: SC | C6: 12/18 | D6: Above Average | E6: 43946 | F6: 10/18 | G6: Average | O6: RC | P6: 13 | Q6: 9 | R6: 10 | S6: 2.2 passage + 1.2 min/Q
P7: Q51 | Q7: TARGET
A8: Offical Mock Test 1 26 Apr | B8: Ravi | C8: Scaled Score | D8: Percentile | E8: Lovely | F8: Scaled Score | G8: Percentile | H8: Ravi | I8: Wrong Questions | J8: Total Questions | K8: Lovely | L8: Wrong Questions | M8: Total Questions | O8: Correct | P8: 27
B9: IR | C9: 5 | D9: 55 | E9: IR | F9: 4 | G9: 40 | H9: RC | I9: 2 | J9: 13 | K9: RC | L9: 4 | M9: 13 | O9: Wrong | P9: 5
B10: Verbal | C10: 38 | D10: 85 | E10: Verbal | F10: 33 | G10: 69 | H10: CR | I10: 1 | J10: 9 | K10: CR | L10: 4 | M10: 9 | O10: PS | P10: 18 | Q10: 16 | S10: 1.7 min
B11: Quant | C11: 49 | D11: 75 | E11: Quant | F11: 47 | G11: 63 | H11: SC | I11: 9 | J11: 14 | K11: SC | L11: 7 | M11: 14 | O11: DS | P11: 13 | Q11: 10 | S11: 2.5 min
B12: Total | C12: 710 | D12: 91 | E12: Total | F12: 650 | G12: 75 | H12: PS | I12: 3 | J12: 18 | K12: PS | L12: 6 | M12: 18
A13: Ravi Ramniklal Gondalia - Current Status | H13: DS | I13: 5 | J13: 13 | K13: DS | L13: 5 | M13: 13
A14: PS | B14: Good on Time - Accuracy 100%, Improve further on time to ease DS | H14: Statistics Formula | I14: 1
A15: DS | B15: Good on Time - Need clarity of Thought while selecting Options | H15: Inequality | I15: 2
A16: RC | B16: Time needs to reduce - Better clarity of Thought Now - Practice / Ask for study material | H16: Reading Mistake | I16: 2
A17: CR | B17: Need to reduce time to save more for SC - Accurary is better, more practice is required | H17: Number System / Divisiblity | I17: 1
A18: SC | B18: Need to finish Theory - Manhatten - time and accuracy is very very poor, concepts are not clear | H18: Lack of Time | I18: 2
A21: Expert Global Mock Test 3 May | B21: Ravi | C21: Scaled Score | D21: Percentile | E21: Lovely | F21: Scaled Score | G21: Percentile | H21: Ravi | I21: Wrong Questions | J21: Total Questions | K21: Lovely | L21: Wrong Questions | M21: Total Questions
B22: IR | C22: 2 | D22: 12 | E22: IR | F22: 1 | G22: 0 | H22: RC | I22: 6 | J22: 13 | K22: RC | L22: 6 | M22: 13
B23: Verbal | C23: 39 | D23: 88 | E23: Verbal | F23: 35 | G23: 74 | H23: CR | I23: 4 | J23: 10 | K23: CR | L23: 5 | M23: 10
B24: Quant | C24: 48 | D24: 76 | E24: Quant | F24: 48 | G24: 76 | H24: SC | I24: 3 | J24: 13 | K24: SC | L24: 4 | M24: 13
B25: Total | C25: 710 | D25: 92 | E25: Total | F25: 680 | G25: 84 | H25: PS | I25: 4 | J25: 18 | K25: PS | L25: 4 | M25: 17
A26: Ravi Ramniklal Gondalia - Current Status | H26: DS | I26: 4 | J26: 13 | K26: DS | L26: 7 | M26: 14
A27: PS | B27: Inqualities questions need to be skipped to ensure you have time for everything else. Read Manhatten Inequalities | H27: A statement being wrong can still be sufficient in DS. Silly Mistake in Q14 of Mock Test
A28: DS | H28: In CR ready what the question is - Assumption / Weaking etc
A29: RC | H29: In CR read bold face questions theory
A30: CR | H30: Subjuntive should have simplest form of verb in Q11 - Bossy Word + That + Subject + Simple form of verb
A31: SC
A33: Manhattan Mock Test 10 May | B33: Ravi | C33: Scaled Score | D33: Percentile | E33: Lovely | F33: Scaled Score | G33: Percentile | H33: Ravi | I33: Wrong Questions | J33: Total Questions | K33: Lovely | L33: Wrong Questions | M33: Total Questions
B34: IR | C34: 0 | D34: 1 | E34: IR | F34: 0 | G34: 1 | H34: RC | I34: =J34-5 -> 7 | J34: 12 | K34: RC
B35: Verbal | C35: 29 | D35: 57 | E35: Verbal | F35: 34 | G35: 71 | H35: CR | I35: 4 | J35: 10 | K35: CR
B36: Quant | C36: 46 | D36: 60 | E36: Quant | F36: 33 | G36: 25 | H36: SC | I36: 8 | J36: 14 | K36: SC
B37: Total | C37: 610 | D37: 61 | E37: Total | F37: 560 | G37: 44 | H37: PS | K37: PS
A38: Ravi Ramniklal Gondalia - Current Status | H38: DS | K38: DS
A39: PS | H39: RC | I39: 3 | J39: Passege Inference Questions
A40: DS | I40: 2 | J40: Timing in RC
A41: RC | I41: 2 | J41: Clarity of Thoughts
A42: CR | H42: SC | I42: Practice to apply concepts
A43: SC | H43: CR | I43: Little Theory + Practice
A45: Offical Mock Test 2 17 May | B45: Ravi | C45: Scaled Score | D45: Percentile | E45: Lovely | F45: Scaled Score | G45: Percentile | H45: Ravi | I45: Wrong Questions | J45: Total Questions | K45: Lovely | L45: Wrong Questions | M45: Total Questions | O45: RC | P45: 3 | Q45: Biology Passage | R45: =3+4+3+3+13+12 -> 38
B46: IR | C46: 1 | D46: 0 | E46: IR | F46: 1 | G46: 0 | H46: RC | I46: 3 | J46: 13 | K46: RC | L46: 1 | M46: 13 | O46: RC | P46: 3 out 4 | Q46: History Passage - Colonialism
B47: Verbal | C47: 40 | D47: 91 | E47: Verbal | F47: 35 | G47: 76 | H47: CR | I47: 0 | J47: 9 | K47: CR | L47: 4 | M47: 9 | O47: RC | P47: 2 out 3 | Q47: History Passage - Tribals
B48: Quant | C48: 50 | D48: 86 | E48: Quant | F48: 49 | G48: 75 | H48: SC | I48: 6 | J48: 14 | K48: SC | L48: 8 | M48: 14 | O48: RC | P48: 2 out of 3 | Q48: Science Passage
B49: Total | C49: 730 | D49: 96 | E49: Total | F49: 690 | H49: PS | I49: 3 | J49: 18 | K49: PS | L49: 7 | M49: 18 | O49: CR | P49: 9
A50: Ravi Ramniklal Gondalia - Current Status | H50: DS | I50: 4 | J50: 13 | K50: DS | L50: 4 | M50: 13 | O50: SC | P50: 14
A51: PS | B51: IF you take a lot of time in PS, re read the question and option - you must have made an error in reading | H51: Inequalities DS | I51: 3 | O51: RC | P51: =3+3+3+4 -> 13
A52: DS | B52: Must get a hang of Inequalities concept in this week, more practice for time | H52: Number DS | I52: 1
A53: RC | B53: History Passage Tricks | H53: PS | I53: Geometry, %
A54: CR | B54: More Practice to keep up the score | H54: PS | I54: 1 question left due to time
A55: SC | B55: Practice + Theory | H55: PS | I55: Sum of Geometric Series
A57: EGMAT SIGMA-X Mock I 24 May | B57: Ravi | C57: Scaled Score | D57: Percentile | E57: Lovely | F57: Scaled Score | G57: Percentile | H57: Ravi | I57: Wrong Questions | J57: Total Questions | K57: Lovely | L57: Wrong Questions | M57: Total Questions
B58: IR | C58: - | D58: - | E58: IR | F58: - | G58: - | H58: RC | I58: 5 | J58: 14 | K58: RC | L58: 8 | M58: 14
B59: Verbal | C59: 34 | D59: 71 | E59: Verbal | F59: 28 | G59: 51 | H59: CR | I59: 2 | J59: 10 | K59: CR | L59: 4 | M59: 10
B60: Quant | C60: 49 | D60: 74 | E60: Quant | F60: sky | G60: 67 | H60: SC | I60: 5 | J60: 12 | K60: SC | L60: 4 | M60: 12
B61: Total | C61: 680 | D61: 82 | E61: Total | F61: 630 | G61: 66 | H61: PS | I61: 6 | J61: 19 | K61: PS
A62: Ravi Ramniklal Gondalia - Current Status | H62: DS | I62: 2 | J62: 12 | K62: DS
A63: PS
A64: DS
A65: RC
A66: CR | B66: Stay Tight on Accuracy and Reduce Time
A67: SC | B67: ReRead Manhatten and Paractice - Need much higher accuracy
A69: Veritas Mock 30 May | B69: Ravi | C69: Scaled Score | D69: Percentile | E69: Lovely | F69: Scaled Score | G69: Percentile | H69: Ravi | I69: Wrong Questions | J69: Total Questions | K69: Lovely | L69: Wrong Questions | M69: Total Questions
B70: IR | C70: - | D70: - | E70: IR | F70: - | H70: RC | I70: 6 | J70: 12 | K70: RC | L70: 3 | M70: 12
B71: Verbal | C71: 34 | D71: 71 | E71: Verbal | F71: 37 | H71: CR | I71: 2 | J71: 9 | K71: CR | L71: 5 | M71: 9
B72: Quant | C72: 49 | D72: 74 | E72: Quant | F72: 50 | H72: SC | I72: 6 | J72: =I72+9 -> 15 | K72: SC | L72: 5 | M72: 15
B73: Total | C73: 680 | D73: 82 | E73: Total | F73: 710 | H73: PS | I73: 9 | J73: 18 | K73: PS | L73: 4 | M73: 18
A74: Ravi Ramniklal Gondalia - Current Status | H74: DS | I74: 5 | J74: =5+8 -> 13 | K74: DS | L74: 6 | M74: 13
A75: PS
A76: DS
A77: RC
A78: CR
A79: SC
A81: Kaplan Mock 8th May | B81: Ravi | C81: Scaled Score | D81: Percentile | E81: Lovely | F81: Scaled Score | G81: Percentile | H81: Ravi | I81: Wrong Questions | J81: Total Questions | K81: Lovely | L81: Wrong Questions | M81: Total Questions
B82: IR | C82: 7 | D82: - | E82: IR | F82: - | H82: RC | I82: 6 | J82: 14 | K82: RC | L82: 4 | M82: 10
B83: Verbal | C83: 35 | D83: 76 | E83: Verbal | F83: 35 | H83: CR | I83: 3 | J83: 8 | K83: CR | L83: 3 | M83: 8
B84: Quant | C84: 50 | D84: 88 | E84: Quant | F84: 48 | H84: SC | I84: =14-5 -> 9 | J84: 14 | K84: SC | L84: 7 | M84: 14
B85: Total | C85: 690 | D85: 87 | E85: Total | F85: 680 | H85: PS | I85: 1 | J85: 16 | K85: PS | L85: 5 | M85: 19
A86: Ravi Ramniklal Gondalia - Current Status | H86: DS | I86: 5 | J86: 15 | K86: DS | L86: 9 | M86: 12
A87: PS
A88: DS
A89: RC
A90: CR
A91: SC
A93: Offical Mock Test 3 14 June | B93: Ravi | C93: Scaled Score | D93: Percentile | E93: Lovely | F93: Scaled Score | H93: Ravi | I93: Wrong Questions | J93: Total Questions | K93: Lovely | L93: Wrong Questions | M93: Total Questions
B94: IR | C94: 1 | D94: 0 | E94: IR | F94: 1 | G94: 0 | H94: RC | I94: 1 | J94: 13 | K94: RC | L94: 2 | M94: 13
B95: Verbal | C95: 40 | D95: 91 | E95: Verbal | F95: 42 | G95: 76 | H95: CR | I95: 1 | J95: 9 | K95: CR | L95: 2 | M95: 9
B96: Quant | C96: 50 | D96: 86 | E96: Quant | F96: 51 | G96: 75 | H96: SC | I96: 7 | J96: 14 | K96: SC | L96: 2 | M96: 14
B97: Total | C97: 750 | D97: 96 | E97: Total | F97: 760 | H97: PS | I97: 2 | J97: 18 | K97: PS | L97: 1 | M97: 18
A98: Ravi Ramniklal Gondalia - Current Status | H98: DS | I98: 2 | J98: 13 | K98: DS | L98: 0 | M98: 13
A99: PS
A100: DS
A101: RC
A102: CR
A103: SC
A105: Offical Mock Test 2 ReAttempt 18 June | B105: Ravi | C105: Scaled Score | D105: Percentile | E105: Lovely | F105: Scaled Score | G105: Percentile | H105: Ravi | I105: Wrong Questions | J105: Total Questions | K105: Lovely | L105: Wrong Questions | M105: Total Questions
B106: IR | C106: 3 | D106: 0 | E106: IR | H106: RC | I106: 1 | K106: RC | L106: 1 | M106: 13
B107: Verbal | C107: 44 | E107: Verbal | F107: 46 | H107: CR | I107: 1 | K107: CR | L107: 2 | M107: 9
B108: Quant | C108: 50 | E108: Quant | F108: 51 | H108: SC | I108: 3 | K108: SC | L108: 1 | M108: 14
B109: Total | C109: 770 | E109: Total | F109: 780 | H109: PS | I109: 1 | J109: 18 | K109: PS | L109: 1 | M109: 18
...

Sheet Weekly Planner
A1: OG 2020 | B1: PS | C1: DS | D1: RC | E1: CR | F1: SC | G1: Total
A2: Total | B2: 230 | C2: 230 | D2: 149 | E2: 149 | F2: 149 | G2: =SUM(B2:F2) -> 907
A3: Completion | B3: 230 | C3: 230 | D3: 149 | E3: 149 | F3: 149 | G3: =SUM(B3:F3) -> 907
A4: % | B4: =B3/B2 -> 1 | C4: =C3/C2 -> 1 | D4: =D3/D2 -> 1 | E4: =E3/E2 -> 1 | F4: =F3/F2 -> 1 | G4: =G3/G2 -> 1
A5: Status | B5: Excellent | C5: Very Good | D5: Very Good | E5: Excellent | F5: Average
A6: Core Area | B6: Practice | C6: Inequalities | D6: History Passage | E6: Practice | F6: Concept + Practice
C7: Set Theory
C8: Statistics
C9: Geometry
A11: OG 2020 - Advanced | B11: PS | C11: DS | D11: RC | E11: CR | F11: SC | G11: Total | I11: 2nd Edition Verbal | J11: RC | K11: CR | L11: SC | M11: Total
A12: Total | B12: 176 | C12: 143 | D12: 101 | E12: 98 | F12: 113 | G12: =SUM(B12:F12) -> 631 | I12: Total | J12: 104 | K12: 83 | L12: 113 | M12: =SUM(J12:L12) -> 300
A13: Completion | B13: 176 | C13: 143 | D13: 101 | E13: 98 | F13: 113 | G13: =SUM(B13:F13) -> 631 | I13: Completion | J13: 88 | K13: 83 | L13: 113 | M13: =SUM(J13:L13) -> 284
A14: % | B14: =B13/B12 -> 1 | C14: =C13/C12 -> 1 | D14: =D13/D12 -> 1 | E14: =E13/E12 -> 1 | F14: =F13/F12 -> 1 | G14: =G13/G12 -> 1 | I14: % | J14: =J13/J12 -> 0.84615385 | K14: =K13/K12 -> 1 | L14: =L13/L12 -> 1 | M14: =M13/M12 -> 0.94666667
A15: Status | B15: Excellent | C15: Very Good | D15: Average | E15: Excellent | F15: Average | I15: Status | J15: Average | K15: Excellent | L15: Moderate
A16: Core Area | B16: Practice | C16: Inequalities | D16: History Passage; Time | E16: Practice To Reduce Time | F16: Concept + Practice | I16: Core Area | J16: History Passage; Time | K16: Practice To Reduce Time | L16: Concept + Practice
A18: OG 13th Edition | B18: PS | C18: DS | D18: RC | E18: CR | F18: SC | G18: Total | I18: OG 2019 | J18: PS | K18: DS | L18: RC | M18: CR | N18: SC | O18: Total
A19: Total | B19: 230 | C19: 174 | D19: 139 | E19: 124 | F19: 140 | G19: =SUM(B19:F19) -> 807 | I19: Total | J19: 230 | K19: 174 | O19: =SUM(J19:N19) -> 404
A20: Completion | B20: 230 | C20: 174 | D20: 70 | E20: 124 | F20: 140 | G20: =SUM(B20:F20) -> 738 | I20: Completion | J20: 126 | K20: =52+13+13+13 -> 91 | O20: =SUM(J20:N20) -> 217
A21: % | B21: =B20/B19 -> 1 | C21: =C20/C19 -> 1 | D21: =D20/D19 -> 0.50359712 | E21: =E20/E19 -> 1 | F21: =F20/F19 -> 1 | G21: =G20/G19 -> 0.91449814 | I21: % | J21: =J20/J19 -> 0.54782609 | K21: =K20/K19 -> 0.52298851 | O21: =O20/O19 -> 0.53712871
A22: Status | B22: Excellent | C22: Excellent | D22: Excellent | E22: Average | F22: Average | I22: Status | J22: Excellent | K22: Excellent | L22: Excellent | M22: Average | N22: Average
A23: Core Area | B23: Practice | C23: Practice | E23: Practice to keep edge | F23: EGMAT files + error logs | I23: Core Area | J23: Practice | K23: Practice | M23: Practice to keep edge | N23: EGMAT files + error logs
A25: Mon | B25: PS | C25: DS | D25: RC | E25: CR | F25: SC | N25: 674
A26: Tue | B26: PS | C26: DS | D26: RC | E26: CR | F26: SC | N26: 800
A27: Wed | B27: PS | C27: DS | D27: RC | E27: CR | F27: SC
A28: Thu | B28: PS | C28: DS | D28: RC | E28: CR | F28: SC
A29: Fri | B29: PS | C29: DS | D29: RC | E29: CR | F29: SC
A30: Sat | B30: PS | C30: DS | D30: RC | E30: CR | F30: SC

Sheet Practice Set II
A1: 2 July 1 Verbal | B1: Drill I - July 2 | C1: Q | D1: Wrong
B2: SC | C2: 14 | D2: 4
B3: RC | C3: 13 | D3: 2
B4: CR | C4: 9 | D4: 2
D5: =SUM(D2:D4) -> 8
A7: 3 July 1 Verbal | B7: Drill II - July 3 | C7: Q | D7: Wrong
B8: SC | C8: 14 | D8: 3
B9: RC | C9: 13 | D9: 4
B10: CR | C10: 9 | D10: 1
D11: =SUM(D8:D10) -> 8
A13: 4 July 2 Verbal 3 Quant | B13: Drill III - July 4 | C13: Q | D13: Wrong | F13: Drill IV - July 4 | G13: Q | H13: Wrong | J13: Drill I - July 4 | K13: Q | L13: Wrong | N13: Drill II - July 4 | O13: Q | P13: Wrong | R13: Drill III - July 4 | S13: Q | T13: Wrong
B14: SC | C14: 14 | D14: 1 | F14: SC | G14: 14 | H14: 2 | J14: PS | K14: 18 | L14: 0 | N14: PS | O14: 18 | P14: 2 | R14: PS | S14: 18 | T14: 2
B15: RC | C15: 13 | D15: 2 | F15: RC | G15: 13 | H15: 2 | J15: DS | K15: 13 | L15: 0 | N15: DS | O15: 13 | P15: 0 | R15: DS | S15: 13 | T15: 0
B16: CR | C16: 9 | D16: 2 | F16: CR | G16: 9 | H16: 0
D17: =SUM(D14:D16) -> 5 | H17: =SUM(H14:H16) -> 4
A19: 5 July 1 Verbal 1 Quant | B19: Drill V - July 5 | C19: Q | D19: Wrong | F19: Drill VII - July 5 | G19: Q | H19: Wrong | J19: Drill IV - July 5 | K19: Q | L19: Wrong | N19: Drill V - July 5 | O19: Q | P19: Wrong
B20: SC | C20: 14 | D20: 4 | F20: SC | G20: 14 | H20: 4 | J20: PS | K20: 18 | L20: 1 | N20: PS | O20: 18 | P20: 0
B21: RC | C21: 13 | D21: 1 | F21: RC | G21: 13 | H21: 2 | J21: DS | K21: 13 | L21: 1 | N21: DS | O21: 13 | P21: 0
B22: CR | C22: 9 | D22: 0 | F22: CR | G22: 9 | H22: 0
D23: =SUM(D20:D22) -> 5 | H23: =SUM(H20:H22) -> 6
A25: 6 July 1 Verbal 1 Quant | B25: Drill VI - July 6 | C25: Q | D25: Wrong | F25: Drill VI - July 6 | G25: Q | H25: Wrong | J25: Drill VII - July 6 | K25: Q | L25: Wrong
B26: SC | C26: 8 | D26: 3 | F26: PS | G26: 18 | H26: 1 | J26: PS | K26: 8 | L26: 0
B27: RC | C27: 4 | D27: 1 | F27: DS | G27: 13 | H27: 0 | J27: DS | K27: =43-8 -> 35 | L27: 4
B28: CR | C28: 24 | D28: 1
D29: =D26+D28+D27 -> 5

Sheet SC Error Log
A1: Sr No | B1: Time | C1: Answer | D1: OG 2020 | E1: Result | J1: Singular Plural | K1: =COUNTIF(($F$2:$G$84),J1) -> 0 | L1: =COUNTIF(($F$89:$G$209),J1) -> 1 | M1: =L1+K1 -> 1 | N1: 1.6 | O1: 1 | P1: 2
A2: 828 | B2: 1.8 min per Question | C2: e | D2: e | E2: 1 | J2: Meaning | K2: =COUNTIF(($F$2:$G$84),J2) -> 2 | L2: =COUNTIF(($F$89:$G$209),J2) -> 12 | M2: =L2+K2 -> 14 | N2: 3.2 | O2: 13 | P2: 15
A3: 829 | C3: e | D3: c | E3: 0 | F3: Parallalism | G3: Idioms | H3: Not Only But Also | J3: Subject Verb | K3: =COUNTIF(($F$2:$F$84),J3) -> 4 | L3: =COUNTIF(($F$89:$G$209),J3) -> 2 | M3: =L3+K3 -> 6 | N3: 6.4 | O3: 2 | P3: 6
A4: 830 | C4: a | D4: a | E4: 1 | J4: Modifiers | K4: =COUNTIF(($F$2:$F$84),J4) -> 0 | L4: =COUNTIF(($F$89:$G$209),J4) -> 5 | M4: =L4+K4 -> 5 | N4: 0 | O4: 5 | P4: 5
A5: 831 | C5: c | D5: a | E5: 0 | F5: Meaning | H5: What is the sentense trying to convey to us | J5: Parallalism | K5: =COUNTIF(($F$2:$F$84),J5) -> 3 | L5: =COUNTIF(($F$89:$G$209),J5) -> 5 | M5: =L5+K5 -> 8 | N5: 4.8 | O5: 5 | P5: 8
A6: 832 | C6: c | D6: c | E6: 1 | J6: Pronouns | K6: =COUNTIF(($F$2:$F$84),J6) -> 4 | L6: =COUNTIF(($F$89:$G$209),J6) -> 4 | M6: =L6+K6 -> 8 | N6: 4.8 | O6: 4 | P6: 7
A7: 833 | C7: c | D7: c | E7: 1 | H7: C is better than D because D has nonsense meaning | J7: Tense | K7: =COUNTIF(($F$2:$F$84),J7) -> 0 | L7: =COUNTIF(($F$89:$G$209),J7) -> 1 | M7: =L7+K7 -> 1 | N7: 0 | O7: 1 | P7: 1
A8: 834 | C8: b | D8: b | E8: 1 | J8: Comparisons | K8: =COUNTIF(($F$2:$F$84),J8) -> 5 | L8: =COUNTIF(($F$89:$G$209),J8) -> 3 | M8: =L8+K8 -> 8 | N8: 9.6 | O8: 3 | P8: 9
A9: 835 | C9: e | D9: e | E9: 1 | J9: Idioms | K9: =COUNTIF(($F$2:$F$84),J9) -> 0 | L9: =COUNTIF(($F$89:$G$209),J9) -> 4 | M9: =L9+K9 -> 4 | N9: 0 | O9: 3 | P9: 3
A10: 836 | C10: e | D10: e | E10: 1 | H10: Use between for 2 subject and among for more | J10: Sentence Structure | K10: =COUNTIF(($F$2:$F$84),J10) -> 0 | L10: =COUNTIF(($F$89:$G$209),J10) -> 0 | M10: =L10+K10 -> 0 | N10: 0 | O10: 0 | P10: 0
A11: 837 | C11: a | D11: a | E11: 1 | J11: Redundancy | K11: =COUNTIF(($F$2:$F$84),J11) -> 0 | L11: =COUNTIF(($F$89:$G$209),J11) -> 2 | M11: =L11+K11 -> 2 | N11: 0 | O11: 2 | P11: 2
E12: =8/10 -> 0.8
A14: 838 | B14: 2.5 min per Question | C14: b | D14: b | E14: 1 | H14: Author intends to make a general statement and hence use Can not Could
A15: 839 | C15: a | D15: a | E15: 1
A16: 840 | C16: e | D16: e | E16: 1 | H16: need to reduce dissatisfaction and not guest
A17: 841 | C17: b | D17: b | E17: 1 | H17: the word hamper applies to distinguish and to make ; Idioms Ability to
A18: 842 | C18: a | D18: a | E18: 1 | H18: Meaning
A19: 843 | C19: e | D19: a | E19: 0 | F19: Parallalism | G19: Tense | H19: I changed the tense from present progressive to simple present violating tense and parallalism both. Use of themselves is not meaninful
A20: 844 | C20: e | D20: e | E20: 1
E21: =6/7 -> 0.85714286
A23: 845 | B23: =B14 -> 2.5 min per Question | C23: c | D23: c | E23: 1
A24: 846 | C24: e | D24: e | E24: 1 | H24: comparision idiom, x is to y what a is to b
A25: 847 | C25: a | D25: a | E25: 1
A26: 848 | C26: a | D26: a | E26: 1
A27: 849 | C27: e | D27: d | E27: 0 | F27: Pronouns | G27: Comparisons | H27: Eliminate Due To options and then we are left with option d using subject verb agreement "Struggles" <-> "Limits
A28: 850 | C28: c | D28: b | E28: 0 | F28: Subject Verb | G28: Modifiers | H28: as sentense talks about population, we should not talk about number. Secondly however needs to be used immediately after the subject it wants to modify
A29: 851 | C29: b | D29: b | E29: 1 | H29: Clearly understood what is parallel to what
E30: =5/7 -> 0.71428571
A32: 852 | B32: 2.8 min per Question | C32: a | D32: b | E32: 0 | F32: Subject Verb | G32: Modifiers | H32: comparison: as needs to be followed by prepostional phrase not noun
A33: 853 | C33: a | D33: a | E33: 1 | G33: Parallalism
A34: 854 | C34: b | D34: e | E34: 0 | F34: Subject Verb | H34: My selection can be eliminated by S-V
A35: 855 | C35: a | D35: a | E35: 1
A36: 856 | C36: c | D36: b | E36: 0 | F36: Comparisons | H36: As can be used to show role only if Nendethals = equipped. Also Idiom To Face is used instead of For Facing to show clear intentio
A37: 857 | C37: c | D37: c | E37: 1 | H37: And is the marker
A38: 858 | C38: b | D38: b | E38: 1
A39: 859 | C39: d | D39: d | E39: 1 | H39: Pronoun Antecedent
A40: 860 | C40: c | D40: c | E40: 1 | H40: Not A but B
A41: 861 | C41: c | D41: c | E41: 1
E42: =7/10 -> 0.7
A44: 862 | B44: 3.4 min per question | C44: a | D44: a | E44: 1
A45: 863 | C45: b | D45: b | E45: 1
A46: 864 | C46: d | D46: d | E46: 1
A47: 865 | C47: b | D47: b | E47: 1
A48: 866 | C48: b | D48: b | E48: 1 | H48: Not just X but Y
A49: 867 | C49: e | D49: e | E49: 1
A50: 868 | C50: b | D50: d | E50: 0 | F50: Meaning | H50: Only 1 point is made, so don’t use both | J50: Review this
A51: 869 | C51: a | D51: a | E51: 1
A52: 870 | C52: a | D52: a | E52: 1
A53: 871 | C53: e | D53: e | E53: 1
E54: =9/10 -> 0.9
A56: 872 | B56: 3.2min | C56: c | D56: a | E56: 0 | F56: Comparisons | H56: in comparisions, you don’t need exact parallel clauses after than
A57: 873 | C57: e | D57: a | E57: 0 | F57: Comparisons | H57: Contrast gets distorted
A58: 874 | C58: e | D58: e | E58: 1
A59: 875 | C59: c | D59: b | E59: 0 | F59: Comparisons | H59: In comparision with A more than B, b should not be ditto parallel to A but just enough to convey meaning
A60: 876 | C60: a | D60: b | E60: 0 | F60: pronouns | H60: They refers to what ??? Distorts Means if it refers to WASPS
A61: 877 | C61: a | D61: a | E61: 1
A62: 878 | C62: c | D62: c | E62: 1
A63: 879 | C63: d | D63: b | E63: 0 | F63: Pronouns
A64: 880 | C64: d | D64: e | E64: 0 | F64: Comparisons | G64: Modifiers
A65: 881 | C65: e | D65: e | E65: 1
E66: =4/10 -> 0.4
A68: 882 | B68: 3.2 min | C68: e | D68: c | E68: 0 | F68: Parallalism | H68: to try to relieve ; avoid possesive ; -ing is not a verb but a noun | J68: https://www.youtube.com/watch?v=Dsa-RaX765o
A69: 883 | C69: e | D69: a | E69: 0 | F69: Pronouns | G69: Comparisons | H69: Contrast needs but, it is not defined in option B
A70: 884 | C70: c | D70: c | E70: 1
A71: 885 | C71: c | D71: c | E71: 1
A72: 886 | C72: c | D72: b | E72: 0 | F72: Subject Verb | H72: in C no verb so B is best option
E73: =2/3 -> 0.66666667
A75: 759 | B75: 1.6 min | C75: a | D75: a | E75: 1
A76: 760 | C76: d | D76: d | E76: 1
A77: 761 | C77: b | D77: b | E77: 1
A78: 762 | C78: b | D78: b | E78: 1
A79: 763 | C79: d | D79: d | E79: 1
A80: 764 | C80: c | D80: c | E80: 1
A81: 765 | C81: d | D81: d | E81: 1
A82: 766 | C82: d | D82: d | E82: 1
A83: 767 | C83: d | D83: d | E83: 1
A84: 768 | C84: b | D84: b | E84: 1
E85: =10/10 -> 1
A86: OG 2020 VERBAL REVIEW
A89: 200 | B89: 1.5 MIN | C89: C | D89: C | E89: 1
A90: 201 | C90: A | D90: A | E90: 1
A91: 202 | C91: C | D91: C | E91: 1
A92: 203 | C92: E | D92: E | E92: 1
A93: 204 | C93: D | D93: E | E93: 0 | H93: Silly Mistake in Selecting Option
A94: 205 | C94: E | D94: E | E94: 1
A95: 206 | C95: C | D95: C | E95: 1
A96: 207 | C96: D | D96: D | E96: 1
A97: 208 | C97: E | D97: E | E97: 1
A98: 209 | C98: D | D98: D | E98: 1
E99: =9/10 -> 0.9
A100: 210 | B100: 2.1 min | C100: D | D100: B | E100: 0 | F100: Meaning | H100: Punching the answer D makes meaning awakard, hence B
A101: 211 | C101: E | D101: =C101 -> E | E101: 1
A102: 212 | C102: C | D102: =C102 -> C | E102: 1
A103: 213 | C103: E | D103: =C103 -> E | E103: 1
A104: 214 | C104: C | D104: =C104 -> C | E104: 1
A105: 215 | C105: A | D105: B | E105: 0 | F105: Pronouns | H105: Their can not refer to federal govt. Also use of As is justified since role : As+ Noun
A106: 216 | C106: B | D106: A | E106: 0 | F106: Meaning | H106: Reag OG explanation. I made a mistake because I never undeerstood the meaning of the sentence
A107: 217 | C107: C | D107: =C107 -> C | E107: 1
A108: 218 | C108: E | D108: =C108 -> E | E108: 1
A109: 219 | C109: E | D109: =C109 -> E | E109: 1
...

Sheet RC Error Log
A1: OG 2020
A4: Sr No | B4: Time | C4: Answer | D4: OG 2020 | E4: Result | I4: Singular Plural
A5: 510 | B5: 2.5 min | C5: b | D5: b | E5: 1 | I5: Main Idea
A6: 511 | C6: c | D6: c | E6: 1 | I6: Inference
A7: 512 | C7: c | D7: c | E7: 1 | I7: Application
A8: 513 | C8: a | D8: a | E8: 1 | I8: Evaluation
A9: 514 | C9: d | D9: d | E9: 1 | I9: Supporting Idea
D10: =5/5 -> 1 | H10: Tense
A12: 515 | B12: 2.3 min | C12: d | D12: d | E12: 1
A13: 516 | C13: a | D13: c | E13: 0 | F13: Inference | G13: Very good question
A14: 517 | C14: c | D14: e | E14: 0 | F14: Application | G14: Very good question
A15: 518 | C15: a | D15: a | E15: 1
A16: 519 | C16: c | D16: c | E16: 1
D17: =3/5 -> 0.6
A19: 520 | B19: 2 min | C19: d | D19: d | E19: 1
A20: 521 | C20: e | D20: e | E20: 1
A21: 522 | C21: d | D21: a | E21: 0 | F21: Application | G21: Reflecting was meant to say it is not original
A22: 523 | C22: b | D22: b | E22: 1
A23: 524 | C23: c | D23: c | E23: 1
D24: =4/5 -> 0.8
A26: 525 | B26: 5.1 min | C26: c | D26: c | E26: 1
A27: 526 | C27: b | D27: b | E27: 1
A28: 527 | C28: e | D28: e | E28: 1
D29: 1
A31: Sr No | B31: Time | C31: Answer | D31: OG 2020 | E31: Result
A32: 528 | B32: 2.4 min | C32: c | D32: c | E32: 1
A33: 529 | C33: e | D33: e | E33: 1
A34: 530 | C34: a | D34: a | E34: 1
A35: 531 | C35: d | D35: d | E35: 1
A36: 532 | C36: a | D36: a | E36: 1
D37: =5/5 -> 1
A39: Sr No | B39: Time | C39: Answer | D39: OG 2020 | E39: Result
A40: 533 | B40: 2.1 min | C40: c | D40: c | E40: 1
A41: 534 | C41: c | D41: a | E41: 0 | F41: Inference | G41: Read Options properly, remember to understand the bigger picture of passage
A42: 535 | C42: b | D42: b | E42: 1
A43: 536 | C43: d | D43: d | E43: 1
A44: 537 | C44: e | D44: e | E44: 1
A45: 538 | C45: c | D45: c | E45: 1
D46: =5/6 -> 0.83333333
A48: Sr No | B48: Time | C48: Answer | D48: OG 2020 | E48: Result
A49: 539 | B49: 3.25 min | C49: a | D49: a | E49: 1
A50: 540 | C50: e | D50: e | E50: 1
A51: 541 | C51: a | D51: a | E51: 1
A52: 542 | C52: d | D52: d | E52: 1
D53: =4/4 -> 1
A55: Sr No | B55: Time | C55: Answer | D55: OG 2020 | E55: Result
A56: 543 | B56: 3 min | C56: d | D56: d | E56: 1
A57: 544 | C57: d | D57: d | E57: 1
A58: 545 | C58: b | D58: b | E58: 1
D59: =3/3 -> 1
A61: Sr No | B61: Time | C61: Answer | D61: OG 2020 | E61: Result
A62: 546 | B62: =12.5/4 -> 3.125 | C62: b | D62: b | E62: 1
A63: 547 | C63: c | D63: c | E63: 1
A64: 548 | C64: c | D64: c | E64: 1
A65: 549 | C65: e | D65: e | E65: 1
D66: =4/4 -> 1
A68: Sr No | B68: Time | C68: Answer | D68: OG 2020 | E68: Result
A69: 550 | B69: 2 min | C69: d | D69: d | E69: 1
A70: 551 | C70: e | D70: e | E70: 1
A71: 552 | C71: b | D71: b | E71: 1
A72: 553 | C72: d | D72: d | E72: 1
A73: 554 | C73: c | D73: c | E73: 1
A74: 555 | C74: c | D74: c | E74: 1
D75: =6/6 -> 1
A77: Sr No | B77: Time | C77: Answer | D77: OG 2020 | E77: Result
A78: 556 | B78: 3.3 min | C78: e | D78: e | E78: 1
A79: 557 | C79: a | D79: a | E79: 1
A80: 558 | C80: e | D80: b | E80: 0 | F80: Main Idea | G80: Read Answer Explanation. Analysis is only when discussed in detailed and not just listed. Contrasting makes more sense
D81: =2/3 -> 0.66666667
A83: Sr No | B83: Time | C83: Answer | D83: OG 2020 | E83: Result
A84: 559 | B84: 3 min | C84: c | D84: d | E84: 0 | F84: Evaluation | G84: Very difficult to interpret, discuss with Lovely
A85: 560 | C85: e | D85: e | E85: 1
A86: 561 | C86: e | D86: e | E86: 1
A87: 562 | C87: d | D87: d | E87: 1
A88: 563 | C88: d | D88: b | E88: 0 | F88: Main Idea | G88: To answer this, Meaning of Passage must be clear, discuss with Lovely how to reduce time
A89: 564 | C89: c | D89: c | E89: 1
D90: =4/6 -> 0.66666667
A91: Sr No | B91: Time | C91: Answer | D91: OG 2020 | E91: Result
A92: 565 | B92: 2.7 min | C92: c | D92: d | E92: 0 | F92: Main Idea
A93: 566 | C93: a | D93: a | E93: 1
A94: 567 | C94: e | D94: c | E94: 0 | F94: inference
A95: 568 | C95: d | D95: d | E95: 1
A96: 569 | C96: a | D96: a | E96: 1
A97: 570 | C97: e | D97: a | E97: 0 | F97: Main Idea | G97: Wrong option Selected bcos meaning of word Allay is not clear
A98: 571 | C98: d | D98: d | E98: 1
A99: 572 | C99: c | D99: e | E99: 0 | F99: Inference
A100: 573 | C100: d | D100: d | E100: 1
A101: 574 | C101: b | D101: b | E101: 1
A102: 575 | C102: c | D102: c | E102: 1
D103: =7/11 -> 0.63636364
A104: Sr No | B104: Time | C104: Answer | D104: OG 2020 | E104: Result
A105: 576 | B105: 13 MIN / 8 MIN | C105: E | D105: A | E105: 0 | F105: Supporting Idea
A106: 577 | C106: D | D106: C | E106: 0 | F106: Application
A107: 578 | C107: B | D107: B | E107: 1
A108: 579 | C108: D | D108: D | E108: 1
D109: =2/4 -> 0.5
A110: Sr No | B110: Time | C110: Answer | D110: OG 2020 | E110: Result
A111: 580 | B111: 10 MIN / 6 MIN | C111: D | D111: D | E111: 1
A112: 581 | C112: E | D112: E | E112: 1
A113: 582 | C113: B | D113: B | E113: 1
...

Sheet CR Error Log
A1: Sr No | B1: Time | C1: Answer | D1: OG 2020 | E1: Result | J1: Evaluation
A2: 696 | B2: 2.4 min | C2: c | D2: c | E2: 1 | J2: Argument Evaluation
A3: 697 | C3: e | D3: e | E3: 1 | J3: Inference
A4: 698 | C4: c | D4: c | E4: 1 | J4: Application
A5: 699 | C5: d | D5: d | E5: 1 | J5: STRENGTHEN
A6: 700 | C6: e | D6: e | E6: 1 | J6: BOLDFACE
A7: 701 | C7: a | D7: a | E7: 1
A8: 702 | C8: e | D8: a | E8: 0 | H8: good question
A9: 703 | C9: e | D9: e | E9: 1
A10: 704 | C10: c | D10: e | E10: 0 | H10: Artifacts are already found
D11: =7/9 -> 0.77777778
A13: Sr No | B13: Time | C13: Answer | D13: OG 2020 | E13: Result
A14: 705 | B14: 2.7 min | C14: c | D14: c | E14: 1
A15: 706 | C15: c | D15: c | E15: 1
A16: 707 | C16: d | D16: d | E16: 1
A17: 708 | C17: d | D17: d | E17: 1
A18: 709 | C18: d | D18: d | E18: 1
A19: 710 | C19: a | D19: a | E19: 1
A20: 711 | C20: a | D20: a | E20: 1
A21: 712 | C21: d | D21: d | E21: 1
A22: 713 | C22: a | D22: a | E22: 1
D23: 1
A25: Sr No | B25: Time | C25: Answer | D25: OG 2020 | E25: Result
A26: 714 | B26: 2.3 min | C26: e | D26: e | E26: 1
A27: 715 | C27: e | D27: e | E27: 1
A28: 716 | C28: a | D28: a | E28: 1
A29: 717 | C29: d | D29: d | E29: 1
A30: 718 | C30: e | D30: e | E30: 1
A31: 719 | C31: e | D31: e | E31: 1
A32: 720 | C32: e | D32: e | E32: 1
A33: 721 | C33: b | D33: b | E33: 1
A34: 722 | C34: e | D34: e | E34: 1
D35: 1
A37: Sr No | B37: Time | C37: Answer | D37: OG 2020 | E37: Result
A38: 723 | B38: 2.6 min | C38: d | D38: d | E38: 1
A39: 724 | C39: b | D39: d | E39: 0
A40: 725 | C40: b | D40: b | E40: 1
A41: 726 | C41: a | D41: a | E41: 1
A42: 727 | C42: d | D42: d | E42: 1
A43: 728 | C43: c | D43: c | E43: 1
A44: 729 | C44: b | D44: b | E44: 1
A45: 730 | C45: d | D45: d | E45: 1
A46: 731 | C46: d | D46: d | E46: 1
D47: =9/10 -> 0.9
A49: Sr No | B49: Time | C49: Answer | D49: OG 2020 | E49: Result
A50: 732 | B50: 3 | C50: a | D50: a | E50: 1
A51: 733 | C51: c | D51: c | E51: 1
A52: 734 | C52: e | D52: c | E52: 0
A53: 735 | C53: d | D53: b | E53: 0
A54: 736 | C54: e | D54: e | E54: 1
A55: 737 | C55: d | D55: d | E55: 1
A56: 738 | C56: d | D56: a | E56: 0 | H56: Read Theory
A57: 739 | C57: e | D57: c | E57: 0
A58: 740 | C58: a | D58: b | E58: 1
D59: =5/9 -> 0.55555556
A61: Sr No | B61: Time | C61: Answer | D61: OG 2020 | E61: Result
A62: 741 | C62: a | D62: a | E62: 1
A63: 742 | C63: e | D63: b | E63: 0
A64: 743 | C64: b | D64: b | E64: 1
A65: 744 | C65: d | D65: d | E65: 1
A66: 745 | C66: b | D66: b | E66: 1
A67: 746 | C67: d | D67: d | E67: 1
A68: 747 | C68: c | D68: c | E68: 1
A69: 748 | C69: c | D69: c | E69: 1
A70: 749 | C70: d | D70: d | E70: 1
D71: =8/9 -> 0.88888889
A72: 2020 VERBAL REVIEW
A75: Sr No | B75: Time | C75: Answer | D75: OG 2020 | E75: Result
A76: 102 | B76: 1.88 min | C76: C | D76: C | E76: 1
A77: 103 | C77: B | D77: B | E77: 1
A78: 104 | C78: B | D78: B | E78: 1
A79: 105 | C79: A | D79: A | E79: 1
A80: 106 | C80: C | D80: C | E80: 1
A81: 107 | C81: D | D81: D | E81: 1
A82: 108 | C82: B | D82: B | E82: 1
A83: 109 | C83: B | D83: B | E83: 1
A84: 110 | C84: E | D84: A | E84: 0 | F84: Argument | H84: I had doubt in E, I should have spent little more time to get the correct answer
D85: =8/90 -> 0.088888889
A86: Sr No | B86: Time | C86: Answer | D86: OG 2020 | E86: Result
A87: 111 | B87: 1.86 MIN | C87: C | D87: C | E87: 1
A88: 112 | C88: D | D88: D | E88: 1
A89: 113 | C89: E | D89: E | E89: 1
A90: 114 | C90: A | D90: A | E90: 1
A91: 115 | C91: C | D91: C | E91: 1
A92: 116 | C92: A | D92: A | E92: 1
A93: 117 | C93: B | D93: B | E93: 1
A94: 118 | C94: A | D94: A | E94: 1
A95: 119 | C95: D | D95: D | E95: 1
D96: 1
A97: Sr No | B97: Time | C97: Answer | D97: OG 2020 | E97: Result
A98: 120 | B98: 1.8 Min | C98: A | D98: A | E98: 1
A99: 121 | C99: C | D99: C | E99: 1
A100: 122 | C100: E | D100: E | E100: 1
A101: 123 | C101: C | D101: C | E101: 1
A102: 124 | C102: B | D102: B | E102: 1
A103: 125 | C103: A | D103: A | E103: 1
A104: 126 | C104: A | D104: A | E104: 1
A105: 127 | C105: D | D105: D | E105: 1
A106: 128 | C106: B | D106: B | E106: 1
D107: =9/9 -> 1
...

Sheet Quant Error Log
A1: Problem Solving OG 2020 | F1: REVISION | H1: Data Sufficiency OG 2020 | M1: REVISION
A3: Sr No | B3: Time | C3: Answer | D3: OG 2020 | E3: Comments | H3: Sr No | I3: Time | J3: Answer | K3: OG 2020 | L3: Comments
A4: 144 | B4: 1.7 min | C4: c | D4: a | E4: Silly Mistake - Read Question Properly | H4: 338 | I4: 1.8 min | J4: c | K4: e | L4: Concept of Statistics in DS
A5: 146 | B5: 1.8 min | C5: b | D5: e | E5: Silly Mistake - Read Question Properly | H5: 339 | I5: 1.8 min | J5: e | K5: b | L5: Concept of Statistics in DS
A6: 157 | B6: 1.8 min | C6: b | D6: a | E6: Don’t understand the solution | H6: 350 | I6: 1.8 min | J6: b | K6: c | L6: Wrong Option Selected
A7: 163 | B7: 2 min | C7: a | D7: d | E7: Think of this as compound Interest Problem | H7: 352 | I7: 2.4 min | J7: b | K7: c | L7: Wrong Option Selected
A8: 190 | B8: 1.8 min | C8: b | D8: a | E8: Silly Mistake - Read Question Properly | H8: 365 | I8: 2.4 min | J8: c | K8: e | L8: I applied substitute approach but missed trying 0
A9: 210 | B9: 2.3 min | C9: e | D9: d | E9: I TOOK 0.8 INSTEAD IT SHOULD BE 1.2 | F9: I TOOK 0.8 INSTEAD IT SHOULD BE 1.2 | H9: 366 | I9: 3.1 min | J9: c | K9: d | L9: Wrong Option Selected
A10: 211 | B10: 6 | C10: d | D10: d | E10: Solved but too time to get to the concept | H10: 368 | J10: c | K10: a | L10: Solvable question
A11: 214 | B11: 3.24 | C11: e | D11: d | E11: Error bcos rough work was not clear - I know the approach :) | H11: 369 | J11: a | K11: d | L11: 180 (n-2), angle at center is half to that of center, permiter of polygon is smaller than circle
A12: 215 | B12: 3.24 | C12: d | D12: e | E12: I guessed, be patient, make decimals as power of 10 and solvable | H12: 374 | J12: c | K12: d | L12: Good question - Number Theory
A13: 228 | B13: 1.9 | C13: e | D13: d | E13: INFINITY WILL NOT BE A SOLUTION HERE | F13: INFINITY WILL NOT BE A SOLUTION HERE | H13: 377 | I13: 2.0 min | J13: c | K13: a | L13: Statistics | M13: Statistics
A14: 229 | B14: 1.9 | C14: c | D14: d | E14: Silly Mistake - Read Question Properly | H14: 380 | J14: e | K14: d | L14: Number Theory
H15: 383 | J15: e | K15: d | L15: Wrong Option Selected
H16: 385 | J16: e | K16: c | L16: Good Question - Time Consuming - Can be skipped in Exam
H17: 388 | J17: e | K17: c | L17: Easy Question - Solve clearly by writing equation
H18: 399 | I18: 2.6 min | J18: a | K18: d | L18: Good Geometry Question - Did not use what was given in text
H19: 400 | J19: b | K19: a | L19: Number Theory - Good Question
H20: 418 | I20: 2.6 min | J20: e | K20: c | L20: Set Theory Question
H21: 423 | J21: e | K21: a | L21: Geometry - Need to seee that 2nd solution of K= 21 was not possible since length is less than 15.
H22: 424 | J22: b | K22: d | L22: Silly Mistake - Read Question Properly
H23: 426 | J23: e | K23: a | L23: Silly Mistake - Read Question Properly
H24: 431 | I24: 2.6 min | J24: c | K24: b | L24: Very Good Statistics Question for DS
H25: 438 | I25: 3.4 min | J25: c | K25: a | L25: Geometry - slope can be defined by intercept - defination of intercept includes sign
H26: 440 | J26: e | K26: a | L26: Geometry - better vizualization required
H27: 447 | J27: c | K27: a | L27: Inequalities - solve with nodal points
A30: Problem Solving MATHS REVIEW 2020 | F30: REVISION | H30: Data Sufficiency MATHS REVIEW 2020 | M30: REVISION
A32: Sr No | B32: Time | C32: Answer | D32: OG 2020 | E32: Comments | H32: Sr No | I32: Time | J32: Answer | K32: OG 2020 | L32: Comments
A33: 2 | B33: 1 | C33: C | D33: D | E33: Silly Mistake - Read Question Properly | H33: 177 | I33: 1.5 min | J33: A | K33: D | L33: SILLY MISTAKE
A34: 83 | B34: 4 | C34: C | D34: E | E34: Advanced Set Theory | H34: 186 | J34: B | K34: D | L34: Wrong Option Selected
A35: 93 | B35: 2 | C35: E | D35: B | E35: Silly Mistake | H35: 187 | J35: D | K35: C | L35: Wrong Option Selected
A36: 95 | B36: 2 | C36: D | D36: B | E36: Silly Mistake - Read Question Properly | H36: 194 | I36: 1.9 min | J36: C | K36: E | L36: SILLY MISTAKE
A37: 106 | E37: Silly Mistake - Read Question Properly | H37: 197 | J37: C | K37: D | L37: SILLY MISTAKE - Read Question Properly
A38: 107 | E38: Silly Mistake - Read Question Properly | H38: 206 | I38: 1.5 min | J38: E | K38: D | L38: Wrong Option Selected
A39: 114 | E39: Silly Mistake - Read Question Properly | H39: 207 | J39: E | K39: C | L39: SILLY MISTAKE - Read Question Properly
A40: 118 | E40: Silly Mistake - Read Question Properly | H40: 222 | I40: 2 MIN | J40: D | K40: C | L40: Geometry - better vizualization required
A41: 120 | E41: Approx. Calc Question | H41: 226 | J41: B | K41: E | L41: SILLY MISTAKE - Read Question Properly
A42: 131 | E42: Approx. Calc Question | H42: 231 | I42: 2 MIN | J42: D | K42: D | L42: 0 IS NOT A POSITIVE INTEGER
A43: 141 | E43: % problem | H43: 265 | I43: 2 | L43: No Time to solve
A44: 153 | E44: % problem | H44: 266 | L44: Good Question - Number Theory
A45: 156 | C45: a | D45: a | E45: Number - Visualization | H45: 293 | I45: 2 | L45: Wrong Option Selected
A46: 157 | C46: e | D46: d | E46: Permutation & Combination | H46: 299 | J46: c | K46: d | L46: Silly Mistake in Marking option
A47: 163 | C47: b | D47: d | E47: inequalities | F47: Very Good Inequality Question | H47: 300 | J47: b | K47: e | L47: Number Theory
A48: 164 | C48: c | D48: a | E48: geomerty + inequalities very good question | H48: 301 | J48: e | K48: e | L48: Number Theory
A49: 168 | C49: b | D49: a | E49: percentage | H49: 302 | J49: c | K49: e | L49: algebra
A50: 169 | C50: c | D50: b | E50: geometry | H50: 316 | J50: b | K50: c | L50: numbr theory
A51: 170 | C51: c | D51: b | E51: pace up | H51: 318 | J51: c | K51: b | L51: quadratic equation
A52: 171 | C52: c | D52: b | E52: pace up | H52: 319 | J52: c | K52: b | L52: Number Theory
A53: 172 | C53: c | D53: a | E53: pace up
A58: PROBLEM SOLVING OG 13TH EDITION | H58: Data Sufficiency OG 13TH EDITION
A60: Sr No | B60: Time | C60: Answer | D60: OG 2020 | E60: Comments | H60: Sr No | I60: Time | J60: Answer | K60: OG 2020 | L60: Comments
A61: 40 | B61: 1.4 | C61: E | D61: A | E61: NUMBER THEORY | H61: 1 | I61: 1.2 min | J61: c | K61: b | L61: read questionagain before marking option
A62: 136 | E62: read question properly | H62: 3 | I62: 1.2 min | J62: d | K62: a | L62: mistake in reading
A63: 165 | E63: silly mistake | H63: 52 | I63: 1.7 min | J63: e | K63: d | L63: silly mistake in selecting option
A64: 178 | E64: set theory | H64: 84 | I64: 1.8 min | J64: e | K64: c | L64: Satistics - silly mistake
A65: 198 | E65: Percentage / ratio, use substitution if not clicking | H65: 129 | L65: time out
A66: 204 | E66: did not read even | H66: 130 | L66: time out
A67: 205 | E67: mistake in making equation | H67: 131 | J67: b | K67: b
A68: 224 | E68: I get flustered in such questions | H68: 132 | J68: b | K68: a | L68: good question
H69: 138 | J69: c | K69: d | L69: set theory
H70: 140 | J70: c | K70: c | L70: no time
H71: 141 | J71: b | K71: b | L71: silly mistake in selecting option
H72: 143 | J72: d | K72: c | L72: very good
H73: 157 | L73: silly mistake - didn’t understand problem properly
H74: 163 | L74: mistake in writing equation
A76: PROBLEM SOLVING OG 2019 | H76: Data Sufficiency OG 2019
H78: 276 | L78: silly mistake in reading question
H79: 281 | L79: silly mistake in reading question, missed that x and y are positive
H80: 288 | L80: Did not read question properly
H81: 291 | L81: Statistics
H82: 296 | L82: percentage
H83: 297 | L83: geometry
H84: 316 | L84: mis read question

Sheet Verbal Score Analysis
B1: V | C1: RC | D1: CR | E1: SC | F1: Wrong
A2: Official Mock 1 | B2: ='Test Results'!$C$10 -> 38 | C2: ='Test Results'!$I$9 -> 2 | D2: ='Test Results'!$I$10 -> 1 | E2: ='Test Results'!$I$11 -> 9 | F2: =SUM(C2:E2) -> 12
A3: Expert Global | B3: ='Test Results'!$C$23 -> 39 | C3: 6 | D3: 4 | E3: 3 | F3: =SUM(C3:E3) -> 13
A4: Manhattan | B4: 29 | C4: 7 | D4: 4 | E4: 8 | F4: =SUM(C4:E4) -> 19
A5: Official Mock 2 | B5: 40 | C5: 3 | D5: 0 | E5: 6 | F5: =SUM(C5:E5) -> 9
A6: EGMAT | B6: 34 | C6: 5 | D6: 2 | E6: 5 | F6: =SUM(C6:E6) -> 12
A7: Veritas | B7: 34 | C7: 6 | D7: 2 | E7: 6 | F7: =SUM(C7:E7) -> 14
A8: Kaplan | B8: 35 | C8: 6 | D8: 3 | E8: 9 | F8: =SUM(C8:E8) -> 18
A9: Official Mock 3 | B9: 40 | C9: 1 | D9: 1 | E9: 7 | F9: =SUM(C9:E9) -> 9
A10: Official Mock 2 - II | B10: 44 | C10: 1 | D10: 1 | E10: 3 | F10: =SUM(C10:E10) -> 5
A11: Official Mock 4 | B11: 38 | C11: 0 | D11: 4 | E11: 6 | F11: =SUM(C11:E11) -> 10
A12: Official Mock 1 - II | B12: 42 | C12: 1 | D12: 2 | E12: 3 | F12: =SUM(C12:E12) -> 6
A13: Official Mock 5 | B13: 40 | C13: 2 | D13: 2 | E13: 3 | F13: =SUM(C13:E13) -> 7
A14: Official Mock 3 - II | B14: 42 | C14: 1 | D14: 1 | E14: 2 | F14: =SUM(C14:E14) -> 4
A15: Official Mock 4 - II | B15: 42 | C15: 2 | D15: 1 | E15: 3 | F15: =SUM(C15:E15) -> 6
A16: Official Mock 6 - I | B16: 39 | C16: 0 | D16: 3 | E16: 5 | F16: =SUM(C16:E16) -> 8
C22: V | D22: 25 | E22: 26 | F22: 27 | G22: 28 | H22: 29 | I22: 30 | J22: 31 | K22: 32 | L22: 33 | M22: 34 | N22: 35 | O22: 36 | P22: 37 | Q22: 38 | R22: 39 | S22: 40 | T22: 41 | U22: 42 | V22: 43 | W22: 44 | X22: 45 | Y22: 46 | Z22: 47 | AA22: 48 | AB22: 49 | AC22: 50 | AD22: 51
B23: Q | C23: % | D23: 0.36 | E23: 0.41 | F23: 0.43 | G23: 0.48 | H23: 0.54 | I23: 0.56 | J23: 0.59 | K23: 0.64 | L23: 0.67 | M23: 0.69 | N23: 0.74 | O23: 0.79 | P23: 0.81 | Q23: 0.84 | R23: 0.88 | S23: 0.9 | T23: 0.93 | U23: 0.96 | V23: 0.96 | W23: 0.97 | X23: 0.99
B24: 30 | C24: 0.25 | D24: 470 | E24: 480 | F24: 490 | G24: 500 | H24: 500 | I24: 510 | J24: 520 | K24: 530 | L24: 530 | M24: 540 | N24: 550 | O24: 560 | P24: 560 | Q24: 570 | R24: 580 | S24: 580 | T24: 590 | U24: 600 | V24: 610 | W24: 610 | X24: 620 | Y24: 630 | Z24: 640 | AA24: 640 | AB24: 650 | AC24: 660 | AD24: 670
B25: 31 | C25: 0.26 | D25: 480 | E25: 490 | F25: 500 | G25: 500 | H25: 510 | I25: 520 | J25: 530 | K25: 530 | L25: 540 | M25: 550 | N25: 560 | O25: 560 | P25: 570 | Q25: 580 | R25: 580 | S25: 590 | T25: 600 | U25: 610 | V25: 610 | W25: 620 | X25: 630 | Y25: 640 | Z25: 640 | AA25: 650 | AB25: 660 | AC25: 670 | AD25: 670
B26: 32 | C26: 0.3 | D26: 490 | E26: 500 | F26: 500 | G26: 510 | H26: 520 | I26: 530 | J26: 530 | K26: 540 | L26: 550 | M26: 560 | N26: 560 | O26: 570 | P26: 580 | Q26: 580 | R26: 590 | S26: 600 | T26: 610 | U26: 610 | V26: 620 | W26: 630 | X26: 640 | Y26: 640 | Z26: 650 | AA26: 660 | AB26: 670 | AC26: 670 | AD26: 680
B27: 33 | C27: 0.33 | D27: 500 | E27: 500 | F27: 510 | G27: 520 | H27: 530 | I27: 530 | J27: 540 | K27: 550 | L27: 560 | M27: 560 | N27: 570 | O27: 580 | P27: 580 | Q27: 590 | R27: 600 | S27: 610 | T27: 610 | U27: 620 | V27: 630 | W27: 640 | X27: 640 | Y27: 650 | Z27: 660 | AA27: 670 | AB27: 670 | AC27: 680 | AD27: 690
B28: 34 | C28: 0.35 | D28: 500 | E28: 510 | F28: 520 | G28: 530 | H28: 530 | I28: 540 | J28: 550 | K28: 560 | L28: 560 | M28: 570 | N28: 580 | O28: 580 | P28: 590 | Q28: 600 | R28: 610 | S28: 610 | T28: 620 | U28: 630 | V28: 640 | W28: 640 | X28: 650 | Y28: 660 | Z28: 670 | AA28: 670 | AB28: 680 | AC28: 690 | AD28: 690
B29: 35 | C29: 0.36 | D29: 510 | E29: 520 | F29: 530 | G29: 530 | H29: 540 | I29: 550 | J29: 560 | K29: 560 | L29: 570 | M29: 580 | N29: 580 | O29: 590 | P29: 600 | Q29: 610 | R29: 610 | S29: 620 | T29: 630 | U29: 640 | V29: 640 | W29: 650 | X29: 660 | Y29: 670 | Z29: 670 | AA29: 680 | AB29: 690 | AC29: 690 | AD29: 700
B30: 36 | C30: 0.4 | D30: 520 | E30: 530 | F30: 530 | G30: 540 | H30: 550 | I30: 560 | J30: 560 | K30: 570 | L30: 580 | M30: 580 | N30: 590 | O30: 600 | P30: 610 | Q30: 610 | R30: 620 | S30: 630 | T30: 640 | U30: 640 | V30: 650 | W30: 660 | X30: 670 | Y30: 670 | Z30: 680 | AA30: 690 | AB30: 690 | AC30: 700 | AD30: 710
B31: 37 | C31: 0.44 | D31: 530 | E31: 530 | F31: 540 | G31: 550 | H31: 560 | I31: 560 | J31: 570 | K31: 580 | L31: 580 | M31: 590 | N31: 600 | O31: 610 | P31: 610 | Q31: 620 | R31: 630 | S31: 640 | T31: 640 | U31: 650 | V31: 660 | W31: 670 | X31: 670 | Y31: 680 | Z31: 690 | AA31: 690 | AB31: 700 | AC31: 710 | AD31: 720
B32: 38 | C32: 0.46 | D32: 530 | E32: 540 | F32: 550 | G32: 560 | H32: 560 | I32: 570 | J32: 580 | K32: 580 | L32: 590 | M32: 600 | N32: 610 | O32: 610 | P32: 620 | Q32: 630 | R32: 640 | S32: 640 | T32: 650 | U32: 660 | V32: 670 | W32: 670 | X32: 680 | Y32: 690 | Z32: 690 | AA32: 700 | AB32: 710 | AC32: 720 | AD32: 720
B33: 39 | C33: 0.48 | D33: 540 | E33: 550 | F33: 560 | G33: 560 | H33: 570 | I33: 580 | J33: 580 | K33: 590 | L33: 600 | M33: 610 | N33: 610 | O33: 620 | P33: 630 | Q33: 640 | R33: 640 | S33: 650 | T33: 660 | U33: 670 | V33: 670 | W33: 680 | X33: 690 | Y33: 690 | Z33: 700 | AA33: 710 | AB33: 720 | AC33: 720 | AD33: 730
B34: 40 | C34: 0.52 | D34: 550 | E34: 560 | F34: 560 | G34: 570 | H34: 580 | I34: 580 | J34: 590 | K34: 600 | L34: 610 | M34: 610 | N34: 620 | O34: 630 | P34: 640 | Q34: 640 | R34: 650 | S34: 660 | T34: 670 | U34: 670 | V34: 680 | W34: 690 | X34: 690 | Y34: 700 | Z34: 710 | AA34: 720 | AB34: 720 | AC34: 730 | AD34: 740
B35: 41 | C35: 0.54 | D35: 560 | E35: 560 | F35: 570 | G35: 580 | H35: 580 | I35: 590 | J35: 600 | K35: 610 | L35: 610 | M35: 620 | N35: 630 | O35: 640 | P35: 640 | Q35: 650 | R35: 660 | S35: 670 | T35: 670 | U35: 680 | V35: 690 | W35: 690 | X35: 700 | Y35: 710 | Z35: 720 | AA35: 720 | AB35: 730 | AC35: 740 | AD35: 750
... B45: 51 | C45: 0.98 | D45: 630 | E45: 640 | F45: 640 | G45: 650 | H45: 660 | I45: 670 | J45: 670 | K45: 680 | L45: 690 | M45: 690 | N45: 700 | O45: 710 | P45: 720 | Q45: 720 | R45: 730 | S45: 740 | T45: 750 | U45: 750 | V45: 760 | W45: 770 | X45: 780 | Y45: 780 | Z45: 790 | AA45: 800 | AB45: 800 | AC45: 800 | AD45: 800

Sheet SC Error Log (2)
A1: Sr No | B1: Time | C1: Answer | D1: OG 2020 | E1: Result | J1: Singular Plural
A2: 828 | B2: 1.8 min per Question | C2: e | D2: e | E2: 1 | F2: Tense | J2: Meaning | K2: =COUNTIF(($F$2:$G$84),J2) -> 7 | L2: =COUNTIF(($F$89:$G$209),J2) -> 13
A3: 829 | C3: e | D3: c | E3: 0 | F3: Parallalism | G3: Idioms | J3: Subject Verb | K3: =COUNTIF(($F$2:$F$84),J3) -> 6 | L3: =COUNTIF(($F$89:$G$209),J3) -> 2
A4: 830 | C4: a | D4: a | E4: 1 | F4: Modifiers | G4: Parallalism | J4: Modifiers | K4: =COUNTIF(($F$2:$F$84),J4) -> 9 | L4: =COUNTIF(($F$89:$G$209),J4) -> 5
A5: 831 | C5: c | D5: a | E5: 0 | F5: Meaning | H5: What is the sentense trying to convey to us | J5: Parallalism | K5: =COUNTIF(($F$2:$F$84),J5) -> 13 | L5: =COUNTIF(($F$89:$G$209),J5) -> 5
A6: 832 | C6: c | D6: c | E6: 1 | F6: Modifiers | J6: Pronouns | K6: =COUNTIF(($F$2:$F$84),J6) -> 7 | L6: =COUNTIF(($F$89:$G$209),J6) -> 4
A7: 833 | C7: c | D7: c | E7: 1 | F7: Meaning | H7: C is better than D because D has nonsense meaning | J7: Tense | K7: =COUNTIF(($F$2:$F$84),J7) -> 3 | L7: =COUNTIF(($F$89:$G$209),J7) -> 1
A8: 834 | C8: b | D8: b | E8: 1 | F8: Parallalism | J8: Comparisons | K8: =COUNTIF(($F$2:$F$84),J8) -> 10 | L8: =COUNTIF(($F$89:$G$209),J8) -> 3
A9: 835 | C9: e | D9: e | E9: 1 | F9: Tense | G9: Meaning | J9: Idioms | K9: =COUNTIF(($F$2:$F$84),J9) -> 3 | L9: =COUNTIF(($F$89:$G$209),J9) -> 3
A10: 836 | C10: e | D10: e | E10: 1 | F10: Comparisons | G10: Parallalism | H10: Use between for 2 subject and among for more | J10: Sentence Structure | K10: =COUNTIF(($F$2:$F$84),J10) -> 1 | L10: =COUNTIF(($F$89:$G$209),J10) -> 0
A11: 837 | C11: a | D11: a | E11: 1 | F11: Modifiers | G11: Redundancy | J11: Redundancy | K11: =COUNTIF(($F$2:$F$84),J11) -> 0 | L11: =COUNTIF(($F$89:$G$209),J11) -> 2
E12: =8/10 -> 0.8
A14: 838 | B14: 2.5 min per Question | C14: b | D14: b | E14: 1 | F14: Tense | G14: Comparisons | H14: Author intends to make a general statement and hence use Can not Could
A15: 839 | C15: a | D15: a | E15: 1 | F15: Subject Verb | G15: Meaning
A16: 840 | C16: e | D16: e | E16: 1 | F16: Meaning | H16: need to reduce dissatisfaction and not guest
A17: 841 | C17: b | D17: b | E17: 1 | F17: Parallalism | G17: Idioms | H17: the word hamper applies to distinguish and to make ; Idioms Ability to
A18: 842 | C18: a | D18: a | E18: 1 | F18: Parallalism | G18: Modifiers | H18: Meaning
A19: 843 | C19: e | D19: a | E19: 0 | F19: Parallalism | G19: Tense | H19: I changed the tense from present progressive to simple present violating tense and parallalism both. Use of themselves is not meaninful
A20: 844 | C20: e | D20: e | E20: 1 | F20: Parallalism
E21: =6/7 -> 0.85714286
A23: 845 | B23: =B14 -> 2.5 min per Question | C23: c | D23: c | E23: 1 | F23: Idioms | G23: Redundancy
A24: 846 | C24: e | D24: e | E24: 1 | F24: Modifiers | G24: Comparisons | H24: comparision idiom, x is to y what a is to b
A25: 847 | C25: a | D25: a | E25: 1 | F25: Sentence Structure
A26: 848 | C26: a | D26: a | E26: 1 | F26: Modifiers
A27: 849 | C27: e | D27: d | E27: 0 | F27: Comparisons | G27: Singular Plural | H27: Fellows and Close relatives use S and P, than subject verb agreement - struggles limit can be used to arrive at option D. One new concept learned is that for comparision words like similar we need plural - they and not it, since more than 1 object is required for comparision.
A28: 850 | C28: c | D28: b | E28: 0 | F28: Subject Verb | G28: Modifiers | H28: as sentense talks about population, we should not talk about number. Secondly however needs to be used immediately after the subject it wants to modify
A29: 851 | C29: b | D29: b | E29: 1 | F29: Parallalism | H29: Clearly understood what is parallel to what
E30: =5/7 -> 0.71428571
A32: 852 | B32: 2.8 min per Question | C32: a | D32: b | E32: 0 | F32: Subject Verb | G32: Modifiers | H32: Elimination based on S-V and Dangling Modifier. Remember if all options have a different meaning than check if the question conveys proper meanring or not
A33: 853 | C33: a | D33: a | E33: 1 | F33: Modifiers | G33: Parallalism
A34: 854 | C34: b | D34: e | E34: 0 | F34: Subject Verb | H34: My selection can be eliminated by S-V
A35: 855 | C35: a | D35: a | E35: 1 | F35: Idioms | G35: Comparisons
A36: 856 | C36: c | D36: b | E36: 0 | F36: Comparisons | H36: As can not be used as no comparision / role,
A37: 857 | C37: c | D37: c | E37: 1 | F37: Parallalism | H37: And is the marker
A38: 858 | C38: b | D38: b | E38: 1 | F38: Comparisons
A39: 859 | C39: d | D39: d | E39: 1 | F39: Pronouns | H39: Pronoun Antecedent
A40: 860 | C40: c | D40: c | E40: 1 | F40: Parallalism | H40: Not A but B
A41: 861 | C41: c | D41: c | E41: 1 | F41: Comparisons
E42: =7/10 -> 0.7
A44: 862 | B44: 3.4 min per question | C44: a | D44: a | E44: 1 | F44: Pronouns
A45: 863 | C45: b | D45: b | E45: 1 | F45: parallalism
A46: 864 | C46: d | D46: d | E46: 1 | F46: Subject Verb | G46: Modifiers
A47: 865 | C47: b | D47: b | E47: 1 | F47: Pronouns
A48: 866 | C48: b | D48: b | E48: 1 | F48: parallalism | H48: Not just X but Y
A49: 867 | C49: e | D49: e | E49: 1 | F49: Comparisons
A50: 868 | C50: b | D50: d | E50: 0 | F50: Meaning | H50: Only 1 point is made, so don’t use both | J50: Review this
A51: 869 | C51: a | D51: a | E51: 1 | F51: Pronouns | G51: Comparisons
A52: 870 | C52: a | D52: a | E52: 1 | F52: modifiers
A53: 871 | C53: e | D53: e | E53: 1 | F53: idioms | G53: Parallalism
E54: =9/10 -> 0.9
A56: 872 | B56: 3.2min | C56: c | D56: a | E56: 0 | F56: Comparisons | H56: Not convinced with Answers; evaluate gramatical parallelism in More.. Than type sentence
A57: 873 | C57: e | D57: a | E57: 0 | F57: Comparisons | H57: Contrast gets distorted
A58: 874 | C58: e | D58: e | E58: 1 | F58: Parallalism | G58: Pronouns
A59: 875 | C59: c | D59: b | E59: 0 | F59: Comparisons | H59: In comparision with A more than B, b should not be ditto parallel to A but just enough to convey meaning
A60: 876 | C60: a | D60: b | E60: 0 | F60: pronouns | H60: They refers to what ??? Distorts Means if it refers to WASPS
A61: 877 | C61: a | D61: a | E61: 1 | F61: Modifiers
A62: 878 | C62: c | D62: c | E62: 1 | F62: Modifiers | G62: Meaning
A63: 879 | C63: d | D63: b | E63: 0 | F63: Pronouns
A64: 880 | C64: d | D64: e | E64: 0 | F64: Comparisons | G64: Modifiers
A65: 881 | C65: e | D65: e | E65: 1
E66: =4/10 -> 0.4
A68: 882 | B68: 3.2 min | C68: e | D68: c | E68: 0 | F68: Parallalism | H68: to try to relieve ; avoid possesive
A69: 883 | C69: e | D69: a | E69: 0 | F69: Pronouns | G69: Comparisons | H69: Contrast needs but, it is not defined in option B
A70: 884 | C70: c | D70: c | E70: 1
A71: 885 | C71: c | D71: c | E71: 1
A72: 886 | C72: c | D72: b | E72: 0 | F72: Subject Verb | H72: in C no verb so B is best option
E73: =2/3 -> 0.66666667
A75: 759 | B75: 1.6 min | C75: a | D75: a | E75: 1
A76: 760 | C76: d | D76: d | E76: 1
A77: 761 | C77: b | D77: b | E77: 1
A78: 762 | C78: b | D78: b | E78: 1
A79: 763 | C79: d | D79: d | E79: 1
A80: 764 | C80: c | D80: c | E80: 1
A81: 765 | C81: d | D81: d | E81: 1
A82: 766 | C82: d | D82: d | E82: 1
A83: 767 | C83: d | D83: d | E83: 1
A84: 768 | C84: b | D84: b | E84: 1
E85: =10/10 -> 1
A86: OG 2020 VERBAL REVIEW
A89: 200 | B89: 1.5 MIN | C89: C | D89: C | E89: 1
A90: 201 | C90: A | D90: A | E90: 1
A91: 202 | C91: C | D91: C | E91: 1
A92: 203 | C92: E | D92: E | E92: 1
A93: 204 | C93: D | D93: E | E93: 0 | H93: Silly Mistake in Selecting Option
A94: 205 | C94: E | D94: E | E94: 1
A95: 206 | C95: C | D95: C | E95: 1
A96: 207 | C96: D | D96: D | E96: 1
A97: 208 | C97: E | D97: E | E97: 1
A98: 209 | C98: D | D98: D | E98: 1
E99: =9/10 -> 0.9
A100: 210 | B100: 2.1 min | C100: D | D100: B | E100: 0 | F100: Meaning | H100: Punching the answer D makes meaning awakard, hence B
A101: 211 | C101: E | D101: =C101 -> E | E101: 1
A102: 212 | C102: C | D102: =C102 -> C | E102: 1
A103: 213 | C103: E | D103: =C103 -> E | E103: 1
A104: 214 | C104: C | D104: =C104 -> C | E104: 1
A105: 215 | C105: A | D105: B | E105: 0 | F105: Pronouns | H105: Their can not refer to federal govt. Also use of As is justified since role : As+ Noun
A106: 216 | C106: B | D106: A | E106: 0 | F106: Meaning | H106: Reag OG explanation. I made a mistake because I never undeerstood the meaning of the sentence
A107: 217 | C107: C | D107: =C107 -> C | E107: 1
A108: 218 | C108: E | D108: =C108 -> E | E108: 1
A109: 219 | C109: E | D109: =C109 -> E | E109: 1
...
