Workbook

Sheet RC
A1: GMAT Club Guide to The GMAT Verbal Review 2022
A2: Passage | B2: Question | C2: New ? | D2: Difficulty | E2: % Wrong | F2: OA | G2: Primary Category
A3: 1 | B3: 150 | D3: =IF(E3>59%, "Very Hard", IF(E3>39%, "Hard", IF(E3>19%, "Medium", "Easy"))) -> Hard | E3: 0.42 | F3: A | G3: Long Passage/Science | H3: '
B4: 151 | D4: =IF(E4>59%, "Very Hard", IF(E4>39%, "Hard", IF(E4>19%, "Medium", "Easy"))) -> Medium | E4: 0.34 | F4: C | G4: Long Passage/Science | H4: '
B5: 152 | D5: =IF(E5>59%, "Very Hard", IF(E5>39%, "Hard", IF(E5>19%, "Medium", "Easy"))) -> Hard | E5: 0.4 | F5: D | G5: Long Passage/Science | H5: '
B6: 153 | D6: =IF(E6>59%, "Very Hard", IF(E6>39%, "Hard", IF(E6>19%, "Medium", "Easy"))) -> Medium | E6: 0.35 | F6: B | G6: Long Passage/Science | H6: '
B7: 154 | D7: =IF(E7>59%, "Very Hard", IF(E7>39%, "Hard", IF(E7>19%, "Medium", "Easy"))) -> Medium | E7: 0.38 | F7: E | G7: Long Passage/Science | H7: '
A8: 2 | B8: 155 | D8: =IF(E8>59%, "Very Hard", IF(E8>39%, "Hard", IF(E8>19%, "Medium", "Easy"))) -> Medium | E8: 0.36 | F8: C | G8: Short Passage/Social Science | H8: '
B9: 156 | D9: =IF(E9>59%, "Very Hard", IF(E9>39%, "Hard", IF(E9>19%, "Medium", "Easy"))) -> Hard | E9: 0.57 | F9: C | G9: Short Passage/Social Science | H9: '
B10: 157 | D10: =IF(E10>59%, "Very Hard", IF(E10>39%, "Hard", IF(E10>19%, "Medium", "Easy"))) -> Hard | E10: 0.47 | F10: D | G10: Short Passage/Social Science | H10: '
B11: 158 | D11: =IF(E11>59%, "Very Hard", IF(E11>39%, "Hard", IF(E11>19%, "Medium", "Easy"))) -> Hard | E11: 0.5 | F11: E | G11: Short Passage/Social Science | H11: '
B12: 159 | D12: =IF(E12>59%, "Very Hard", IF(E12>39%, "Hard", IF(E12>19%, "Medium", "Easy"))) -> Medium | E12: 0.32 | F12: A | G12: Short Passage/Social Science | H12: '
B13: 160 | D13: =IF(E13>59%, "Very Hard", IF(E13>39%, "Hard", IF(E13>19%, "Medium", "Easy"))) -> Hard | E13: 0.44 | F13: A | G13: Short Passage/Social Science | H13: '
A14: 3 | B14: 161 | D14: =IF(E14>59%, "Very Hard", IF(E14>39%, "Hard", IF(E14>19%, "Medium", "Easy"))) -> Medium | E14: 0.3 | F14: D | G14: Short Passage/Science | H14: '
B15: 162 | D15: =IF(E15>59%, "Very Hard", IF(E15>39%, "Hard", IF(E15>19%, "Medium", "Easy"))) -> Medium | E15: 0.36 | F15: C | G15: Short Passage/Science | H15: '
B16: 163 | D16: =IF(E16>59%, "Very Hard", IF(E16>39%, "Hard", IF(E16>19%, "Medium", "Easy"))) -> Very Hard | E16: 0.71 | F16: A | G16: Short Passage/Science | H16: '
B17: 164 | D17: =IF(E17>59%, "Very Hard", IF(E17>39%, "Hard", IF(E17>19%, "Medium", "Easy"))) -> Medium | E17: 0.36 | F17: E | G17: Short Passage/Science | H17: '
A18: 4 | B18: 165 | D18: =IF(E18>59%, "Very Hard", IF(E18>39%, "Hard", IF(E18>19%, "Medium", "Easy"))) -> Medium | E18: 0.2 | F18: B | G18: Long Passage/Social Science | H18: '
B19: 166 | D19: =IF(E19>59%, "Very Hard", IF(E19>39%, "Hard", IF(E19>19%, "Medium", "Easy"))) -> Hard | E19: 0.46 | F19: A | G19: Long Passage/Social Science | H19: '
B20: 167 | D20: =IF(E20>59%, "Very Hard", IF(E20>39%, "Hard", IF(E20>19%, "Medium", "Easy"))) -> Medium | E20: 0.3 | F20: D | G20: Long Passage/Social Science | H20: '
B21: 168 | D21: =IF(E21>59%, "Very Hard", IF(E21>39%, "Hard", IF(E21>19%, "Medium", "Easy"))) -> Hard | E21: 0.51 | F21: D | G21: Long Passage/Social Science | H21: '
B22: 169 | D22: =IF(E22>59%, "Very Hard", IF(E22>39%, "Hard", IF(E22>19%, "Medium", "Easy"))) -> Medium | E22: 0.37 | F22: C | G22: Long Passage/Social Science | H22: '
B23: 170 | D23: =IF(E23>59%, "Very Hard", IF(E23>39%, "Hard", IF(E23>19%, "Medium", "Easy"))) -> Hard | E23: 0.42 | F23: D | G23: Long Passage/Social Science | H23: '
B24: 171 | D24: =IF(E24>59%, "Very Hard", IF(E24>39%, "Hard", IF(E24>19%, "Medium", "Easy"))) -> Very Hard | E24: 0.83 | F24: B | G24: Long Passage/Social Science | H24: '
A25: 5 | B25: 172 | D25: =IF(E25>59%, "Very Hard", IF(E25>39%, "Hard", IF(E25>19%, "Medium", "Easy"))) -> Hard | E25: 0.52 | F25: C | G25: Long Passage/Science | H25: '
B26: 173 | D26: =IF(E26>59%, "Very Hard", IF(E26>39%, "Hard", IF(E26>19%, "Medium", "Easy"))) -> Medium | E26: 0.3 | F26: D | G26: Long Passage/Science | H26: '
B27: 174 | D27: =IF(E27>59%, "Very Hard", IF(E27>39%, "Hard", IF(E27>19%, "Medium", "Easy"))) -> Easy | E27: 0.12 | F27: C | G27: Long Passage/Science | H27: '
B28: 175 | D28: =IF(E28>59%, "Very Hard", IF(E28>39%, "Hard", IF(E28>19%, "Medium", "Easy"))) -> Medium | E28: 0.24 | F28: A | G28: Long Passage/Science | H28: '
B29: 176 | D29: =IF(E29>59%, "Very Hard", IF(E29>39%, "Hard", IF(E29>19%, "Medium", "Easy"))) -> Medium | E29: 0.21 | F29: B | G29: Long Passage/Science | H29: '
A30: 6 | B30: 177 | D30: =IF(E30>59%, "Very Hard", IF(E30>39%, "Hard", IF(E30>19%, "Medium", "Easy"))) -> Medium | E30: 0.36 | F30: E | G30: Long Passage/Social Science | H30: '
B31: 178 | D31: =IF(E31>59%, "Very Hard", IF(E31>39%, "Hard", IF(E31>19%, "Medium", "Easy"))) -> Easy | E31: 0.17 | F31: D | G31: Long Passage/Social Science | H31: '
B32: 179 | D32: =IF(E32>59%, "Very Hard", IF(E32>39%, "Hard", IF(E32>19%, "Medium", "Easy"))) -> Easy | E32: 0.19 | F32: C | G32: Long Passage/Social Science | H32: '
B33: 180 | D33: =IF(E33>59%, "Very Hard", IF(E33>39%, "Hard", IF(E33>19%, "Medium", "Easy"))) -> Hard | E33: 0.48 | F33: D | G33: Long Passage/Social Science | H33: '
B34: 181 | D34: =IF(E34>59%, "Very Hard", IF(E34>39%, "Hard", IF(E34>19%, "Medium", "Easy"))) -> Hard | E34: 0.45 | F34: E | G34: Long Passage/Social Science | H34: '
B35: 182 | D35: =IF(E35>59%, "Very Hard", IF(E35>39%, "Hard", IF(E35>19%, "Medium", "Easy"))) -> Medium | E35: 0.21 | F35: B | G35: Long Passage/Social Science | H35: '
B36: 183 | D36: =IF(E36>59%, "Very Hard", IF(E36>39%, "Hard", IF(E36>19%, "Medium", "Easy"))) -> Easy | E36: 0.11 | F36: A | G36: Long Passage/Social Science | H36: '
B37: 184 | D37: =IF(E37>59%, "Very Hard", IF(E37>39%, "Hard", IF(E37>19%, "Medium", "Easy"))) -> Hard | E37: 0.47 | F37: D | G37: Long Passage/Social Science | H37: '
A38: 7 | B38: 185 | D38: =IF(E38>59%, "Very Hard", IF(E38>39%, "Hard", IF(E38>19%, "Medium", "Easy"))) -> Medium | E38: 0.37 | F38: B | G38: Short Passage/Humanities | H38: '
B39: 186 | D39: =IF(E39>59%, "Very Hard", IF(E39>39%, "Hard", IF(E39>19%, "Medium", "Easy"))) -> Hard | E39: 0.44 | F39: A | G39: Short Passage/Humanities | H39: '
B40: 187 | D40: =IF(E40>59%, "Very Hard", IF(E40>39%, "Hard", IF(E40>19%, "Medium", "Easy"))) -> Medium | E40: 0.26 | F40: E | G40: Short Passage/Humanities | H40: '
...

Sheet CR
A1: GMAT Club Guide to The GMAT Verbal Review 2022
A2: Question | B2: New ? | C2: Difficulty | D2: Percentile | E2: OA | F2: Primary Category
A3: 201 | C3: =IF(D3>74%, "Very Hard", IF(D3>49%, "Hard", IF(D3>24%, "Medium", "Easy"))) -> Very Hard | D3: 0.95 | E3: B | F3: Bold Face
A4: =A3+1 -> 202 | C4: =IF(D4>74%, "Very Hard", IF(D4>49%, "Hard", IF(D4>24%, "Medium", "Easy"))) -> Very Hard | D4: 0.95 | E4: A | F4: Weaken
A5: =A4+1 -> 203 | C5: =IF(D5>74%, "Very Hard", IF(D5>49%, "Hard", IF(D5>24%, "Medium", "Easy"))) -> Very Hard | D5: 0.75 | E5: B | F5: Weaken
A6: =A5+1 -> 204 | C6: =IF(D6>74%, "Very Hard", IF(D6>49%, "Hard", IF(D6>24%, "Medium", "Easy"))) -> Medium | D6: 0.45 | E6: B | F6: Evaluate Argument
A7: =A6+1 -> 205 | C7: =IF(D7>74%, "Very Hard", IF(D7>49%, "Hard", IF(D7>24%, "Medium", "Easy"))) -> Very Hard | D7: 0.95 | E7: A | F7: Weaken
A8: =A7+1 -> 206 | C8: =IF(D8>74%, "Very Hard", IF(D8>49%, "Hard", IF(D8>24%, "Medium", "Easy"))) -> Very Hard | D8: 0.95 | E8: E | F8: Weaken
A9: =A8+1 -> 207 | C9: =IF(D9>74%, "Very Hard", IF(D9>49%, "Hard", IF(D9>24%, "Medium", "Easy"))) -> Very Hard | D9: 0.85 | E9: B | F9: Weaken
A10: =A9+1 -> 208 | C10: =IF(D10>74%, "Very Hard", IF(D10>49%, "Hard", IF(D10>24%, "Medium", "Easy"))) -> Medium | D10: 0.35 | E10: E | F10: Resolve Paradox
A11: =A10+1 -> 209 | C11: =IF(D11>74%, "Very Hard", IF(D11>49%, "Hard", IF(D11>24%, "Medium", "Easy"))) -> Very Hard | D11: 0.75 | E11: D | F11: Weaken
A12: =A11+1 -> 210 | C12: =IF(D12>74%, "Very Hard", IF(D12>49%, "Hard", IF(D12>24%, "Medium", "Easy"))) -> Very Hard | D12: 0.85 | E12: D | F12: Strengthen
A13: =A12+1 -> 211 | C13: =IF(D13>74%, "Very Hard", IF(D13>49%, "Hard", IF(D13>24%, "Medium", "Easy"))) -> Hard | D13: 0.65 | E13: C | F13: Strengthen
A14: =A13+1 -> 212 | C14: =IF(D14>74%, "Very Hard", IF(D14>49%, "Hard", IF(D14>24%, "Medium", "Easy"))) -> Very Hard | D14: 0.95 | E14: A | F14: Similar Reasoning
A15: =A14+1 -> 213 | C15: =IF(D15>74%, "Very Hard", IF(D15>49%, "Hard", IF(D15>24%, "Medium", "Easy"))) -> Hard | D15: 0.55 | E15: E | F15: Strengthen
... A51: =A50+1 -> 249 | C51: =IF(D51>74%, "Very Hard", IF(D51>49%, "Hard", IF(D51>24%, "Medium", "Easy"))) -> Hard | D51: 0.55 | E51: C | F51: Must be True

Sheet SC
A1: GMAT Club Guide to The GMAT Verbal Review 2022
A2: Question | B2: New ? | C2: Difficulty | D2: Percentile | E2: OA | F2: Primary Category
A3: 250 | C3: =IF(D3>74%, "Very Hard", IF(D3>49%, "Hard", IF(D3>24%, "Medium", "Easy"))) -> Hard | D3: 0.55 | E3: B | F3: Parallel Structure/Idioms
A4: =A3+1 -> 251 | C4: =IF(D4>74%, "Very Hard", IF(D4>49%, "Hard", IF(D4>24%, "Medium", "Easy"))) -> Hard | D4: 0.65 | E4: D | F4: Such as/Like/Meaning/Parallel Structure/Pronouns/Which/That
A5: =A4+1 -> 252 | C5: =IF(D5>74%, "Very Hard", IF(D5>49%, "Hard", IF(D5>24%, "Medium", "Easy"))) -> Medium | D5: 0.45 | E5: D | F5: Meaning/Pronouns
A6: =A5+1 -> 253 | C6: =IF(D6>74%, "Very Hard", IF(D6>49%, "Hard", IF(D6>24%, "Medium", "Easy"))) -> Medium | D6: 0.25 | E6: B | F6: Idioms/Parallel Structure
A7: =A6+1 -> 254 | C7: =IF(D7>74%, "Very Hard", IF(D7>49%, "Hard", IF(D7>24%, "Medium", "Easy"))) -> Hard | D7: 0.55 | E7: E | F7: Such as/Like/Comparisons
A8: =A7+1 -> 255 | C8: =IF(D8>74%, "Very Hard", IF(D8>49%, "Hard", IF(D8>24%, "Medium", "Easy"))) -> Medium | D8: 0.45 | E8: E | F8: Grammatical Construction/Verb Tense/Form
A9: =A8+1 -> 256 | C9: =IF(D9>74%, "Very Hard", IF(D9>49%, "Hard", IF(D9>24%, "Medium", "Easy"))) -> Very Hard | D9: 0.95 | E9: B | F9: Comparisons/Construction/Diction
A10: =A9+1 -> 257 | C10: =IF(D10>74%, "Very Hard", IF(D10>49%, "Hard", IF(D10>24%, "Medium", "Easy"))) -> Very Hard | D10: 0.75 | E10: E | F10: Modifiers/Pronouns
A11: =A10+1 -> 258 | C11: =IF(D11>74%, "Very Hard", IF(D11>49%, "Hard", IF(D11>24%, "Medium", "Easy"))) -> Easy | D11: 0.05 | E11: D | F11: Pronouns/Construction
A12: =A11+1 -> 259 | C12: =IF(D12>74%, "Very Hard", IF(D12>49%, "Hard", IF(D12>24%, "Medium", "Easy"))) -> Medium | D12: 0.45 | E12: D | F12: Diction/Parallel Structure
A13: =A12+1 -> 260 | C13: =IF(D13>74%, "Very Hard", IF(D13>49%, "Hard", IF(D13>24%, "Medium", "Easy"))) -> Very Hard | D13: 0.85 | E13: D | F13: Grammatical Construction/Parallel Structure
A14: =A13+1 -> 261 | C14: =IF(D14>74%, "Very Hard", IF(D14>49%, "Hard", IF(D14>24%, "Medium", "Easy"))) -> Very Hard | D14: 0.75 | E14: E | F14: Grammatical Construction
A15: =A14+1 -> 262 | C15: =IF(D15>74%, "Very Hard", IF(D15>49%, "Hard", IF(D15>24%, "Medium", "Easy"))) -> Easy | D15: 0.15 | E15: B | F15: Comparisons/Grammatical Construction/Meaning
... A53: =A52+1 -> 300 | C53: =IF(D53>74%, "Very Hard", IF(D53>49%, "Hard", IF(D53>24%, "Medium", "Easy"))) -> Hard | D53: 0.65 | E53: C | F53: Diction/Idioms/Verb Tense/Form

Sheet Error Log
A1: GMAT Club Guide to The GMAT Official Guide 2022
A2: Question | B2: Section | C2: Difficulty Level | D2: Percentile | E2: Category | F2: Notes | G2: Your Answer | H2: Result | I2: Completed Time
A3: 151 | B3: RC | C3: =IF($G3="","",'RC'!D3) -> Hard | D3: =IF($G3="","",'RC'!E3) -> 0.42 | E3: =IF($G3="","",'RC'!G3) -> Long Passage/Science | G3: A | H3: =IF(G3="","NA",IF(G3='RC'!F3,"Correct","Incorrect")) -> Correct
A4: 152 | B4: RC | C4: =IF($G4="","",'RC'!D4) -> Medium | D4: =IF($G4="","",'RC'!E4) -> 0.34 | E4: =IF($G4="","",'RC'!G4) -> Long Passage/Science | G4: B | H4: =IF(G4="","NA",IF(G4='RC'!F4,"Correct","Incorrect")) -> Incorrect
A5: 153 | B5: RC | C5: =IF($G5="","",'RC'!D5) -> Hard | D5: =IF($G5="","",'RC'!E5) -> 0.4 | E5: =IF($G5="","",'RC'!G5) -> Long Passage/Science | G5: A | H5: =IF(G5="","NA",IF(G5='RC'!F5,"Correct","Incorrect")) -> Incorrect
A6: 154 | B6: RC | C6: =IF($G6="","",'RC'!D6) -> Medium | D6: =IF($G6="","",'RC'!E6) -> 0.35 | E6: =IF($G6="","",'RC'!G6) -> Long Passage/Science | G6: B | H6: =IF(G6="","NA",IF(G6='RC'!F6,"Correct","Incorrect")) -> Correct
A7: 155 | B7: RC | C7: =IF($G7="","",'RC'!D7) | D7: =IF($G7="","",'RC'!E7) | E7: =IF($G7="","",'RC'!G7) | H7: =IF(G7="","NA",IF(G7='RC'!F7,"Correct","Incorrect")) -> NA
A8: 156 | B8: RC | C8: =IF($G8="","",'RC'!D8) | D8: =IF($G8="","",'RC'!E8) | E8: =IF($G8="","",'RC'!G8) | H8: =IF(G8="","NA",IF(G8='RC'!F8,"Correct","Incorrect")) -> NA
A9: 157 | B9: RC | C9: =IF($G9="","",'RC'!D9) | D9: =IF($G9="","",'RC'!E9) | E9: =IF($G9="","",'RC'!G9) | H9: =IF(G9="","NA",IF(G9='RC'!F9,"Correct","Incorrect")) -> NA
A10: 158 | B10: RC | C10: =IF($G10="","",'RC'!D10) | D10: =IF($G10="","",'RC'!E10) | E10: =IF($G10="","",'RC'!G10) | H10: =IF(G10="","NA",IF(G10='RC'!F10,"Correct","Incorrect")) -> NA
A11: 159 | B11: RC | C11: =IF($G11="","",'RC'!D11) | D11: =IF($G11="","",'RC'!E11) | E11: =IF($G11="","",'RC'!G11) | H11: =IF(G11="","NA",IF(G11='RC'!F11,"Correct","Incorrect")) -> NA
A12: 160 | B12: RC | C12: =IF($G12="","",'RC'!D12) | D12: =IF($G12="","",'RC'!E12) | E12: =IF($G12="","",'RC'!G12) | H12: =IF(G12="","NA",IF(G12='RC'!F12,"Correct","Incorrect")) -> NA
A13: 161 | B13: RC | C13: =IF($G13="","",'RC'!D13) | D13: =IF($G13="","",'RC'!E13) | E13: =IF($G13="","",'RC'!G13) | H13: =IF(G13="","NA",IF(G13='RC'!F13,"Correct","Incorrect")) -> NA
A14: 162 | B14: RC | C14: =IF($G14="","",'RC'!D14) | D14: =IF($G14="","",'RC'!E14) | E14: =IF($G14="","",'RC'!G14) | H14: =IF(G14="","NA",IF(G14='RC'!F14,"Correct","Incorrect")) -> NA
A15: 163 | B15: RC | C15: =IF($G15="","",'RC'!D15) | D15: =IF($G15="","",'RC'!E15) | E15: =IF($G15="","",'RC'!G15) | H15: =IF(G15="","NA",IF(G15='RC'!F15,"Correct","Incorrect")) -> NA
A16: 164 | B16: RC | C16: =IF($G16="","",'RC'!D16) | D16: =IF($G16="","",'RC'!E16) | E16: =IF($G16="","",'RC'!G16) | H16: =IF(G16="","NA",IF(G16='RC'!F16,"Correct","Incorrect")) -> NA
A17: 165 | B17: RC | C17: =IF($G17="","",'RC'!D17) | D17: =IF($G17="","",'RC'!E17) | E17: =IF($G17="","",'RC'!G17) | H17: =IF(G17="","NA",IF(G17='RC'!F17,"Correct","Incorrect")) -> NA
A18: 166 | B18: RC | C18: =IF($G18="","",'RC'!D18) | D18: =IF($G18="","",'RC'!E18) | E18: =IF($G18="","",'RC'!G18) | H18: =IF(G18="","NA",IF(G18='RC'!F18,"Correct","Incorrect")) -> NA
... A52: 200 | B52: RC | C52: =IF($G52="","",'RC'!D52) | D52: =IF($G52="","",'RC'!E52) | E52: =IF($G52="","",'RC'!G52) | H52: =IF(G52="","NA",IF(G52='RC'!F52,"Correct","Incorrect")) -> NA
A53: 201 | B53: CR | C53: =IF($G53="","",CR!C3) -> Very Hard | D53: =IF($G53="","",CR!D3) -> 0.95 | E53: =IF($G53="","",CR!F3) -> Bold Face | F53: Ran out of time.. | G53: C | H53: =IF(G53="","NA",IF(G53=CR!E3,"Correct","Incorrect")) -> Incorrect
A54: 202 | B54: CR | C54: =IF($G54="","",CR!C4) -> Very Hard | D54: =IF($G54="","",CR!D4) -> 0.95 | E54: =IF($G54="","",CR!F4) -> Weaken | G54: A | H54: =IF(G54="","NA",IF(G54=CR!E4,"Correct","Incorrect")) -> Correct
A55: 203 | B55: CR | C55: =IF($G55="","",CR!C5) | D55: =IF($G55="","",CR!D5) | E55: =IF($G55="","",CR!F5) | H55: =IF(G55="","NA",IF(G55=CR!E5,"Correct","Incorrect")) -> NA
A56: 204 | B56: CR | C56: =IF($G56="","",CR!C6) | D56: =IF($G56="","",CR!D6) | E56: =IF($G56="","",CR!F6) | H56: =IF(G56="","NA",IF(G56=CR!E6,"Correct","Incorrect")) -> NA
A57: 205 | B57: CR | C57: =IF($G57="","",CR!C7) | D57: =IF($G57="","",CR!D7) | E57: =IF($G57="","",CR!F7) | H57: =IF(G57="","NA",IF(G57=CR!E7,"Correct","Incorrect")) -> NA
A58: 206 | B58: CR | C58: =IF($G58="","",CR!C8) | D58: =IF($G58="","",CR!D8) | E58: =IF($G58="","",CR!F8) | H58: =IF(G58="","NA",IF(G58=CR!E8,"Correct","Incorrect")) -> NA
A59: 207 | B59: CR | C59: =IF($G59="","",CR!C9) | D59: =IF($G59="","",CR!D9) | E59: =IF($G59="","",CR!F9) | H59: =IF(G59="","NA",IF(G59=CR!E9,"Correct","Incorrect")) -> NA
A60: 208 | B60: CR | C60: =IF($G60="","",CR!C10) | D60: =IF($G60="","",CR!D10) | E60: =IF($G60="","",CR!F10) | H60: =IF(G60="","NA",IF(G60=CR!E10,"Correct","Incorrect")) -> NA
A61: 209 | B61: CR | C61: =IF($G61="","",CR!C11) | D61: =IF($G61="","",CR!D11) | E61: =IF($G61="","",CR!F11) | H61: =IF(G61="","NA",IF(G61=CR!E11,"Correct","Incorrect")) -> NA
A62: 210 | B62: CR | C62: =IF($G62="","",CR!C12) | D62: =IF($G62="","",CR!D12) | E62: =IF($G62="","",CR!F12) | H62: =IF(G62="","NA",IF(G62=CR!E12,"Correct","Incorrect")) -> NA
A63: 211 | B63: CR | C63: =IF($G63="","",CR!C13) | D63: =IF($G63="","",CR!D13) | E63: =IF($G63="","",CR!F13) | H63: =IF(G63="","NA",IF(G63=CR!E13,"Correct","Incorrect")) -> NA
A64: 212 | B64: CR | C64: =IF($G64="","",CR!C14) | D64: =IF($G64="","",CR!D14) | E64: =IF($G64="","",CR!F14) | H64: =IF(G64="","NA",IF(G64=CR!E14,"Correct","Incorrect")) -> NA
A65: 213 | B65: CR | C65: =IF($G65="","",CR!C15) | D65: =IF($G65="","",CR!D15) | E65: =IF($G65="","",CR!F15) | H65: =IF(G65="","NA",IF(G65=CR!E15,"Correct","Incorrect")) -> NA
A66: 214 | B66: CR | C66: =IF($G66="","",CR!C16) | D66: =IF($G66="","",CR!D16) | E66: =IF($G66="","",CR!F16) | H66: =IF(G66="","NA",IF(G66=CR!E16,"Correct","Incorrect")) -> NA
... A100: 248 | B100: CR | C100: =IF($G100="","",CR!C50) | D100: =IF($G100="","",CR!D50) | E100: =IF($G100="","",CR!F50) | H100: =IF(G100="","NA",IF(G100=CR!E50,"Correct","Incorrect")) -> NA
A101: 249 | B101: CR | C101: =IF($G101="","",CR!C51) | D101: =IF($G101="","",CR!D51) | E101: =IF($G101="","",CR!E51) | H101: =IF(G101="","NA",IF(G101=CR!E51,"Correct","Incorrect")) -> NA
A102: 250 | B102: SC | C102: =IF($G102="","",SC!C3) -> Hard | D102: =IF($G102="","",SC!D3) -> 0.55 | E102: =IF($G102="","",SC!F3) -> Parallel Structure/Idioms | G102: B | H102: =IF(G102="","NA",IF(G102=SC!E3,"Correct","Incorrect")) -> Correct
A103: 251 | B103: SC | C103: =IF($G103="","",SC!C4) -> Hard | D103: =IF($G103="","",SC!D4) -> 0.65 | E103: =IF($G103="","",SC!F4) -> Such as/Like/Meaning/Parallel Structure/Pronouns/Which/That | F103: guessed… | G103: A | H103: =IF(G103="","NA",IF(G103=SC!E4,"Correct","Incorrect")) -> Incorrect
A104: 252 | B104: SC | C104: =IF($G104="","",SC!C5) | D104: =IF($G104="","",SC!D5) | E104: =IF($G104="","",SC!F5) | H104: =IF(G104="","NA",IF(G104=SC!E5,"Correct","Incorrect")) -> NA
A105: 253 | B105: SC | C105: =IF($G105="","",SC!C6) | D105: =IF($G105="","",SC!D6) | E105: =IF($G105="","",SC!F6) | H105: =IF(G105="","NA",IF(G105=SC!E6,"Correct","Incorrect")) -> NA
A106: 254 | B106: SC | C106: =IF($G106="","",SC!C7) | D106: =IF($G106="","",SC!D7) | E106: =IF($G106="","",SC!F7) | H106: =IF(G106="","NA",IF(G106=SC!E7,"Correct","Incorrect")) -> NA
...
