Workbook
Name DiffLevelEasy: Analysis!$AF$2
Name DiffLevelHard: Analysis!$AF$4
Name DiffLevelMedium: Analysis!$AF$3
Name DiffLevelNA: Analysis!$AF$6
Name DiffLevelVeryHard: Analysis!$AF$5
Name EL_AnswerChoice: 'Error Log'!$G$2
Name EL_Category: 'Error Log'!$F$2
Name EL_DifferentLevel: 'Error Log'!$D$2
Name EL_Percentile: 'Error Log'!$E$2
Name EL_Question: 'Error Log'!$A$2
Name EL_Result: 'Error Log'!$H$2
Name EL_Section: 'Error Log'!$C$2
Name EL_TimeTotal: 'Error Log'!$I$2
Name OG_2016_PS_Results: PS!$A$3:$F$178

Sheet About
C2: GMAT CLUB - Contributing to Each Other's Learning
B4: ERROR LOG for the Official GMAT Quantitative Review 2020 Edition
B5: NOTE: Go to File > Make Copy or File > Download as to get your own personal copy Use this guide to: - Track your progress through the Official Guide for GMAT QUANTITATIVE Review 2020 ed. - To analyze your mistakes in the Official Guide (Error log and Analysis tabs) - To help find specific practice questions and build your custom practice tests that focus on your weak areas Good Luck on the GMAT! GMAT Club

Sheet PS
A1: GMAT Club Guide to The GMAT Official Guide Quantitative Review 2020
A2: Question | B2: ID | C2: Difficulty | D2: Percentile | E2: OA | F2: Primary Category
A3: 1 | B3: PS03439 | C3: =IF(D3>74%, "Very Hard", IF(D3>49%, "Hard", IF(D3<25%, "Easy", "Medium"))) -> Easy | D3: 0.05 | E3: A | F3: Work/Rate Problems
A4: 2 | B4: PS11042 | C4: =IF(D4>74%, "Very Hard", IF(D4>49%, "Hard", IF(D4<25%, "Easy", "Medium"))) -> Easy | D4: 0.05 | E4: D | F4: Algebra
A5: 3 | B5: PS02978 | C5: =IF(D5>74%, "Very Hard", IF(D5>49%, "Hard", IF(D5<25%, "Easy", "Medium"))) -> Easy | D5: 0.05 | E5: A | F5: Arithmetic
A6: 4 | B6: PS08375 | C6: =IF(D6>74%, "Very Hard", IF(D6>49%, "Hard", IF(D6<25%, "Easy", "Medium"))) -> Easy | D6: 0.15 | E6: B | F6: Graphs and Illustrations/Word Problems
A7: 5 | B7: PS03887 | C7: =IF(D7>74%, "Very Hard", IF(D7>49%, "Hard", IF(D7<25%, "Easy", "Medium"))) -> Easy | D7: 0.05 | E7: D | F7: Arithmetic
A8: 6 | B8: PS13800 | C8: =IF(D8>74%, "Very Hard", IF(D8>49%, "Hard", IF(D8<25%, "Easy", "Medium"))) -> Easy | D8: 0.05 | E8: E | F8: Arithmetic
A9: 7 | B9: PS05292 | C9: =IF(D9>74%, "Very Hard", IF(D9>49%, "Hard", IF(D9<25%, "Easy", "Medium"))) -> Easy | D9: 0.05 | E9: C | F9: Algebra
A10: 8 | B10: PS11468 | C10: =IF(D10>74%, "Very Hard", IF(D10>49%, "Hard", IF(D10<25%, "Easy", "Medium"))) -> Easy | D10: 0.05 | E10: E | F10: Word Problems
A11: 9 | B11: PS06937 | C11: =IF(D11>74%, "Very Hard", IF(D11>49%, "Hard", IF(D11<25%, "Easy", "Medium"))) -> Easy | D11: 0.05 | E11: A | F11: Inequalities
A12: 10 | B12: PS12926 | C12: =IF(D12>74%, "Very Hard", IF(D12>49%, "Hard", IF(D12<25%, "Easy", "Medium"))) -> Easy | D12: 0.05 | E12: C | F12: Word Problems
A13: 11 | B13: PS00812 | C13: =IF(D13>74%, "Very Hard", IF(D13>49%, "Hard", IF(D13<25%, "Easy", "Medium"))) -> Easy | D13: 0.05 | E13: C | F13: Word Problems
A14: 12 | B14: PS07793 | C14: =IF(D14>74%, "Very Hard", IF(D14>49%, "Hard", IF(D14<25%, "Easy", "Medium"))) -> Easy | D14: 0.15 | E14: C | F14: Percents and Interest Problems
... A38: 36 | B38: PS00918 | C38: =IF(D38>74%, "Very Hard", IF(D38>49%, "Hard", IF(D38<25%, "Easy", "Medium"))) -> Medium | D38: 0.25 | E38: C | F38: Arithmetic
A39: =A38+1 -> 37 | B39: PS04362 | C39: =IF(D39>74%, "Very Hard", IF(D39>49%, "Hard", IF(D39<25%, "Easy", "Medium"))) -> Easy | D39: 0.05 | E39: C | F39: Absolute Values/Modulus/Arithmetic
A40: 38 | B40: PS12934 | C40: =IF(D40>74%, "Very Hard", IF(D40>49%, "Hard", IF(D40<25%, "Easy", "Medium"))) -> Easy | D40: 0.05 | E40: C | F40: Word Problems
A41: 39 | B41: PS15469 | C41: =IF(D41>74%, "Very Hard", IF(D41>49%, "Hard", IF(D41<25%, "Easy", "Medium"))) -> Easy | D41: 0.05 | E41: E | F41: Inequalities
A42: 40 | B42: PS09322 | C42: =IF(D42>74%, "Very Hard", IF(D42>49%, "Hard", IF(D42<25%, "Easy", "Medium"))) -> Easy | D42: 0.05 | E42: D | F42: Percents and Interest Problems
A43: 41 | B43: PS14237 | C43: =IF(D43>74%, "Very Hard", IF(D43>49%, "Hard", IF(D43<25%, "Easy", "Medium"))) -> Easy | D43: 0.05 | E43: D | F43: Algebra/Word Problems
A44: 42 | B44: PS01650 | C44: =IF(D44>74%, "Very Hard", IF(D44>49%, "Hard", IF(D44<25%, "Easy", "Medium"))) -> Medium | D44: 0.45 | E44: D | F44: Algebra/Exponents/Powers
A45: 43 | B45: PS06726 | C45: =IF(D45>74%, "Very Hard", IF(D45>49%, "Hard", IF(D45<25%, "Easy", "Medium"))) -> Easy | D45: 0.05 | E45: A | F45: Word Problems
A46: 44 | B46: PS07080 | C46: =IF(D46>74%, "Very Hard", IF(D46>49%, "Hard", IF(D46<25%, "Easy", "Medium"))) -> Easy | D46: 0.05 | E46: B | F46: Word Problems
A47: 45 | B47: PS13426 | C47: =IF(D47>74%, "Very Hard", IF(D47>49%, "Hard", IF(D47<25%, "Easy", "Medium"))) -> Easy | D47: 0.15 | E47: C | F47: Exponents/Powers
A48: 46 | B48: PS01099 | C48: =IF(D48>74%, "Very Hard", IF(D48>49%, "Hard", IF(D48<25%, "Easy", "Medium"))) -> Medium | D48: 0.25 | E48: C | F48: Work/Rate Problems
A49: 47 | B49: PS01443 | C49: =IF(D49>74%, "Very Hard", IF(D49>49%, "Hard", IF(D49<25%, "Easy", "Medium"))) -> Hard | D49: 0.55 | E49: D | F49: Word Problems
A50: 48 | B50: PS13829 | C50: =IF(D50>74%, "Very Hard", IF(D50>49%, "Hard", IF(D50<25%, "Easy", "Medium"))) -> Hard | D50: 0.55 | E50: B | F50: Number Properties/Divisibility/Multiples/Factors
A51: 49 | B51: PS14063 | C51: =IF(D51>74%, "Very Hard", IF(D51>49%, "Hard", IF(D51<25%, "Easy", "Medium"))) -> Easy | D51: 0.15 | E51: C | F51: Fractions/Ratios/Decimals/Mixture Problems
... A105: 103 | B105: PS00986 | C105: =IF(D105>74%, "Very Hard", IF(D105>49%, "Hard", IF(D105<25%, "Easy", "Medium"))) -> Medium | D105: 0.25 | E105: B | F105: Min/Max Problems/Set and statistics problems
A106: 104 | B106: PS14087 | C106: =IF(D106>74%, "Very Hard", IF(D106>49%, "Hard", IF(D106<25%, "Easy", "Medium"))) -> Hard | D106: 0.55 | E106: D | F106: Number Properties
A107: 105 | B107: PS07001 | C107: =IF(D107>74%, "Very Hard", IF(D107>49%, "Hard", IF(D107<25%, "Easy", "Medium"))) -> Medium | D107: 0.25 | E107: B | F107: Algebra
A108: 106 | B108: PS01875 | C108: =IF(D108>74%, "Very Hard", IF(D108>49%, "Hard", IF(D108<25%, "Easy", "Medium"))) -> Medium | D108: 0.25 | E108: C | F108: Word Problems
A109: 107 | B109: PS00774 | C109: =IF(D109>74%, "Very Hard", IF(D109>49%, "Hard", IF(D109<25%, "Easy", "Medium"))) -> Medium | D109: 0.25 | E109: A | F109: Exponents/Powers - Arithmetic
A110: 108 | B110: PS08407 | C110: =IF(D110>74%, "Very Hard", IF(D110>49%, "Hard", IF(D110<25%, "Easy", "Medium"))) -> Easy | D110: 0.15 | E110: B | F110: Set and statistics problems
A111: 109 | B111: PS08051 | C111: =IF(D111>74%, "Very Hard", IF(D111>49%, "Hard", IF(D111<25%, "Easy", "Medium"))) -> Hard | D111: 0.55 | E111: E | F111: Geometry
A112: 110 | B112: PS03614 | C112: =IF(D112>74%, "Very Hard", IF(D112>49%, "Hard", IF(D112<25%, "Easy", "Medium"))) -> Hard | D112: 0.55 | E112: B | F112: Word Problems
A113: 111 | B113: PS12785 | C113: =IF(D113>74%, "Very Hard", IF(D113>49%, "Hard", IF(D113<25%, "Easy", "Medium"))) -> Easy | D113: 0.15 | E113: D | F113: Absolute Values/Modulus/Algebra
A114: 112 | B114: PS04160 | C114: =IF(D114>74%, "Very Hard", IF(D114>49%, "Hard", IF(D114<25%, "Easy", "Medium"))) -> Hard | D114: 0.65 | E114: E | F114: Percents and Interest Problems
A115: 113 | B115: PS09820 | C115: =IF(D115>74%, "Very Hard", IF(D115>49%, "Hard", IF(D115<25%, "Easy", "Medium"))) -> Easy | D115: 0.15 | E115: E | F115: Arithmetic
A116: 114 | B116: PS14060 | C116: =IF(D116>74%, "Very Hard", IF(D116>49%, "Hard", IF(D116<25%, "Easy", "Medium"))) -> Medium | D116: 0.25 | E116: B | F116: Coordinate Geometry/Geometry
...

Sheet DS
A1: GMAT Club Guide to The GMAT Official Guide Quantitative Review 2020
A2: Question | B2: ID | C2: Difficulty | D2: Percentile | E2: OA | F2: Primary Category
A3: 177 | B3: DS05149 | C3: =IF(D3>74%, "Very Hard", IF(D3>49%, "Hard", IF(D3<25%, "Easy", "Medium"))) -> Easy | D3: 0.05 | E3: D | F3: Algebra
A4: =A3+1 -> 178 | B4: DS01503 | C4: =IF(D4>74%, "Very Hard", IF(D4>49%, "Hard", IF(D4<25%, "Easy", "Medium"))) -> Easy | D4: 0.05 | E4: E | F4: Sequences
A5: =A4+1 -> 179 | B5: DS15510 | C5: =IF(D5>74%, "Very Hard", IF(D5>49%, "Hard", IF(D5<25%, "Easy", "Medium"))) -> Easy | D5: 0.05 | E5: A | F5: Algebra/Word Problems
A6: =A5+1 -> 180 | B6: DS13384 | C6: =IF(D6>74%, "Very Hard", IF(D6>49%, "Hard", IF(D6<25%, "Easy", "Medium"))) -> Easy | D6: 0.05 | E6: E | F6: Number Properties
A7: =A6+1 -> 181 | B7: DS04644 | C7: =IF(D7>74%, "Very Hard", IF(D7>49%, "Hard", IF(D7<25%, "Easy", "Medium"))) -> Easy | D7: 0.05 | E7: D | F7: Inequalities
A8: =A7+1 -> 182 | B8: DS04636 | C8: =IF(D8>74%, "Very Hard", IF(D8>49%, "Hard", IF(D8<25%, "Easy", "Medium"))) -> Easy | D8: 0.05 | E8: E | F8: Inequalities
A9: =A8+1 -> 183 | B9: DS02779 | C9: =IF(D9>74%, "Very Hard", IF(D9>49%, "Hard", IF(D9<25%, "Easy", "Medium"))) -> Easy | D9: 0.15 | E9: B | F9: Word Problems
A10: =A9+1 -> 184 | B10: DS04510 | C10: =IF(D10>74%, "Very Hard", IF(D10>49%, "Hard", IF(D10<25%, "Easy", "Medium"))) -> Easy | D10: 0.05 | E10: A | F10: Word Problems
A11: =A10+1 -> 185 | B11: DS01104 | C11: =IF(D11>74%, "Very Hard", IF(D11>49%, "Hard", IF(D11<25%, "Easy", "Medium"))) -> Easy | D11: 0.05 | E11: D | F11: Number Properties
A12: =A11+1 -> 186 | B12: DS05172 | C12: =IF(D12>74%, "Very Hard", IF(D12>49%, "Hard", IF(D12<25%, "Easy", "Medium"))) -> Easy | D12: 0.15 | E12: D | F12: Algebra
A13: =A12+1 -> 187 | B13: DS17640 | C13: =IF(D13>74%, "Very Hard", IF(D13>49%, "Hard", IF(D13<25%, "Easy", "Medium"))) -> Medium | D13: 0.25 | E13: C | F13: Geometry
A14: =A13+1 -> 188 | B14: DS02589 | C14: =IF(D14>74%, "Very Hard", IF(D14>49%, "Hard", IF(D14<25%, "Easy", "Medium"))) -> Easy | D14: 0.15 | E14: E | F14: Percent and Interest Problems
A15: =A14+1 -> 189 | B15: DS15349 | C15: =IF(D15>74%, "Very Hard", IF(D15>49%, "Hard", IF(D15<25%, "Easy", "Medium"))) -> Medium | D15: 0.45 | E15: E | F15: Work/Rate Problems
... A30: =A29+1 -> 204 | B30: DS15099 | C30: =IF(D30>74%, "Very Hard", IF(D30>49%, "Hard", IF(D30<25%, "Easy", "Medium"))) -> Medium | D30: 0.35 | E30: C | F30: Functions and Custom Characters/Word Problems
A31: 205 | B31: DS96502.01 | C31: =IF(D31>74%, "Very Hard", IF(D31>49%, "Hard", IF(D31<25%, "Easy", "Medium"))) -> Easy | D31: 0.05 | E31: C | F31: Geometry
A32: 206 | B32: DS17502.01 | C32: =IF(D32>74%, "Very Hard", IF(D32>49%, "Hard", IF(D32<25%, "Easy", "Medium"))) -> Medium | D32: 0.25 | E32: D | F32: Geometry
A33: 207 | B33: DS97502.01 | C33: =IF(D33>74%, "Very Hard", IF(D33>49%, "Hard", IF(D33<25%, "Easy", "Medium"))) -> Easy | D33: 0.05 | E33: C | F33: Word Problems
A34: 208 | B34: DS89502.01 | C34: =IF(D34>74%, "Very Hard", IF(D34>49%, "Hard", IF(D34<25%, "Easy", "Medium"))) -> Easy | D34: 0.05 | E34: D | F34: Word Problems
A35: 209 | B35: DS99502.01 | C35: =IF(D35>74%, "Very Hard", IF(D35>49%, "Hard", IF(D35<25%, "Easy", "Medium"))) -> Easy | D35: 0.05 | E35: A | F35: Word Problems
A36: 210 | B36: DS79502.01 | C36: =IF(D36>74%, "Very Hard", IF(D36>49%, "Hard", IF(D36<25%, "Easy", "Medium"))) -> Easy | D36: 0.05 | E36: C | F36: Geometry
A37: 211 | B37: DS60602.01 | C37: =IF(D37>74%, "Very Hard", IF(D37>49%, "Hard", IF(D37<25%, "Easy", "Medium"))) -> Easy | D37: 0.05 | E37: E | F37: Geometry
A38: 212 | B38: DS02602.01 | C38: =IF(D38>74%, "Very Hard", IF(D38>49%, "Hard", IF(D38<25%, "Easy", "Medium"))) -> Easy | D38: 0.05 | E38: A | F38: Geometry
A39: 213 | B39: DS62602.01 | C39: =IF(D39>74%, "Very Hard", IF(D39>49%, "Hard", IF(D39<25%, "Easy", "Medium"))) -> Easy | D39: 0.15 | E39: A | F39: Geometry
A40: 214 | B40: DS82602.01 | C40: =IF(D40>74%, "Very Hard", IF(D40>49%, "Hard", IF(D40<25%, "Easy", "Medium"))) -> Medium | D40: 0.25 | E40: E | F40: Geometry
A41: 215 | B41: DS03602.01 | C41: =IF(D41>74%, "Very Hard", IF(D41>49%, "Hard", IF(D41<25%, "Easy", "Medium"))) -> Easy | D41: 0.15 | E41: A | F41: Geometry
A42: 216 | B42: DS23602.01 | C42: =IF(D42>74%, "Very Hard", IF(D42>49%, "Hard", IF(D42<25%, "Easy", "Medium"))) -> Easy | D42: 0.05 | E42: E | F42: Geometry
... A49: 223 | B49: DS14602.01 | C49: =IF(D49>74%, "Very Hard", IF(D49>49%, "Hard", IF(D49<25%, "Easy", "Medium"))) -> Easy | D49: 0.05 | E49: C | F49: Geometry
A50: =A49+1 -> 224 | B50: DS12862 | C50: =IF(D50>74%, "Very Hard", IF(D50>49%, "Hard", IF(D50<25%, "Easy", "Medium"))) -> Easy | D50: 0.15 | E50: D | F50: Geometry
A51: =A50+1 -> 225 | B51: DS13097 | C51: =IF(D51>74%, "Very Hard", IF(D51>49%, "Hard", IF(D51<25%, "Easy", "Medium"))) -> Medium | D51: 0.35 | E51: C | F51: Coordinate Geometry
A52: =A51+1 -> 226 | B52: DS09642 | C52: =IF(D52>74%, "Very Hard", IF(D52>49%, "Hard", IF(D52<25%, "Easy", "Medium"))) -> Medium | D52: 0.25 | E52: E | F52: Functions and Custom Characters/Word Problems
A53: =A52+1 -> 227 | B53: DS08852 | C53: =IF(D53>74%, "Very Hard", IF(D53>49%, "Hard", IF(D53<25%, "Easy", "Medium"))) -> Easy | D53: 0.05 | E53: D | F53: Geometry
A54: =A53+1 -> 228 | B54: DS03989 | C54: =IF(D54>74%, "Very Hard", IF(D54>49%, "Hard", IF(D54<25%, "Easy", "Medium"))) -> Medium | D54: 0.35 | E54: C | F54: Geometry
A55: =A54+1 -> 229 | B55: DS05766 | C55: =IF(D55>74%, "Very Hard", IF(D55>49%, "Hard", IF(D55<25%, "Easy", "Medium"))) -> Medium | D55: 0.45 | E55: E | F55: Word Problems
A56: =A55+1 -> 230 | B56: DS05986 | C56: =IF(D56>74%, "Very Hard", IF(D56>49%, "Hard", IF(D56<25%, "Easy", "Medium"))) -> Medium | D56: 0.35 | E56: A | F56: Absolute Values/Modulus
A57: =A56+1 -> 231 | B57: DS08306 | C57: =IF(D57>74%, "Very Hard", IF(D57>49%, "Hard", IF(D57<25%, "Easy", "Medium"))) -> Easy | D57: 0.15 | E57: D | F57: Algebra
A58: =A57+1 -> 232 | B58: DS07568 | C58: =IF(D58>74%, "Very Hard", IF(D58>49%, "Hard", IF(D58<25%, "Easy", "Medium"))) -> Medium | D58: 0.35 | E58: E | F58: Arithmetic/Number Properties/Statistics and Sets Problems
A59: =A58+1 -> 233 | B59: DS10383 | C59: =IF(D59>74%, "Very Hard", IF(D59>49%, "Hard", IF(D59<25%, "Easy", "Medium"))) -> Medium | D59: 0.25 | E59: A | F59: Distance/Rate Problems
A60: =A59+1 -> 234 | B60: DS13907 | C60: =IF(D60>74%, "Very Hard", IF(D60>49%, "Hard", IF(D60<25%, "Easy", "Medium"))) -> Medium | D60: 0.25 | E60: D | F60: Work/Rate Problems
...

Sheet Error Log
A1: GMAT Club Guide to The GMAT Official Guide Quantitative Review 2020
A2: Question | B2: Verbal/Quant | C2: Section | D2: Difficulty Level | E2: Percentile | F2: Category | G2: Your Answer | H2: Result | I2: Completed Time
A3: 1 | B3: Quant | C3: PS | D3: =IF($G3="","",PS!C3) | E3: =IF($G3="","",PS!D3) | F3: =IF($G3="","",PS!F3) | H3: =IF(G3="","NA",IF(G3=PS!E3, "Correct","Incorrect")) -> NA
A4: 2 | B4: Quant | C4: PS | D4: =IF($G4="","",PS!C4) | E4: =IF($G4="","",PS!D4) | F4: =IF($G4="","",PS!F4) | H4: =IF(G4="","NA",IF(G4=PS!E4, "Correct","Incorrect")) -> NA
A5: 3 | B5: Quant | C5: PS | D5: =IF($G5="","",PS!C5) | E5: =IF($G5="","",PS!D5) | F5: =IF($G5="","",PS!F5) | H5: =IF(G5="","NA",IF(G5=PS!E5, "Correct","Incorrect")) -> NA
A6: 4 | B6: Quant | C6: PS | D6: =IF($G6="","",PS!C6) | E6: =IF($G6="","",PS!D6) | F6: =IF($G6="","",PS!F6) | H6: =IF(G6="","NA",IF(G6=PS!E6, "Correct","Incorrect")) -> NA
A7: 5 | B7: Quant | C7: PS | D7: =IF($G7="","",PS!C7) | E7: =IF($G7="","",PS!D7) | F7: =IF($G7="","",PS!F7) | H7: =IF(G7="","NA",IF(G7=PS!E7, "Correct","Incorrect")) -> NA
A8: 6 | B8: Quant | C8: PS | D8: =IF($G8="","",PS!C8) | E8: =IF($G8="","",PS!D8) | F8: =IF($G8="","",PS!F8) | H8: =IF(G8="","NA",IF(G8=PS!E8, "Correct","Incorrect")) -> NA
A9: 7 | B9: Quant | C9: PS | D9: =IF($G9="","",PS!C9) | E9: =IF($G9="","",PS!D9) | F9: =IF($G9="","",PS!F9) | H9: =IF(G9="","NA",IF(G9=PS!E9, "Correct","Incorrect")) -> NA
A10: 8 | B10: Quant | C10: PS | D10: =IF($G10="","",PS!C10) | E10: =IF($G10="","",PS!D10) | F10: =IF($G10="","",PS!F10) | H10: =IF(G10="","NA",IF(G10=PS!E10, "Correct","Incorrect")) -> NA
A11: 9 | B11: Quant | C11: PS | D11: =IF($G11="","",PS!C11) | E11: =IF($G11="","",PS!D11) | F11: =IF($G11="","",PS!F11) | H11: =IF(G11="","NA",IF(G11=PS!E11, "Correct","Incorrect")) -> NA
A12: 10 | B12: Quant | C12: PS | D12: =IF($G12="","",PS!C12) | E12: =IF($G12="","",PS!D12) | F12: =IF($G12="","",PS!F12) | H12: =IF(G12="","NA",IF(G12=PS!E12, "Correct","Incorrect")) -> NA
A13: 11 | B13: Quant | C13: PS | D13: =IF($G13="","",PS!C13) | E13: =IF($G13="","",PS!D13) | F13: =IF($G13="","",PS!F13) | H13: =IF(G13="","NA",IF(G13=PS!E13, "Correct","Incorrect")) -> NA
A14: 12 | B14: Quant | C14: PS | D14: =IF($G14="","",PS!C14) | E14: =IF($G14="","",PS!D14) | F14: =IF($G14="","",PS!F14) | H14: =IF(G14="","NA",IF(G14=PS!E14, "Correct","Incorrect")) -> NA
... A178: 176 | B178: Quant | C178: PS | D178: =IF($G178="","",PS!C178) | E178: =IF($G178="","",PS!D178) | F178: =IF($G178="","",PS!F178) | H178: =IF(G178="","NA",IF(G178=PS!E178, "Correct","Incorrect")) -> NA
A179: 177 | B179: Quant | C179: DS | D179: =IF($G179="","",DS!C3) | E179: =IF($G179="","",DS!D3) | F179: =IF($G179="","",DS!F3) | H179: =IF(G179="","NA",IF(G179=DS!E3, "Correct","Incorrect")) -> NA
A180: 178 | B180: Quant | C180: DS | D180: =IF($G180="","",DS!C4) | E180: =IF($G180="","",DS!D4) | F180: =IF($G180="","",DS!F4) | H180: =IF(G180="","NA",IF(G180=DS!E4, "Correct","Incorrect")) -> NA
A181: 179 | B181: Quant | C181: DS | D181: =IF($G181="","",DS!C5) | E181: =IF($G181="","",DS!D5) | F181: =IF($G181="","",DS!F5) | H181: =IF(G181="","NA",IF(G181=DS!E5, "Correct","Incorrect")) -> NA
A182: 180 | B182: Quant | C182: DS | D182: =IF($G182="","",DS!C6) | E182: =IF($G182="","",DS!D6) | F182: =IF($G182="","",DS!F6) | H182: =IF(G182="","NA",IF(G182=DS!E6, "Correct","Incorrect")) -> NA
A183: 181 | B183: Quant | C183: DS | D183: =IF($G183="","",DS!C7) | E183: =IF($G183="","",DS!D7) | F183: =IF($G183="","",DS!F7) | H183: =IF(G183="","NA",IF(G183=DS!E7, "Correct","Incorrect")) -> NA
A184: 182 | B184: Quant | C184: DS | D184: =IF($G184="","",DS!C8) | E184: =IF($G184="","",DS!D8) | F184: =IF($G184="","",DS!F8) | H184: =IF(G184="","NA",IF(G184=DS!E8, "Correct","Incorrect")) -> NA
A185: 183 | B185: Quant | C185: DS | D185: =IF($G185="","",DS!C9) | E185: =IF($G185="","",DS!D9) | F185: =IF($G185="","",DS!F9) | H185: =IF(G185="","NA",IF(G185=DS!E9, "Correct","Incorrect")) -> NA
A186: 184 | B186: Quant | C186: DS | D186: =IF($G186="","",DS!C10) | E186: =IF($G186="","",DS!D10) | F186: =IF($G186="","",DS!F10) | H186: =IF(G186="","NA",IF(G186=DS!E10, "Correct","Incorrect")) -> NA
A187: 185 | B187: Quant | C187: DS | D187: =IF($G187="","",DS!C11) | E187: =IF($G187="","",DS!D11) | F187: =IF($G187="","",DS!F11) | H187: =IF(G187="","NA",IF(G187=DS!E11, "Correct","Incorrect")) -> NA
A188: 186 | B188: Quant | C188: DS | D188: =IF($G188="","",DS!C12) | E188: =IF($G188="","",DS!D12) | F188: =IF($G188="","",DS!F12) | H188: =IF(G188="","NA",IF(G188=DS!E12, "Correct","Incorrect")) -> NA
A189: 187 | B189: Quant | C189: DS | D189: =IF($G189="","",DS!C13) | E189: =IF($G189="","",DS!D13) | F189: =IF($G189="","",DS!F13) | H189: =IF(G189="","NA",IF(G189=DS!E13, "Correct","Incorrect")) -> NA
A190: 188 | B190: Quant | C190: DS | D190: =IF($G190="","",DS!C14) | E190: =IF($G190="","",DS!D14) | F190: =IF($G190="","",DS!F14) | H190: =IF(G190="","NA",IF(G190=DS!E14, "Correct","Incorrect")) -> NA
... A270: 268 | B270: Quant | C270: DS | D270: =IF($G270="","",DS!C94) | E270: =IF($G270="","",DS!D94) | F270: =IF($G270="","",DS!F94) | H270: =IF(G270="","NA",IF(G270=DS!E94, "Correct","Incorrect")) -> NA
A271: =A270+1 -> 269 | B271: Quant | C271: DS | D271: =IF($G271="","",DS!C95) | E271: =IF($G271="","",DS!D95) | F271: =IF($G271="","",DS!F95) | H271: =IF(G271="","NA",IF(G271=DS!E95, "Correct","Incorrect")) -> NA
A272: =A271+1 -> 270 | B272: Quant | C272: DS | D272: =IF($G272="","",DS!C96) | E272: =IF($G272="","",DS!D96) | F272: =IF($G272="","",DS!F96) | H272: =IF(G272="","NA",IF(G272=DS!E96, "Correct","Incorrect")) -> NA
A273: =A272+1 -> 271 | B273: Quant | C273: DS | D273: =IF($G273="","",DS!C97) | E273: =IF($G273="","",DS!D97) | F273: =IF($G273="","",DS!F97) | H273: =IF(G273="","NA",IF(G273=DS!E97, "Correct","Incorrect")) -> NA
A274: =A273+1 -> 272 | B274: Quant | C274: DS | D274: =IF($G274="","",DS!C98) | E274: =IF($G274="","",DS!D98) | F274: =IF($G274="","",DS!F98) | H274: =IF(G274="","NA",IF(G274=DS!E98, "Correct","Incorrect")) -> NA
A275: =A274+1 -> 273 | B275: Quant | C275: DS | D275: =IF($G275="","",DS!C99) | E275: =IF($G275="","",DS!D99) | F275: =IF($G275="","",DS!F99) | H275: =IF(G275="","NA",IF(G275=DS!E99, "Correct","Incorrect")) -> NA
A276: =A275+1 -> 274 | B276: Quant | C276: DS | D276: =IF($G276="","",DS!C100) | E276: =IF($G276="","",DS!D100) | F276: =IF($G276="","",DS!F100) | H276: =IF(G276="","NA",IF(G276=DS!E100, "Correct","Incorrect")) -> NA
A277: =A276+1 -> 275 | B277: Quant | C277: DS | D277: =IF($G277="","",DS!C101) | E277: =IF($G277="","",DS!D101) | F277: =IF($G277="","",DS!F101) | H277: =IF(G277="","NA",IF(G277=DS!E101, "Correct","Incorrect")) -> NA
A278: =A277+1 -> 276 | B278: Quant | C278: DS | D278: =IF($G278="","",DS!C102) | E278: =IF($G278="","",DS!D102) | F278: =IF($G278="","",DS!F102) | H278: =IF(G278="","NA",IF(G278=DS!E102, "Correct","Incorrect")) -> NA
A279: =A278+1 -> 277 | B279: Quant | C279: DS | D279: =IF($G279="","",DS!C103) | E279: =IF($G279="","",DS!D103) | F279: =IF($G279="","",DS!F103) | H279: =IF(G279="","NA",IF(G279=DS!E103, "Correct","Incorrect")) -> NA
A280: =A279+1 -> 278 | B280: Quant | C280: DS | D280: =IF($G280="","",DS!C104) | E280: =IF($G280="","",DS!D104) | F280: =IF($G280="","",DS!F104) | H280: =IF(G280="","NA",IF(G280=DS!E104, "Correct","Incorrect")) -> NA
A281: =A280+1 -> 279 | B281: Quant | C281: DS | D281: =IF($G281="","",DS!C105) | E281: =IF($G281="","",DS!D105) | F281: =IF($G281="","",DS!F105) | H281: =IF(G281="","NA",IF(G281=DS!E105, "Correct","Incorrect")) -> NA
A282: =A281+1 -> 280 | B282: Quant | C282: DS | D282: =IF($G282="","",DS!C106) | E282: =IF($G282="","",DS!D106) | F282: =IF($G282="","",DS!F106) | H282: =IF(G282="","NA",IF(G282=DS!E106, "Correct","Incorrect")) -> NA
...

Sheet Analysis
A1: GMAT Club Guide to The GMAT Official Guide Quantitative Review 2020
A3: Table 1. Analysis Table with General Information | AF3: Difficult level | AG3: Answer Choice | AH3: Section | AI3: Timer precise
AF4: Easy | AG4: A | AH4: PS | AI4: 0
A5: Section | B5: Sub-Section | C5: Result | G5: Your avg. Time | AF5: Medium | AG5: B | AH5: DS | AI5: 1
C6: Correct | D6: Incorrect | E6: NA | F6: Grand Total | AF6: Hard | AG6: C | AH6: RC
A7: Quant | B7: PS | C7: =COUNTIFS('Error Log'!$H$3:$H$321,C$6,'Error Log'!$C$3:$C$321,$B7) -> 0 | D7: =COUNTIFS('Error Log'!$H$3:$H$321,D$6,'Error Log'!$C$3:$C$321,$B7) -> 0 | E7: =COUNTIFS('Error Log'!$H$3:$H$321,E$6,'Error Log'!$C$3:$C$321,$B7) -> 176 | F7: =SUM(C7:E7) -> 176 | G7: =IFERROR(AVERAGEIFS('Error Log'!$I$3:$I$321,'Error Log'!$C$3:$C$321,Analysis!B7,'Error Log'!$G$3:$G$321,"<>"),0) -> 0 | AF7: Very Hard | AG7: D | AH7: CR
B8: DS | C8: =COUNTIFS('Error Log'!$H$3:$H$321,C$6,'Error Log'!$C$3:$C$321,$B8) -> 0 | D8: =COUNTIFS('Error Log'!$H$3:$H$321,D$6,'Error Log'!$C$3:$C$321,$B8) -> 0 | E8: 143 | F8: =SUM(C8:E8) -> 143 | G8: =IFERROR(AVERAGEIFS('Error Log'!$I$3:$I$321,'Error Log'!$C$3:$C$321,Analysis!B8,'Error Log'!$G$3:$G$321,"<>"),0) -> 0 | AF8: N/A | AG8: E | AH8: SC
A9: Quant Total | C9: =SUM(C7:C8) -> 0 | D9: =SUM(D7:D8) -> 0 | E9: =SUM(E7:E8) -> 319 | F9: =SUM(C9:E9) -> 319 | G9: =IFERROR(AVERAGEIFS('Error Log'!$I$3:$I$321,'Error Log'!$B$3:$B$321,"Quant",'Error Log'!$G$3:$G$321,"<>"),0) -> 0 | AH9: Practice
A12: Figure 2.
A33: Table 3. Analysis table with difficult level
A35: Section | B35: Sub-Section | C35: Difficult Level | D35: Result | G35: Grand Total | H35: Your avg. Time
D36: Correct | E36: Incorrect | F36: NA
A37: Quant | B37: PS | C37: Easy | D37: =COUNTIFS('Error Log'!$H$3:$H$321,D$36,'Error Log'!$C$3:$C$321,$B$37,'Error Log'!$D$3:$D$321,$C37) -> 0 | E37: =COUNTIFS('Error Log'!$H$3:$H$321,E$36,'Error Log'!$C$3:$C$321,$B$37,'Error Log'!$D$3:$D$321,C37) -> 0 | F37: =COUNTIFS('Error Log'!$H$3:$H$321,F$36,'Error Log'!$C$3:$C$321,$B$37,'Error Log'!$D$3:$D$321,C37) -> 0 | G37: =SUM(D37:F37) -> 0 | H37: =IFERROR(AVERAGEIFS('Error Log'!$I$3:$I$321,'Error Log'!$C$3:$C$321,Analysis!B37,'Error Log'!$G$3:$G$321,"<>",'Error Log'!$D$3:$D$321,C37),0) -> 0
C38: Medium | D38: =COUNTIFS('Error Log'!$H$3:$H$321,D$36,'Error Log'!$C$3:$C$321,$B$37,'Error Log'!$D$3:$D$321,$C38) -> 0 | E38: =COUNTIFS('Error Log'!$H$3:$H$321,E$36,'Error Log'!$C$3:$C$321,$B$37,'Error Log'!$D$3:$D$321,C38) -> 0 | F38: =COUNTIFS('Error Log'!$H$3:$H$321,F$36,'Error Log'!$C$3:$C$321,$B$37,'Error Log'!$D$3:$D$321,C38) -> 0 | G38: =SUM(D38:F38) -> 0 | H38: =IFERROR(AVERAGEIFS('Error Log'!$I$3:$I$321,'Error Log'!$C$3:$C$321,Analysis!B37,'Error Log'!$G$3:$G$321,"<>",'Error Log'!$D$3:$D$321,C38),0) -> 0
C39: Hard | D39: =COUNTIFS('Error Log'!$H$3:$H$321,D$36,'Error Log'!$C$3:$C$321,$B$37,'Error Log'!$D$3:$D$321,$C39) -> 0 | E39: =COUNTIFS('Error Log'!$H$3:$H$321,E$36,'Error Log'!$C$3:$C$321,$B$37,'Error Log'!$D$3:$D$321,C39) -> 0 | F39: =COUNTIFS('Error Log'!$H$3:$H$321,F$36,'Error Log'!$C$3:$C$321,$B$37,'Error Log'!$D$3:$D$321,C39) -> 0 | G39: =SUM(D39:F39) -> 0 | H39: =IFERROR(AVERAGEIFS('Error Log'!$I$3:$I$321,'Error Log'!$C$3:$C$321,Analysis!B37,'Error Log'!$G$3:$G$321,"<>",'Error Log'!$D$3:$D$321,C39),0) -> 0
C40: Very Hard | D40: =COUNTIFS('Error Log'!$H$3:$H$321,D$36,'Error Log'!$C$3:$C$321,$B$37,'Error Log'!$D$3:$D$321,$C40) -> 0 | E40: =COUNTIFS('Error Log'!$H$3:$H$321,E$36,'Error Log'!$C$3:$C$321,$B$37,'Error Log'!$D$3:$D$321,C40) -> 0 | F40: =COUNTIFS('Error Log'!$H$3:$H$321,F$36,'Error Log'!$C$3:$C$321,$B$37,'Error Log'!$D$3:$D$321,C40) -> 0 | G40: =SUM(D40:F40) -> 0 | H40: =IFERROR(AVERAGEIFS('Error Log'!$I$3:$I$321,'Error Log'!$C$3:$C$321,Analysis!B37,'Error Log'!$G$3:$G$321,"<>",'Error Log'!$D$3:$D$321,C40),0) -> 0
C41: N/A | D41: =COUNTIFS('Error Log'!$H$3:$H$321,D$36,'Error Log'!$C$3:$C$321,$B$37,'Error Log'!$D$3:$D$321,$C41) -> 0 | E41: =COUNTIFS('Error Log'!$H$3:$H$321,E$36,'Error Log'!$C$3:$C$321,$B$37,'Error Log'!$D$3:$D$321,C41) -> 0 | F41: =COUNTIFS('Error Log'!$H$3:$H$321,F$36,'Error Log'!$C$3:$C$321,$B$37,'Error Log'!$D$3:$D$321,C41) -> 0 | G41: =SUM(D41:F41) -> 0 | H41: =IFERROR(AVERAGEIFS('Error Log'!$I$3:$I$321,'Error Log'!$C$3:$C$321,Analysis!B37,'Error Log'!$G$3:$G$321,"<>",'Error Log'!$D$3:$D$321,C41),0) -> 0
B42: DS | C42: Easy | D42: =COUNTIFS('Error Log'!$H$3:$H$321,D$36,'Error Log'!$C$3:$C$321,B42,'Error Log'!$D$3:$D$321,$C42) -> 0 | E42: =COUNTIFS('Error Log'!$H$3:$H$321,E$36,'Error Log'!$C$3:$C$321,$B$42,'Error Log'!$D$3:$D$321,$C42) -> 0 | F42: =COUNTIFS('Error Log'!$H$3:$H$321,F$36,'Error Log'!$C$3:$C$321,$B$42,'Error Log'!$D$3:$D$321,$C42) -> 0 | G42: =SUM(D42:F42) -> 0 | H42: =IFERROR(AVERAGEIFS('Error Log'!$I$3:$I$321,'Error Log'!$C$3:$C$321,Analysis!B42,'Error Log'!$G$3:$G$321,"<>",'Error Log'!$D$3:$D$321,C42),0) -> 0
C43: Medium | D43: =COUNTIFS('Error Log'!$H$3:$H$321,D$36,'Error Log'!$C$3:$C$321,B43,'Error Log'!$D$3:$D$321,$C43) -> 0 | E43: =COUNTIFS('Error Log'!$H$3:$H$321,E$36,'Error Log'!$C$3:$C$321,$B$42,'Error Log'!$D$3:$D$321,$C43) -> 0 | F43: =COUNTIFS('Error Log'!$H$3:$H$321,F$36,'Error Log'!$C$3:$C$321,$B$42,'Error Log'!$D$3:$D$321,$C43) -> 0 | G43: =SUM(D43:F43) -> 0 | H43: =IFERROR(AVERAGEIFS('Error Log'!$I$3:$I$321,'Error Log'!$C$3:$C$321,Analysis!B42,'Error Log'!$G$3:$G$321,"<>",'Error Log'!$D$3:$D$321,C43),0) -> 0
C44: Hard | D44: =COUNTIFS('Error Log'!$H$3:$H$321,D$36,'Error Log'!$C$3:$C$321,B44,'Error Log'!$D$3:$D$321,$C44) -> 0 | E44: =COUNTIFS('Error Log'!$H$3:$H$321,E$36,'Error Log'!$C$3:$C$321,$B$42,'Error Log'!$D$3:$D$321,$C44) -> 0 | F44: =COUNTIFS('Error Log'!$H$3:$H$321,F$36,'Error Log'!$C$3:$C$321,$B$42,'Error Log'!$D$3:$D$321,$C44) -> 0 | G44: =SUM(D44:F44) -> 0 | H44: =IFERROR(AVERAGEIFS('Error Log'!$I$3:$I$321,'Error Log'!$C$3:$C$321,Analysis!B42,'Error Log'!$G$3:$G$321,"<>",'Error Log'!$D$3:$D$321,C44),0) -> 0
C45: Very Hard | D45: =COUNTIFS('Error Log'!$H$3:$H$321,D$36,'Error Log'!$C$3:$C$321,B45,'Error Log'!$D$3:$D$321,$C45) -> 0 | E45: =COUNTIFS('Error Log'!$H$3:$H$321,E$36,'Error Log'!$C$3:$C$321,$B$42,'Error Log'!$D$3:$D$321,$C45) -> 0 | F45: =COUNTIFS('Error Log'!$H$3:$H$321,F$36,'Error Log'!$C$3:$C$321,$B$42,'Error Log'!$D$3:$D$321,$C45) -> 0 | G45: =SUM(D45:F45) -> 0 | H45: =IFERROR(AVERAGEIFS('Error Log'!$I$3:$I$321,'Error Log'!$C$3:$C$321,Analysis!B42,'Error Log'!$G$3:$G$321,"<>",'Error Log'!$D$3:$D$321,C45),0) -> 0
C46: N/A | D46: =COUNTIFS('Error Log'!$H$3:$H$321,D$36,'Error Log'!$C$3:$C$321,B46,'Error Log'!$D$3:$D$321,$C46) -> 0 | E46: =COUNTIFS('Error Log'!$H$3:$H$321,E$36,'Error Log'!$C$3:$C$321,$B$42,'Error Log'!$D$3:$D$321,$C46) -> 0 | F46: =COUNTIFS('Error Log'!$H$3:$H$321,F$36,'Error Log'!$C$3:$C$321,$B$42,'Error Log'!$D$3:$D$321,$C46) -> 0 | G46: =SUM(D46:F46) -> 0 | H46: =IFERROR(AVERAGEIFS('Error Log'!$I$3:$I$321,'Error Log'!$C$3:$C$321,Analysis!B42,'Error Log'!$G$3:$G$321,"<>",'Error Log'!$D$3:$D$321,C46),0) -> 0
A47: Quant Total | D47: =SUM(D37:D46) -> 0 | E47: =SUM(E37:E46) -> 0 | F47: =SUM(F37:F46) -> 0 | G47: =SUM(G37:G46) -> 0 | H47: =IFERROR(AVERAGEIFS('Error Log'!$I$3:$I$321,'Error Log'!$B$3:$B$321,"Quant",'Error Log'!$G$3:$G$321,"<>"),0) -> 0
