Workbook
Name CorrectR: GMAT_Error_Log!#REF!
Name DiffR: GMAT_Error_Log!#REF!
Name SubTypeR: GMAT_Error_Log!#REF!
Name TTR: GMAT_Error_Log!#REF!
Name TypeR: GMAT_Error_Log!#REF!

Sheet GMAT_Error_Log
B1: Forum name | C1: Link to question | D1: Date | E1: Time taken | F1: Solution | G1: My Answer | H1: Official Answer | I1: Difficulty | J1: Source | K1: Topic name | L1: Notes

Sheet Lists
B9: SC | C9: CR | D9: PS | E9: DS | F9: Reading | G9: OA | H9: Type | I9: Test
B10: Absolute Phrase | C10: Assumption | D10: Absolute Value | E10: Absolute Value | F10: Main Idea | G10: A | H10: CR | I10: GMATPrep
B11: Adjectives and Adverbs | C11: Bold Face CR | D11: Algebra | E11: Algebra | F11: Inference | G11: B | H11: SC | I11: MGMAT
B12: Clauses | C12: Cause and Effect | D12: Arithmetic | E12: Arithmetic | F12: Explicit Detail | G12: C | H12: DS | I12: Kaplan
B13: Comparisons | C13: Complete the Passage | D13: Combinations | E13: Combinations | F13: Author's Tone | G13: D | H13: Reading | I13: Princeton
B14: Conjunctions | C14: Conclusion | D14: Coordinate Geometry | E14: Coordinate Geometry | F14: Logical structure | G14: E | H14: PS
B15: Construction | C15: Evaluate Argument | D15: Distance/Rate Problems | E15: Distance/Rate Problems | F15: Application
B16: Diction | C16: EXCEPT | D16: Divisibility/Multiples/Factors | E16: Divisibility/Multiples/Factors | F16: Evaluation
B17: Gerund | C17: Inference | D17: Exponents/Powers | E17: Exponents/Powers
B18: Grammatical Construction | C18: Logical Flaw | D18: Fractions/Ratios/Decimals | E18: Fractions/Ratios/Decimals
B19: Idioms | C19: Method of Reasoning | D19: Functions and Custom Characters | E19: Functions and Custom Characters
B20: If-Then | C20: Must be True | D20: Geometry | E20: Geometry
B21: Infinitive | C21: Numbers & Percent | D21: Graphs and Illustrations | E21: Graphs and Illustrations
B22: Meaning | C22: Resolve Paradox | D22: Inequalities | E22: Inequalities
B23: Modifiers | C23: Similar Reasoning | D23: Min/Max Problems | E23: Min/Max Problems
B24: Nouns | C24: Strengthen | D24: Mixture Problems | E24: Mixture Problems
B25: Pronouns | C25: Weaken | D25: Must or Could be True Questions | E25: Must or Could be True Questions
B26: Parallel Structure | D26: Number Properties | E26: Number Properties
B27: Participle Parallelism | D27: Overlapping Sets | E27: Overlapping Sets
B28: Punctuation | D28: Percent and Interest Problems | E28: Percent and Interest Problems
B29: Redundancy | D29: Probability | E29: Probability
B30: Subject Verb Agreement | D30: Remainders | E30: Remainders
B31: Subjunctive | D31: Roots | E31: Roots
B32: Such as/Like | D32: Sequences | E32: Sequences
B33: Use of Being | D33: Statistics and Sets Problems | E33: Statistics and Sets Problems
B34: Verb Tense/Form | D34: Word Problems | E34: Word Problems
B35: Verb Voice | D35: Work/Rate Problems | E35: Work/Rate Problems
B36: Which/That

Sheet Consolidated
A1: SC | J1: CR | S1: DS | AB1: PS | AK1: RC
J2: Question Type | K2: Sub-Type | L2: Total | M2: Correct | N2: % | S2: Question Type | T2: Sub-Type | U2: Total | V2: Correct | W2: % | AB2: Question Type | AC2: Sub-Type | AD2: Total | AE2: Correct | AF2: % | AK2: Question Type | AL2: Sub-Type | AM2: Total | AN2: Correct | AO2: %
A3: Question Type | B3: Sub-Type | C3: Total | D3: Correct | E3: % | J3: Critical Reasoning (CR) | K3: =IF(Lists!$C10="", "",Lists!$C10 ) -> Assumption | L3: =COUNTIFS(TypeR,$J$3,SubTypeR,"*"&K3&"*") -> #REF! | M3: =COUNTIFS(TypeR,$J$3,SubTypeR,"*"&K3&"*",CorrectR,"Correct") -> #REF! | N3: =IF(AND(L3<>0, L3<> ""),M3/L3,"") -> #REF! | S3: Data Sufficiency (DS) | T3: =IF(Lists!D14="", "",Lists!D14 ) -> Coordinate Geometry | U3: =COUNTIFS(TypeR,$S$3,SubTypeR,"*"&T3&"*") -> #REF! | V3: =COUNTIFS(TypeR,$S$3,SubTypeR,"*"&T3&"*",CorrectR,"Correct") -> #REF! | W3: =IF(AND(U3<>0, U3<> ""),V3/U3,"") -> #REF! | AB3: Problem Solving (PS) | AC3: =IF(Lists!D15="", "",Lists!D15 ) -> Distance/Rate Problems | AD3: =COUNTIFS(TypeR,$AB$3,SubTypeR,"*"&AC3&"*") -> #REF! | AE3: =COUNTIFS(TypeR,$AB$3,SubTypeR,"*"&AC3&"*",CorrectR,"Correct") -> #REF! | AF3: =IF(AND(AD3<>0, AD3<> ""),AE3/AD3,"") -> #REF! | AK3: Reading Comprehension (RC) | AL3: =IF([1]Lists!F10="", "",[1]Lists!F10 ) -> Main Idea | AM3: =COUNTIFS(TypeR,AK3,SubTypeR,"*"&AL3&"*") -> #REF! | AN3: =COUNTIFS(SubTypeR,"*"&AL3&"*",CorrectR,"Correct") -> #REF! | AO3: =IF(AND(AM3<>0, AM3<> ""),AN3/AM3,"") -> #REF!
A4: Sentence Correction (SC) | B4: =IF(Lists!$B10="", "",Lists!$B10 ) -> Absolute Phrase | C4: =COUNTIFS(TypeR,$A$4,SubTypeR,"*"&B4&"*") -> #REF! | D4: =COUNTIFS(TypeR,$A$4,SubTypeR,"*"&B4&"*",CorrectR,"Correct") -> #REF! | E4: =IF(AND(C4<>0, C4<> ""),D4/C4,"") -> #REF! | K4: =IF(Lists!C11="", "",Lists!C11 ) -> Bold Face CR | L4: =COUNTIFS(TypeR,$J$3,SubTypeR,"*"&K4&"*") -> #REF! | M4: =COUNTIFS(TypeR,$J$3,SubTypeR,"*"&K4&"*",CorrectR,"Correct") -> #REF! | N4: =IF(AND(L4<>0, L4<> ""),M4/L4,"") -> #REF! | T4: =IF(Lists!D20="", "",Lists!D20 ) -> Geometry | U4: =COUNTIFS(TypeR,$S$3,SubTypeR,"*"&T4&"*") -> #REF! | V4: =COUNTIFS(TypeR,$S$3,SubTypeR,"*"&T4&"*",CorrectR,"Correct") -> #REF! | W4: =IF(AND(U4<>0, U4<> ""),V4/U4,"") -> #REF! | AC4: =IF(Lists!D27="", "",Lists!D27 ) -> Overlapping Sets | AD4: =COUNTIFS(TypeR,$AB$3,SubTypeR,"*"&AC4&"*") -> #REF! | AE4: =COUNTIFS(TypeR,$AB$3,SubTypeR,"*"&AC4&"*",CorrectR,"Correct") -> #REF! | AF4: =IF(AND(AD4<>0, AD4<> ""),AE4/AD4,"") -> #REF! | AL4: =IF([1]Lists!F11="", "",[1]Lists!F11) -> Inference | AM4: =IF(AL4<> "",(SUMPRODUCT((TypeR=AK3)*(SubTypeR=AL4))), "") -> #REF! | AN4: =IF(AL4<> "",SUMPRODUCT((TypeR=AK3)*(CorrectR="Yes")*(SubTypeR=AL4)),"") -> #REF! | AO4: =IF(AND(AM4<>0, AM4<> ""),AN4/AM4,"") -> #REF!
B5: =IF(Lists!$B11="", "",Lists!$B11 ) -> Adjectives and Adverbs | C5: =COUNTIFS(TypeR,$A$4,SubTypeR,"*"&B5&"*") -> #REF! | D5: =COUNTIFS(TypeR,$A$4,SubTypeR,"*"&B5&"*",CorrectR,"Correct") -> #REF! | E5: =IF(AND(C5<>0, C5<> ""),D5/C5,"") -> #REF! | K5: =IF(Lists!C12="", "",Lists!C12 ) -> Cause and Effect | L5: =COUNTIFS(TypeR,$J$3,SubTypeR,"*"&K5&"*") -> #REF! | M5: =COUNTIFS(TypeR,$J$3,SubTypeR,"*"&K5&"*",CorrectR,"Correct") -> #REF! | N5: =IF(AND(L5<>0, L5<> ""),M5/L5,"") -> #REF! | T5: =IF(Lists!D24="", "",Lists!D24 ) -> Mixture Problems | U5: =COUNTIFS(TypeR,$S$3,SubTypeR,"*"&T5&"*") -> #REF! | V5: =COUNTIFS(TypeR,$S$3,SubTypeR,"*"&T5&"*",CorrectR,"Correct") -> #REF! | W5: =IF(AND(U5<>0, U5<> ""),V5/U5,"") -> #REF! | AC5: =IF(Lists!D16="", "",Lists!D16 ) -> Divisibility/Multiples/Factors | AD5: =COUNTIFS(TypeR,$AB$3,SubTypeR,"*"&AC5&"*") -> #REF! | AE5: =COUNTIFS(TypeR,$AB$3,SubTypeR,"*"&AC5&"*",CorrectR,"Correct") -> #REF! | AF5: =IF(AND(AD5<>0, AD5<> ""),AE5/AD5,"") -> #REF! | AL5: =IF([1]Lists!F12="", "",[1]Lists!F12 ) -> Explicit Detail | AM5: =IF(AL5<> "",(SUMPRODUCT((TypeR=AK3)*(SubTypeR=AL5))), "") -> #REF! | AN5: =IF(AL5<> "",SUMPRODUCT((TypeR=AK3)*(CorrectR="Yes")*(SubTypeR=AL5)),"") -> #REF! | AO5: =IF(AND(AM5<>0, AM5<> ""),AN5/AM5,"") -> #REF!
B6: =IF(Lists!$B12="", "",Lists!$B12 ) -> Clauses | C6: =COUNTIFS(TypeR,$A$4,SubTypeR,"*"&B6&"*") -> #REF! | D6: =COUNTIFS(TypeR,$A$4,SubTypeR,"*"&B6&"*",CorrectR,"Correct") -> #REF! | E6: =IF(AND(C6<>0, C6<> ""),D6/C6,"") -> #REF! | K6: =IF(Lists!$C13="", "",Lists!$C13 ) -> Complete the Passage | L6: =COUNTIFS(TypeR,$J$3,SubTypeR,"*"&K6&"*") -> #REF! | M6: =COUNTIFS(TypeR,$J$3,SubTypeR,"*"&K6&"*",CorrectR,"Correct") -> #REF! | N6: =IF(AND(L6<>0, L6<> ""),M6/L6,"") -> #REF! | T6: =IF(Lists!D27="", "",Lists!D27 ) -> Overlapping Sets | U6: =COUNTIFS(TypeR,$S$3,SubTypeR,"*"&T6&"*") -> #REF! | V6: =COUNTIFS(TypeR,$S$3,SubTypeR,"*"&T6&"*",CorrectR,"Correct") -> #REF! | W6: =IF(AND(U6<>0, U6<> ""),V6/U6,"") -> #REF! | AC6: =IF(Lists!D17="", "",Lists!D17 ) -> Exponents/Powers | AD6: =COUNTIFS(TypeR,$AB$3,SubTypeR,"*"&AC6&"*") -> #REF! | AE6: =COUNTIFS(TypeR,$AB$3,SubTypeR,"*"&AC6&"*",CorrectR,"Correct") -> #REF! | AF6: =IF(AND(AD6<>0, AD6<> ""),AE6/AD6,"") -> #REF! | AL6: =IF([1]Lists!F13="", "",[1]Lists!F13) -> Author's Tone | AM6: =IF(AL6<> "",(SUMPRODUCT((TypeR=AK3)*(SubTypeR=AL6))), "") -> #REF! | AN6: =IF(AL6<> "",SUMPRODUCT((TypeR=AK3)*(CorrectR="Yes")*(SubTypeR=AL6)),"") -> #REF! | AO6: =IF(AND(AM6<>0, AM6<> ""),AN6/AM6,"") -> #REF!
B7: =IF(Lists!$B13="", "",Lists!$B13 ) -> Comparisons | C7: =COUNTIFS(TypeR,$A$4,SubTypeR,"*"&B7&"*") -> #REF! | D7: =COUNTIFS(TypeR,$A$4,SubTypeR,"*"&B7&"*",CorrectR,"Correct") -> #REF! | E7: =IF(AND(C7<>0, C7<> ""),D7/C7,"") -> #REF! | K7: =IF(Lists!C14="", "",Lists!C14 ) -> Conclusion | L7: =COUNTIFS(TypeR,$J$3,SubTypeR,"*"&K7&"*") -> #REF! | M7: =COUNTIFS(TypeR,$J$3,SubTypeR,"*"&K7&"*",CorrectR,"Correct") -> #REF! | N7: =IF(AND(L7<>0, L7<> ""),M7/L7,"") -> #REF! | T7: =IF(Lists!D32="", "",Lists!D32 ) -> Sequences | U7: =COUNTIFS(TypeR,$S$3,SubTypeR,"*"&T7&"*") -> #REF! | V7: =COUNTIFS(TypeR,$S$3,SubTypeR,"*"&T7&"*",CorrectR,"Correct") -> #REF! | W7: =IF(AND(U7<>0, U7<> ""),V7/U7,"") -> #REF! | AC7: =IF(Lists!D32="", "",Lists!D32 ) -> Sequences | AD7: =COUNTIFS(TypeR,$AB$3,SubTypeR,"*"&AC7&"*") -> #REF! | AE7: =COUNTIFS(TypeR,$AB$3,SubTypeR,"*"&AC7&"*",CorrectR,"Correct") -> #REF! | AF7: =IF(AND(AD7<>0, AD7<> ""),AE7/AD7,"") -> #REF! | AL7: =IF([1]Lists!F14="", "",[1]Lists!F14 ) -> Logical structure | AM7: =IF(AL7<> "",(SUMPRODUCT((TypeR=AK3)*(SubTypeR=AL7))), "") -> #REF! | AN7: =IF(AL7<> "",SUMPRODUCT((TypeR=AK3)*(CorrectR="Yes")*(SubTypeR=AL7)),"") -> #REF! | AO7: =IF(AND(AM7<>0, AM7<> ""),AN7/AM7,"") -> #REF!
B8: =IF(Lists!$B14="", "",Lists!$B14 ) -> Conjunctions | C8: =COUNTIFS(TypeR,$A$4,SubTypeR,"*"&B8&"*") -> #REF! | D8: =COUNTIFS(TypeR,$A$4,SubTypeR,"*"&B8&"*",CorrectR,"Correct") -> #REF! | E8: =IF(AND(C8<>0, C8<> ""),D8/C8,"") -> #REF! | K8: =IF(Lists!C15="", "",Lists!C15 ) -> Evaluate Argument | L8: =COUNTIFS(TypeR,$J$3,SubTypeR,"*"&K8&"*") -> #REF! | M8: =COUNTIFS(TypeR,$J$3,SubTypeR,"*"&K8&"*",CorrectR,"Correct") -> #REF! | N8: =IF(AND(L8<>0, L8<> ""),M8/L8,"") -> #REF! | T8: =IF(Lists!D17="", "",Lists!D17 ) -> Exponents/Powers | U8: =COUNTIFS(TypeR,$S$3,SubTypeR,"*"&T8&"*") -> #REF! | V8: =COUNTIFS(TypeR,$S$3,SubTypeR,"*"&T8&"*",CorrectR,"Correct") -> #REF! | W8: =IF(AND(U8<>0, U8<> ""),V8/U8,"") -> #REF! | AC8: =IF(Lists!D18="", "",Lists!D18 ) -> Fractions/Ratios/Decimals | AD8: =COUNTIFS(TypeR,$AB$3,SubTypeR,"*"&AC8&"*") -> #REF! | AE8: =COUNTIFS(TypeR,$AB$3,SubTypeR,"*"&AC8&"*",CorrectR,"Correct") -> #REF! | AF8: =IF(AND(AD8<>0, AD8<> ""),AE8/AD8,"") -> #REF! | AL8: =IF([1]Lists!F15="", "",[1]Lists!F15) -> Application | AM8: =IF(AL8<> "",(SUMPRODUCT((TypeR=AK3)*(SubTypeR=AL8))), "") -> #REF! | AN8: =IF(AL8<> "",SUMPRODUCT((TypeR=AK3)*(CorrectR="Yes")*(SubTypeR=AL8)),"") -> #REF! | AO8: =IF(AND(AM8<>0, AM8<> ""),AN8/AM8,"") -> #REF!
B9: =IF(Lists!$B15="", "",Lists!$B15 ) -> Construction | C9: =COUNTIFS(TypeR,$A$4,SubTypeR,"*"&B9&"*") -> #REF! | D9: =COUNTIFS(TypeR,$A$4,SubTypeR,"*"&B9&"*",CorrectR,"Correct") -> #REF! | E9: =IF(AND(C9<>0, C9<> ""),D9/C9,"") -> #REF! | K9: =IF(Lists!C16="", "",Lists!C16 ) -> EXCEPT | L9: =COUNTIFS(TypeR,$J$3,SubTypeR,"*"&K9&"*") -> #REF! | M9: =COUNTIFS(TypeR,$J$3,SubTypeR,"*"&K9&"*",CorrectR,"Correct") -> #REF! | N9: =IF(AND(L9<>0, L9<> ""),M9/L9,"") -> #REF! | T9: =IF(Lists!D22="", "",Lists!D22 ) -> Inequalities | U9: =COUNTIFS(TypeR,$S$3,SubTypeR,"*"&T9&"*") -> #REF! | V9: =COUNTIFS(TypeR,$S$3,SubTypeR,"*"&T9&"*",CorrectR,"Correct") -> #REF! | W9: =IF(AND(U9<>0, U9<> ""),V9/U9,"") -> #REF! | AC9: =IF(Lists!D35="", "",Lists!D35 ) -> Work/Rate Problems | AD9: =COUNTIFS(TypeR,$AB$3,SubTypeR,"*"&AC9&"*") -> #REF! | AE9: =COUNTIFS(TypeR,$AB$3,SubTypeR,"*"&AC9&"*",CorrectR,"Correct") -> #REF! | AF9: =IF(AND(AD9<>0, AD9<> ""),AE9/AD9,"") -> #REF! | AL9: =IF([1]Lists!F16="", "",[1]Lists!F16 ) -> Evaluation | AM9: =IF(AL9<> "",(SUMPRODUCT((TypeR=AK3)*(SubTypeR=AL9))), "") -> #REF! | AN9: =IF(AL9<> "",SUMPRODUCT((TypeR=AK3)*(CorrectR="Yes")*(SubTypeR=AL9)),"") -> #REF! | AO9: =IF(AND(AM9<>0, AM9<> ""),AN9/AM9,"") -> #REF!
B10: =IF(Lists!$B16="", "",Lists!$B16 ) -> Diction | C10: =COUNTIFS(TypeR,$A$4,SubTypeR,"*"&B10&"*") -> #REF! | D10: =COUNTIFS(TypeR,$A$4,SubTypeR,"*"&B10&"*",CorrectR,"Correct") -> #REF! | E10: =IF(AND(C10<>0, C10<> ""),D10/C10,"") -> #REF! | K10: =IF(Lists!C17="", "",Lists!C17 ) -> Inference | L10: =COUNTIFS(TypeR,$J$3,SubTypeR,"*"&K10&"*") -> #REF! | M10: =COUNTIFS(TypeR,$J$3,SubTypeR,"*"&K10&"*",CorrectR,"Correct") -> #REF! | N10: =IF(AND(L10<>0, L10<> ""),M10/L10,"") -> #REF! | T10: =IF(Lists!D10="", "",Lists!D10 ) -> Absolute Value | U10: =COUNTIFS(TypeR,$S$3,SubTypeR,"*"&T10&"*") -> #REF! | V10: =COUNTIFS(TypeR,$S$3,SubTypeR,"*"&T10&"*",CorrectR,"Correct") -> #REF! | W10: =IF(AND(U10<>0, U10<> ""),V10/U10,"") -> #REF! | AC10: =IF(Lists!D25="", "",Lists!D25 ) -> Must or Could be True Questions | AD10: =COUNTIFS(TypeR,$AB$3,SubTypeR,"*"&AC10&"*") -> #REF! | AE10: =COUNTIFS(TypeR,$AB$3,SubTypeR,"*"&AC10&"*",CorrectR,"Correct") -> #REF! | AF10: =IF(AND(AD10<>0, AD10<> ""),AE10/AD10,"") -> #REF! | AL10: =IF([1]Lists!F17="", "",[1]Lists!F17) | AM10: =IF(AL10<> "",(SUMPRODUCT((TypeR=AK3)*(SubTypeR=AL10))), "") | AN10: =IF(AL10<> "",SUMPRODUCT((TypeR=AK3)*(CorrectR="Yes")*(SubTypeR=AL10)),"") | AO10: =IF(AND(AM10<>0, AM10<> ""),AN10/AM10,"")
B11: =IF(Lists!$B17="", "",Lists!$B17 ) -> Gerund | C11: =COUNTIFS(TypeR,$A$4,SubTypeR,"*"&B11&"*") -> #REF! | D11: =COUNTIFS(TypeR,$A$4,SubTypeR,"*"&B11&"*",CorrectR,"Correct") -> #REF! | E11: =IF(AND(C11<>0, C11<> ""),D11/C11,"") -> #REF! | K11: =IF(Lists!C18="", "",Lists!C18 ) -> Logical Flaw | L11: =COUNTIFS(TypeR,$J$3,SubTypeR,"*"&K11&"*") -> #REF! | M11: =COUNTIFS(TypeR,$J$3,SubTypeR,"*"&K11&"*",CorrectR,"Correct") -> #REF! | N11: =IF(AND(L11<>0, L11<> ""),M11/L11,"") -> #REF! | T11: =IF(Lists!D11="", "",Lists!D11 ) -> Algebra | U11: =COUNTIFS(TypeR,$S$3,SubTypeR,"*"&T11&"*") -> #REF! | V11: =COUNTIFS(TypeR,$S$3,SubTypeR,"*"&T11&"*",CorrectR,"Correct") -> #REF! | W11: =IF(AND(U11<>0, U11<> ""),V11/U11,"") -> #REF! | AC11: =IF(Lists!D30="", "",Lists!D30 ) -> Remainders | AD11: =COUNTIFS(TypeR,$AB$3,SubTypeR,"*"&AC11&"*") -> #REF! | AE11: =COUNTIFS(TypeR,$AB$3,SubTypeR,"*"&AC11&"*",CorrectR,"Correct") -> #REF! | AF11: =IF(AND(AD11<>0, AD11<> ""),AE11/AD11,"") -> #REF! | AL11: =IF([1]Lists!F18="", "",[1]Lists!F18 ) | AM11: =IF(AL11<> "",(SUMPRODUCT((TypeR=AK3)*(SubTypeR=AL11))), "") | AN11: =IF(AL11<> "",SUMPRODUCT((TypeR=AK3)*(CorrectR="Yes")*(SubTypeR=AL11)),"") | AO11: =IF(AND(AM11<>0, AM11<> ""),AN11/AM11,"")
B12: =IF(Lists!$B18="", "",Lists!$B18 ) -> Grammatical Construction | C12: =COUNTIFS(TypeR,$A$4,SubTypeR,"*"&B12&"*") -> #REF! | D12: =COUNTIFS(TypeR,$A$4,SubTypeR,"*"&B12&"*",CorrectR,"Correct") -> #REF! | E12: =IF(AND(C12<>0, C12<> ""),D12/C12,"") -> #REF! | K12: =IF(Lists!C19="", "",Lists!C19 ) -> Method of Reasoning | L12: =COUNTIFS(TypeR,$J$3,SubTypeR,"*"&K12&"*") -> #REF! | M12: =COUNTIFS(TypeR,$J$3,SubTypeR,"*"&K12&"*",CorrectR,"Correct") -> #REF! | N12: =IF(AND(L12<>0, L12<> ""),M12/L12,"") -> #REF! | T12: =IF(Lists!D34="", "",Lists!D34 ) -> Word Problems | U12: =COUNTIFS(TypeR,$S$3,SubTypeR,"*"&T12&"*") -> #REF! | V12: =COUNTIFS(TypeR,$S$3,SubTypeR,"*"&T12&"*",CorrectR,"Correct") -> #REF! | W12: =IF(AND(U12<>0, U12<> ""),V12/U12,"") -> #REF! | AC12: =IF(Lists!D20="", "",Lists!D20 ) -> Geometry | AD12: =COUNTIFS(TypeR,$AB$3,SubTypeR,"*"&AC12&"*") -> #REF! | AE12: =COUNTIFS(TypeR,$AB$3,SubTypeR,"*"&AC12&"*",CorrectR,"Correct") -> #REF! | AF12: =IF(AND(AD12<>0, AD12<> ""),AE12/AD12,"") -> #REF! | AL12: =IF([1]Lists!F19="", "",[1]Lists!F19) | AM12: =IF(AL12<> "",(SUMPRODUCT((TypeR=AK3)*(SubTypeR=AL12))), "") | AN12: =IF(AL12<> "",SUMPRODUCT((TypeR=AK3)*(CorrectR="Yes")*(SubTypeR=AL12)),"") | AO12: =IF(AND(AM12<>0, AM12<> ""),AN12/AM12,"")
B13: =IF(Lists!$B19="", "",Lists!$B19 ) -> Idioms | C13: =COUNTIFS(TypeR,$A$4,SubTypeR,"*"&B13&"*") -> #REF! | D13: =COUNTIFS(TypeR,$A$4,SubTypeR,"*"&B13&"*",CorrectR,"Correct") -> #REF! | E13: =IF(AND(C13<>0, C13<> ""),D13/C13,"") -> #REF! | K13: =IF(Lists!C20="", "",Lists!C20 ) -> Must be True | L13: =COUNTIFS(TypeR,$J$3,SubTypeR,"*"&K13&"*") -> #REF! | M13: =COUNTIFS(TypeR,$J$3,SubTypeR,"*"&K13&"*",CorrectR,"Correct") -> #REF! | N13: =IF(AND(L13<>0, L13<> ""),M13/L13,"") -> #REF! | T13: =IF(Lists!D26="", "",Lists!D26 ) -> Number Properties | U13: =COUNTIFS(TypeR,$S$3,SubTypeR,"*"&T13&"*") -> #REF! | V13: =COUNTIFS(TypeR,$S$3,SubTypeR,"*"&T13&"*",CorrectR,"Correct") -> #REF! | W13: =IF(AND(U13<>0, U13<> ""),V13/U13,"") -> #REF! | AC13: =IF(Lists!D14="", "",Lists!D14 ) -> Coordinate Geometry | AD13: =COUNTIFS(TypeR,$AB$3,SubTypeR,"*"&AC13&"*") -> #REF! | AE13: =COUNTIFS(TypeR,$AB$3,SubTypeR,"*"&AC13&"*",CorrectR,"Correct") -> #REF! | AF13: =IF(AND(AD13<>0, AD13<> ""),AE13/AD13,"") -> #REF! | AL13: =IF([1]Lists!F20="", "",[1]Lists!F20 ) | AM13: =IF(AL13<> "",(SUMPRODUCT((TypeR=AK3)*(SubTypeR=AL13))), "") | AN13: =IF(AL13<> "",SUMPRODUCT((TypeR=AK3)*(CorrectR="Yes")*(SubTypeR=AL13)),"") | AO13: =IF(AND(AM13<>0, AM13<> ""),AN13/AM13,"")
B14: =IF(Lists!$B20="", "",Lists!$B20 ) -> If-Then | C14: =COUNTIFS(TypeR,$A$4,SubTypeR,"*"&B14&"*") -> #REF! | D14: =COUNTIFS(TypeR,$A$4,SubTypeR,"*"&B14&"*",CorrectR,"Correct") -> #REF! | E14: =IF(AND(C14<>0, C14<> ""),D14/C14,"") -> #REF! | K14: =IF(Lists!C21="", "",Lists!C21 ) -> Numbers & Percent | L14: =COUNTIFS(TypeR,$J$3,SubTypeR,"*"&K14&"*") -> #REF! | M14: =COUNTIFS(TypeR,$J$3,SubTypeR,"*"&K14&"*",CorrectR,"Correct") -> #REF! | N14: =IF(AND(L14<>0, L14<> ""),M14/L14,"") -> #REF! | T14: =IF(Lists!D16="", "",Lists!D16 ) -> Divisibility/Multiples/Factors | U14: =COUNTIFS(TypeR,$S$3,SubTypeR,"*"&T14&"*") -> #REF! | V14: =COUNTIFS(TypeR,$S$3,SubTypeR,"*"&T14&"*",CorrectR,"Correct") -> #REF! | W14: =IF(AND(U14<>0, U14<> ""),V14/U14,"") -> #REF! | AC14: =IF(Lists!D33="", "",Lists!D33 ) -> Statistics and Sets Problems | AD14: =COUNTIFS(TypeR,$AB$3,SubTypeR,"*"&AC14&"*") -> #REF! | AE14: =COUNTIFS(TypeR,$AB$3,SubTypeR,"*"&AC14&"*",CorrectR,"Correct") -> #REF! | AF14: =IF(AND(AD14<>0, AD14<> ""),AE14/AD14,"") -> #REF! | AL14: =IF([1]Lists!F21="", "",[1]Lists!F21) | AM14: =IF(AL14<> "",(SUMPRODUCT((TypeR=AK3)*(SubTypeR=AL14))), "") | AN14: =IF(AL14<> "",SUMPRODUCT((TypeR=AK3)*(CorrectR="Yes")*(SubTypeR=AL14)),"") | AO14: =IF(AND(AM14<>0, AM14<> ""),AN14/AM14,"")
B15: =IF(Lists!$B21="", "",Lists!$B21 ) -> Infinitive | C15: =COUNTIFS(TypeR,$A$4,SubTypeR,"*"&B15&"*") -> #REF! | D15: =COUNTIFS(TypeR,$A$4,SubTypeR,"*"&B15&"*",CorrectR,"Correct") -> #REF! | E15: =IF(AND(C15<>0, C15<> ""),D15/C15,"") -> #REF! | K15: =IF(Lists!C22="", "",Lists!C22 ) -> Resolve Paradox | L15: =COUNTIFS(TypeR,$J$3,SubTypeR,"*"&K15&"*") -> #REF! | M15: =COUNTIFS(TypeR,$J$3,SubTypeR,"*"&K15&"*",CorrectR,"Correct") -> #REF! | N15: =IF(AND(L15<>0, L15<> ""),M15/L15,"") -> #REF! | T15: =IF(Lists!D30="", "",Lists!D30 ) -> Remainders | U15: =COUNTIFS(TypeR,$S$3,SubTypeR,"*"&T15&"*") -> #REF! | V15: =COUNTIFS(TypeR,$S$3,SubTypeR,"*"&T15&"*",CorrectR,"Correct") -> #REF! | W15: =IF(AND(U15<>0, U15<> ""),V15/U15,"") -> #REF! | AC15: =IF(Lists!D26="", "",Lists!D26 ) -> Number Properties | AD15: =COUNTIFS(TypeR,$AB$3,SubTypeR,"*"&AC15&"*") -> #REF! | AE15: =COUNTIFS(TypeR,$AB$3,SubTypeR,"*"&AC15&"*",CorrectR,"Correct") -> #REF! | AF15: =IF(AND(AD15<>0, AD15<> ""),AE15/AD15,"") -> #REF! | AL15: =IF([1]Lists!F22="", "",[1]Lists!F22 ) | AM15: =IF(AL15<> "",(SUMPRODUCT((TypeR=AK3)*(SubTypeR=AL15))), "") | AN15: =IF(AL15<> "",SUMPRODUCT((TypeR=AK3)*(CorrectR="Yes")*(SubTypeR=AL15)),"") | AO15: =IF(AND(AM15<>0, AM15<> ""),AN15/AM15,"")
B16: =IF(Lists!$B22="", "",Lists!$B22 ) -> Meaning | C16: =COUNTIFS(TypeR,$A$4,SubTypeR,"*"&B16&"*") -> #REF! | D16: =COUNTIFS(TypeR,$A$4,SubTypeR,"*"&B16&"*",CorrectR,"Correct") -> #REF! | E16: =IF(AND(C16<>0, C16<> ""),D16/C16,"") -> #REF! | K16: =IF(Lists!C23="", "",Lists!C23 ) -> Similar Reasoning | L16: =COUNTIFS(TypeR,$J$3,SubTypeR,"*"&K16&"*") -> #REF! | M16: =COUNTIFS(TypeR,$J$3,SubTypeR,"*"&K16&"*",CorrectR,"Correct") -> #REF! | N16: =IF(AND(L16<>0, L16<> ""),M16/L16,"") -> #REF! | T16: =IF(Lists!D13="", "",Lists!D13 ) -> Combinations | U16: =COUNTIFS(TypeR,$S$3,SubTypeR,"*"&T16&"*") -> #REF! | V16: =COUNTIFS(TypeR,$S$3,SubTypeR,"*"&T16&"*",CorrectR,"Correct") -> #REF! | W16: =IF(AND(U16<>0, U16<> ""),V16/U16,"") -> #REF! | AC16: =IF(Lists!D22="", "",Lists!D22 ) -> Inequalities | AD16: =COUNTIFS(TypeR,$AB$3,SubTypeR,"*"&AC16&"*") -> #REF! | AE16: =COUNTIFS(TypeR,$AB$3,SubTypeR,"*"&AC16&"*",CorrectR,"Correct") -> #REF! | AF16: =IF(AND(AD16<>0, AD16<> ""),AE16/AD16,"") -> #REF! | AL16: =IF([1]Lists!F23="", "",[1]Lists!F23) | AM16: =IF(AL16<> "",(SUMPRODUCT((TypeR=AK3)*(SubTypeR=AL16))), "") | AN16: =IF(AL16<> "",SUMPRODUCT((TypeR=AK3)*(CorrectR="Yes")*(SubTypeR=AL16)),"") | AO16: =IF(AND(AM16<>0, AM16<> ""),AN16/AM16,"")
B17: =IF(Lists!$B23="", "",Lists!$B23 ) -> Modifiers | C17: =COUNTIFS(TypeR,$A$4,SubTypeR,"*"&B17&"*") -> #REF! | D17: =COUNTIFS(TypeR,$A$4,SubTypeR,"*"&B17&"*",CorrectR,"Correct") -> #REF! | E17: =IF(AND(C17<>0, C17<> ""),D17/C17,"") -> #REF! | K17: =IF(Lists!C24="", "",Lists!C24 ) -> Strengthen | L17: =COUNTIFS(TypeR,$J$3,SubTypeR,"*"&K17&"*") -> #REF! | M17: =COUNTIFS(TypeR,$J$3,SubTypeR,"*"&K17&"*",CorrectR,"Correct") -> #REF! | N17: =IF(AND(L17<>0, L17<> ""),M17/L17,"") -> #REF! | T17: =IF(Lists!D12="", "",Lists!D12 ) -> Arithmetic | U17: =COUNTIFS(TypeR,$S$3,SubTypeR,"*"&T17&"*") -> #REF! | V17: =COUNTIFS(TypeR,$S$3,SubTypeR,"*"&T17&"*",CorrectR,"Correct") -> #REF! | W17: =IF(AND(U17<>0, U17<> ""),V17/U17,"") -> #REF! | AC17: =IF(Lists!D34="", "",Lists!D34 ) -> Word Problems | AD17: =COUNTIFS(TypeR,$AB$3,SubTypeR,"*"&AC17&"*") -> #REF! | AE17: =COUNTIFS(TypeR,$AB$3,SubTypeR,"*"&AC17&"*",CorrectR,"Correct") -> #REF! | AF17: =IF(AND(AD17<>0, AD17<> ""),AE17/AD17,"") -> #REF! | AL17: =IF([1]Lists!F24="", "",[1]Lists!F24 ) | AM17: =IF(AL17<> "",(SUMPRODUCT((TypeR=AK3)*(SubTypeR=AL17))), "") | AN17: =IF(AL17<> "",SUMPRODUCT((TypeR=AK3)*(CorrectR="Yes")*(SubTypeR=AL17)),"") | AO17: =IF(AND(AM17<>0, AM17<> ""),AN17/AM17,"")
B18: =IF(Lists!$B24="", "",Lists!$B24 ) -> Nouns | C18: =COUNTIFS(TypeR,$A$4,SubTypeR,"*"&B18&"*") -> #REF! | D18: =COUNTIFS(TypeR,$A$4,SubTypeR,"*"&B18&"*",CorrectR,"Correct") -> #REF! | E18: =IF(AND(C18<>0, C18<> ""),D18/C18,"") -> #REF! | K18: =IF(Lists!C25="", "",Lists!C25 ) -> Weaken | L18: =COUNTIFS(TypeR,$J$3,SubTypeR,"*"&K18&"*") -> #REF! | M18: =COUNTIFS(TypeR,$J$3,SubTypeR,"*"&K18&"*",CorrectR,"Correct") -> #REF! | N18: =IF(AND(L18<>0, L18<> ""),M18/L18,"") -> #REF! | T18: =IF(Lists!D15="", "",Lists!D15 ) -> Distance/Rate Problems | U18: =COUNTIFS(TypeR,$S$3,SubTypeR,"*"&T18&"*") -> #REF! | V18: =COUNTIFS(TypeR,$S$3,SubTypeR,"*"&T18&"*",CorrectR,"Correct") -> #REF! | W18: =IF(AND(U18<>0, U18<> ""),V18/U18,"") -> #REF! | AC18: =IF(Lists!D11="", "",Lists!D11 ) -> Algebra | AD18: =COUNTIFS(TypeR,$AB$3,SubTypeR,"*"&AC18&"*") -> #REF! | AE18: =COUNTIFS(TypeR,$AB$3,SubTypeR,"*"&AC18&"*",CorrectR,"Correct") -> #REF! | AF18: =IF(AND(AD18<>0, AD18<> ""),AE18/AD18,"") -> #REF!
B19: =IF(Lists!$B25="", "",Lists!$B25 ) -> Pronouns | C19: =COUNTIFS(TypeR,$A$4,SubTypeR,"*"&B19&"*") -> #REF! | D19: =COUNTIFS(TypeR,$A$4,SubTypeR,"*"&B19&"*",CorrectR,"Correct") -> #REF! | E19: =IF(AND(C19<>0, C19<> ""),D19/C19,"") -> #REF! | J19: Total | L19: =COUNTIF(TypeR,$J$3) -> #REF! | M19: =COUNTIFS(TypeR,$J$3,CorrectR,"Correct") -> #REF! | N19: =IF(AND(L19<>0, L19<> ""),M19/L19,"") -> #REF! | T19: =IF(Lists!D18="", "",Lists!D18 ) -> Fractions/Ratios/Decimals | U19: =COUNTIFS(TypeR,$S$3,SubTypeR,"*"&T19&"*") -> #REF! | V19: =COUNTIFS(TypeR,$S$3,SubTypeR,"*"&T19&"*",CorrectR,"Correct") -> #REF! | W19: =IF(AND(U19<>0, U19<> ""),V19/U19,"") -> #REF! | AC19: =IF(Lists!D10="", "",Lists!D10 ) -> Absolute Value | AD19: =COUNTIFS(TypeR,$AB$3,SubTypeR,"*"&AC19&"*") -> #REF! | AE19: =COUNTIFS(TypeR,$AB$3,SubTypeR,"*"&AC19&"*",CorrectR,"Correct") -> #REF! | AF19: =IF(AND(AD19<>0, AD19<> ""),AE19/AD19,"") -> #REF!
B20: =IF(Lists!$B26="", "",Lists!$B26 ) -> Parallel Structure | C20: =COUNTIFS(TypeR,$A$4,SubTypeR,"*"&B20&"*") -> #REF! | D20: =COUNTIFS(TypeR,$A$4,SubTypeR,"*"&B20&"*",CorrectR,"Correct") -> #REF! | E20: =IF(AND(C20<>0, C20<> ""),D20/C20,"") -> #REF! | T20: =IF(Lists!D28="", "",Lists!D28 ) -> Percent and Interest Problems | U20: =COUNTIFS(TypeR,$S$3,SubTypeR,"*"&T20&"*") -> #REF! | V20: =COUNTIFS(TypeR,$S$3,SubTypeR,"*"&T20&"*",CorrectR,"Correct") -> #REF! | W20: =IF(AND(U20<>0, U20<> ""),V20/U20,"") -> #REF! | AC20: =IF(Lists!D23="", "",Lists!D23 ) -> Min/Max Problems | AD20: =COUNTIFS(TypeR,$AB$3,SubTypeR,"*"&AC20&"*") -> #REF! | AE20: =COUNTIFS(TypeR,$AB$3,SubTypeR,"*"&AC20&"*",CorrectR,"Correct") -> #REF! | AF20: =IF(AND(AD20<>0, AD20<> ""),AE20/AD20,"") -> #REF!
B21: =IF(Lists!$B27="", "",Lists!$B27 ) -> Participle Parallelism | C21: =COUNTIFS(TypeR,$A$4,SubTypeR,"*"&B21&"*") -> #REF! | D21: =COUNTIFS(TypeR,$A$4,SubTypeR,"*"&B21&"*",CorrectR,"Correct") -> #REF! | E21: =IF(AND(C21<>0, C21<> ""),D21/C21,"") -> #REF! | T21: =IF(Lists!D19="", "",Lists!D19 ) -> Functions and Custom Characters | U21: =COUNTIFS(TypeR,$S$3,SubTypeR,"*"&T21&"*") -> #REF! | V21: =COUNTIFS(TypeR,$S$3,SubTypeR,"*"&T21&"*",CorrectR,"Correct") -> #REF! | W21: =IF(AND(U21<>0, U21<> ""),V21/U21,"") -> #REF! | AC21: =IF(Lists!D13="", "",Lists!D13 ) -> Combinations | AD21: =COUNTIFS(TypeR,$AB$3,SubTypeR,"*"&AC21&"*") -> #REF! | AE21: =COUNTIFS(TypeR,$AB$3,SubTypeR,"*"&AC21&"*",CorrectR,"Correct") -> #REF! | AF21: =IF(AND(AD21<>0, AD21<> ""),AE21/AD21,"") -> #REF!
B22: =IF(Lists!$B28="", "",Lists!$B28 ) -> Punctuation | C22: =COUNTIFS(TypeR,$A$4,SubTypeR,"*"&B22&"*") -> #REF! | D22: =COUNTIFS(TypeR,$A$4,SubTypeR,"*"&B22&"*",CorrectR,"Correct") -> #REF! | E22: =IF(AND(C22<>0, C22<> ""),D22/C22,"") -> #REF! | T22: =IF(Lists!D21="", "",Lists!D21 ) -> Graphs and Illustrations | U22: =COUNTIFS(TypeR,$S$3,SubTypeR,"*"&T22&"*") -> #REF! | V22: =COUNTIFS(TypeR,$S$3,SubTypeR,"*"&T22&"*",CorrectR,"Correct") -> #REF! | W22: =IF(AND(U22<>0, U22<> ""),V22/U22,"") -> #REF! | AC22: =IF(Lists!D31="", "",Lists!D31 ) -> Roots | AD22: =COUNTIFS(TypeR,$AB$3,SubTypeR,"*"&AC22&"*") -> #REF! | AE22: =COUNTIFS(TypeR,$AB$3,SubTypeR,"*"&AC22&"*",CorrectR,"Correct") -> #REF! | AF22: =IF(AND(AD22<>0, AD22<> ""),AE22/AD22,"") -> #REF!
B23: =IF(Lists!$B29="", "",Lists!$B29 ) -> Redundancy | C23: =COUNTIFS(TypeR,$A$4,SubTypeR,"*"&B23&"*") -> #REF! | D23: =COUNTIFS(TypeR,$A$4,SubTypeR,"*"&B23&"*",CorrectR,"Correct") -> #REF! | E23: =IF(AND(C23<>0, C23<> ""),D23/C23,"") -> #REF! | T23: =IF(Lists!D23="", "",Lists!D23 ) -> Min/Max Problems | U23: =COUNTIFS(TypeR,$S$3,SubTypeR,"*"&T23&"*") -> #REF! | V23: =COUNTIFS(TypeR,$S$3,SubTypeR,"*"&T23&"*",CorrectR,"Correct") -> #REF! | W23: =IF(AND(U23<>0, U23<> ""),V23/U23,"") -> #REF! | AC23: =IF(Lists!D12="", "",Lists!D12 ) -> Arithmetic | AD23: =COUNTIFS(TypeR,$AB$3,SubTypeR,"*"&AC23&"*") -> #REF! | AE23: =COUNTIFS(TypeR,$AB$3,SubTypeR,"*"&AC23&"*",CorrectR,"Correct") -> #REF! | AF23: =IF(AND(AD23<>0, AD23<> ""),AE23/AD23,"") -> #REF!
B24: =IF(Lists!$B30="", "",Lists!$B30 ) -> Subject Verb Agreement | C24: =COUNTIFS(TypeR,$A$4,SubTypeR,"*"&B24&"*") -> #REF! | D24: =COUNTIFS(TypeR,$A$4,SubTypeR,"*"&B24&"*",CorrectR,"Correct") -> #REF! | E24: =IF(AND(C24<>0, C24<> ""),D24/C24,"") -> #REF! | T24: =IF(Lists!D25="", "",Lists!D25 ) -> Must or Could be True Questions | U24: =COUNTIFS(TypeR,$S$3,SubTypeR,"*"&T24&"*") -> #REF! | V24: =COUNTIFS(TypeR,$S$3,SubTypeR,"*"&T24&"*",CorrectR,"Correct") -> #REF! | W24: =IF(AND(U24<>0, U24<> ""),V24/U24,"") -> #REF! | AC24: =IF(Lists!D28="", "",Lists!D28 ) -> Percent and Interest Problems | AD24: =COUNTIFS(TypeR,$AB$3,SubTypeR,"*"&AC24&"*") -> #REF! | AE24: =COUNTIFS(TypeR,$AB$3,SubTypeR,"*"&AC24&"*",CorrectR,"Correct") -> #REF! | AF24: =IF(AND(AD24<>0, AD24<> ""),AE24/AD24,"") -> #REF!
B25: =IF(Lists!$B31="", "",Lists!$B31 ) -> Subjunctive | C25: =COUNTIFS(TypeR,$A$4,SubTypeR,"*"&B25&"*") -> #REF! | D25: =COUNTIFS(TypeR,$A$4,SubTypeR,"*"&B25&"*",CorrectR,"Correct") -> #REF! | E25: =IF(AND(C25<>0, C25<> ""),D25/C25,"") -> #REF! | T25: =IF(Lists!D29="", "",Lists!D29 ) -> Probability | U25: =COUNTIFS(TypeR,$S$3,SubTypeR,"*"&T25&"*") -> #REF! | V25: =COUNTIFS(TypeR,$S$3,SubTypeR,"*"&T25&"*",CorrectR,"Correct") -> #REF! | W25: =IF(AND(U25<>0, U25<> ""),V25/U25,"") -> #REF! | AC25: =IF(Lists!D19="", "",Lists!D19 ) -> Functions and Custom Characters | AD25: =COUNTIFS(TypeR,$AB$3,SubTypeR,"*"&AC25&"*") -> #REF! | AE25: =COUNTIFS(TypeR,$AB$3,SubTypeR,"*"&AC25&"*",CorrectR,"Correct") -> #REF! | AF25: =IF(AND(AD25<>0, AD25<> ""),AE25/AD25,"") -> #REF!
B26: =IF(Lists!$B32="", "",Lists!$B32 ) -> Such as/Like | C26: =COUNTIFS(TypeR,$A$4,SubTypeR,"*"&B26&"*") -> #REF! | D26: =COUNTIFS(TypeR,$A$4,SubTypeR,"*"&B26&"*",CorrectR,"Correct") -> #REF! | E26: =IF(AND(C26<>0, C26<> ""),D26/C26,"") -> #REF! | T26: =IF(Lists!D31="", "",Lists!D31 ) -> Roots | U26: =COUNTIFS(TypeR,$S$3,SubTypeR,"*"&T26&"*") -> #REF! | V26: =COUNTIFS(TypeR,$S$3,SubTypeR,"*"&T26&"*",CorrectR,"Correct") -> #REF! | W26: =IF(AND(U26<>0, U26<> ""),V26/U26,"") -> #REF! | AC26: =IF(Lists!D29="", "",Lists!D29 ) -> Probability | AD26: =COUNTIFS(TypeR,$AB$3,SubTypeR,"*"&AC26&"*") -> #REF! | AE26: =COUNTIFS(TypeR,$AB$3,SubTypeR,"*"&AC26&"*",CorrectR,"Correct") -> #REF! | AF26: =IF(AND(AD26<>0, AD26<> ""),AE26/AD26,"") -> #REF!
B27: =IF(Lists!$B33="", "",Lists!$B33 ) -> Use of Being | C27: =COUNTIFS(TypeR,$A$4,SubTypeR,"*"&B27&"*") -> #REF! | D27: =COUNTIFS(TypeR,$A$4,SubTypeR,"*"&B27&"*",CorrectR,"Correct") -> #REF! | E27: =IF(AND(C27<>0, C27<> ""),D27/C27,"") -> #REF! | T27: =IF(Lists!D33="", "",Lists!D33 ) -> Statistics and Sets Problems | U27: =COUNTIFS(TypeR,$S$3,SubTypeR,"*"&T27&"*") -> #REF! | V27: =COUNTIFS(TypeR,$S$3,SubTypeR,"*"&T27&"*",CorrectR,"Correct") -> #REF! | W27: =IF(AND(U27<>0, U27<> ""),V27/U27,"") -> #REF! | AC27: =IF(Lists!D21="", "",Lists!D21 ) -> Graphs and Illustrations | AD27: =COUNTIFS(TypeR,$AB$3,SubTypeR,"*"&AC27&"*") -> #REF! | AE27: =COUNTIFS(TypeR,$AB$3,SubTypeR,"*"&AC27&"*",CorrectR,"Correct") -> #REF! | AF27: =IF(AND(AD27<>0, AD27<> ""),AE27/AD27,"") -> #REF!
B28: =IF(Lists!$B34="", "",Lists!$B34 ) -> Verb Tense/Form | C28: =COUNTIFS(TypeR,$A$4,SubTypeR,"*"&B28&"*") -> #REF! | D28: =COUNTIFS(TypeR,$A$4,SubTypeR,"*"&B28&"*",CorrectR,"Correct") -> #REF! | E28: =IF(AND(C28<>0, C28<> ""),D28/C28,"") -> #REF! | T28: =IF(Lists!D35="", "",Lists!D35 ) -> Work/Rate Problems | U28: =COUNTIFS(TypeR,$S$3,SubTypeR,"*"&T28&"*") -> #REF! | V28: =COUNTIFS(TypeR,$S$3,SubTypeR,"*"&T28&"*",CorrectR,"Correct") -> #REF! | AC28: =IF(Lists!D24="", "",Lists!D24 ) -> Mixture Problems | AD28: =COUNTIFS(TypeR,$AB$3,SubTypeR,"*"&AC28&"*") -> #REF! | AE28: =COUNTIFS(TypeR,$AB$3,SubTypeR,"*"&AC28&"*",CorrectR,"Correct") -> #REF! | AF28: =IF(AND(AD28<>0, AD28<> ""),AE28/AD28,"") -> #REF!
B29: =IF(Lists!$B35="", "",Lists!$B35 ) -> Verb Voice | C29: =COUNTIFS(TypeR,$A$4,SubTypeR,"*"&B29&"*") -> #REF! | D29: =COUNTIFS(TypeR,$A$4,SubTypeR,"*"&B29&"*",CorrectR,"Correct") -> #REF! | E29: =IF(AND(C29<>0, C29<> ""),D29/C29,"") -> #REF! | S29: Total | U29: =COUNTIF(TypeR,$S$3) -> #REF! | V29: =COUNTIFS(TypeR,$S$3,CorrectR,"Correct") -> #REF! | W29: =IF(AND(U29<>0, U29<> ""),V29/U29,"") -> #REF! | AB29: Total | AD29: =COUNTIF(TypeR,$AB$3) -> #REF! | AE29: =COUNTIFS(TypeR,$AB$3,CorrectR,"Correct") -> #REF! | AF29: =IF(AND(AD29<>0, AD29<> ""),AE29/AD29,"") -> #REF!
B30: =IF(Lists!$B36="", "",Lists!$B36 ) -> Which/That | C30: =COUNTIFS(TypeR,$A$4,SubTypeR,"*"&B30&"*") -> #REF! | D30: =COUNTIFS(TypeR,$A$4,SubTypeR,"*"&B30&"*",CorrectR,"Correct") -> #REF! | E30: =IF(AND(C30<>0, C30<> ""),D30/C30,"") -> #REF!
A31: Total | C31: =COUNTIFS(TypeR,$A$4) -> #REF! | D31: =COUNTIFS(TypeR,$A$4,CorrectR,"Correct") -> #REF! | E31: =IF(AND(C31<>0, C31<> ""),D31/C31,"") -> #REF!
J88: Correct Time Average

Sheet SC
A1: SC | I1: SC | O1: SC
A2: Sub-600 | I2: 600-700 | O2: 700
A3: Question Type | B3: Sub-Type | C3: Total | D3: Correct | E3: % | I3: Question Type | J3: Sub-Type | K3: Total | L3: Correct | M3: % | O3: Question Type | P3: Sub-Type | Q3: Total | R3: Correct | S3: %
A4: Sentence Correction (SC) | B4: =IF(Lists!$B10="", "",Lists!$B10 ) -> Absolute Phrase | C4: =COUNTIFS(DiffR,$A$2,TypeR,$A$4,SubTypeR,"*"&B4&"*") -> #REF! | D4: =COUNTIFS(DiffR,$A$2,TypeR,$A$4,SubTypeR,"*"&B4&"*",CorrectR,"Correct") -> #REF! | E4: =IF(AND(C4<>0, C4<> ""),D4/C4,"") -> #REF! | I4: Sentence Correction (SC) | J4: =IF(Lists!$B10="", "",Lists!$B10 ) -> Absolute Phrase | K4: =COUNTIFS(DiffR,$I$2,TypeR,$I$4,SubTypeR,"*"&J4&"*") -> #REF! | L4: =COUNTIFS(DiffR,$I$2,TypeR,$I$4,SubTypeR,"*"&J4&"*",CorrectR,"Correct") -> #REF! | M4: =IF(AND(K4<>0, K4<> ""),L4/K4,"") -> #REF! | O4: Sentence Correction (SC) | P4: =IF(Lists!$B10="", "",Lists!$B10 ) -> Absolute Phrase | Q4: =COUNTIFS(DiffR,$O$2,TypeR,$I$4,SubTypeR,"*"&P4&"*") -> #REF! | R4: =COUNTIFS(DiffR,$O$2,TypeR,$I$4,SubTypeR,"*"&P4&"*",CorrectR,"Correct") -> #REF! | S4: =IF(AND(Q4<>0, Q4<> ""),R4/Q4,"") -> #REF!
B5: =IF(Lists!$B11="", "",Lists!$B11 ) -> Adjectives and Adverbs | C5: =COUNTIFS(DiffR,$A$2,TypeR,$A$4,SubTypeR,"*"&B5&"*") -> #REF! | D5: =COUNTIFS(DiffR,$A$2,TypeR,$A$4,SubTypeR,"*"&B5&"*",CorrectR,"Correct") -> #REF! | E5: =IF(AND(C5<>0, C5<> ""),D5/C5,"") -> #REF! | J5: =IF(Lists!$B11="", "",Lists!$B11 ) -> Adjectives and Adverbs | K5: =COUNTIFS(DiffR,$I$2,TypeR,$I$4,SubTypeR,"*"&J5&"*") -> #REF! | L5: =COUNTIFS(DiffR,$I$2,TypeR,$I$4,SubTypeR,"*"&J5&"*",CorrectR,"Correct") -> #REF! | M5: =IF(AND(K5<>0, K5<> ""),L5/K5,"") -> #REF! | P5: =IF(Lists!$B11="", "",Lists!$B11 ) -> Adjectives and Adverbs | Q5: =COUNTIFS(DiffR,$O$2,TypeR,$I$4,SubTypeR,"*"&P5&"*") -> #REF! | R5: =COUNTIFS(DiffR,$O$2,TypeR,$I$4,SubTypeR,"*"&P5&"*",CorrectR,"Correct") -> #REF! | S5: =IF(AND(Q5<>0, Q5<> ""),R5/Q5,"") -> #REF!
B6: =IF(Lists!$B12="", "",Lists!$B12 ) -> Clauses | C6: =COUNTIFS(DiffR,$A$2,TypeR,$A$4,SubTypeR,"*"&B6&"*") -> #REF! | D6: =COUNTIFS(DiffR,$A$2,TypeR,$A$4,SubTypeR,"*"&B6&"*",CorrectR,"Correct") -> #REF! | E6: =IF(AND(C6<>0, C6<> ""),D6/C6,"") -> #REF! | J6: =IF(Lists!$B12="", "",Lists!$B12 ) -> Clauses | K6: =COUNTIFS(DiffR,$I$2,TypeR,$I$4,SubTypeR,"*"&J6&"*") -> #REF! | L6: =COUNTIFS(DiffR,$I$2,TypeR,$I$4,SubTypeR,"*"&J6&"*",CorrectR,"Correct") -> #REF! | M6: =IF(AND(K6<>0, K6<> ""),L6/K6,"") -> #REF! | P6: =IF(Lists!$B12="", "",Lists!$B12 ) -> Clauses | Q6: =COUNTIFS(DiffR,$O$2,TypeR,$I$4,SubTypeR,"*"&P6&"*") -> #REF! | R6: =COUNTIFS(DiffR,$O$2,TypeR,$I$4,SubTypeR,"*"&P6&"*",CorrectR,"Correct") -> #REF! | S6: =IF(AND(Q6<>0, Q6<> ""),R6/Q6,"") -> #REF!
B7: =IF(Lists!$B13="", "",Lists!$B13 ) -> Comparisons | C7: =COUNTIFS(DiffR,$A$2,TypeR,$A$4,SubTypeR,"*"&B7&"*") -> #REF! | D7: =COUNTIFS(DiffR,$A$2,TypeR,$A$4,SubTypeR,"*"&B7&"*",CorrectR,"Correct") -> #REF! | E7: =IF(AND(C7<>0, C7<> ""),D7/C7,"") -> #REF! | J7: =IF(Lists!$B13="", "",Lists!$B13 ) -> Comparisons | K7: =COUNTIFS(DiffR,$I$2,TypeR,$I$4,SubTypeR,"*"&J7&"*") -> #REF! | L7: =COUNTIFS(DiffR,$I$2,TypeR,$I$4,SubTypeR,"*"&J7&"*",CorrectR,"Correct") -> #REF! | M7: =IF(AND(K7<>0, K7<> ""),L7/K7,"") -> #REF! | P7: =IF(Lists!$B13="", "",Lists!$B13 ) -> Comparisons | Q7: =COUNTIFS(DiffR,$O$2,TypeR,$I$4,SubTypeR,"*"&P7&"*") -> #REF! | R7: =COUNTIFS(DiffR,$O$2,TypeR,$I$4,SubTypeR,"*"&P7&"*",CorrectR,"Correct") -> #REF! | S7: =IF(AND(Q7<>0, Q7<> ""),R7/Q7,"") -> #REF!
B8: =IF(Lists!$B14="", "",Lists!$B14 ) -> Conjunctions | C8: =COUNTIFS(DiffR,$A$2,TypeR,$A$4,SubTypeR,"*"&B8&"*") -> #REF! | D8: =COUNTIFS(DiffR,$A$2,TypeR,$A$4,SubTypeR,"*"&B8&"*",CorrectR,"Correct") -> #REF! | E8: =IF(AND(C8<>0, C8<> ""),D8/C8,"") -> #REF! | J8: =IF(Lists!$B14="", "",Lists!$B14 ) -> Conjunctions | K8: =COUNTIFS(DiffR,$I$2,TypeR,$I$4,SubTypeR,"*"&J8&"*") -> #REF! | L8: =COUNTIFS(DiffR,$I$2,TypeR,$I$4,SubTypeR,"*"&J8&"*",CorrectR,"Correct") -> #REF! | M8: =IF(AND(K8<>0, K8<> ""),L8/K8,"") -> #REF! | P8: =IF(Lists!$B14="", "",Lists!$B14 ) -> Conjunctions | Q8: =COUNTIFS(DiffR,$O$2,TypeR,$I$4,SubTypeR,"*"&P8&"*") -> #REF! | R8: =COUNTIFS(DiffR,$O$2,TypeR,$I$4,SubTypeR,"*"&P8&"*",CorrectR,"Correct") -> #REF! | S8: =IF(AND(Q8<>0, Q8<> ""),R8/Q8,"") -> #REF!
B9: =IF(Lists!$B15="", "",Lists!$B15 ) -> Construction | C9: =COUNTIFS(DiffR,$A$2,TypeR,$A$4,SubTypeR,"*"&B9&"*") -> #REF! | D9: =COUNTIFS(DiffR,$A$2,TypeR,$A$4,SubTypeR,"*"&B9&"*",CorrectR,"Correct") -> #REF! | E9: =IF(AND(C9<>0, C9<> ""),D9/C9,"") -> #REF! | J9: =IF(Lists!$B15="", "",Lists!$B15 ) -> Construction | K9: =COUNTIFS(DiffR,$I$2,TypeR,$I$4,SubTypeR,"*"&J9&"*") -> #REF! | L9: =COUNTIFS(DiffR,$I$2,TypeR,$I$4,SubTypeR,"*"&J9&"*",CorrectR,"Correct") -> #REF! | M9: =IF(AND(K9<>0, K9<> ""),L9/K9,"") -> #REF! | P9: =IF(Lists!$B15="", "",Lists!$B15 ) -> Construction | Q9: =COUNTIFS(DiffR,$O$2,TypeR,$I$4,SubTypeR,"*"&P9&"*") -> #REF! | R9: =COUNTIFS(DiffR,$O$2,TypeR,$I$4,SubTypeR,"*"&P9&"*",CorrectR,"Correct") -> #REF! | S9: =IF(AND(Q9<>0, Q9<> ""),R9/Q9,"") -> #REF!
B10: =IF(Lists!$B16="", "",Lists!$B16 ) -> Diction | C10: =COUNTIFS(DiffR,$A$2,TypeR,$A$4,SubTypeR,"*"&B10&"*") -> #REF! | D10: =COUNTIFS(DiffR,$A$2,TypeR,$A$4,SubTypeR,"*"&B10&"*",CorrectR,"Correct") -> #REF! | E10: =IF(AND(C10<>0, C10<> ""),D10/C10,"") -> #REF! | J10: =IF(Lists!$B16="", "",Lists!$B16 ) -> Diction | K10: =COUNTIFS(DiffR,$I$2,TypeR,$I$4,SubTypeR,"*"&J10&"*") -> #REF! | L10: =COUNTIFS(DiffR,$I$2,TypeR,$I$4,SubTypeR,"*"&J10&"*",CorrectR,"Correct") -> #REF! | M10: =IF(AND(K10<>0, K10<> ""),L10/K10,"") -> #REF! | P10: =IF(Lists!$B16="", "",Lists!$B16 ) -> Diction | Q10: =COUNTIFS(DiffR,$O$2,TypeR,$I$4,SubTypeR,"*"&P10&"*") -> #REF! | R10: =COUNTIFS(DiffR,$O$2,TypeR,$I$4,SubTypeR,"*"&P10&"*",CorrectR,"Correct") -> #REF! | S10: =IF(AND(Q10<>0, Q10<> ""),R10/Q10,"") -> #REF!
B11: =IF(Lists!$B17="", "",Lists!$B17 ) -> Gerund | C11: =COUNTIFS(DiffR,$A$2,TypeR,$A$4,SubTypeR,"*"&B11&"*") -> #REF! | D11: =COUNTIFS(DiffR,$A$2,TypeR,$A$4,SubTypeR,"*"&B11&"*",CorrectR,"Correct") -> #REF! | E11: =IF(AND(C11<>0, C11<> ""),D11/C11,"") -> #REF! | J11: =IF(Lists!$B17="", "",Lists!$B17 ) -> Gerund | K11: =COUNTIFS(DiffR,$I$2,TypeR,$I$4,SubTypeR,"*"&J11&"*") -> #REF! | L11: =COUNTIFS(DiffR,$I$2,TypeR,$I$4,SubTypeR,"*"&J11&"*",CorrectR,"Correct") -> #REF! | M11: =IF(AND(K11<>0, K11<> ""),L11/K11,"") -> #REF! | P11: =IF(Lists!$B17="", "",Lists!$B17 ) -> Gerund | Q11: =COUNTIFS(DiffR,$O$2,TypeR,$I$4,SubTypeR,"*"&P11&"*") -> #REF! | R11: =COUNTIFS(DiffR,$O$2,TypeR,$I$4,SubTypeR,"*"&P11&"*",CorrectR,"Correct") -> #REF! | S11: =IF(AND(Q11<>0, Q11<> ""),R11/Q11,"") -> #REF!
B12: =IF(Lists!$B18="", "",Lists!$B18 ) -> Grammatical Construction | C12: =COUNTIFS(DiffR,$A$2,TypeR,$A$4,SubTypeR,"*"&B12&"*") -> #REF! | D12: =COUNTIFS(DiffR,$A$2,TypeR,$A$4,SubTypeR,"*"&B12&"*",CorrectR,"Correct") -> #REF! | E12: =IF(AND(C12<>0, C12<> ""),D12/C12,"") -> #REF! | J12: =IF(Lists!$B18="", "",Lists!$B18 ) -> Grammatical Construction | K12: =COUNTIFS(DiffR,$I$2,TypeR,$I$4,SubTypeR,"*"&J12&"*") -> #REF! | L12: =COUNTIFS(DiffR,$I$2,TypeR,$I$4,SubTypeR,"*"&J12&"*",CorrectR,"Correct") -> #REF! | M12: =IF(AND(K12<>0, K12<> ""),L12/K12,"") -> #REF! | P12: =IF(Lists!$B18="", "",Lists!$B18 ) -> Grammatical Construction | Q12: =COUNTIFS(DiffR,$O$2,TypeR,$I$4,SubTypeR,"*"&P12&"*") -> #REF! | R12: =COUNTIFS(DiffR,$O$2,TypeR,$I$4,SubTypeR,"*"&P12&"*",CorrectR,"Correct") -> #REF! | S12: =IF(AND(Q12<>0, Q12<> ""),R12/Q12,"") -> #REF!
B13: =IF(Lists!$B19="", "",Lists!$B19 ) -> Idioms | C13: =COUNTIFS(DiffR,$A$2,TypeR,$A$4,SubTypeR,"*"&B13&"*") -> #REF! | D13: =COUNTIFS(DiffR,$A$2,TypeR,$A$4,SubTypeR,"*"&B13&"*",CorrectR,"Correct") -> #REF! | E13: =IF(AND(C13<>0, C13<> ""),D13/C13,"") -> #REF! | J13: =IF(Lists!$B19="", "",Lists!$B19 ) -> Idioms | K13: =COUNTIFS(DiffR,$I$2,TypeR,$I$4,SubTypeR,"*"&J13&"*") -> #REF! | L13: =COUNTIFS(DiffR,$I$2,TypeR,$I$4,SubTypeR,"*"&J13&"*",CorrectR,"Correct") -> #REF! | M13: =IF(AND(K13<>0, K13<> ""),L13/K13,"") -> #REF! | P13: =IF(Lists!$B19="", "",Lists!$B19 ) -> Idioms | Q13: =COUNTIFS(DiffR,$O$2,TypeR,$I$4,SubTypeR,"*"&P13&"*") -> #REF! | R13: =COUNTIFS(DiffR,$O$2,TypeR,$I$4,SubTypeR,"*"&P13&"*",CorrectR,"Correct") -> #REF! | S13: =IF(AND(Q13<>0, Q13<> ""),R13/Q13,"") -> #REF!
B14: =IF(Lists!$B20="", "",Lists!$B20 ) -> If-Then | C14: =COUNTIFS(DiffR,$A$2,TypeR,$A$4,SubTypeR,"*"&B14&"*") -> #REF! | D14: =COUNTIFS(DiffR,$A$2,TypeR,$A$4,SubTypeR,"*"&B14&"*",CorrectR,"Correct") -> #REF! | E14: =IF(AND(C14<>0, C14<> ""),D14/C14,"") -> #REF! | J14: =IF(Lists!$B20="", "",Lists!$B20 ) -> If-Then | K14: =COUNTIFS(DiffR,$I$2,TypeR,$I$4,SubTypeR,"*"&J14&"*") -> #REF! | L14: =COUNTIFS(DiffR,$I$2,TypeR,$I$4,SubTypeR,"*"&J14&"*",CorrectR,"Correct") -> #REF! | M14: =IF(AND(K14<>0, K14<> ""),L14/K14,"") -> #REF! | P14: =IF(Lists!$B20="", "",Lists!$B20 ) -> If-Then | Q14: =COUNTIFS(DiffR,$O$2,TypeR,$I$4,SubTypeR,"*"&P14&"*") -> #REF! | R14: =COUNTIFS(DiffR,$O$2,TypeR,$I$4,SubTypeR,"*"&P14&"*",CorrectR,"Correct") -> #REF! | S14: =IF(AND(Q14<>0, Q14<> ""),R14/Q14,"") -> #REF!
B15: =IF(Lists!$B21="", "",Lists!$B21 ) -> Infinitive | C15: =COUNTIFS(DiffR,$A$2,TypeR,$A$4,SubTypeR,"*"&B15&"*") -> #REF! | D15: =COUNTIFS(DiffR,$A$2,TypeR,$A$4,SubTypeR,"*"&B15&"*",CorrectR,"Correct") -> #REF! | E15: =IF(AND(C15<>0, C15<> ""),D15/C15,"") -> #REF! | J15: =IF(Lists!$B21="", "",Lists!$B21 ) -> Infinitive | K15: =COUNTIFS(DiffR,$I$2,TypeR,$I$4,SubTypeR,"*"&J15&"*") -> #REF! | L15: =COUNTIFS(DiffR,$I$2,TypeR,$I$4,SubTypeR,"*"&J15&"*",CorrectR,"Correct") -> #REF! | M15: =IF(AND(K15<>0, K15<> ""),L15/K15,"") -> #REF! | P15: =IF(Lists!$B21="", "",Lists!$B21 ) -> Infinitive | Q15: =COUNTIFS(DiffR,$O$2,TypeR,$I$4,SubTypeR,"*"&P15&"*") -> #REF! | R15: =COUNTIFS(DiffR,$O$2,TypeR,$I$4,SubTypeR,"*"&P15&"*",CorrectR,"Correct") -> #REF! | S15: =IF(AND(Q15<>0, Q15<> ""),R15/Q15,"") -> #REF!
B16: =IF(Lists!$B22="", "",Lists!$B22 ) -> Meaning | C16: =COUNTIFS(DiffR,$A$2,TypeR,$A$4,SubTypeR,"*"&B16&"*") -> #REF! | D16: =COUNTIFS(DiffR,$A$2,TypeR,$A$4,SubTypeR,"*"&B16&"*",CorrectR,"Correct") -> #REF! | E16: =IF(AND(C16<>0, C16<> ""),D16/C16,"") -> #REF! | J16: =IF(Lists!$B22="", "",Lists!$B22 ) -> Meaning | K16: =COUNTIFS(DiffR,$I$2,TypeR,$I$4,SubTypeR,"*"&J16&"*") -> #REF! | L16: =COUNTIFS(DiffR,$I$2,TypeR,$I$4,SubTypeR,"*"&J16&"*",CorrectR,"Correct") -> #REF! | M16: =IF(AND(K16<>0, K16<> ""),L16/K16,"") -> #REF! | P16: =IF(Lists!$B22="", "",Lists!$B22 ) -> Meaning | Q16: =COUNTIFS(DiffR,$O$2,TypeR,$I$4,SubTypeR,"*"&P16&"*") -> #REF! | R16: =COUNTIFS(DiffR,$O$2,TypeR,$I$4,SubTypeR,"*"&P16&"*",CorrectR,"Correct") -> #REF! | S16: =IF(AND(Q16<>0, Q16<> ""),R16/Q16,"") -> #REF!
... B30: =IF(Lists!$B36="", "",Lists!$B36 ) -> Which/That | C30: =COUNTIFS(DiffR,$A$2,TypeR,$A$4,SubTypeR,"*"&B30&"*") -> #REF! | D30: =COUNTIFS(DiffR,$A$2,TypeR,$A$4,SubTypeR,"*"&B30&"*",CorrectR,"Correct") -> #REF! | E30: =IF(AND(C30<>0, C30<> ""),D30/C30,"") -> #REF! | J30: =IF(Lists!$B36="", "",Lists!$B36 ) -> Which/That | K30: =COUNTIFS(DiffR,$I$2,TypeR,$I$4,SubTypeR,"*"&J30&"*") -> #REF! | L30: =COUNTIFS(DiffR,$I$2,TypeR,$I$4,SubTypeR,"*"&J30&"*",CorrectR,"Correct") -> #REF! | M30: =IF(AND(K30<>0, K30<> ""),L30/K30,"") -> #REF! | P30: =IF(Lists!$B36="", "",Lists!$B36 ) -> Which/That | Q30: =COUNTIFS(DiffR,$O$2,TypeR,$I$4,SubTypeR,"*"&P30&"*") -> #REF! | R30: =COUNTIFS(DiffR,$O$2,TypeR,$I$4,SubTypeR,"*"&P30&"*",CorrectR,"Correct") -> #REF! | S30: =IF(AND(Q30<>0, Q30<> ""),R30/Q30,"") -> #REF!
A31: Total | C31: =COUNTIFS(DiffR,$A$2,TypeR,$A$4) -> #REF! | D31: =COUNTIFS(DiffR,$A$2,TypeR,$A$4,CorrectR,"Correct") -> #REF! | E31: =IF(AND(C31<>0, C31<> ""),D31/C31,"") -> #REF! | I31: Total | K31: =COUNTIFS(DiffR,$I$2,TypeR,$I$4) -> #REF! | L31: =COUNTIFS(DiffR,$I$2,TypeR,$I$4,CorrectR,"Correct") -> #REF! | M31: =IF(AND(K31<>0, K31<> ""),L31/K31,"") -> #REF! | O31: Total | Q31: =COUNTIFS(DiffR,$O$2,TypeR,$O$4) -> #REF! | R31: =COUNTIFS(DiffR,$O$2,TypeR,$O$4,CorrectR,"Correct") -> #REF! | S31: =IF(AND(Q31<>0, Q31<> ""),R31/Q31,"") -> #REF!

Sheet CR
A1: CR
A2: Question Type | B2: Sub-Type | C2: Total | D2: Correct | E2: %
A3: Critical Reasoning (CR) | B3: =IF(Lists!$C10="", "",Lists!$C10) -> Assumption | C3: =COUNTIFS(TypeR,$A$3,SubTypeR,"*"&B3&"*") -> #REF! | D3: =COUNTIFS(TypeR,$A$3,SubTypeR,"*"&B3&"*",CorrectR,"Correct") -> #REF! | E3: =IF(AND(C3<>0, C3<> ""),D3/C3,"") -> #REF!
B4: =IF(Lists!$C11="", "",Lists!$C11) -> Bold Face CR | C4: =COUNTIFS(TypeR,$A$3,SubTypeR,"*"&B4&"*") -> #REF! | D4: =COUNTIFS(TypeR,$A$3,SubTypeR,"*"&B4&"*",CorrectR,"Correct") -> #REF! | E4: =IF(AND(C4<>0, C4<> ""),D4/C4,"") -> #REF!
B5: =IF(Lists!$C12="", "",Lists!$C12) -> Cause and Effect | C5: =COUNTIFS(TypeR,$A$3,SubTypeR,"*"&B5&"*") -> #REF! | D5: =COUNTIFS(TypeR,$A$3,SubTypeR,"*"&B5&"*",CorrectR,"Correct") -> #REF! | E5: =IF(AND(C5<>0, C5<> ""),D5/C5,"") -> #REF!
B6: =IF(Lists!$C13="", "",Lists!$C13) -> Complete the Passage | C6: =COUNTIFS(TypeR,$A$3,SubTypeR,"*"&B6&"*") -> #REF! | D6: =COUNTIFS(TypeR,$A$3,SubTypeR,"*"&B6&"*",CorrectR,"Correct") -> #REF! | E6: =IF(AND(C6<>0, C6<> ""),D6/C6,"") -> #REF!
B7: =IF(Lists!$C14="", "",Lists!$C14) -> Conclusion | C7: =COUNTIFS(TypeR,$A$3,SubTypeR,"*"&B7&"*") -> #REF! | D7: =COUNTIFS(TypeR,$A$3,SubTypeR,"*"&B7&"*",CorrectR,"Correct") -> #REF! | E7: =IF(AND(C7<>0, C7<> ""),D7/C7,"") -> #REF!
B8: =IF(Lists!$C15="", "",Lists!$C15) -> Evaluate Argument | C8: =COUNTIFS(TypeR,$A$3,SubTypeR,"*"&B8&"*") -> #REF! | D8: =COUNTIFS(TypeR,$A$3,SubTypeR,"*"&B8&"*",CorrectR,"Correct") -> #REF! | E8: =IF(AND(C8<>0, C8<> ""),D8/C8,"") -> #REF!
B9: =IF(Lists!$C16="", "",Lists!$C16) -> EXCEPT | C9: =COUNTIFS(TypeR,$A$3,SubTypeR,"*"&B9&"*") -> #REF! | D9: =COUNTIFS(TypeR,$A$3,SubTypeR,"*"&B9&"*",CorrectR,"Correct") -> #REF! | E9: =IF(AND(C9<>0, C9<> ""),D9/C9,"") -> #REF!
B10: =IF(Lists!$C17="", "",Lists!$C17) -> Inference | C10: =COUNTIFS(TypeR,$A$3,SubTypeR,"*"&B10&"*") -> #REF! | D10: =COUNTIFS(TypeR,$A$3,SubTypeR,"*"&B10&"*",CorrectR,"Correct") -> #REF! | E10: =IF(AND(C10<>0, C10<> ""),D10/C10,"") -> #REF!
B11: =IF(Lists!$C18="", "",Lists!$C18) -> Logical Flaw | C11: =COUNTIFS(TypeR,$A$3,SubTypeR,"*"&B11&"*") -> #REF! | D11: =COUNTIFS(TypeR,$A$3,SubTypeR,"*"&B11&"*",CorrectR,"Correct") -> #REF! | E11: =IF(AND(C11<>0, C11<> ""),D11/C11,"") -> #REF!
B12: =IF(Lists!$C19="", "",Lists!$C19) -> Method of Reasoning | C12: =COUNTIFS(TypeR,$A$3,SubTypeR,"*"&B12&"*") -> #REF! | D12: =COUNTIFS(TypeR,$A$3,SubTypeR,"*"&B12&"*",CorrectR,"Correct") -> #REF! | E12: =IF(AND(C12<>0, C12<> ""),D12/C12,"") -> #REF!
B13: =IF(Lists!$C20="", "",Lists!$C20) -> Must be True | C13: =COUNTIFS(TypeR,$A$3,SubTypeR,"*"&B13&"*") -> #REF! | D13: =COUNTIFS(TypeR,$A$3,SubTypeR,"*"&B13&"*",CorrectR,"Correct") -> #REF! | E13: =IF(AND(C13<>0, C13<> ""),D13/C13,"") -> #REF!
B14: =IF(Lists!$C21="", "",Lists!$C21) -> Numbers & Percent | C14: =COUNTIFS(TypeR,$A$3,SubTypeR,"*"&B14&"*") -> #REF! | D14: =COUNTIFS(TypeR,$A$3,SubTypeR,"*"&B14&"*",CorrectR,"Correct") -> #REF! | E14: =IF(AND(C14<>0, C14<> ""),D14/C14,"") -> #REF!
B15: =IF(Lists!$C22="", "",Lists!$C22) -> Resolve Paradox | C15: =COUNTIFS(TypeR,$A$3,SubTypeR,"*"&B15&"*") -> #REF! | D15: =COUNTIFS(TypeR,$A$3,SubTypeR,"*"&B15&"*",CorrectR,"Correct") -> #REF! | E15: =IF(AND(C15<>0, C15<> ""),D15/C15,"") -> #REF!
... B18: =IF(Lists!$C25="", "",Lists!$C25) -> Weaken | C18: =COUNTIFS(TypeR,$A$3,SubTypeR,"*"&B18&"*") -> #REF! | D18: =COUNTIFS(TypeR,$A$3,SubTypeR,"*"&B18&"*",CorrectR,"Correct") -> #REF! | E18: =IF(AND(C18<>0, C18<> ""),D18/C18,"") -> #REF!
A19: Total | C19: =COUNTIF(TypeR,$A$3) -> #REF! | D19: =COUNTIFS(TypeR,$A$3,CorrectR,"Correct") -> #REF! | E19: =IF(AND(C19<>0, C19<> ""),D19/C19,"") -> #REF!
A30: CR | I30: CR | Q30: CR
A31: Sub-600 | I31: 600-700 | Q31: 700
A32: Question Type | B32: Sub-Type | C32: Total | D32: Correct | E32: % | I32: Question Type | J32: Sub-Type | K32: Total | L32: Correct | M32: % | Q32: Question Type | R32: Sub-Type | S32: Total | T32: Correct | U32: %
A33: Critical Reasoning (CR) | B33: =IF(Lists!$C10="", "",Lists!$C10) -> Assumption | C33: =COUNTIFS(DiffR,$A$31,TypeR,$A$33,SubTypeR,"*"&B33&"*") -> #REF! | D33: =COUNTIFS(DiffR,$A$31,TypeR,$A$33,SubTypeR,"*"&B33&"*",CorrectR,"Correct") -> #REF! | E33: =IF(AND(C33<>0, C33<> ""),D33/C33,"") -> #REF! | I33: Critical Reasoning (CR) | J33: =IF(Lists!$C10="", "",Lists!$C10) -> Assumption | K33: =COUNTIFS(DiffR,$I$31,TypeR,$I$33,SubTypeR,"*"&J33&"*") -> #REF! | L33: =COUNTIFS(DiffR,$I$31,TypeR,$I$33,SubTypeR,"*"&J33&"*",CorrectR,"Correct") -> #REF! | M33: =IF(AND(K33<>0, K33<> ""),L33/K33,"") -> #REF! | Q33: Critical Reasoning (CR) | R33: =IF(Lists!$C10="", "",Lists!$C10) -> Assumption | S33: =COUNTIFS(DiffR,$Q$31,TypeR,$Q$33,SubTypeR,"*"&R33&"*") -> #REF! | T33: =COUNTIFS(DiffR,$Q$31,TypeR,$Q$33,SubTypeR,"*"&R33&"*",CorrectR,"Correct") -> #REF! | U33: =IF(AND(S33<>0, S33<> ""),T33/S33,"") -> #REF!
B34: =IF(Lists!$C11="", "",Lists!$C11) -> Bold Face CR | C34: =COUNTIFS(DiffR,$A$31,TypeR,$A$3,SubTypeR,"*"&B34&"*") -> #REF! | D34: =COUNTIFS(DiffR,$A$31,TypeR,$A$3,SubTypeR,"*"&B34&"*",CorrectR,"Correct") -> #REF! | E34: =IF(AND(C34<>0, C34<> ""),D34/C34,"") -> #REF! | J34: =IF(Lists!$C11="", "",Lists!$C11) -> Bold Face CR | K34: =COUNTIFS(DiffR,$I$31,TypeR,$I$33,SubTypeR,"*"&J34&"*") -> #REF! | L34: =COUNTIFS(DiffR,$I$31,TypeR,$I$33,SubTypeR,"*"&J34&"*",CorrectR,"Correct") -> #REF! | M34: =IF(AND(K34<>0, K34<> ""),L34/K34,"") -> #REF! | R34: =IF(Lists!$C11="", "",Lists!$C11) -> Bold Face CR | S34: =COUNTIFS(DiffR,$Q$31,TypeR,$Q$33,SubTypeR,"*"&R34&"*") -> #REF! | T34: =COUNTIFS(DiffR,$Q$31,TypeR,$Q$33,SubTypeR,"*"&R34&"*",CorrectR,"Correct") -> #REF! | U34: =IF(AND(S34<>0, S34<> ""),T34/S34,"") -> #REF!
B35: =IF(Lists!$C12="", "",Lists!$C12) -> Cause and Effect | C35: =COUNTIFS(DiffR,$A$31,TypeR,$A$3,SubTypeR,"*"&B35&"*") -> #REF! | D35: =COUNTIFS(DiffR,$A$31,TypeR,$A$3,SubTypeR,"*"&B35&"*",CorrectR,"Correct") -> #REF! | E35: =IF(AND(C35<>0, C35<> ""),D35/C35,"") -> #REF! | J35: =IF(Lists!$C12="", "",Lists!$C12) -> Cause and Effect | K35: =COUNTIFS(DiffR,$I$31,TypeR,$I$33,SubTypeR,"*"&J35&"*") -> #REF! | L35: =COUNTIFS(DiffR,$I$31,TypeR,$I$33,SubTypeR,"*"&J35&"*",CorrectR,"Correct") -> #REF! | M35: =IF(AND(K35<>0, K35<> ""),L35/K35,"") -> #REF! | R35: =IF(Lists!$C12="", "",Lists!$C12) -> Cause and Effect | S35: =COUNTIFS(DiffR,$Q$31,TypeR,$Q$33,SubTypeR,"*"&R35&"*") -> #REF! | T35: =COUNTIFS(DiffR,$Q$31,TypeR,$Q$33,SubTypeR,"*"&R35&"*",CorrectR,"Correct") -> #REF! | U35: =IF(AND(S35<>0, S35<> ""),T35/S35,"") -> #REF!
B36: =IF(Lists!$C13="", "",Lists!$C13) -> Complete the Passage | C36: =COUNTIFS(DiffR,$A$31,TypeR,$A$3,SubTypeR,"*"&B36&"*") -> #REF! | D36: =COUNTIFS(DiffR,$A$31,TypeR,$A$3,SubTypeR,"*"&B36&"*",CorrectR,"Correct") -> #REF! | E36: =IF(AND(C36<>0, C36<> ""),D36/C36,"") -> #REF! | J36: =IF(Lists!$C13="", "",Lists!$C13) -> Complete the Passage | K36: =COUNTIFS(DiffR,$I$31,TypeR,$I$33,SubTypeR,"*"&J36&"*") -> #REF! | L36: =COUNTIFS(DiffR,$I$31,TypeR,$I$33,SubTypeR,"*"&J36&"*",CorrectR,"Correct") -> #REF! | M36: =IF(AND(K36<>0, K36<> ""),L36/K36,"") -> #REF! | R36: =IF(Lists!$C13="", "",Lists!$C13) -> Complete the Passage | S36: =COUNTIFS(DiffR,$Q$31,TypeR,$Q$33,SubTypeR,"*"&R36&"*") -> #REF! | T36: =COUNTIFS(DiffR,$Q$31,TypeR,$Q$33,SubTypeR,"*"&R36&"*",CorrectR,"Correct") -> #REF! | U36: =IF(AND(S36<>0, S36<> ""),T36/S36,"") -> #REF!
B37: =IF(Lists!$C14="", "",Lists!$C14) -> Conclusion | C37: =COUNTIFS(DiffR,$A$31,TypeR,$A$3,SubTypeR,"*"&B37&"*") -> #REF! | D37: =COUNTIFS(DiffR,$A$31,TypeR,$A$3,SubTypeR,"*"&B37&"*",CorrectR,"Correct") -> #REF! | E37: =IF(AND(C37<>0, C37<> ""),D37/C37,"") -> #REF! | J37: =IF(Lists!$C14="", "",Lists!$C14) -> Conclusion | K37: =COUNTIFS(DiffR,$I$31,TypeR,$I$33,SubTypeR,"*"&J37&"*") -> #REF! | L37: =COUNTIFS(DiffR,$I$31,TypeR,$I$33,SubTypeR,"*"&J37&"*",CorrectR,"Correct") -> #REF! | M37: =IF(AND(K37<>0, K37<> ""),L37/K37,"") -> #REF! | R37: =IF(Lists!$C14="", "",Lists!$C14) -> Conclusion | S37: =COUNTIFS(DiffR,$Q$31,TypeR,$Q$33,SubTypeR,"*"&R37&"*") -> #REF! | T37: =COUNTIFS(DiffR,$Q$31,TypeR,$Q$33,SubTypeR,"*"&R37&"*",CorrectR,"Correct") -> #REF! | U37: =IF(AND(S37<>0, S37<> ""),T37/S37,"") -> #REF!
B38: =IF(Lists!$C15="", "",Lists!$C15) -> Evaluate Argument | C38: =COUNTIFS(DiffR,$A$31,TypeR,$A$3,SubTypeR,"*"&B38&"*") -> #REF! | D38: =COUNTIFS(DiffR,$A$31,TypeR,$A$3,SubTypeR,"*"&B38&"*",CorrectR,"Correct") -> #REF! | E38: =IF(AND(C38<>0, C38<> ""),D38/C38,"") -> #REF! | J38: =IF(Lists!$C15="", "",Lists!$C15) -> Evaluate Argument | K38: =COUNTIFS(DiffR,$I$31,TypeR,$I$33,SubTypeR,"*"&J38&"*") -> #REF! | L38: =COUNTIFS(DiffR,$I$31,TypeR,$I$33,SubTypeR,"*"&J38&"*",CorrectR,"Correct") -> #REF! | M38: =IF(AND(K38<>0, K38<> ""),L38/K38,"") -> #REF! | R38: =IF(Lists!$C15="", "",Lists!$C15) -> Evaluate Argument | S38: =COUNTIFS(DiffR,$Q$31,TypeR,$Q$33,SubTypeR,"*"&R38&"*") -> #REF! | T38: =COUNTIFS(DiffR,$Q$31,TypeR,$Q$33,SubTypeR,"*"&R38&"*",CorrectR,"Correct") -> #REF! | U38: =IF(AND(S38<>0, S38<> ""),T38/S38,"") -> #REF!
B39: =IF(Lists!$C16="", "",Lists!$C16) -> EXCEPT | C39: =COUNTIFS(DiffR,$A$31,TypeR,$A$3,SubTypeR,"*"&B39&"*") -> #REF! | D39: =COUNTIFS(DiffR,$A$31,TypeR,$A$3,SubTypeR,"*"&B39&"*",CorrectR,"Correct") -> #REF! | E39: =IF(AND(C39<>0, C39<> ""),D39/C39,"") -> #REF! | J39: =IF(Lists!$C16="", "",Lists!$C16) -> EXCEPT | K39: =COUNTIFS(DiffR,$I$31,TypeR,$I$33,SubTypeR,"*"&J39&"*") -> #REF! | L39: =COUNTIFS(DiffR,$I$31,TypeR,$I$33,SubTypeR,"*"&J39&"*",CorrectR,"Correct") -> #REF! | M39: =IF(AND(K39<>0, K39<> ""),L39/K39,"") -> #REF! | R39: =IF(Lists!$C16="", "",Lists!$C16) -> EXCEPT | S39: =COUNTIFS(DiffR,$Q$31,TypeR,$Q$33,SubTypeR,"*"&R39&"*") -> #REF! | T39: =COUNTIFS(DiffR,$Q$31,TypeR,$Q$33,SubTypeR,"*"&R39&"*",CorrectR,"Correct") -> #REF! | U39: =IF(AND(S39<>0, S39<> ""),T39/S39,"") -> #REF!
B40: =IF(Lists!$C17="", "",Lists!$C17) -> Inference | C40: =COUNTIFS(DiffR,$A$31,TypeR,$A$3,SubTypeR,"*"&B40&"*") -> #REF! | D40: =COUNTIFS(DiffR,$A$31,TypeR,$A$3,SubTypeR,"*"&B40&"*",CorrectR,"Correct") -> #REF! | E40: =IF(AND(C40<>0, C40<> ""),D40/C40,"") -> #REF! | J40: =IF(Lists!$C17="", "",Lists!$C17) -> Inference | K40: =COUNTIFS(DiffR,$I$31,TypeR,$I$33,SubTypeR,"*"&J40&"*") -> #REF! | L40: =COUNTIFS(DiffR,$I$31,TypeR,$I$33,SubTypeR,"*"&J40&"*",CorrectR,"Correct") -> #REF! | M40: =IF(AND(K40<>0, K40<> ""),L40/K40,"") -> #REF! | R40: =IF(Lists!$C17="", "",Lists!$C17) -> Inference | S40: =COUNTIFS(DiffR,$Q$31,TypeR,$Q$33,SubTypeR,"*"&R40&"*") -> #REF! | T40: =COUNTIFS(DiffR,$Q$31,TypeR,$Q$33,SubTypeR,"*"&R40&"*",CorrectR,"Correct") -> #REF! | U40: =IF(AND(S40<>0, S40<> ""),T40/S40,"") -> #REF!
B41: =IF(Lists!$C18="", "",Lists!$C18) -> Logical Flaw | C41: =COUNTIFS(DiffR,$A$31,TypeR,$A$3,SubTypeR,"*"&B41&"*") -> #REF! | D41: =COUNTIFS(DiffR,$A$31,TypeR,$A$3,SubTypeR,"*"&B41&"*",CorrectR,"Correct") -> #REF! | E41: =IF(AND(C41<>0, C41<> ""),D41/C41,"") -> #REF! | J41: =IF(Lists!$C18="", "",Lists!$C18) -> Logical Flaw | K41: =COUNTIFS(DiffR,$I$31,TypeR,$I$33,SubTypeR,"*"&J41&"*") -> #REF! | L41: =COUNTIFS(DiffR,$I$31,TypeR,$I$33,SubTypeR,"*"&J41&"*",CorrectR,"Correct") -> #REF! | M41: =IF(AND(K41<>0, K41<> ""),L41/K41,"") -> #REF! | R41: =IF(Lists!$C18="", "",Lists!$C18) -> Logical Flaw | S41: =COUNTIFS(DiffR,$Q$31,TypeR,$Q$33,SubTypeR,"*"&R41&"*") -> #REF! | T41: =COUNTIFS(DiffR,$Q$31,TypeR,$Q$33,SubTypeR,"*"&R41&"*",CorrectR,"Correct") -> #REF! | U41: =IF(AND(S41<>0, S41<> ""),T41/S41,"") -> #REF!
B42: =IF(Lists!$C19="", "",Lists!$C19) -> Method of Reasoning | C42: =COUNTIFS(DiffR,$A$31,TypeR,$A$3,SubTypeR,"*"&B42&"*") -> #REF! | D42: =COUNTIFS(DiffR,$A$31,TypeR,$A$3,SubTypeR,"*"&B42&"*",CorrectR,"Correct") -> #REF! | E42: =IF(AND(C42<>0, C42<> ""),D42/C42,"") -> #REF! | J42: =IF(Lists!$C19="", "",Lists!$C19) -> Method of Reasoning | K42: =COUNTIFS(DiffR,$I$31,TypeR,$I$33,SubTypeR,"*"&J42&"*") -> #REF! | L42: =COUNTIFS(DiffR,$I$31,TypeR,$I$33,SubTypeR,"*"&J42&"*",CorrectR,"Correct") -> #REF! | M42: =IF(AND(K42<>0, K42<> ""),L42/K42,"") -> #REF! | R42: =IF(Lists!$C19="", "",Lists!$C19) -> Method of Reasoning | S42: =COUNTIFS(DiffR,$Q$31,TypeR,$Q$33,SubTypeR,"*"&R42&"*") -> #REF! | T42: =COUNTIFS(DiffR,$Q$31,TypeR,$Q$33,SubTypeR,"*"&R42&"*",CorrectR,"Correct") -> #REF! | U42: =IF(AND(S42<>0, S42<> ""),T42/S42,"") -> #REF!
B43: =IF(Lists!$C20="", "",Lists!$C20) -> Must be True | C43: =COUNTIFS(DiffR,$A$31,TypeR,$A$3,SubTypeR,"*"&B43&"*") -> #REF! | D43: =COUNTIFS(DiffR,$A$31,TypeR,$A$3,SubTypeR,"*"&B43&"*",CorrectR,"Correct") -> #REF! | E43: =IF(AND(C43<>0, C43<> ""),D43/C43,"") -> #REF! | J43: =IF(Lists!$C20="", "",Lists!$C20) -> Must be True | K43: =COUNTIFS(DiffR,$I$31,TypeR,$I$33,SubTypeR,"*"&J43&"*") -> #REF! | L43: =COUNTIFS(DiffR,$I$31,TypeR,$I$33,SubTypeR,"*"&J43&"*",CorrectR,"Correct") -> #REF! | M43: =IF(AND(K43<>0, K43<> ""),L43/K43,"") -> #REF! | R43: =IF(Lists!$C20="", "",Lists!$C20) -> Must be True | S43: =COUNTIFS(DiffR,$Q$31,TypeR,$Q$33,SubTypeR,"*"&R43&"*") -> #REF! | T43: =COUNTIFS(DiffR,$Q$31,TypeR,$Q$33,SubTypeR,"*"&R43&"*",CorrectR,"Correct") -> #REF! | U43: =IF(AND(S43<>0, S43<> ""),T43/S43,"") -> #REF!
B44: =IF(Lists!$C21="", "",Lists!$C21) -> Numbers & Percent | C44: =COUNTIFS(DiffR,$A$31,TypeR,$A$3,SubTypeR,"*"&B44&"*") -> #REF! | D44: =COUNTIFS(DiffR,$A$31,TypeR,$A$3,SubTypeR,"*"&B44&"*",CorrectR,"Correct") -> #REF! | E44: =IF(AND(C44<>0, C44<> ""),D44/C44,"") -> #REF! | J44: =IF(Lists!$C21="", "",Lists!$C21) -> Numbers & Percent | K44: =COUNTIFS(DiffR,$I$31,TypeR,$I$33,SubTypeR,"*"&J44&"*") -> #REF! | L44: =COUNTIFS(DiffR,$I$31,TypeR,$I$33,SubTypeR,"*"&J44&"*",CorrectR,"Correct") -> #REF! | M44: =IF(AND(K44<>0, K44<> ""),L44/K44,"") -> #REF! | R44: =IF(Lists!$C21="", "",Lists!$C21) -> Numbers & Percent | S44: =COUNTIFS(DiffR,$Q$31,TypeR,$Q$33,SubTypeR,"*"&R44&"*") -> #REF! | T44: =COUNTIFS(DiffR,$Q$31,TypeR,$Q$33,SubTypeR,"*"&R44&"*",CorrectR,"Correct") -> #REF! | U44: =IF(AND(S44<>0, S44<> ""),T44/S44,"") -> #REF!
B45: =IF(Lists!$C22="", "",Lists!$C22) -> Resolve Paradox | C45: =COUNTIFS(DiffR,$A$31,TypeR,$A$3,SubTypeR,"*"&B45&"*") -> #REF! | D45: =COUNTIFS(DiffR,$A$31,TypeR,$A$3,SubTypeR,"*"&B45&"*",CorrectR,"Correct") -> #REF! | E45: =IF(AND(C45<>0, C45<> ""),D45/C45,"") -> #REF! | J45: =IF(Lists!$C22="", "",Lists!$C22) -> Resolve Paradox | K45: =COUNTIFS(DiffR,$I$31,TypeR,$I$33,SubTypeR,"*"&J45&"*") -> #REF! | L45: =COUNTIFS(DiffR,$I$31,TypeR,$I$33,SubTypeR,"*"&J45&"*",CorrectR,"Correct") -> #REF! | M45: =IF(AND(K45<>0, K45<> ""),L45/K45,"") -> #REF! | R45: =IF(Lists!$C22="", "",Lists!$C22) -> Resolve Paradox | S45: =COUNTIFS(DiffR,$Q$31,TypeR,$Q$33,SubTypeR,"*"&R45&"*") -> #REF! | T45: =COUNTIFS(DiffR,$Q$31,TypeR,$Q$33,SubTypeR,"*"&R45&"*",CorrectR,"Correct") -> #REF! | U45: =IF(AND(S45<>0, S45<> ""),T45/S45,"") -> #REF!
... B48: =IF(Lists!$C25="", "",Lists!$C25) -> Weaken | C48: =COUNTIFS(DiffR,$A$31,TypeR,$A$3,SubTypeR,"*"&B48&"*") -> #REF! | D48: =COUNTIFS(DiffR,$A$31,TypeR,$A$3,SubTypeR,"*"&B48&"*",CorrectR,"Correct") -> #REF! | E48: =IF(AND(C48<>0, C48<> ""),D48/C48,"") -> #REF! | J48: =IF(Lists!$C25="", "",Lists!$C25) -> Weaken | K48: =COUNTIFS(DiffR,$I$31,TypeR,$I$33,SubTypeR,"*"&J48&"*") -> #REF! | L48: =COUNTIFS(DiffR,$I$31,TypeR,$I$33,SubTypeR,"*"&J48&"*",CorrectR,"Correct") -> #REF! | M48: =IF(AND(K48<>0, K48<> ""),L48/K48,"") -> #REF! | R48: =IF(Lists!$C25="", "",Lists!$C25) -> Weaken | S48: =COUNTIFS(DiffR,$Q$31,TypeR,$Q$33,SubTypeR,"*"&R48&"*") -> #REF! | T48: =COUNTIFS(DiffR,$Q$31,TypeR,$Q$33,SubTypeR,"*"&R48&"*",CorrectR,"Correct") -> #REF! | U48: =IF(AND(S48<>0, S48<> ""),T48/S48,"") -> #REF!
A49: Total | C49: =COUNTIFS(TypeR,$A$3,DiffR,$A$31) -> #REF! | D49: =COUNTIFS(TypeR,$A$3,CorrectR,"Correct",DiffR,$A$31) -> #REF! | E49: =IF(AND(C49<>0, C49<> ""),D49/C49,"") -> #REF! | I49: Total | K49: =COUNTIFS(TypeR,$I$33,DiffR,$I$31) -> #REF! | L49: =COUNTIFS(TypeR,$I$33,CorrectR,"Correct",DiffR,$I$31) -> #REF! | M49: =IF(AND(K49<>0, K49<> ""),L49/K49,"") -> #REF! | Q49: Total | S49: =COUNTIFS(TypeR,$Q$33,DiffR,$Q$31) -> #REF! | T49: =COUNTIFS(TypeR,$Q$33,CorrectR,"Correct",DiffR,$Q$31) -> #REF! | U49: =IF(AND(S49<>0, S49<> ""),T49/S49,"") -> #REF!

Sheet PS
A1: PS | K1: PS | U1: PS
