Workbook

Sheet DATA SUFF MATH TRACKER
G6: Pct of Total Qs Answered
AB7: =AB$11/SUM($AB$11:$BO$11) -> 0.1032967 | AC7: =AC$11/SUM($AB$11:$BO$11) -> 0.12087912 | AD7: =AD$11/SUM($AB$11:$BO$11) -> 0.03956044 | AE7: =AE$11/SUM($AB$11:$BO$11) -> 0.032967033 | AF7: =AF$11/SUM($AB$11:$BO$11) -> 0.037362637 | AG7: =AG$11/SUM($AB$11:$BO$11) -> 0.035164835 | AH7: =AH$11/SUM($AB$11:$BO$11) -> 0.026373626 | AI7: =AI$11/SUM($AB$11:$BO$11) -> 0.024175824 | AM7: =AM$11/SUM($AB$11:$BO$11) -> 0.01978022 | AN7: =AN$11/SUM($AB$11:$BO$11) -> 0.030769231 | AO7: =AO$11/SUM($AB$11:$BO$11) -> 0.015384615 | AP7: =AP$11/SUM($AB$11:$BO$11) -> 0.021978022 | AQ7: =AQ$11/SUM($AB$11:$BO$11) -> 0.01978022 | AR7: =AR$11/SUM($AB$11:$BO$11) -> 0.0087912088 | AS7: =AS$11/SUM($AB$11:$BO$11) -> 0.0065934066 | AT7: =AT$11/SUM($AB$11:$BO$11) -> 0.10549451 | ... BK7: =BK$11/SUM($AB$11:$BO$11) -> 0.013186813 | BM7: =BM$11/SUM($AB$11:$BO$11) -> 0.043956044 | BN7: =BN$11/SUM($AB$11:$BO$11) -> 0.0021978022 | BO7: =BO$11/SUM($AB$11:$BO$11) -> 0.021978022
B8: DATA SUFFICENCY GMAT QUANT TRACKER | AB8: =IFERROR(AB11/SUM($AB$11:$BO$11),"NA") -> 0.1032967 | AC8: =IFERROR(AC11/SUM($AB$11:$BO$11),"NA") -> 0.12087912 | AD8: =IFERROR(AD11/SUM($AB$11:$BO$11),"NA") -> 0.03956044 | AE8: =IFERROR(AE11/SUM($AB$11:$BO$11),"NA") -> 0.032967033 | AF8: =IFERROR(AF11/SUM($AB$11:$BO$11),"NA") -> 0.037362637 | AG8: =IFERROR(AG11/SUM($AB$11:$BO$11),"NA") -> 0.035164835 | AH8: =IFERROR(AH11/SUM($AB$11:$BO$11),"NA") -> 0.026373626 | AI8: =IFERROR(AI11/SUM($AB$11:$BO$11),"NA") -> 0.024175824 | ... BK8: =IFERROR(BK11/SUM($AB$11:$BO$11),"NA") -> 0.013186813 | BM8: =IFERROR(BM11/SUM($AB$11:$BO$11),"NA") -> 0.043956044 | BN8: =IFERROR(BN11/SUM($AB$11:$BO$11),"NA") -> 0.0021978022 | BO8: =IFERROR(BO11/SUM($AB$11:$BO$11),"NA") -> 0.021978022
E9: 31 | G9: Question Type | R9: IF BETWEEN C & E = CHOOSE C | AB9: Algebra | AC9: Algebra | AD9: Algebra | AE9: Algebra | AF9: Algebra | AG9: Fractions / Decimals / PCT | AH9: SETS | AI9: STATISTICS | AJ9: Number Properties | AK9: Number Properties | AL9: Number Properties | AM9: Number Properties | AN9: Number Properties | AO9: Number Properties | AP9: Number Properties | AQ9: Number Properties | AR9: PRIMES | AS9: Word Problem | AT9: Word Problem | AU9: Word Problem | AV9: Word Problem | AW9: Word Problem | AX9: Word Problem | AY9: Word Problem | AZ9: Word Problem | BA9: Word Problem | BB9: Word Problem | BC9: Word Problem | BD9: Combinotronics | BE9: Combinotronics | BF9: Coordinate Plane | BG9: Coordinate Plane | BH9: 3D GEOMETRY | BI9: 3D GEOMETRY | BJ9: 3D GEOMETRY | BK9: 2D GEOMETRY | BL9: 2D GEOMETRY | BM9: 2D GEOMETRY | BN9: 2D GEOMETRY | BO9: 2D GEOMETRY
E10: =E9*2 -> 62 | F10: =E10*1.5 -> 93 | R10: IF I DON'T TEST CASES & CHECK - 9/10 - MARK IT WRONG | AB10: Algebra | AC10: Inequalities | AD10: Absolute Value | AE10: Roots | AF10: Exponents | AG10: Fractions / Decimals / PCT | AH10: Sets | AI10: Statistics | AJ10: DIGITS | AK10: Factorials | AL10: Number Properties | AM10: Factors | AN10: Divisibility | AO10: Remainders | AP10: EVEN / ODD | AQ10: Primes | AR10: POS / NEG | AS10: Ratio | AT10: Word Problem | AU10: Profit | AV10: Discount | AW10: Rate / Distance | AX10: Work | AY10: Interest | AZ10: Growth Rates | BA10: MAX / MIN | BB10: Weighted Avg | BC10: Overlapping Sets | BD10: Probability | BE10: Combinotronics | BF10: Functions / Graphs | BG10: Coordinate Plane | BH10: Cylinders | BI10: Spheres | BJ10: Cubes/ Prisms | BK10: Circles | BL10: Lines & Angles | BM10: Quadrilaterals | BN10: Polygons | BO10: Triangles
D11: Time Limit | R11: A SQUARED NUMBER HAS + And - ROOTS / A SQRT # IS ONLY THE + ROOT | AB11: =COUNTA(AB26:AB$47900) -> 47 | AC11: =COUNTA(AC26:AC$47900) -> 55 | AD11: =COUNTA(AD26:AD$47900) -> 18 | AE11: =COUNTA(AE26:AE$47900) -> 15 | AF11: =COUNTA(AF26:AF$47900) -> 17 | AG11: =COUNTA(AG26:AG$47900) -> 16 | AH11: =COUNTA(AH26:AH$47900) -> 12 | AI11: =COUNTA(AI26:AI$47900) -> 11 | ... BO11: =COUNTA(BO26:BO$47900) -> 10
B12: LEVEL | C12: Minutes | D12: 1.5x | E12: Regular | F12: Total Qs by Diff | G12: PCt Correct | R12: MAKE SURE TO TEST DISTINCT CASES!!!!!!!!!!!!!! | AB12: =IFERROR(COUNTIF(AB26:AB$47900,"1C"),"NA") -> 28 | AC12: =IFERROR(COUNTIF(AC26:AC$47900,"1C"),"NA") -> 39 | AD12: =IFERROR(COUNTIF(AD26:AD$47900,"1C"),"NA") -> 10 | AE12: =IFERROR(COUNTIF(AE26:AE$47900,"1C"),"NA") -> 10 | AF12: =IFERROR(COUNTIF(AF26:AF$47900,"1C"),"NA") -> 8 | AG12: =IFERROR(COUNTIF(AG26:AG$47900,"1C"),"NA") -> 10 | AH12: =IFERROR(COUNTIF(AH26:AH$47900,"1C"),"NA") -> 10 | AI12: =IFERROR(COUNTIF(AI26:AI$47900,"1C"),"NA") -> 10 | ... BO12: =IFERROR(COUNTIF(BO26:BO$47900,"1C"),"NA") -> 6
B13: 700 | C13: =IFERROR(AVERAGEIF($C$26:$C$580,B13,$D$26:$D$580),"NA") -> 3.2481907 | D13: =(E13*1) -> 2 | E13: 2 | F13: =COUNTIF($C$26:$C$707,$B13) -> 118 | G13: =COUNTIFS($C$26:$C$707,$B13,$F$26:$F$707,"C")/F13 -> 0.41525424 | U13: (start & b or d) | V13: Work backwards | AB13: =IFERROR(COUNTIF(AB26:AB561,"1W"),"NA") -> 19 | AC13: =IFERROR(COUNTIF(AC26:AC561,"1W"),"NA") -> 16 | AD13: =IFERROR(COUNTIF(AD26:AD561,"1W"),"NA") -> 8 | AE13: =IFERROR(COUNTIF(AE26:AE561,"1W"),"NA") -> 5 | AF13: =IFERROR(COUNTIF(AF26:AF561,"1W"),"NA") -> 9 | AG13: =IFERROR(COUNTIF(AG26:AG561,"1W"),"NA") -> 6 | AH13: =IFERROR(COUNTIF(AH26:AH561,"1W"),"NA") -> 2 | AI13: =IFERROR(COUNTIF(AI26:AI561,"1W"),"NA") -> 1 | ... BO13: =IFERROR(COUNTIF(BO26:BO561,"1W"),"NA") -> 4
B14: 600-700 | C14: =IFERROR(AVERAGEIF($C$26:$C$580,B14,$D$26:$D$580),"NA") -> 2.6315926 | D14: =(E14*1) -> 2 | E14: 2 | F14: =COUNTIF($C$26:$C$707,$B14) -> 348 | G14: =COUNTIFS($C$26:$C$707,$B14,$F$26:$F$707,"C")/F14 -> 0.67816092 | R14: DO OPERATIONS WITH EVEN/ ODD Qs | V14: Smart Numbers
B15: sub-600 | C15: =IFERROR(AVERAGEIF($C$26:$C$580,B15,$D$26:$D$580),"NA") -> 1.4215 | D15: =(E15*1) -> 2 | E15: 2 | F15: =COUNTIF($C$26:$C$707,$B15) -> 41 | G15: =COUNTIFS($C$26:$C$707,$B15,$F$26:$F$707,"C")/F15 -> 0.92682927 | V15: Logic It out | AB15: =IFERROR(AB12/AB11,"NA") -> 0.59574468 | AC15: =IFERROR(AC12/AC11,"NA") -> 0.70909091 | AD15: =IFERROR(AD12/AD11,"NA") -> 0.55555556 | AE15: =IFERROR(AE12/AE11,"NA") -> 0.66666667 | AF15: =IFERROR(AF12/AF11,"NA") -> 0.47058824 | AG15: =IFERROR(AG12/AG11,"NA") -> 0.625 | AH15: =IFERROR(AH12/AH11,"NA") -> 0.83333333 | AI15: =IFERROR(AI12/AI11,"NA") -> 0.90909091 | ... BO15: =IFERROR(BO12/BO11,"NA") -> 0.6
P16: REMEMBER, THIS IS A TEST OF LOGICAL REASONING | AB16: =IFERROR(AB13/AB$5,"NA") -> NA | AC16: =IFERROR(AC13/AC$5,"NA") -> NA | AD16: =IFERROR(AD13/AD$5,"NA") -> NA | AE16: =IFERROR(AE13/AE$5,"NA") -> NA | AF16: =IFERROR(AF13/AF$5,"NA") -> NA | AG16: =IFERROR(AG13/AG$5,"NA") -> NA | AH16: =IFERROR(AH13/AH$5,"NA") -> NA | AI16: =IFERROR(AI13/AI$5,"NA") -> NA | ... BO16: =IFERROR(BO13/BO$5,"NA") -> NA | CP16: sub-600 | CQ16: 600-700 | CR16: 700
P17: NOT MATH ABILITIES!!!!! LOGIC FIRST, THEN USE MATH
B18: Cut off Time: | G18: ="PCT of "&B13&" Lvl Q correct" -> PCT of 700 Lvl Q correct | AB18: =IFERROR(COUNTIFS(AB$26:AB$47900,"1C",$C$26:$C$47900,$B13)/(COUNTIFS(AB$26:AB$47900,"1C",$C$26:$C$47900,$B13)+COUNTIFS(AB$26:AB$47900,"1W",$C$26:$C$47900,$B13)),"NA") -> 0.42857143 | AC18: =IFERROR(COUNTIFS(AC$26:AC$47900,"1C",$C$26:$C$47900,$B13)/(COUNTIFS(AC$26:AC$47900,"1C",$C$26:$C$47900,$B13)+COUNTIFS(AC$26:AC$47900,"1W",$C$26:$C$47900,$B13)),"NA") -> 0.4 | AD18: =IFERROR(COUNTIFS(AD$26:AD$47900,"1C",$C$26:$C$47900,$B13)/(COUNTIFS(AD$26:AD$47900,"1C",$C$26:$C$47900,$B13)+COUNTIFS(AD$26:AD$47900,"1W",$C$26:$C$47900,$B13)),"NA") -> 0.16666667 | AE18: =IFERROR(COUNTIFS(AE$26:AE$47900,"1C",$C$26:$C$47900,$B13)/(COUNTIFS(AE$26:AE$47900,"1C",$C$26:$C$47900,$B13)+COUNTIFS(AE$26:AE$47900,"1W",$C$26:$C$47900,$B13)),"NA") -> NA | AF18: =IFERROR(COUNTIFS(AF$26:AF$47900,"1C",$C$26:$C$47900,$B13)/(COUNTIFS(AF$26:AF$47900,"1C",$C$26:$C$47900,$B13)+COUNTIFS(AF$26:AF$47900,"1W",$C$26:$C$47900,$B13)),"NA") -> 0 | AG18: =IFERROR(COUNTIFS(AG$26:AG$47900,"1C",$C$26:$C$47900,$B13)/(COUNTIFS(AG$26:AG$47900,"1C",$C$26:$C$47900,$B13)+COUNTIFS(AG$26:AG$47900,"1W",$C$26:$C$47900,$B13)),"NA") -> 0.5 | AH18: =IFERROR(COUNTIFS(AH$26:AH$47900,"1C",$C$26:$C$47900,$B13)/(COUNTIFS(AH$26:AH$47900,"1C",$C$26:$C$47900,$B13)+COUNTIFS(AH$26:AH$47900,"1W",$C$26:$C$47900,$B13)),"NA") -> 1 | AI18: =IFERROR(COUNTIFS(AI$26:AI$47900,"1C",$C$26:$C$47900,$B13)/(COUNTIFS(AI$26:AI$47900,"1C",$C$26:$C$47900,$B13)+COUNTIFS(AI$26:AI$47900,"1W",$C$26:$C$47900,$B13)),"NA") -> 0 | ... BO18: =IFERROR(COUNTIFS(BO$26:BO$47900,"1C",$C$26:$C$47900,$B13)/(COUNTIFS(BO$26:BO$47900,"1C",$C$26:$C$47900,$B13)+COUNTIFS(BO$26:BO$47900,"1W",$C$26:$C$47900,$B13)),"NA") -> 0.5
B19: pct of time correct if take longer than [ ] Minutes | G19: ="PCT of "&B14&" Lvl Q correct" -> PCT of 600-700 Lvl Q correct | AB19: =IFERROR(COUNTIFS(AB$26:AB$47900,"1C",$C$26:$C$47900,$B14)/(COUNTIFS(AB$26:AB$47900,"1C",$C$26:$C$47900,$B14)+COUNTIFS(AB$26:AB$47900,"1W",$C$26:$C$47900,$B14)),"NA") -> 0.62162162 | AC19: =IFERROR(COUNTIFS(AC$26:AC$47900,"1C",$C$26:$C$47900,$B14)/(COUNTIFS(AC$26:AC$47900,"1C",$C$26:$C$47900,$B14)+COUNTIFS(AC$26:AC$47900,"1W",$C$26:$C$47900,$B14)),"NA") -> 0.64285714 | AD19: =IFERROR(COUNTIFS(AD$26:AD$47900,"1C",$C$26:$C$47900,$B14)/(COUNTIFS(AD$26:AD$47900,"1C",$C$26:$C$47900,$B14)+COUNTIFS(AD$26:AD$47900,"1W",$C$26:$C$47900,$B14)),"NA") -> 0.66666667 | AE19: =IFERROR(COUNTIFS(AE$26:AE$47900,"1C",$C$26:$C$47900,$B14)/(COUNTIFS(AE$26:AE$47900,"1C",$C$26:$C$47900,$B14)+COUNTIFS(AE$26:AE$47900,"1W",$C$26:$C$47900,$B14)),"NA") -> 0.5 | AF19: =IFERROR(COUNTIFS(AF$26:AF$47900,"1C",$C$26:$C$47900,$B14)/(COUNTIFS(AF$26:AF$47900,"1C",$C$26:$C$47900,$B14)+COUNTIFS(AF$26:AF$47900,"1W",$C$26:$C$47900,$B14)),"NA") -> 0.5 | AG19: =IFERROR(COUNTIFS(AG$26:AG$47900,"1C",$C$26:$C$47900,$B14)/(COUNTIFS(AG$26:AG$47900,"1C",$C$26:$C$47900,$B14)+COUNTIFS(AG$26:AG$47900,"1W",$C$26:$C$47900,$B14)),"NA") -> 0.63636364 | AH19: =IFERROR(COUNTIFS(AH$26:AH$47900,"1C",$C$26:$C$47900,$B14)/(COUNTIFS(AH$26:AH$47900,"1C",$C$26:$C$47900,$B14)+COUNTIFS(AH$26:AH$47900,"1W",$C$26:$C$47900,$B14)),"NA") -> 0.8 | AI19: =IFERROR(COUNTIFS(AI$26:AI$47900,"1C",$C$26:$C$47900,$B14)/(COUNTIFS(AI$26:AI$47900,"1C",$C$26:$C$47900,$B14)+COUNTIFS(AI$26:AI$47900,"1W",$C$26:$C$47900,$B14)),"NA") -> 1 | ... BO19: =IFERROR(COUNTIFS(BO$26:BO$47900,"1C",$C$26:$C$47900,$B14)/(COUNTIFS(BO$26:BO$47900,"1C",$C$26:$C$47900,$B14)+COUNTIFS(BO$26:BO$47900,"1W",$C$26:$C$47900,$B14)),"NA") -> 0.66666667 | CO19: 0.025 | CP19: =IFERROR(COUNTIFS($C$26:$C$48400,CP$16,$D$26:$D$48400,">="&$CO19,$F$26:$F$48400,"C")/COUNTIFS($C$26:$C$48400,CP$16,$D$26:$D$48400,">="&$CO19),"NA") -> 0.95 | CQ19: =IFERROR(COUNTIFS($C$26:$C$48400,CQ$16,$D$26:$D$48400,">="&$CO19,$F$26:$F$48400,"C")/COUNTIFS($C$26:$C$48400,CQ$16,$D$26:$D$48400,">="&$CO19),"NA") -> 0.68115942 | CR19: =IFERROR(COUNTIFS($C$26:$C$48400,CR$16,$D$26:$D$48400,">="&$CO19,$F$26:$F$48400,"C")/COUNTIFS($C$26:$C$48400,CR$16,$D$26:$D$48400,">="&$CO19),"NA") -> 0.41025641
B20: (mins) / level | C20: =B13 -> 700 | D20: =B14 -> 600-700 | E20: =B15 -> sub-600 | G20: ="PCT of "&B15&" Lvl Q correct" -> PCT of sub-600 Lvl Q correct | AB20: =IFERROR(COUNTIFS(AB$26:AB$47900,"1C",$C$26:$C$47900,$B15)/(COUNTIFS(AB$26:AB$47900,"1C",$C$26:$C$47900,$B15)+COUNTIFS(AB$26:AB$47900,"1W",$C$26:$C$47900,$B15)),"NA") -> 0.5 | AC20: =IFERROR(COUNTIFS(AC$26:AC$47900,"1C",$C$26:$C$47900,$B15)/(COUNTIFS(AC$26:AC$47900,"1C",$C$26:$C$47900,$B15)+COUNTIFS(AC$26:AC$47900,"1W",$C$26:$C$47900,$B15)),"NA") -> 1 | AD20: =IFERROR(COUNTIFS(AD$26:AD$47900,"1C",$C$26:$C$47900,$B15)/(COUNTIFS(AD$26:AD$47900,"1C",$C$26:$C$47900,$B15)+COUNTIFS(AD$26:AD$47900,"1W",$C$26:$C$47900,$B15)),"NA") -> 0.83333333 | AE20: =IFERROR(COUNTIFS(AE$26:AE$47900,"1C",$C$26:$C$47900,$B15)/(COUNTIFS(AE$26:AE$47900,"1C",$C$26:$C$47900,$B15)+COUNTIFS(AE$26:AE$47900,"1W",$C$26:$C$47900,$B15)),"NA") -> 1 | AF20: =IFERROR(COUNTIFS(AF$26:AF$47900,"1C",$C$26:$C$47900,$B15)/(COUNTIFS(AF$26:AF$47900,"1C",$C$26:$C$47900,$B15)+COUNTIFS(AF$26:AF$47900,"1W",$C$26:$C$47900,$B15)),"NA") -> NA | AG20: =IFERROR(COUNTIFS(AG$26:AG$47900,"1C",$C$26:$C$47900,$B15)/(COUNTIFS(AG$26:AG$47900,"1C",$C$26:$C$47900,$B15)+COUNTIFS(AG$26:AG$47900,"1W",$C$26:$C$47900,$B15)),"NA") -> 1 | AH20: =IFERROR(COUNTIFS(AH$26:AH$47900,"1C",$C$26:$C$47900,$B15)/(COUNTIFS(AH$26:AH$47900,"1C",$C$26:$C$47900,$B15)+COUNTIFS(AH$26:AH$47900,"1W",$C$26:$C$47900,$B15)),"NA") -> NA | AI20: =IFERROR(COUNTIFS(AI$26:AI$47900,"1C",$C$26:$C$47900,$B15)/(COUNTIFS(AI$26:AI$47900,"1C",$C$26:$C$47900,$B15)+COUNTIFS(AI$26:AI$47900,"1W",$C$26:$C$47900,$B15)),"NA") -> NA | ... BO20: =IFERROR(COUNTIFS(BO$26:BO$47900,"1C",$C$26:$C$47900,$B15)/(COUNTIFS(BO$26:BO$47900,"1C",$C$26:$C$47900,$B15)+COUNTIFS(BO$26:BO$47900,"1W",$C$26:$C$47900,$B15)),"NA") -> NA | BU20: PCT CORRECT | BV20: Y AXIS | CO20: =CO19+0.25 -> 0.275 | CP20: =IFERROR(COUNTIFS($C$26:$C$48400,CP$16,$D$26:$D$48400,">="&$CO20,$F$26:$F$48400,"C")/COUNTIFS($C$26:$C$48400,CP$16,$D$26:$D$48400,">="&$CO20),"NA") -> 0.94736842 | CQ20: =IFERROR(COUNTIFS($C$26:$C$48400,CQ$16,$D$26:$D$48400,">="&$CO20,$F$26:$F$48400,"C")/COUNTIFS($C$26:$C$48400,CQ$16,$D$26:$D$48400,">="&$CO20),"NA") -> 0.69117647 | CR20: =IFERROR(COUNTIFS($C$26:$C$48400,CR$16,$D$26:$D$48400,">="&$CO20,$F$26:$F$48400,"C")/COUNTIFS($C$26:$C$48400,CR$16,$D$26:$D$48400,">="&$CO20),"NA") -> 0.4173913
B21: 1 | C21: =IFERROR(COUNTIFS($C$26:$C$47900,C$20,$D$26:$D$47900,">="&$B21,$F$26:$F$47900,"C")/COUNTIFS($C$26:$C$47900,C$20,$D$26:$D$47900,">="&$B21),"NA") -> 0.4122807 | D21: =IFERROR(COUNTIFS($C$26:$C$47900,D$20,$D$26:$D$47900,">="&$B21,$F$26:$F$47900,"C")/COUNTIFS($C$26:$C$47900,D$20,$D$26:$D$47900,">="&$B21),"NA") -> 0.7037037 | E21: =IFERROR(COUNTIFS($C$26:$C$47900,E$20,$D$26:$D$47900,">="&$B21,$F$26:$F$47900,"C")/COUNTIFS($C$26:$C$47900,E$20,$D$26:$D$47900,">="&$B21),"NA") -> 0.92857143 | BU21: AVERAGE TIME | BV21: x AXIS | CO21: =CO20+0.25 -> 0.525 | CP21: =IFERROR(COUNTIFS($C$26:$C$48400,CP$16,$D$26:$D$48400,">="&$CO21,$F$26:$F$48400,"C")/COUNTIFS($C$26:$C$48400,CP$16,$D$26:$D$48400,">="&$CO21),"NA") -> 0.94444444 | CQ21: =IFERROR(COUNTIFS($C$26:$C$48400,CQ$16,$D$26:$D$48400,">="&$CO21,$F$26:$F$48400,"C")/COUNTIFS($C$26:$C$48400,CQ$16,$D$26:$D$48400,">="&$CO21),"NA") -> 0.69642857 | CR21: =IFERROR(COUNTIFS($C$26:$C$48400,CR$16,$D$26:$D$48400,">="&$CO21,$F$26:$F$48400,"C")/COUNTIFS($C$26:$C$48400,CR$16,$D$26:$D$48400,">="&$CO21),"NA") -> 0.4173913
B22: =B21+0.5 -> 1.5 | C22: =IFERROR(COUNTIFS($C$26:$C$47900,C$20,$D$26:$D$47900,">="&$B22,$F$26:$F$47900,"C")/COUNTIFS($C$26:$C$47900,C$20,$D$26:$D$47900,">="&$B22),"NA") -> 0.39047619 | D22: =IFERROR(COUNTIFS($C$26:$C$47900,D$20,$D$26:$D$47900,">="&$B22,$F$26:$F$47900,"C")/COUNTIFS($C$26:$C$47900,D$20,$D$26:$D$47900,">="&$B22),"NA") -> 0.70318021 | E22: =IFERROR(COUNTIFS($C$26:$C$47900,E$20,$D$26:$D$47900,">="&$B22,$F$26:$F$47900,"C")/COUNTIFS($C$26:$C$47900,E$20,$D$26:$D$47900,">="&$B22),"NA") -> 0.93333333 | G22: Average Time Per Q | Y22: METHOD | Z22: WHY WRONG | AB22: =IFERROR(AVERAGEIF($E$26:$E$1008,AB$25,$D$26:$D$1008),"NA") -> 2.6225157 | AC22: =IFERROR(AVERAGEIF($E$26:$E$1008,AC$25,$D$26:$D$1008),"NA") -> 2.1794444 | AD22: =IFERROR(AVERAGEIF($E$26:$E$1008,AD$25,$D$26:$D$1008),"NA") -> 2.364325 | AE22: =IFERROR(AVERAGEIF($E$26:$E$1008,AE$25,$D$26:$D$1008),"NA") -> 1.9451111 | AF22: =IFERROR(AVERAGEIF($E$26:$E$1008,AF$25,$D$26:$D$1008),"NA") -> 3.2303922 | AG22: =IFERROR(AVERAGEIF($E$26:$E$1008,AG$25,$D$26:$D$1008),"NA") -> 2.7283333 | AH22: =IFERROR(AVERAGEIF($E$26:$E$1008,AH$25,$D$26:$D$1008),"NA") -> 2.8822222 | AI22: =IFERROR(AVERAGEIF($E$26:$E$1008,AI$25,$D$26:$D$1008),"NA") -> 2.4333333 | ... BO22: =IFERROR(AVERAGEIF($E$26:$E$1008,BO$25,$D$26:$D$1008),"NA") -> 3.67 | BU22: PCT OF TOTAL QS | BV22: BUBBLE SIZE | CO22: =CO21+0.25 -> 0.775 | CP22: =IFERROR(COUNTIFS($C$26:$C$48400,CP$16,$D$26:$D$48400,">="&$CO22,$F$26:$F$48400,"C")/COUNTIFS($C$26:$C$48400,CP$16,$D$26:$D$48400,">="&$CO22),"NA") -> 0.9375 | CQ22: =IFERROR(COUNTIFS($C$26:$C$48400,CQ$16,$D$26:$D$48400,">="&$CO22,$F$26:$F$48400,"C")/COUNTIFS($C$26:$C$48400,CQ$16,$D$26:$D$48400,">="&$CO22),"NA") -> 0.7030303 | CR22: =IFERROR(COUNTIFS($C$26:$C$48400,CR$16,$D$26:$D$48400,">="&$CO22,$F$26:$F$48400,"C")/COUNTIFS($C$26:$C$48400,CR$16,$D$26:$D$48400,">="&$CO22),"NA") -> 0.4173913
B23: =B22+0.5 -> 2 | C23: =IFERROR(COUNTIFS($C$26:$C$47900,C$20,$D$26:$D$47900,">="&$B23,$F$26:$F$47900,"C")/COUNTIFS($C$26:$C$47900,C$20,$D$26:$D$47900,">="&$B23),"NA") -> 0.37373737 | D23: =IFERROR(COUNTIFS($C$26:$C$47900,D$20,$D$26:$D$47900,">="&$B23,$F$26:$F$47900,"C")/COUNTIFS($C$26:$C$47900,D$20,$D$26:$D$47900,">="&$B23),"NA") -> 0.68722467 | E23: =IFERROR(COUNTIFS($C$26:$C$47900,E$20,$D$26:$D$47900,">="&$B23,$F$26:$F$47900,"C")/COUNTIFS($C$26:$C$47900,E$20,$D$26:$D$47900,">="&$B23),"NA") -> 0.9 | G23: Avg time if C | J23: REWRITE | K23: IDENTIFY | L23: READ | M23: Write Down | N23: SIMPLY/ | O23: LOGIC OUT THE Q | P23: TEST | Q23: Talk out Q | R23: PAUSE & REASSESS | S23: IF C or E | T23: Draw | U23: Check | V23: EMPLOY | W23: CONFIRM | X23: CHECK | Y23: EMPLOYED? | Z23: / WHAT IS | AB23: =IFERROR(AVERAGEIFS($D$26:$D$1008,$E$26:$E$1008,AB$25,$F$26:$F$1008,"C"),"NA") -> 2.2244792 | AC23: =IFERROR(AVERAGEIFS($D$26:$D$1008,$E$26:$E$1008,AC$25,$F$26:$F$1008,"C"),"NA") -> 2.1077236 | AD23: =IFERROR(AVERAGEIFS($D$26:$D$1008,$E$26:$E$1008,AD$25,$F$26:$F$1008,"C"),"NA") -> 1.8863636 | AE23: =IFERROR(AVERAGEIFS($D$26:$D$1008,$E$26:$E$1008,AE$25,$F$26:$F$1008,"C"),"NA") -> 1.6243333 | AF23: =IFERROR(AVERAGEIFS($D$26:$D$1008,$E$26:$E$1008,AF$25,$F$26:$F$1008,"C"),"NA") -> 2.7703704 | AG23: =IFERROR(AVERAGEIFS($D$26:$D$1008,$E$26:$E$1008,AG$25,$F$26:$F$1008,"C"),"NA") -> 2.402381 | AH23: =IFERROR(AVERAGEIFS($D$26:$D$1008,$E$26:$E$1008,AH$25,$F$26:$F$1008,"C"),"NA") -> 3.0296296 | AI23: =IFERROR(AVERAGEIFS($D$26:$D$1008,$E$26:$E$1008,AI$25,$F$26:$F$1008,"C"),"NA") -> 2.3833333 | ... BO23: =IFERROR(AVERAGEIFS($D$26:$D$1008,$E$26:$E$1008,BO$25,$F$26:$F$1008,"C"),"NA") -> 3.5694444 | CO23: =CO22+0.25 -> 1.025 | CP23: =IFERROR(COUNTIFS($C$26:$C$48400,CP$16,$D$26:$D$48400,">="&$CO23,$F$26:$F$48400,"C")/COUNTIFS($C$26:$C$48400,CP$16,$D$26:$D$48400,">="&$CO23),"NA") -> 0.92 | CQ23: =IFERROR(COUNTIFS($C$26:$C$48400,CQ$16,$D$26:$D$48400,">="&$CO23,$F$26:$F$48400,"C")/COUNTIFS($C$26:$C$48400,CQ$16,$D$26:$D$48400,">="&$CO23),"NA") -> 0.70404984 | CR23: =IFERROR(COUNTIFS($C$26:$C$48400,CR$16,$D$26:$D$48400,">="&$CO23,$F$26:$F$48400,"C")/COUNTIFS($C$26:$C$48400,CR$16,$D$26:$D$48400,">="&$CO23),"NA") -> 0.40707965
B24: =B23+0.5 -> 2.5 | C24: =IFERROR(COUNTIFS($C$26:$C$47900,C$20,$D$26:$D$47900,">="&$B24,$F$26:$F$47900,"C")/COUNTIFS($C$26:$C$47900,C$20,$D$26:$D$47900,">="&$B24),"NA") -> 0.35294118 | D24: =IFERROR(COUNTIFS($C$26:$C$47900,D$20,$D$26:$D$47900,">="&$B24,$F$26:$F$47900,"C")/COUNTIFS($C$26:$C$47900,D$20,$D$26:$D$47900,">="&$B24),"NA") -> 0.63276836 | E24: =IFERROR(COUNTIFS($C$26:$C$47900,E$20,$D$26:$D$47900,">="&$B24,$F$26:$F$47900,"C")/COUNTIFS($C$26:$C$47900,E$20,$D$26:$D$47900,">="&$B24),"NA") -> 0.8 | G24: Avg time if W | J24: QUESTION | K24: TOPIC? | L24: FULL | M24: Given | N24: REDUCE | O24: LOGIC OUT THE Q | P24: CASES | Q24: & Steps Needed | R24: GIVEN & 1&2 INFO | S24: WORK OUT C | T24: Diagram | U24: Units | V24: TEST | W24: ANSWERING | X24: MATH | Z24: LESSON | AB24: =IFERROR(AVERAGEIFS($D$26:$D$1008,$E$26:$E$1008,AB$25,$F$26:$F$1008,"W"),"NA") -> 3.2290476 | AC24: =IFERROR(AVERAGEIFS($D$26:$D$1008,$E$26:$E$1008,AC$25,$F$26:$F$1008,"W"),"NA") -> 2.3342105 | AD24: =IFERROR(AVERAGEIFS($D$26:$D$1008,$E$26:$E$1008,AD$25,$F$26:$F$1008,"W"),"NA") -> 2.9485 | AE24: =IFERROR(AVERAGEIFS($D$26:$D$1008,$E$26:$E$1008,AE$25,$F$26:$F$1008,"W"),"NA") -> 2.5866667 | AF24: =IFERROR(AVERAGEIFS($D$26:$D$1008,$E$26:$E$1008,AF$25,$F$26:$F$1008,"W"),"NA") -> 3.7479167 | AG24: =IFERROR(AVERAGEIFS($D$26:$D$1008,$E$26:$E$1008,AG$25,$F$26:$F$1008,"W"),"NA") -> 3.4888889 | AH24: =IFERROR(AVERAGEIFS($D$26:$D$1008,$E$26:$E$1008,AH$25,$F$26:$F$1008,"W"),"NA") -> 2.44 | AI24: =IFERROR(AVERAGEIFS($D$26:$D$1008,$E$26:$E$1008,AI$25,$F$26:$F$1008,"W"),"NA") -> 2.9333333 | ... BO24: =IFERROR(AVERAGEIFS($D$26:$D$1008,$E$26:$E$1008,BO$25,$F$26:$F$1008,"W"),"NA") -> 3.8208333 | CO24: =CO23+0.25 -> 1.275 | CP24: =IFERROR(COUNTIFS($C$26:$C$48400,CP$16,$D$26:$D$48400,">="&$CO24,$F$26:$F$48400,"C")/COUNTIFS($C$26:$C$48400,CP$16,$D$26:$D$48400,">="&$CO24),"NA") -> 0.94117647 | CQ24: =IFERROR(COUNTIFS($C$26:$C$48400,CQ$16,$D$26:$D$48400,">="&$CO24,$F$26:$F$48400,"C")/COUNTIFS($C$26:$C$48400,CQ$16,$D$26:$D$48400,">="&$CO24),"NA") -> 0.6996587 | CR24: =IFERROR(COUNTIFS($C$26:$C$48400,CR$16,$D$26:$D$48400,">="&$CO24,$F$26:$F$48400,"C")/COUNTIFS($C$26:$C$48400,CR$16,$D$26:$D$48400,">="&$CO24),"NA") -> 0.39814815
B25: Date | C25: Level | D25: Time (mins) | E25: TOPIC | F25: CORRECT/ WRONG | G25: link | L25: PROMPT | M25: Info | N25: GIVEN INFO | O25: LOGIC OUT THE Q | P25: FULLY?? | Q25: To Answer | R25: BEFORE C&E | S25: FULLY? | T25: If needed | U25: If needed | V25: STRAT | W25: RIGHT Q | X25: IS RIGHT | Z25: LEARNEd | AB25: =AB10 -> Algebra | AC25: =AC10 -> Inequalities | AD25: =AD10 -> Absolute Value | AE25: =AE10 -> Roots | AF25: =AF10 -> Exponents | AG25: =AG10 -> Fractions / Decimals / PCT | AH25: =AH10 -> Sets | AI25: =AI10 -> Statistics | ... BO25: =BO10 -> Triangles | CO25: =CO24+0.25 -> 1.525 | CP25: =IFERROR(COUNTIFS($C$26:$C$48400,CP$16,$D$26:$D$48400,">="&$CO25,$F$26:$F$48400,"C")/COUNTIFS($C$26:$C$48400,CP$16,$D$26:$D$48400,">="&$CO25),"NA") -> 0.93333333 | CQ25: =IFERROR(COUNTIFS($C$26:$C$48400,CQ$16,$D$26:$D$48400,">="&$CO25,$F$26:$F$48400,"C")/COUNTIFS($C$26:$C$48400,CQ$16,$D$26:$D$48400,">="&$CO25),"NA") -> 0.69927536 | CR25: =IFERROR(COUNTIFS($C$26:$C$48400,CR$16,$D$26:$D$48400,">="&$CO25,$F$26:$F$48400,"C")/COUNTIFS($C$26:$C$48400,CR$16,$D$26:$D$48400,">="&$CO25),"NA") -> 0.38461538
B26: 44488 | C26: sub-600 | D26: 1 | E26: Roots | F26: C | G26: Is n > 6? : Data Sufficiency (DS) (gmatclub.com) | J26: Y | K26: Y | L26: Y | M26: Y | N26: Y | O26: Y | Q26: Y | T26: Y | U26: Y | V26: Y | W26: Y | Y26: Paused after given to undstand what was asked, saw how to get answer via 1 & 2, solved | AE26: 1C | BR26: =IF(COUNTA(AB26:BO26)=1,"CORRECT","EMPTY") -> CORRECT | CO26: =CO25+0.25 -> 1.775 | CP26: =IFERROR(COUNTIFS($C$26:$C$48400,CP$16,$D$26:$D$48400,">="&$CO26,$F$26:$F$48400,"C")/COUNTIFS($C$26:$C$48400,CP$16,$D$26:$D$48400,">="&$CO26),"NA") -> 0.91666667 | CQ26: =IFERROR(COUNTIFS($C$26:$C$48400,CQ$16,$D$26:$D$48400,">="&$CO26,$F$26:$F$48400,"C")/COUNTIFS($C$26:$C$48400,CQ$16,$D$26:$D$48400,">="&$CO26),"NA") -> 0.71084337 | CR26: =IFERROR(COUNTIFS($C$26:$C$48400,CR$16,$D$26:$D$48400,">="&$CO26,$F$26:$F$48400,"C")/COUNTIFS($C$26:$C$48400,CR$16,$D$26:$D$48400,">="&$CO26),"NA") -> 0.37623762
B27: 44488 | C27: sub-600 | D27: 2 | E27: Roots | F27: C | G27: Is the nth root of n greater than the cube root of 3? : Data Sufficiency (DS) (gmatclub.com) | J27: Y | K27: Y | L27: Y | M27: Y | N27: Y | O27: Y | Q27: Y | T27: Y | U27: Y | V27: Y | W27: Y | Y27: Used logic to identify what a higher order root would be compared to a lower one | AE27: 1C | BR27: =IF(COUNTA(AB27:BO27)=1,"CORRECT","EMPTY") -> CORRECT | CO27: =CO26+0.25 -> 2.025 | CP27: =IFERROR(COUNTIFS($C$26:$C$48400,CP$16,$D$26:$D$48400,">="&$CO27,$F$26:$F$48400,"C")/COUNTIFS($C$26:$C$48400,CP$16,$D$26:$D$48400,">="&$CO27),"NA") -> 0.88888889 | CQ27: =IFERROR(COUNTIFS($C$26:$C$48400,CQ$16,$D$26:$D$48400,">="&$CO27,$F$26:$F$48400,"C")/COUNTIFS($C$26:$C$48400,CQ$16,$D$26:$D$48400,">="&$CO27),"NA") -> 0.68544601 | CR27: =IFERROR(COUNTIFS($C$26:$C$48400,CR$16,$D$26:$D$48400,">="&$CO27,$F$26:$F$48400,"C")/COUNTIFS($C$26:$C$48400,CR$16,$D$26:$D$48400,">="&$CO27),"NA") -> 0.37234043
B28: 44488 | C28: sub-600 | D28: =2/6 -> 0.33333333 | E28: Roots | F28: C | G28: What is the value of q ? (1) q = 9^(1/2) (2) |q| = 3 : Data Sufficiency (DS) (gmatclub.com) | J28: Y | K28: Y | L28: Y | M28: Y | N28: Y | O28: Y | Q28: Y | T28: Y | U28: Y | V28: Y | W28: Y | Y28: Understood sqrt of a positive 9 = positive root 3, and abs value could be + or - | AE28: 1C | BR28: =IF(COUNTA(AB28:BO28)=1,"CORRECT","EMPTY") -> CORRECT | CO28: =CO27+0.25 -> 2.275 | CP28: =IFERROR(COUNTIFS($C$26:$C$48400,CP$16,$D$26:$D$48400,">="&$CO28,$F$26:$F$48400,"C")/COUNTIFS($C$26:$C$48400,CP$16,$D$26:$D$48400,">="&$CO28),"NA") -> 0.85714286 | CQ28: =IFERROR(COUNTIFS($C$26:$C$48400,CQ$16,$D$26:$D$48400,">="&$CO28,$F$26:$F$48400,"C")/COUNTIFS($C$26:$C$48400,CQ$16,$D$26:$D$48400,">="&$CO28),"NA") -> 0.64893617 | CR28: =IFERROR(COUNTIFS($C$26:$C$48400,CR$16,$D$26:$D$48400,">="&$CO28,$F$26:$F$48400,"C")/COUNTIFS($C$26:$C$48400,CR$16,$D$26:$D$48400,">="&$CO28),"NA") -> 0.36781609
B29: 44488 | C29: sub-600 | D29: 1 | E29: Roots | F29: C | G29: Is 7 < n^(1/2) < 8? : Data Sufficiency (DS) (gmatclub.com) | J29: Y | K29: Y | L29: Y | M29: Y | N29: Y | O29: Y | Q29: Y | T29: Y | U29: Y | V29: Y | W29: Y | Y29: squared all parts of the inequality and solved for just N | AE29: 1C | BR29: =IF(COUNTA(AB29:BO29)=1,"CORRECT","EMPTY") -> CORRECT | CO29: =CO28+0.25 -> 2.525 | CP29: =IFERROR(COUNTIFS($C$26:$C$48400,CP$16,$D$26:$D$48400,">="&$CO29,$F$26:$F$48400,"C")/COUNTIFS($C$26:$C$48400,CP$16,$D$26:$D$48400,">="&$CO29),"NA") -> 0.75 | CQ29: =IFERROR(COUNTIFS($C$26:$C$48400,CQ$16,$D$26:$D$48400,">="&$CO29,$F$26:$F$48400,"C")/COUNTIFS($C$26:$C$48400,CQ$16,$D$26:$D$48400,">="&$CO29),"NA") -> 0.6300578 | CR29: =IFERROR(COUNTIFS($C$26:$C$48400,CR$16,$D$26:$D$48400,">="&$CO29,$F$26:$F$48400,"C")/COUNTIFS($C$26:$C$48400,CR$16,$D$26:$D$48400,">="&$CO29),"NA") -> 0.35714286
B30: 44488 | C30: sub-600 | D30: 1.66 | E30: Roots | F30: C | G30: If m and n are positive integers, is root(m)^n an integer? : Data Sufficiency (DS) (gmatclub.com) | J30: Y | K30: Y | L30: Y | M30: Y | N30: Y | O30: Y | Q30: Y | T30: Y | U30: Y | V30: Y | W30: Y | Y30: an int x int = int, but a fraction to an int (could be a int or a fraction) | AE30: 1C | BR30: =IF(COUNTA(AB30:BO30)=1,"CORRECT","EMPTY") -> CORRECT | CO30: =CO29+0.25 -> 2.775 | CP30: =IFERROR(COUNTIFS($C$26:$C$48400,CP$16,$D$26:$D$48400,">="&$CO30,$F$26:$F$48400,"C")/COUNTIFS($C$26:$C$48400,CP$16,$D$26:$D$48400,">="&$CO30),"NA") -> 0.66666667 | CQ30: =IFERROR(COUNTIFS($C$26:$C$48400,CQ$16,$D$26:$D$48400,">="&$CO30,$F$26:$F$48400,"C")/COUNTIFS($C$26:$C$48400,CQ$16,$D$26:$D$48400,">="&$CO30),"NA") -> 0.62179487 | CR30: =IFERROR(COUNTIFS($C$26:$C$48400,CR$16,$D$26:$D$48400,">="&$CO30,$F$26:$F$48400,"C")/COUNTIFS($C$26:$C$48400,CR$16,$D$26:$D$48400,">="&$CO30),"NA") -> 0.32835821
B31: 44488 | C31: 600-700 | D31: 5 | E31: Roots | F31: W | G31: If x is a positive integer, x = ? : Data Sufficiency (DS) (gmatclub.com) | J31: Y | K31: Y | L31: Y | M31: Y | N31: N | O31: N | Q31: N | T31: N | U31: N | V31: N | W31: N | Y31: Tried to solve the quadratic - got stuck | Z31: Tied to solve via quadratic & finding the roots, however, by simply analyzing the (x+5)(x-5) > 100, could've shown me that it X would have been too large | AE31: 1W | BR31: =IF(COUNTA(AB31:BO31)=1,"CORRECT","EMPTY") -> CORRECT | CO31: =CO30+0.25 -> 3.025 | CP31: =IFERROR(COUNTIFS($C$26:$C$48400,CP$16,$D$26:$D$48400,">="&$CO31,$F$26:$F$48400,"C")/COUNTIFS($C$26:$C$48400,CP$16,$D$26:$D$48400,">="&$CO31),"NA") -> 0.5 | CQ31: =IFERROR(COUNTIFS($C$26:$C$48400,CQ$16,$D$26:$D$48400,">="&$CO31,$F$26:$F$48400,"C")/COUNTIFS($C$26:$C$48400,CQ$16,$D$26:$D$48400,">="&$CO31),"NA") -> 0.60504202 | CR31: =IFERROR(COUNTIFS($C$26:$C$48400,CR$16,$D$26:$D$48400,">="&$CO31,$F$26:$F$48400,"C")/COUNTIFS($C$26:$C$48400,CR$16,$D$26:$D$48400,">="&$CO31),"NA") -> 0.36363636
B32: 44488 | C32: 600-700 | D32: =5/6 -> 0.83333333 | E32: Roots | F32: C | G32: What is the cube root of w? : Data Sufficiency (DS) (gmatclub.com) | J32: Y | K32: Y | L32: Y | M32: Y | N32: Y | O32: Y | Q32: Y | T32: Y | U32: Y | V32: Y | W32: Y | Y32: Logic - if a certain root of a number is a specific number, that means the whole number is a specific number | AE32: 1C | BR32: =IF(COUNTA(AB32:BO32)=1,"CORRECT","EMPTY") -> CORRECT | CO32: =CO31+0.25 -> 3.275 | CP32: =IFERROR(COUNTIFS($C$26:$C$48400,CP$16,$D$26:$D$48400,">="&$CO32,$F$26:$F$48400,"C")/COUNTIFS($C$26:$C$48400,CP$16,$D$26:$D$48400,">="&$CO32),"NA") -> NA | CQ32: =IFERROR(COUNTIFS($C$26:$C$48400,CQ$16,$D$26:$D$48400,">="&$CO32,$F$26:$F$48400,"C")/COUNTIFS($C$26:$C$48400,CQ$16,$D$26:$D$48400,">="&$CO32),"NA") -> 0.61165049 | CR32: =IFERROR(COUNTIFS($C$26:$C$48400,CR$16,$D$26:$D$48400,">="&$CO32,$F$26:$F$48400,"C")/COUNTIFS($C$26:$C$48400,CR$16,$D$26:$D$48400,">="&$CO32),"NA") -> 0.33333333
B33: 44488 | C33: 600-700 | D33: =5/6 -> 0.83333333 | E33: Roots | F33: W | G33: What is the cube root of y? (1) The 7th root of y is 8*2^(1/7). (2) : Data Sufficiency (DS) (gmatclub.com) | J33: Y | K33: Y | L33: Y | M33: Y | N33: Y | O33: Y | Q33: Y | T33: Y | U33: Y | V33: Y | W33: Y | Y33: the EVEN root in 1 confsed me | Z33: A ROOT ON THE GMAT = THE POSTIVE ROOT | AE33: 1W | BR33: =IF(COUNTA(AB33:BO33)=1,"CORRECT","EMPTY") -> CORRECT | CO33: =CO32+0.25 -> 3.525 | CP33: =IFERROR(COUNTIFS($C$26:$C$48400,CP$16,$D$26:$D$48400,">="&$CO33,$F$26:$F$48400,"C")/COUNTIFS($C$26:$C$48400,CP$16,$D$26:$D$48400,">="&$CO33),"NA") -> NA | CQ33: =IFERROR(COUNTIFS($C$26:$C$48400,CQ$16,$D$26:$D$48400,">="&$CO33,$F$26:$F$48400,"C")/COUNTIFS($C$26:$C$48400,CQ$16,$D$26:$D$48400,">="&$CO33),"NA") -> 0.6125 | CR33: =IFERROR(COUNTIFS($C$26:$C$48400,CR$16,$D$26:$D$48400,">="&$CO33,$F$26:$F$48400,"C")/COUNTIFS($C$26:$C$48400,CR$16,$D$26:$D$48400,">="&$CO33),"NA") -> 0.275
B34: 44488 | C34: 600-700 | D34: =2+(5/6) -> 2.8333333 | E34: Roots | F34: C | G34: If xy ≠ 0 and (xy/3)^(1/2) = x, what is y ? (1) x/y = 1/3 (2) x = 3 : Data Sufficiency (DS) (gmatclub.com) | J34: Y | K34: Y | L34: Y | M34: Y | N34: Y | O34: Y | Q34: Y | T34: Y | U34: Y | V34: Y | W34: Y | Y34: simplified given to get y = 3x. Used that with 2 & checked with given - suff. Moved to 1 - which gave same as given. N/S (relationship to X only, no value) | AE34: 1C | BR34: =IF(COUNTA(AB34:BO34)=1,"CORRECT","EMPTY") -> CORRECT | CO34: =CO33+0.25 -> 3.775 | CP34: =IFERROR(COUNTIFS($C$26:$C$48400,CP$16,$D$26:$D$48400,">="&$CO34,$F$26:$F$48400,"C")/COUNTIFS($C$26:$C$48400,CP$16,$D$26:$D$48400,">="&$CO34),"NA") -> NA | CQ34: =IFERROR(COUNTIFS($C$26:$C$48400,CQ$16,$D$26:$D$48400,">="&$CO34,$F$26:$F$48400,"C")/COUNTIFS($C$26:$C$48400,CQ$16,$D$26:$D$48400,">="&$CO34),"NA") -> 0.6 | CR34: =IFERROR(COUNTIFS($C$26:$C$48400,CR$16,$D$26:$D$48400,">="&$CO34,$F$26:$F$48400,"C")/COUNTIFS($C$26:$C$48400,CR$16,$D$26:$D$48400,">="&$CO34),"NA") -> 0.24137931
B35: 44488 | C35: 600-700 | D35: 2.5 | E35: Roots | F35: W | G35: What is the product of the roots of the equation x^2-4x+k=3 : Data Sufficiency (DS) (gmatclub.com) | J35: Y | K35: Y | L35: Y | M35: Y | N35: Y | O35: Y | Q35: Y | T35: Y | U35: Y | V35: Y | W35: Y | Y35: CORRECTLY SOLVED B, BUT THE MISSING VARIABLE (K-3) GAVE ME TROUBLE | Z35: IF GIVEN A ROOT, and need to solve for a missing variable -->SUB THAT ROOT IN THE EQUATION | AE35: 1W | BR35: =IF(COUNTA(AB35:BO35)=1,"CORRECT","EMPTY") -> CORRECT | CO35: =CO34+0.25 -> 4.025 | CP35: =IFERROR(COUNTIFS($C$26:$C$48400,CP$16,$D$26:$D$48400,">="&$CO35,$F$26:$F$48400,"C")/COUNTIFS($C$26:$C$48400,CP$16,$D$26:$D$48400,">="&$CO35),"NA") -> NA | CQ35: =IFERROR(COUNTIFS($C$26:$C$48400,CQ$16,$D$26:$D$48400,">="&$CO35,$F$26:$F$48400,"C")/COUNTIFS($C$26:$C$48400,CQ$16,$D$26:$D$48400,">="&$CO35),"NA") -> 0.62790698 | CR35: =IFERROR(COUNTIFS($C$26:$C$48400,CR$16,$D$26:$D$48400,">="&$CO35,$F$26:$F$48400,"C")/COUNTIFS($C$26:$C$48400,CR$16,$D$26:$D$48400,">="&$CO35),"NA") -> 0.12
B36: 44488 | C36: 600-700 | D36: 1.6 | E36: Roots | F36: W | G36: What is the value of integer x? : Data Sufficiency (DS) (gmatclub.com) | J36: Y | K36: Y | L36: Y | M36: Y | N36: Y | O36: N | Q36: Y | T36: Y | U36: Y | V36: Y | W36: Y | Y36: Incorrectly ONLY LOOKED AT THE POSITIVE VALUE OF ABS(X) INSTEAD OF + And - | Z36: Regardless of the functions w/in the equation given --> treat like an algebra problem and it replace it with an Q or something --> if I get confused | AE36: 1W | BR36: =IF(COUNTA(AB36:BO36)=1,"CORRECT","EMPTY") -> CORRECT | CO36: =CO35+0.25 -> 4.275 | CP36: =IFERROR(COUNTIFS($C$26:$C$48400,CP$16,$D$26:$D$48400,">="&$CO36,$F$26:$F$48400,"C")/COUNTIFS($C$26:$C$48400,CP$16,$D$26:$D$48400,">="&$CO36),"NA") -> NA | CQ36: =IFERROR(COUNTIFS($C$26:$C$48400,CQ$16,$D$26:$D$48400,">="&$CO36,$F$26:$F$48400,"C")/COUNTIFS($C$26:$C$48400,CQ$16,$D$26:$D$48400,">="&$CO36),"NA") -> 0.66666667 | CR36: =IFERROR(COUNTIFS($C$26:$C$48400,CR$16,$D$26:$D$48400,">="&$CO36,$F$26:$F$48400,"C")/COUNTIFS($C$26:$C$48400,CR$16,$D$26:$D$48400,">="&$CO36),"NA") -> 0.14285714
B37: 44488 | C37: 600-700 | D37: 4 | E37: Exponents | F37: W | G37: If 0 < x < y, what is the value of (x + y)^2/(x- y)^2? : Data Sufficiency (DS) (gmatclub.com) | J37: Y | K37: Y | L37: Y | M37: Y | N37: Y | O37: Y | Q37: Y | T37: Y | U37: Y | V37: Y | W37: N | Y37: DON’T FUCKING ASSUME BRO | Z37: incorrectly said that we could know the value of X & Y --> I just put #s in it! | AF37: 1W | BR37: =IF(COUNTA(AB37:BO37)=1,"CORRECT","EMPTY") -> CORRECT | CO37: =CO36+0.25 -> 4.525 | CP37: =IFERROR(COUNTIFS($C$26:$C$48400,CP$16,$D$26:$D$48400,">="&$CO37,$F$26:$F$48400,"C")/COUNTIFS($C$26:$C$48400,CP$16,$D$26:$D$48400,">="&$CO37),"NA") -> NA | CQ37: =IFERROR(COUNTIFS($C$26:$C$48400,CQ$16,$D$26:$D$48400,">="&$CO37,$F$26:$F$48400,"C")/COUNTIFS($C$26:$C$48400,CQ$16,$D$26:$D$48400,">="&$CO37),"NA") -> 0.64 | CR37: =IFERROR(COUNTIFS($C$26:$C$48400,CR$16,$D$26:$D$48400,">="&$CO37,$F$26:$F$48400,"C")/COUNTIFS($C$26:$C$48400,CR$16,$D$26:$D$48400,">="&$CO37),"NA") -> 0.125
B38: 44488 | C38: 600-700 | D38: 5 | E38: Exponents | F38: W | G38: Is 4^(x + y) = 8^(10) ? (1) x - y = 9 (2) y/x = 1/4 : Data Sufficiency (DS) (gmatclub.com) | J38: Y | K38: Y | L38: Y | M38: Y | N38: Y | O38: Y | Q38: Y | T38: Y | U38: Y | V38: N | W38: N | Y38: IF NOT GIVEN 2 EQUATIONS - DON"T MAKE IT TWO EQUATIONS!! | AF38: 1W | BR38: =IF(COUNTA(AB38:BO38)=1,"CORRECT","EMPTY") -> CORRECT | CO38: =CO37+0.25 -> 4.775 | CP38: =IFERROR(COUNTIFS($C$26:$C$48400,CP$16,$D$26:$D$48400,">="&$CO38,$F$26:$F$48400,"C")/COUNTIFS($C$26:$C$48400,CP$16,$D$26:$D$48400,">="&$CO38),"NA") -> NA | CQ38: =IFERROR(COUNTIFS($C$26:$C$48400,CQ$16,$D$26:$D$48400,">="&$CO38,$F$26:$F$48400,"C")/COUNTIFS($C$26:$C$48400,CQ$16,$D$26:$D$48400,">="&$CO38),"NA") -> 0.55555556 | CR38: =IFERROR(COUNTIFS($C$26:$C$48400,CR$16,$D$26:$D$48400,">="&$CO38,$F$26:$F$48400,"C")/COUNTIFS($C$26:$C$48400,CR$16,$D$26:$D$48400,">="&$CO38),"NA") -> 0.13333333
B39: 44488 | C39: 600-700 | D39: 2.75 | E39: Exponents | F39: C | G39: If x is an integer, is 9^x + 9^(-x) = b ? (1) 3^x + 3^(-x) = (b + 2) : Data Sufficiency (DS) (gmatclub.com) | J39: Y | K39: Y | L39: Y | M39: Y | N39: Y | O39: Y | Q39: Y | T39: Y | U39: Y | V39: Y | W39: Y | Y39: GETTING MY DS HAT ON | AF39: 1C | BR39: =IF(COUNTA(AB39:BO39)=1,"CORRECT","EMPTY") -> CORRECT | CO39: =CO38+0.25 -> 5.025 | CP39: =IFERROR(COUNTIFS($C$26:$C$48400,CP$16,$D$26:$D$48400,">="&$CO39,$F$26:$F$48400,"C")/COUNTIFS($C$26:$C$48400,CP$16,$D$26:$D$48400,">="&$CO39),"NA") -> NA | CQ39: =IFERROR(COUNTIFS($C$26:$C$48400,CQ$16,$D$26:$D$48400,">="&$CO39,$F$26:$F$48400,"C")/COUNTIFS($C$26:$C$48400,CQ$16,$D$26:$D$48400,">="&$CO39),"NA") -> 0.72727273 | CR39: =IFERROR(COUNTIFS($C$26:$C$48400,CR$16,$D$26:$D$48400,">="&$CO39,$F$26:$F$48400,"C")/COUNTIFS($C$26:$C$48400,CR$16,$D$26:$D$48400,">="&$CO39),"NA") -> 0.18181818
B40: 44488 | C40: 600-700 | D40: 3.25 | E40: Exponents | F40: W | G40: If 2^(x + y) = 4^8, what is the value of y? : Data Sufficiency (DS) (gmatclub.com) | J40: Y | K40: Y | L40: Y | M40: Y | N40: Y | O40: Y | Q40: Y | T40: Y | U40: Y | V40: Y | W40: Y | Z40: DID NOT treat root of the number as a positive and negative | AF40: 1W | BR40: =IF(COUNTA(AB40:BO40)=1,"CORRECT","EMPTY") -> CORRECT | CO40: =CO39+0.25 -> 5.275 | CP40: =IFERROR(COUNTIFS($C$26:$C$48400,CP$16,$D$26:$D$48400,">="&$CO40,$F$26:$F$48400,"C")/COUNTIFS($C$26:$C$48400,CP$16,$D$26:$D$48400,">="&$CO40),"NA") -> NA | CQ40: =IFERROR(COUNTIFS($C$26:$C$48400,CQ$16,$D$26:$D$48400,">="&$CO40,$F$26:$F$48400,"C")/COUNTIFS($C$26:$C$48400,CQ$16,$D$26:$D$48400,">="&$CO40),"NA") -> 0.7 | CR40: =IFERROR(COUNTIFS($C$26:$C$48400,CR$16,$D$26:$D$48400,">="&$CO40,$F$26:$F$48400,"C")/COUNTIFS($C$26:$C$48400,CR$16,$D$26:$D$48400,">="&$CO40),"NA") -> 0.18181818
B41: 44488 | C41: 600-700 | D41: 2.2 | E41: Exponents | F41: C | G41: Is zp negative? : Data Sufficiency (DS) (gmatclub.com) | J41: Y | K41: Y | L41: Y | M41: Y | N41: Y | O41: Y | Q41: Y | T41: Y | U41: Y | V41: Y | W41: Y | Y41: GETTING MY DS HAT ON | AF41: 1C | BR41: =IF(COUNTA(AB41:BO41)=1,"CORRECT","EMPTY") -> CORRECT | CO41: =CO40+0.25 -> 5.525 | CP41: =IFERROR(COUNTIFS($C$26:$C$48400,CP$16,$D$26:$D$48400,">="&$CO41,$F$26:$F$48400,"C")/COUNTIFS($C$26:$C$48400,CP$16,$D$26:$D$48400,">="&$CO41),"NA") -> NA | CQ41: =IFERROR(COUNTIFS($C$26:$C$48400,CQ$16,$D$26:$D$48400,">="&$CO41,$F$26:$F$48400,"C")/COUNTIFS($C$26:$C$48400,CQ$16,$D$26:$D$48400,">="&$CO41),"NA") -> 0.77777778 | CR41: =IFERROR(COUNTIFS($C$26:$C$48400,CR$16,$D$26:$D$48400,">="&$CO41,$F$26:$F$48400,"C")/COUNTIFS($C$26:$C$48400,CR$16,$D$26:$D$48400,">="&$CO41),"NA") -> 0.11111111
B42: 44488 | C42: 600-700 | D42: 3.5 | E42: Exponents | F42: W | G42: If x and y are nonzero integers, is x^y < y^x ? (1) x = y^2 (2) y > 2 : Data Sufficiency (DS) (gmatclub.com) | J42: Y | K42: Y | L42: Y | M42: Y | N42: Y | O42: Y | Q42: Y | T42: Y | U42: Y | V42: Y | W42: Y | X42: N | Z42: CHOSE e - CORRECT WAS C | AF42: 1W | BR42: =IF(COUNTA(AB42:BO42)=1,"CORRECT","EMPTY") -> CORRECT | CO42: =CO41+0.25 -> 5.775 | CP42: =IFERROR(COUNTIFS($C$26:$C$48400,CP$16,$D$26:$D$48400,">="&$CO42,$F$26:$F$48400,"C")/COUNTIFS($C$26:$C$48400,CP$16,$D$26:$D$48400,">="&$CO42),"NA") -> NA | CQ42: =IFERROR(COUNTIFS($C$26:$C$48400,CQ$16,$D$26:$D$48400,">="&$CO42,$F$26:$F$48400,"C")/COUNTIFS($C$26:$C$48400,CQ$16,$D$26:$D$48400,">="&$CO42),"NA") -> 0.75 | CR42: =IFERROR(COUNTIFS($C$26:$C$48400,CR$16,$D$26:$D$48400,">="&$CO42,$F$26:$F$48400,"C")/COUNTIFS($C$26:$C$48400,CR$16,$D$26:$D$48400,">="&$CO42),"NA") -> 0.11111111
B43: 44489 | C43: 600-700 | D43: 3 | E43: Weighted Avg | F43: C | G43: A chef mixes P ounces of 60% sugar solution with Q ounces of a 10% sug : Data Sufficiency (DS) (gmatclub.com) | J43: Y | K43: Y | L43: Y | M43: Y | N43: Y | O43: Y | Q43: Y | T43: Y | U43: Y | V43: Y | W43: Y | X43: Y | Y43: WRITE OUT REVELEVANT FORMULA + LOGIC OUT | Z43: WRITE OUT THE RELEVANT FORMULA - HELPS TO VISUAL PIECES NEEDED | BB43: 1C | BR43: =IF(COUNTA(AB43:BO43)=1,"CORRECT","EMPTY") -> CORRECT | CO43: =CO42+0.25 -> 6.025 | CP43: =IFERROR(COUNTIFS($C$26:$C$48400,CP$16,$D$26:$D$48400,">="&$CO43,$F$26:$F$48400,"C")/COUNTIFS($C$26:$C$48400,CP$16,$D$26:$D$48400,">="&$CO43),"NA") -> NA | CQ43: =IFERROR(COUNTIFS($C$26:$C$48400,CQ$16,$D$26:$D$48400,">="&$CO43,$F$26:$F$48400,"C")/COUNTIFS($C$26:$C$48400,CQ$16,$D$26:$D$48400,">="&$CO43),"NA") -> 0.66666667 | CR43: =IFERROR(COUNTIFS($C$26:$C$48400,CR$16,$D$26:$D$48400,">="&$CO43,$F$26:$F$48400,"C")/COUNTIFS($C$26:$C$48400,CR$16,$D$26:$D$48400,">="&$CO43),"NA") -> 0.125
B44: 44489 | C44: 600-700 | D44: 3 | E44: Weighted Avg | F44: C | G44: A painter wishes to paint a house turquoise. To make the color, he sel : Data Sufficiency (DS) (gmatclub.com) | J44: Y | K44: Y | L44: Y | M44: Y | N44: Y | O44: Y | Q44: Y | T44: Y | U44: Y | V44: Y | W44: Y | X44: Y | Y44: WRITE OUT REVELEVANT FORMULA + LOGIC OUT | Z44: WRITE OUT THE RELEVANT FORMULA - HELPS TO VISUAL PIECES NEEDED | BB44: 1C | BR44: =IF(COUNTA(AB44:BO44)=1,"CORRECT","EMPTY") -> CORRECT | CO44: =CO43+0.25 -> 6.275 | CP44: =IFERROR(COUNTIFS($C$26:$C$48400,CP$16,$D$26:$D$48400,">="&$CO44,$F$26:$F$48400,"C")/COUNTIFS($C$26:$C$48400,CP$16,$D$26:$D$48400,">="&$CO44),"NA") -> NA | CQ44: =IFERROR(COUNTIFS($C$26:$C$48400,CQ$16,$D$26:$D$48400,">="&$CO44,$F$26:$F$48400,"C")/COUNTIFS($C$26:$C$48400,CQ$16,$D$26:$D$48400,">="&$CO44),"NA") -> 0.8 | CR44: =IFERROR(COUNTIFS($C$26:$C$48400,CR$16,$D$26:$D$48400,">="&$CO44,$F$26:$F$48400,"C")/COUNTIFS($C$26:$C$48400,CR$16,$D$26:$D$48400,">="&$CO44),"NA") -> 0.14285714
B45: 44489 | C45: 600-700 | D45: 3 | E45: Weighted Avg | F45: C | G45: A chemist combined 'a' milliliters of a solution that : Data Sufficiency (DS) (gmatclub.com) | J45: Y | K45: Y | L45: Y | M45: Y | N45: Y | O45: Y | Q45: Y | T45: Y | U45: Y | V45: Y | W45: Y | X45: Y | Y45: WRITE OUT REVELEVANT FORMULA + LOGIC OUT | Z45: WRITE OUT THE RELEVANT FORMULA - HELPS TO VISUAL PIECES NEEDED | BB45: 1C | BR45: =IF(COUNTA(AB45:BO45)=1,"CORRECT","EMPTY") -> CORRECT | CO45: =CO44+0.25 -> 6.525 | CP45: =IFERROR(COUNTIFS($C$26:$C$48400,CP$16,$D$26:$D$48400,">="&$CO45,$F$26:$F$48400,"C")/COUNTIFS($C$26:$C$48400,CP$16,$D$26:$D$48400,">="&$CO45),"NA") -> NA | CQ45: =IFERROR(COUNTIFS($C$26:$C$48400,CQ$16,$D$26:$D$48400,">="&$CO45,$F$26:$F$48400,"C")/COUNTIFS($C$26:$C$48400,CQ$16,$D$26:$D$48400,">="&$CO45),"NA") -> 0.75 | CR45: =IFERROR(COUNTIFS($C$26:$C$48400,CR$16,$D$26:$D$48400,">="&$CO45,$F$26:$F$48400,"C")/COUNTIFS($C$26:$C$48400,CR$16,$D$26:$D$48400,">="&$CO45),"NA") -> 0.16666667
...

Sheet PROB SOLV MATH TRACKER
G6: Pct of Total Qs Answered
AC7: =AC$11/SUM($AC$11:$BP$11) -> 0.053435115 | AD7: =AD$11/SUM($AC$11:$BP$11) -> 0.027480916 | AE7: =AE$11/SUM($AC$11:$BP$11) -> 0.021374046 | AF7: =AF$11/SUM($AC$11:$BP$11) -> 0.022900763 | AG7: =AG$11/SUM($AC$11:$BP$11) -> 0.039694656 | AH7: =AH$11/SUM($AC$11:$BP$11) -> 0.041221374 | AI7: =AI$11/SUM($AC$11:$BP$11) -> 0.027480916 | AJ7: =AJ$11/SUM($AC$11:$BP$11) -> 0.01221374 | AN7: =AN$11/SUM($AC$11:$BP$11) -> 0.01221374 | AO7: =AO$11/SUM($AC$11:$BP$11) -> 0.025954198 | AP7: =AP$11/SUM($AC$11:$BP$11) -> 0.016793893 | AQ7: =AQ$11/SUM($AC$11:$BP$11) -> 0 | AR7: =AR$11/SUM($AC$11:$BP$11) -> 0.0015267176 | AS7: =AS$11/SUM($AC$11:$BP$11) -> 0.0076335878 | AT7: =AT$11/SUM($AC$11:$BP$11) -> 0.0076335878 | AU7: =AU$11/SUM($AC$11:$BP$11) -> 0.093129771 | ... BK7: =BK$11/SUM($AC$11:$BP$11) -> 0.013740458 | BM7: =BM$11/SUM($AC$11:$BP$11) -> 0.032061069 | BN7: =BN$11/SUM($AC$11:$BP$11) -> 0.035114504 | BO7: =BO$11/SUM($AC$11:$BP$11) -> 0.0061068702 | BP7: =BP$11/SUM($AC$11:$BP$11) -> 0.022900763
B8: PROBLEM SOLVING GMAT QUANT TRACKER | AC8: =AC11/SUM($AC$11:$BP$11) -> 0.053435115 | AD8: =AD11/SUM($AC$11:$BP$11) -> 0.027480916 | AE8: =AE11/SUM($AC$11:$BP$11) -> 0.021374046 | AF8: =AF11/SUM($AC$11:$BP$11) -> 0.022900763 | AG8: =AG11/SUM($AC$11:$BP$11) -> 0.039694656 | AH8: =AH11/SUM($AC$11:$BP$11) -> 0.041221374 | AI8: =AI11/SUM($AC$11:$BP$11) -> 0.027480916 | AJ8: =AJ11/SUM($AC$11:$BP$11) -> 0.01221374 | ... BK8: =BK11/SUM($AC$11:$BP$11) -> 0.013740458 | BM8: =BM11/SUM($AC$11:$BP$11) -> 0.032061069 | BN8: =BN11/SUM($AC$11:$BP$11) -> 0.035114504 | BO8: =BO11/SUM($AC$11:$BP$11) -> 0.0061068702 | BP8: =BP11/SUM($AC$11:$BP$11) -> 0.022900763
G9: Question Type | AC9: Algebra | AD9: Algebra | AE9: Algebra | AF9: Algebra | AG9: Algebra | AH9: Fractions / Decimals / PCT | AI9: SETS | AJ9: STATISTICS | AK9: Number Properties | AL9: Number Properties | AM9: Number Properties | AN9: Number Properties | AO9: Number Properties | AP9: Number Properties | AQ9: Number Properties | AR9: Number Properties | AS9: PRIMES | AT9: Word Problem | AU9: Word Problem | AV9: Word Problem | AW9: Word Problem | AX9: Word Problem | AY9: Word Problem | AZ9: Word Problem | BA9: Word Problem | BB9: Word Problem | BC9: Word Problem | BD9: Word Problem | BE9: Combinotronics | BF9: Combinotronics | BG9: Coordinate Plane | BH9: Coordinate Plane | BI9: 3D GEOMETRY | BJ9: 3D GEOMETRY | BK9: 3D GEOMETRY | BL9: 2D GEOMETRY | BM9: 2D GEOMETRY | BN9: 2D GEOMETRY | BO9: 2D GEOMETRY | BP9: 2D GEOMETRY
AC10: Algebra | AD10: Inequalities | AE10: Absolute Value | AF10: Roots | AG10: Exponents | AH10: Fractions / Decimals / PCT | AI10: Sets | AJ10: Statistics | AK10: Digits | AL10: Factorials | AM10: Number Properties | AN10: Factors | AO10: Divisibility | AP10: Remainders | AQ10: EVEN / ODD | AR10: Primes | AS10: POS / NEG | AT10: Ratio | AU10: Word Problem | AV10: Profit | AW10: Discount | AX10: Rate / Distance | AY10: Work | AZ10: Interest | BA10: Growth Rates | BB10: MAX / MIN | BC10: Weighted Avg | BD10: Overlapping Sets | BE10: Probability | BF10: Combinotronics | BG10: Functions / Graphs | BH10: Coordinate Plane | BI10: Cylinders | BJ10: Spheres | BK10: Cubes/ Prisms | BL10: Lines & Angles | BM10: Circles | BN10: Quadrilaterals | BO10: Polygons | BP10: Triangles
D11: Time Limit | AC11: =COUNTA(AC24:AC956) -> 35 | AD11: =COUNTA(AD24:AD956) -> 18 | AE11: =COUNTA(AE24:AE956) -> 14 | AF11: =COUNTA(AF24:AF956) -> 15 | AG11: =COUNTA(AG24:AG956) -> 26 | AH11: =COUNTA(AH24:AH956) -> 27 | AI11: =COUNTA(AI24:AI956) -> 18 | AJ11: =COUNTA(AJ24:AJ956) -> 8 | ... BP11: =COUNTA(BP24:BP956) -> 15
B12: LEVEL | C12: Minutes | D12: 1.5x | E12: Regular | F12: Total Qs by Diff | G12: Pct C by Diff | AB12: correct | AC12: =IFERROR(COUNTIF(AC24:AC956,"1C"),"NA") -> 19 | AD12: =IFERROR(COUNTIF(AD24:AD956,"1C"),"NA") -> 9 | AE12: =IFERROR(COUNTIF(AE24:AE956,"1C"),"NA") -> 12 | AF12: =IFERROR(COUNTIF(AF24:AF956,"1C"),"NA") -> 6 | AG12: =IFERROR(COUNTIF(AG24:AG956,"1C"),"NA") -> 18 | AH12: =IFERROR(COUNTIF(AH24:AH956,"1C"),"NA") -> 19 | AI12: =IFERROR(COUNTIF(AI24:AI956,"1C"),"NA") -> 17 | AJ12: =IFERROR(COUNTIF(AJ24:AJ956,"1C"),"NA") -> 4 | ... BP12: =IFERROR(COUNTIF(BP24:BP956,"1C"),"NA") -> 3
B13: 700 | C13: =IFERROR(AVERAGEIF($C$24:$C$568,B13,$D$24:$D$568),"NA") -> 3.5159569 | E13: 1.9375 | F13: =COUNTIFS($C$24:$C$671,$B13) -> 111 | G13: =COUNTIFS($C$24:$C$671,$B13,$F$24:$F$671,"C")/F13 -> 0.40540541 | H13: 0.54 | AB13: wrong | AC13: =IFERROR(COUNTIF(AC25:AC956,"1W"),"NA") -> 16 | AD13: =IFERROR(COUNTIF(AD25:AD956,"1W"),"NA") -> 9 | AE13: =IFERROR(COUNTIF(AE25:AE956,"1W"),"NA") -> 2 | AF13: =IFERROR(COUNTIF(AF25:AF956,"1W"),"NA") -> 9 | AG13: =IFERROR(COUNTIF(AG25:AG956,"1W"),"NA") -> 8 | AH13: =IFERROR(COUNTIF(AH25:AH956,"1W"),"NA") -> 8 | AI13: =IFERROR(COUNTIF(AI25:AI956,"1W"),"NA") -> 1 | AJ13: =IFERROR(COUNTIF(AJ25:AJ956,"1W"),"NA") -> 4 | ... BP13: =IFERROR(COUNTIF(BP25:BP956,"1W"),"NA") -> 12
B14: 600-700 | C14: =IFERROR(AVERAGEIF($C$24:$C$568,B14,$D$24:$D$568),"NA") -> 3.2524291 | D14: =E14*1.5 -> 2.90625 | E14: 1.9375 | F14: =COUNTIFS($C$24:$C$671,$B14) -> 414 | G14: =COUNTIFS($C$24:$C$671,$B14,$F$24:$F$671,"C")/F14 -> 0.64492754 | H14: 0.26
B15: sub-600 | C15: =IFERROR(AVERAGEIF($C$24:$C$568,B15,$D$24:$D$568),"NA") -> 2.2075716 | D15: =E15*1.5 -> 2.90625 | E15: 1.9375 | F15: =COUNTIFS($C$24:$C$671,$B15) -> 88 | G15: =COUNTIFS($C$24:$C$671,$B15,$F$24:$F$671,"C")/F15 -> 0.77272727 | H15: 0.35 | AC15: =IFERROR(AC12/AC11,"NA") -> 0.54285714 | AD15: =IFERROR(AD12/AD11,"NA") -> 0.5 | AE15: =IFERROR(AE12/AE11,"NA") -> 0.85714286 | AF15: =IFERROR(AF12/AF11,"NA") -> 0.4 | AG15: =IFERROR(AG12/AG11,"NA") -> 0.69230769 | AH15: =IFERROR(AH12/AH11,"NA") -> 0.7037037 | AI15: =IFERROR(AI12/AI11,"NA") -> 0.94444444 | AJ15: =IFERROR(AJ12/AJ11,"NA") -> 0.5 | ... BP15: =IFERROR(BP12/BP11,"NA") -> 0.2
B16: Cut off Time: | Z16: METHOD | AC16: =IFERROR(AC13/AC$5,"NA") -> NA | AD16: =IFERROR(AD13/AD$5,"NA") -> NA | AE16: =IFERROR(AE13/AE$5,"NA") -> NA | AF16: =IFERROR(AF13/AF$5,"NA") -> NA | AG16: =IFERROR(AG13/AG$5,"NA") -> NA | AH16: =IFERROR(AH13/AH$5,"NA") -> NA | AI16: =IFERROR(AI13/AI$5,"NA") -> NA | AJ16: =IFERROR(AJ13/AJ$5,"NA") -> NA | ... BP16: =IFERROR(BP13/BP$5,"NA") -> NA | CP16: sub-600 | CQ16: 600-700 | CR16: 700
B17: pct of time correct if take longer than [ ] Minutes | G17: ="PCT of "&B13&" Lvl Q correct" -> PCT of 700 Lvl Q correct | Z17: EMPLOYED | AC17: =IFERROR(COUNTIFS(AC$24:AC$4686,"1C",$C$24:$C$4686,$B13)/(COUNTIFS(AC$24:AC$4686,"1C",$C$24:$C$4686,$B13)+COUNTIFS(AC$24:AC$4686,"1W",$C$24:$C$4686,$B13)),"NA") -> 0.5 | AD17: =IFERROR(COUNTIFS(AD$24:AD$4686,"1C",$C$24:$C$4686,$B13)/(COUNTIFS(AD$24:AD$4686,"1C",$C$24:$C$4686,$B13)+COUNTIFS(AD$24:AD$4686,"1W",$C$24:$C$4686,$B13)),"NA") -> 0.2 | AE17: =IFERROR(COUNTIFS(AE$24:AE$4686,"1C",$C$24:$C$4686,$B13)/(COUNTIFS(AE$24:AE$4686,"1C",$C$24:$C$4686,$B13)+COUNTIFS(AE$24:AE$4686,"1W",$C$24:$C$4686,$B13)),"NA") -> 1 | AF17: =IFERROR(COUNTIFS(AF$24:AF$4686,"1C",$C$24:$C$4686,$B13)/(COUNTIFS(AF$24:AF$4686,"1C",$C$24:$C$4686,$B13)+COUNTIFS(AF$24:AF$4686,"1W",$C$24:$C$4686,$B13)),"NA") -> 0 | AG17: =IFERROR(COUNTIFS(AG$24:AG$4686,"1C",$C$24:$C$4686,$B13)/(COUNTIFS(AG$24:AG$4686,"1C",$C$24:$C$4686,$B13)+COUNTIFS(AG$24:AG$4686,"1W",$C$24:$C$4686,$B13)),"NA") -> 1 | AH17: =IFERROR(COUNTIFS(AH$24:AH$4686,"1C",$C$24:$C$4686,$B13)/(COUNTIFS(AH$24:AH$4686,"1C",$C$24:$C$4686,$B13)+COUNTIFS(AH$24:AH$4686,"1W",$C$24:$C$4686,$B13)),"NA") -> 0.5 | AI17: =IFERROR(COUNTIFS(AI$24:AI$4686,"1C",$C$24:$C$4686,$B13)/(COUNTIFS(AI$24:AI$4686,"1C",$C$24:$C$4686,$B13)+COUNTIFS(AI$24:AI$4686,"1W",$C$24:$C$4686,$B13)),"NA") -> 0.5 | AJ17: =IFERROR(COUNTIFS(AJ$24:AJ$4686,"1C",$C$24:$C$4686,$B13)/(COUNTIFS(AJ$24:AJ$4686,"1C",$C$24:$C$4686,$B13)+COUNTIFS(AJ$24:AJ$4686,"1W",$C$24:$C$4686,$B13)),"NA") -> 0.25 | ... BP17: =IFERROR(COUNTIFS(BP$24:BP$4686,"1C",$C$24:$C$4686,$B13)/(COUNTIFS(BP$24:BP$4686,"1C",$C$24:$C$4686,$B13)+COUNTIFS(BP$24:BP$4686,"1W",$C$24:$C$4686,$B13)),"NA") -> 0
B18: (mins) / level | C18: =B13 -> 700 | D18: =B14 -> 600-700 | E18: =B15 -> sub-600 | G18: ="PCT of "&B14&" Lvl Q correct" -> PCT of 600-700 Lvl Q correct | AC18: =IFERROR(COUNTIFS(AC$24:AC$4686,"1C",$C$24:$C$4686,$B14)/(COUNTIFS(AC$24:AC$4686,"1C",$C$24:$C$4686,$B14)+COUNTIFS(AC$24:AC$4686,"1W",$C$24:$C$4686,$B14)),"NA") -> 0.52380952 | AD18: =IFERROR(COUNTIFS(AD$24:AD$4686,"1C",$C$24:$C$4686,$B14)/(COUNTIFS(AD$24:AD$4686,"1C",$C$24:$C$4686,$B14)+COUNTIFS(AD$24:AD$4686,"1W",$C$24:$C$4686,$B14)),"NA") -> 0.61538462 | AE18: =IFERROR(COUNTIFS(AE$24:AE$4686,"1C",$C$24:$C$4686,$B14)/(COUNTIFS(AE$24:AE$4686,"1C",$C$24:$C$4686,$B14)+COUNTIFS(AE$24:AE$4686,"1W",$C$24:$C$4686,$B14)),"NA") -> 0.81818182 | AF18: =IFERROR(COUNTIFS(AF$24:AF$4686,"1C",$C$24:$C$4686,$B14)/(COUNTIFS(AF$24:AF$4686,"1C",$C$24:$C$4686,$B14)+COUNTIFS(AF$24:AF$4686,"1W",$C$24:$C$4686,$B14)),"NA") -> 0.28571429 | AG18: =IFERROR(COUNTIFS(AG$24:AG$4686,"1C",$C$24:$C$4686,$B14)/(COUNTIFS(AG$24:AG$4686,"1C",$C$24:$C$4686,$B14)+COUNTIFS(AG$24:AG$4686,"1W",$C$24:$C$4686,$B14)),"NA") -> 0.83333333 | AH18: =IFERROR(COUNTIFS(AH$24:AH$4686,"1C",$C$24:$C$4686,$B14)/(COUNTIFS(AH$24:AH$4686,"1C",$C$24:$C$4686,$B14)+COUNTIFS(AH$24:AH$4686,"1W",$C$24:$C$4686,$B14)),"NA") -> 0.71428571 | AI18: =IFERROR(COUNTIFS(AI$24:AI$4686,"1C",$C$24:$C$4686,$B14)/(COUNTIFS(AI$24:AI$4686,"1C",$C$24:$C$4686,$B14)+COUNTIFS(AI$24:AI$4686,"1W",$C$24:$C$4686,$B14)),"NA") -> 1 | AJ18: =IFERROR(COUNTIFS(AJ$24:AJ$4686,"1C",$C$24:$C$4686,$B14)/(COUNTIFS(AJ$24:AJ$4686,"1C",$C$24:$C$4686,$B14)+COUNTIFS(AJ$24:AJ$4686,"1W",$C$24:$C$4686,$B14)),"NA") -> 0.66666667 | ... BP18: =IFERROR(COUNTIFS(BP$24:BP$4686,"1C",$C$24:$C$4686,$B14)/(COUNTIFS(BP$24:BP$4686,"1C",$C$24:$C$4686,$B14)+COUNTIFS(BP$24:BP$4686,"1W",$C$24:$C$4686,$B14)),"NA") -> 0.2
B19: 1 | C19: =IFERROR(COUNTIFS($C$24:$C$6190,C$18,$D$24:$D$6190,">="&$B19,$F$24:$F$6190,"C")/COUNTIFS($C$24:$C$6190,C$18,$D$24:$D$6190,">="&$B19),"NA") -> 0.45255474 | D19: =IFERROR(COUNTIFS($C$24:$C$6190,D$18,$D$24:$D$6190,">="&$B19,$F$24:$F$6190,"C")/COUNTIFS($C$24:$C$6190,D$18,$D$24:$D$6190,">="&$B19),"NA") -> 0.66067416 | E19: =IFERROR(COUNTIFS($C$24:$C$6190,E$18,$D$24:$D$6190,">="&$B19,$F$24:$F$6190,"C")/COUNTIFS($C$24:$C$6190,E$18,$D$24:$D$6190,">="&$B19),"NA") -> 0.72222222 | G19: ="PCT of "&B15&" Lvl Q correct" -> PCT of sub-600 Lvl Q correct | AC19: =IFERROR(COUNTIFS(AC$24:AC$4686,"1C",$C$24:$C$4686,$B15)/(COUNTIFS(AC$24:AC$4686,"1C",$C$24:$C$4686,$B15)+COUNTIFS(AC$24:AC$4686,"1W",$C$24:$C$4686,$B15)),"NA") -> 0.66666667 | AD19: =IFERROR(COUNTIFS(AD$24:AD$4686,"1C",$C$24:$C$4686,$B15)/(COUNTIFS(AD$24:AD$4686,"1C",$C$24:$C$4686,$B15)+COUNTIFS(AD$24:AD$4686,"1W",$C$24:$C$4686,$B15)),"NA") -> NA | AE19: =IFERROR(COUNTIFS(AE$24:AE$4686,"1C",$C$24:$C$4686,$B15)/(COUNTIFS(AE$24:AE$4686,"1C",$C$24:$C$4686,$B15)+COUNTIFS(AE$24:AE$4686,"1W",$C$24:$C$4686,$B15)),"NA") -> 1 | AF19: =IFERROR(COUNTIFS(AF$24:AF$4686,"1C",$C$24:$C$4686,$B15)/(COUNTIFS(AF$24:AF$4686,"1C",$C$24:$C$4686,$B15)+COUNTIFS(AF$24:AF$4686,"1W",$C$24:$C$4686,$B15)),"NA") -> 0.8 | AG19: =IFERROR(COUNTIFS(AG$24:AG$4686,"1C",$C$24:$C$4686,$B15)/(COUNTIFS(AG$24:AG$4686,"1C",$C$24:$C$4686,$B15)+COUNTIFS(AG$24:AG$4686,"1W",$C$24:$C$4686,$B15)),"NA") -> 0.63157895 | AH19: =IFERROR(COUNTIFS(AH$24:AH$4686,"1C",$C$24:$C$4686,$B15)/(COUNTIFS(AH$24:AH$4686,"1C",$C$24:$C$4686,$B15)+COUNTIFS(AH$24:AH$4686,"1W",$C$24:$C$4686,$B15)),"NA") -> 1 | AI19: =IFERROR(COUNTIFS(AI$24:AI$4686,"1C",$C$24:$C$4686,$B15)/(COUNTIFS(AI$24:AI$4686,"1C",$C$24:$C$4686,$B15)+COUNTIFS(AI$24:AI$4686,"1W",$C$24:$C$4686,$B15)),"NA") -> 1 | AJ19: =IFERROR(COUNTIFS(AJ$24:AJ$4686,"1C",$C$24:$C$4686,$B15)/(COUNTIFS(AJ$24:AJ$4686,"1C",$C$24:$C$4686,$B15)+COUNTIFS(AJ$24:AJ$4686,"1W",$C$24:$C$4686,$B15)),"NA") -> 1 | ... BP19: =IFERROR(COUNTIFS(BP$24:BP$4686,"1C",$C$24:$C$4686,$B15)/(COUNTIFS(BP$24:BP$4686,"1C",$C$24:$C$4686,$B15)+COUNTIFS(BP$24:BP$4686,"1W",$C$24:$C$4686,$B15)),"NA") -> 1 | CO19: 0.025 | CP19: =IFERROR(COUNTIFS($C$24:$C$48400,CP$16,$D$24:$D$48400,">="&$CO19,$F$24:$F$48400,"C")/COUNTIFS($C$24:$C$48400,CP$16,$D$24:$D$48400,">="&$CO19),"NA") -> 0.78350515 | CQ19: =IFERROR(COUNTIFS($C$24:$C$48400,CQ$16,$D$24:$D$48400,">="&$CO19,$F$24:$F$48400,"C")/COUNTIFS($C$24:$C$48400,CQ$16,$D$24:$D$48400,">="&$CO19),"NA") -> 0.65889831 | CR19: =IFERROR(COUNTIFS($C$24:$C$48400,CR$16,$D$24:$D$48400,">="&$CO19,$F$24:$F$48400,"C")/COUNTIFS($C$24:$C$48400,CR$16,$D$24:$D$48400,">="&$CO19),"NA") -> 0.44055944
B20: =B19+0.5 -> 1.5 | C20: =IFERROR(COUNTIFS($C$24:$C$6190,C$18,$D$24:$D$6190,">="&$B20,$F$24:$F$6190,"C")/COUNTIFS($C$24:$C$6190,C$18,$D$24:$D$6190,">="&$B20),"NA") -> 0.448 | D20: =IFERROR(COUNTIFS($C$24:$C$6190,D$18,$D$24:$D$6190,">="&$B20,$F$24:$F$6190,"C")/COUNTIFS($C$24:$C$6190,D$18,$D$24:$D$6190,">="&$B20),"NA") -> 0.6484375 | E20: =IFERROR(COUNTIFS($C$24:$C$6190,E$18,$D$24:$D$6190,">="&$B20,$F$24:$F$6190,"C")/COUNTIFS($C$24:$C$6190,E$18,$D$24:$D$6190,">="&$B20),"NA") -> 0.67857143 | G20: Average Time Per Q | Y20: (elim math problems) | Z20: WHAT AS | AC20: =IFERROR(AVERAGEIF($E$24:$E$902,AC$23,$D$24:$D$902),"NA") -> 3.034878 | AD20: =IFERROR(AVERAGEIF($E$24:$E$902,AD$23,$D$24:$D$902),"NA") -> 2.4964286 | AE20: =IFERROR(AVERAGEIF($E$24:$E$902,AE$23,$D$24:$D$902),"NA") -> 2.9866667 | AF20: =IFERROR(AVERAGEIF($E$24:$E$902,AF$23,$D$24:$D$902),"NA") -> 2.7711111 | AG20: =IFERROR(AVERAGEIF($E$24:$E$902,AG$23,$D$24:$D$902),"NA") -> 2.8958333 | AH20: =IFERROR(AVERAGEIF($E$24:$E$902,AH$23,$D$24:$D$902),"NA") -> 2.7153761 | AI20: =IFERROR(AVERAGEIF($E$24:$E$902,AI$23,$D$24:$D$902),"NA") -> 3.0638704 | AJ20: =IFERROR(AVERAGEIF($E$24:$E$902,AJ$23,$D$24:$D$902),"NA") -> 2.5833333 | ... BP20: =IFERROR(AVERAGEIF($E$24:$E$902,BP$23,$D$24:$D$902),"NA") -> 3.5177778 | CO20: =CO19+0.25 -> 0.275 | CP20: =IFERROR(COUNTIFS($C$24:$C$48400,CP$16,$D$24:$D$48400,">="&$CO20,$F$24:$F$48400,"C")/COUNTIFS($C$24:$C$48400,CP$16,$D$24:$D$48400,">="&$CO20),"NA") -> 0.77894737 | CQ20: =IFERROR(COUNTIFS($C$24:$C$48400,CQ$16,$D$24:$D$48400,">="&$CO20,$F$24:$F$48400,"C")/COUNTIFS($C$24:$C$48400,CQ$16,$D$24:$D$48400,">="&$CO20),"NA") -> 0.66236559 | CR20: =IFERROR(COUNTIFS($C$24:$C$48400,CR$16,$D$24:$D$48400,">="&$CO20,$F$24:$F$48400,"C")/COUNTIFS($C$24:$C$48400,CR$16,$D$24:$D$48400,">="&$CO20),"NA") -> 0.44285714
B21: =B20+0.5 -> 2 | C21: =IFERROR(COUNTIFS($C$24:$C$6190,C$18,$D$24:$D$6190,">="&$B21,$F$24:$F$6190,"C")/COUNTIFS($C$24:$C$6190,C$18,$D$24:$D$6190,">="&$B21),"NA") -> 0.44444444 | D21: =IFERROR(COUNTIFS($C$24:$C$6190,D$18,$D$24:$D$6190,">="&$B21,$F$24:$F$6190,"C")/COUNTIFS($C$24:$C$6190,D$18,$D$24:$D$6190,">="&$B21),"NA") -> 0.63173653 | E21: =IFERROR(COUNTIFS($C$24:$C$6190,E$18,$D$24:$D$6190,">="&$B21,$F$24:$F$6190,"C")/COUNTIFS($C$24:$C$6190,E$18,$D$24:$D$6190,">="&$B21),"NA") -> 0.6 | G21: Avg time if C | J21: IF A FORMULA | K21: REWRITE | L21: IDENTIFY | M21: READ | N21: Write Down | O21: LOGIC OUT THE Q | P21: Talk out Q | Q21: Draw | R21: Check | S21: EMPLOY | T21: CONFIRM | U21: CHECK MATH | V21: DID I | W21: DID YOU EXPAND? | X21: DID YOU PAUSE | Y21: AFTER EVERY NEW VARIABLE | Z21: LESSON | AC21: =IFERROR(AVERAGEIFS($D$24:$D$902,$E$24:$E$128,AC$23,$F$24:$F$902,"C"),"NA") -> NA | AD21: =IFERROR(AVERAGEIFS($D$24:$D$902,$E$24:$E$128,AD$23,$F$24:$F$902,"C"),"NA") -> NA | AE21: =IFERROR(AVERAGEIFS($D$24:$D$902,$E$24:$E$128,AE$23,$F$24:$F$902,"C"),"NA") -> NA | AF21: =IFERROR(AVERAGEIFS($D$24:$D$902,$E$24:$E$128,AF$23,$F$24:$F$902,"C"),"NA") -> NA | AG21: =IFERROR(AVERAGEIFS($D$24:$D$902,$E$24:$E$128,AG$23,$F$24:$F$902,"C"),"NA") -> NA | AH21: =IFERROR(AVERAGEIFS($D$24:$D$902,$E$24:$E$128,AH$23,$F$24:$F$902,"C"),"NA") -> NA | AI21: =IFERROR(AVERAGEIFS($D$24:$D$902,$E$24:$E$128,AI$23,$F$24:$F$902,"C"),"NA") -> NA | AJ21: =IFERROR(AVERAGEIFS($D$24:$D$902,$E$24:$E$128,AJ$23,$F$24:$F$902,"C"),"NA") -> NA | ... BP21: =IFERROR(AVERAGEIFS($D$24:$D$902,$E$24:$E$128,BP$23,$F$24:$F$902,"C"),"NA") -> NA | CO21: =CO20+0.25 -> 0.525 | CP21: =IFERROR(COUNTIFS($C$24:$C$48400,CP$16,$D$24:$D$48400,">="&$CO21,$F$24:$F$48400,"C")/COUNTIFS($C$24:$C$48400,CP$16,$D$24:$D$48400,">="&$CO21),"NA") -> 0.77173913 | CQ21: =IFERROR(COUNTIFS($C$24:$C$48400,CQ$16,$D$24:$D$48400,">="&$CO21,$F$24:$F$48400,"C")/COUNTIFS($C$24:$C$48400,CQ$16,$D$24:$D$48400,">="&$CO21),"NA") -> 0.66304348 | CR21: =IFERROR(COUNTIFS($C$24:$C$48400,CR$16,$D$24:$D$48400,">="&$CO21,$F$24:$F$48400,"C")/COUNTIFS($C$24:$C$48400,CR$16,$D$24:$D$48400,">="&$CO21),"NA") -> 0.44604317
B22: =B21+0.5 -> 2.5 | C22: =IFERROR(COUNTIFS($C$24:$C$6190,C$18,$D$24:$D$6190,">="&$B22,$F$24:$F$6190,"C")/COUNTIFS($C$24:$C$6190,C$18,$D$24:$D$6190,">="&$B22),"NA") -> 0.44444444 | D22: =IFERROR(COUNTIFS($C$24:$C$6190,D$18,$D$24:$D$6190,">="&$B22,$F$24:$F$6190,"C")/COUNTIFS($C$24:$C$6190,D$18,$D$24:$D$6190,">="&$B22),"NA") -> 0.59245283 | E22: =IFERROR(COUNTIFS($C$24:$C$6190,E$18,$D$24:$D$6190,">="&$B22,$F$24:$F$6190,"C")/COUNTIFS($C$24:$C$6190,E$18,$D$24:$D$6190,">="&$B22),"NA") -> 0.53125 | G22: Avg time if W | J22: QUESTION | K22: QUESTION | L22: TOPIC? | M22: FULL | N22: Given | O22: VERBALLY | P22: & Steps Needed | Q22: Diagram | R22: Units | S22: TEST | T22: ANSWERING | U22: CHECK MATH | V22: SIMPLIFY | W22: PROPERLY??? | X22: AFTER MATH | Y22: IS SOLVED, STOP & | Z22: LEARNEd | AC22: =IFERROR(AVERAGEIFS($D$24:$D$902,$E$24:$E$128,AC$23,$F$24:$F$902,"W"),"NA") -> NA | AD22: =IFERROR(AVERAGEIFS($D$24:$D$902,$E$24:$E$128,AD$23,$F$24:$F$902,"W"),"NA") -> NA | AE22: =IFERROR(AVERAGEIFS($D$24:$D$902,$E$24:$E$128,AE$23,$F$24:$F$902,"W"),"NA") -> NA | AF22: =IFERROR(AVERAGEIFS($D$24:$D$902,$E$24:$E$128,AF$23,$F$24:$F$902,"W"),"NA") -> NA | AG22: =IFERROR(AVERAGEIFS($D$24:$D$902,$E$24:$E$128,AG$23,$F$24:$F$902,"W"),"NA") -> NA | AH22: =IFERROR(AVERAGEIFS($D$24:$D$902,$E$24:$E$128,AH$23,$F$24:$F$902,"W"),"NA") -> NA | AI22: =IFERROR(AVERAGEIFS($D$24:$D$902,$E$24:$E$128,AI$23,$F$24:$F$902,"W"),"NA") -> NA | AJ22: =IFERROR(AVERAGEIFS($D$24:$D$902,$E$24:$E$128,AJ$23,$F$24:$F$902,"W"),"NA") -> NA | ... BP22: =IFERROR(AVERAGEIFS($D$24:$D$902,$E$24:$E$128,BP$23,$F$24:$F$902,"W"),"NA") -> NA | CO22: =CO21+0.25 -> 0.775 | CP22: =IFERROR(COUNTIFS($C$24:$C$48400,CP$16,$D$24:$D$48400,">="&$CO22,$F$24:$F$48400,"C")/COUNTIFS($C$24:$C$48400,CP$16,$D$24:$D$48400,">="&$CO22),"NA") -> 0.75308642 | CQ22: =IFERROR(COUNTIFS($C$24:$C$48400,CQ$16,$D$24:$D$48400,">="&$CO22,$F$24:$F$48400,"C")/COUNTIFS($C$24:$C$48400,CQ$16,$D$24:$D$48400,">="&$CO22),"NA") -> 0.66445916 | CR22: =IFERROR(COUNTIFS($C$24:$C$48400,CR$16,$D$24:$D$48400,">="&$CO22,$F$24:$F$48400,"C")/COUNTIFS($C$24:$C$48400,CR$16,$D$24:$D$48400,">="&$CO22),"NA") -> 0.44927536
