Workbook

Sheet Input Answers data sheet
A1: GMAT v/s GRE Diagnostic Test Answer Sheet
B2: Enter Your Answers here | E2: Note: if multiple answer choices are correct, enter adf or ADF without any separators.
A3: # | B3: Section 1: Quant | C3: Section 2: Verbal
A4: 1
A5: 2
A6: 3
A7: 4
A8: 5
A9: 6
A10: 7
A11: 8
A12: 9
A13: 10
A14: 11
A15: 12
... A23: 20

Sheet Results
O6: Total Score
R7: GMAT | S7: GRE
O8: Correct: | R8: =Calculator!H4 -> 0 | S8: =Calculator!I4 -> 0
O9: Total Questions: | R9: =Calculator!H5 -> 20 | S9: =Calculator!I5 -> 20
O10: Percentage Correct: | R10: =Calculator!H6 -> 0 | S10: =Calculator!I6 -> 0
O13: Quant
R14: GMAT | S14: GRE
O15: Correct: | R15: =Calculator!B23 -> 0 | S15: =Calculator!C23 -> 0
O16: Total Questions: | R16: 10 | S16: 10
O17: Percentage Correct: | R17: =R15/R16 -> 0 | S17: =S15/S16 -> 0
O20: Verbal
R21: GMAT | S21: GRE
O22: Correct: | R22: =Calculator!D23 -> 0 | S22: =Calculator!E23 -> 0
O23: Total Questions: | R23: 10 | S23: 10
O24: Percentage Correct: | R24: =R22/R23 -> 0 | S24: =S22/S23 -> 0

Sheet Calculator
A1: Sr No | B1: Quant | D1: Verbal
B2: GMAT Points | C2: GRE Points | D2: GMAT Points | E2: GRE Points | K2: Chart Data
A3: 1 | B3: =IF('Input Answers data sheet'!B4='Quant Answer Sheet'!B2,1,0) -> 0 | D3: =IF('Input Answers data sheet'!C4='Verbal Answer Sheet'!B2,1,0) -> 0 | H3: GMAT | I3: GRE | K3: Guages | L3: Pointer Position
A4: 2 | B4: =IF('Input Answers data sheet'!B5='Quant Answer Sheet'!B3,1,0) -> 0 | D4: =IF('Input Answers data sheet'!C5='Verbal Answer Sheet'!B3,1,0) -> 0 | G4: Score | H4: =B23+D23 -> 0 | I4: =C23+E23 -> 0 | K4: 40 | L4: =Calculator!H7*0.9 -> 0
A5: 3 | B5: =IF('Input Answers data sheet'!B6='Quant Answer Sheet'!B4,1,0) -> 0 | D5: =IF('Input Answers data sheet'!C6='Verbal Answer Sheet'!B4,1,0) -> 0 | G5: Max | H5: 20 | I5: 20 | K5: 20 | L5: 0.015
A6: 4 | B6: =IF('Input Answers data sheet'!B7='Quant Answer Sheet'!B5,1,0) -> 0 | D6: =IF('Input Answers data sheet'!C7='Verbal Answer Sheet'!B5,1,0) -> 0 | G6: Correct % | H6: =H4/H5 -> 0 | I6: =I4/I5 -> 0 | K6: 40 | L6: =360%-L5-L4 -> 3.585
A7: 5 | B7: =IF('Input Answers data sheet'!B8='Quant Answer Sheet'!B6,1,0) -> 0 | D7: =IF('Input Answers data sheet'!C8='Verbal Answer Sheet'!B6,1,0) -> 0 | G7: Pointer Position | H7: =IF(H6>I6,MAX(3.1,(4-(H6*2-I6*2))),MIN(0.9, I6*2-H6*2)) -> 0 | K7: 100
A8: 6 | C8: =IF('Input Answers data sheet'!B9='Quant Answer Sheet'!B7,1,0) -> 0 | E8: =IF('Input Answers data sheet'!C9='Verbal Answer Sheet'!B7,1,0) -> 0
A9: 7 | C9: =IF('Input Answers data sheet'!B10='Quant Answer Sheet'!B8,1,0) -> 0 | E9: =IF('Input Answers data sheet'!C10='Verbal Answer Sheet'!B8,1,0) -> 0 | K9: Significant difference between GMAT and GRE? : | L9: =IF(OR(L4<20%,L4>340%),1,0) -> 1
A10: 8 | C10: =IF('Input Answers data sheet'!B11='Quant Answer Sheet'!B9,1,0) -> 0 | E10: =IF('Input Answers data sheet'!C11='Verbal Answer Sheet'!B9,1,0) -> 0 | K10: Result Display: | L10: =IF(Calculator!$L$9,"You are likely to do equally well at both the GMAT and the GRE","You are likely to do better on the " & IF(Calculator!H6>Calculator!I6,"GMAT","GRE")) -> You are likely to do equally well at both the GMAT and the GRE
A11: 9 | C11: =IF('Input Answers data sheet'!B12='Quant Answer Sheet'!B10,1,0) -> 0 | E11: =IF('Input Answers data sheet'!C12='Verbal Answer Sheet'!B10,1,0) -> 0
A12: 10 | C12: =IF('Input Answers data sheet'!B13='Quant Answer Sheet'!B11,1,0) -> 0 | E12: =IF('Input Answers data sheet'!C13='Verbal Answer Sheet'!B11,1,0) -> 0
A13: 11 | C13: =IF('Input Answers data sheet'!B14='Quant Answer Sheet'!B12,1,0) -> 0 | D13: =IF('Input Answers data sheet'!C14='Verbal Answer Sheet'!B12,1,0) -> 0
A14: 12 | B14: =IF('Input Answers data sheet'!B15='Quant Answer Sheet'!B13,1,0) -> 0 | D14: =IF('Input Answers data sheet'!C15='Verbal Answer Sheet'!B13,1,0) -> 0
A15: 13 | B15: =IF('Input Answers data sheet'!B16='Quant Answer Sheet'!B14,1,0) -> 0 | D15: =IF('Input Answers data sheet'!C16='Verbal Answer Sheet'!B14,1,0) -> 0
A16: 14 | B16: =IF('Input Answers data sheet'!B17='Quant Answer Sheet'!B15,1,0) -> 0 | D16: =IF('Input Answers data sheet'!C17='Verbal Answer Sheet'!B15,1,0) -> 0
A17: 15 | B17: =IF('Input Answers data sheet'!B18='Quant Answer Sheet'!B16,1,0) -> 0 | E17: =IF('Input Answers data sheet'!C18='Verbal Answer Sheet'!B16,1,0) -> 0
A18: 16 | B18: =IF('Input Answers data sheet'!B19='Quant Answer Sheet'!B17,1,0) -> 0 | E18: =IF('Input Answers data sheet'!C19='Verbal Answer Sheet'!B17,1,0) -> 0
A19: 17 | C19: =IF('Input Answers data sheet'!B20='Quant Answer Sheet'!B18,1,0) -> 0 | E19: =IF('Input Answers data sheet'!C20='Verbal Answer Sheet'!B18,1,0) -> 0
A20: 18 | C20: =IF('Input Answers data sheet'!B21='Quant Answer Sheet'!B19,1,0) -> 0 | E20: =IF('Input Answers data sheet'!C21='Verbal Answer Sheet'!B19,1,0) -> 0
A21: 19 | C21: =IF('Input Answers data sheet'!B22='Quant Answer Sheet'!B20,1,0) -> 0 | E21: =IF('Input Answers data sheet'!C22='Verbal Answer Sheet'!B20,1,0) -> 0
A22: 20 | C22: =IF('Input Answers data sheet'!B23='Quant Answer Sheet'!B21,1,0) -> 0 | D22: =IF('Input Answers data sheet'!C23='Verbal Answer Sheet'!B21,1,0) -> 0
B23: =SUM(B3:B22) -> 0 | C23: =SUM(C3:C22) -> 0 | D23: =SUM(D3:D22) -> 0 | E23: =SUM(E3:E22) -> 0

Sheet Quant Answer Sheet
A1: Sr No | B1: Correct Answer | C1: Link for detailed solution
A2: 1 | B2: D | C2: https://gmatclub.com/forum/the-radius-of-the-front-wheels-of-a-cart-is-half-that-of-the-rear-whee-333524.html
A3: 2 | B3: A | C3: https://gmatclub.com/forum/by-weight-liquid-x-makes-up-0-8-percent-of-solution-a-and-1-8-percent-198057.html
A4: 3 | B4: B | C4: https://gmatclub.com/forum/what-is-the-value-of-k-if-the-sum-of-consecutive-odd-integers-from-344620.html
A5: 4 | B5: B | C5: https://gmatclub.com/forum/in-an-x-meter-race-competition-tom-gives-jerry-a-240-meters-head-star-381383.html
A6: 5 | B6: D | C6: https://gmatclub.com/forum/if-a-b-c-d-e-and-abcde-0-then-which-of-the-following-must-380577.html
A7: 6 | B7: ABD | C7: https://greprepclub.com/forum/if-a-and-b-are-both-odd-integers-11084.html
A8: 7 | B8: BC | C8: https://greprepclub.com/forum/an-integer-x-is-a-multiple-of-11086.html
A9: 8 | B9: B | C9: https://greprepclub.com/forum/a-clothing-store-sells-only-pants-and-skirts-the-store-curr-10518.html
A10: 9 | B10: A | C10: https://greprepclub.com/forum/the-lengths-of-two-sides-of-isosceles-triangle-xyz-are-8-and-21191.html
A11: 10 | B11: B | C11: https://greprepclub.com/forum/x-0-and-y-10573.html
A12: 11 | B12: C | C12: https://greprepclub.com/forum/f-x-3x-2-15x-14995.html
A13: 12 | B13: A | C13: https://gmatclub.com/forum/three-people-ann-bob-and-colin-have-a-total-of-1-80-between-them-ea-261406.html
... A17: 16 | B17: A | C17: https://gmatclub.com/forum/a-bowl-contains-white-and-black-balls-what-is-the-55141.html
A18: 17 | B18: 22 | C18: https://greprepclub.com/forum/if-a-and-b-are-two-positive-integers-such-that-10540.html
A19: 18 | B19: 45 | C19: https://greprepclub.com/forum/a-burger-eating-contest-had-25-contestants-and-450-burgers-11089.html
A20: 19 | B20: A | C20: https://greprepclub.com/forum/if-bayern-munich-loses-fan-representation-as-a-percentage-of-19317.html
A21: 20 | B21: D | C21: https://greprepclub.com/forum/in-2000-how-many-categories-of-oil-usage-consumed-more-than-19297.html

Sheet Verbal Answer Sheet
A1: Sr No | B1: Correct Answer | C1: Link for detailed solution
A2: 1 | B2: D | C2: https://gmatclub.com/forum/aldolase-is-a-protein-found-in-the-brain-in-an-experiment-subjects-241056.html
A3: 2 | B3: B | C3: https://gmatclub.com/forum/the-popular-belief-that-a-snake-s-age-can-be-determined-by-counting-th-241748.html
A4: 3 | B4: A | C4: https://gmatclub.com/forum/concerns-for-the-environment-have-led-chemists-to-develop-plastics-tha-185506.html
A5: 4 | B5: E | C5: https://gmatclub.com/forum/chris-matthew-is-smart-and-understands-what-people-want-he-has-also-315986.html
A6: 5 | B6: C | C6: https://gmatclub.com/forum/business-school-dean-we-are-all-in-agreement-that-we-must-cut-unneces-270304.html
A7: 6 | B7: A | C7: https://greprepclub.com/forum/all-imaginative-mentorship-requires-a-specific-degree-17666.html
A8: 7 | B8: AD | C8: https://greprepclub.com/forum/while-there-are-computer-programs-that-can-17776.html
A9: 8 | B9: AF | C9: https://greprepclub.com/forum/sometime-during-the-start-of-the-19th-century-the-point-at-which-men-s-great-style-was-moving-toward-its-prime-18081.html
A10: 9 | B10: BEF | C10: https://greprepclub.com/forum/the-gilets-jaunes-dissents-in-france-this-winter-have-indi-17913.html
A11: 10 | B11: CF | C11: https://greprepclub.com/forum/while-she-was-known-to-casual-acquaintances-as-28863.html
A12: 11 | B12: E | C12: https://gmatclub.com/forum/although-there-have-been-numerous-studies-on-the-nature-of-the-virus-387340.html#p3008572
A13: 12 | B13: E | C13: https://gmatclub.com/forum/according-to-many-military-historians-germany-s-conquest-of-the-mount-241242.html
... A21: 20 | B21: C | C21: https://greprepclub.com/forum/traditional-shade-coffee-farms-include-layers-of-other-plants-28603.html#p92790
