Workbook

Sheet CR
B2: Test | C2: Qs | D2: Time (Min) | E2: Performance | F2: Question Type | G2: Fundamental Skills
B3: Test #1 | C3: 1 | D3: 2.84 | E3: Correct | F3: Critical Reasoning | G3: Assumption
B4: Test #1 | C4: 2 | D4: 3.34 | E4: Correct | F4: Critical Reasoning | G4: Weaken
B5: Test #1 | C5: 6 | D5: 2.33 | E5: Correct | F5: Critical Reasoning | G5: Complete Passage | I5: Sample from seven GMAC practice exams.
B6: Test #1 | C6: 7 | D6: 3.44 | E6: Incorrect | F6: Critical Reasoning | G6: Strengthen
B7: Test #1 | C7: 11 | D7: 3.47 | E7: Correct | F7: Critical Reasoning | G7: Weaken | I7: Type | J7: Total | K7: Correct | L7: Incorrect | M7: Accuracy | N7: Avg Time/Qs.
B8: Test #1 | C8: 12 | D8: 1.8 | E8: Incorrect | F8: Critical Reasoning | G8: Assumption | I8: Assumption | J8: =K8+L8 -> 12 | K8: =COUNTIFS($G$3:$G$1053,$I8,$E$3:$E$1053,K$7) -> 4 | L8: =COUNTIFS($G$3:$G$1053,$I8,$E$3:$E$1053,L$7) -> 8 | M8: =K8/SUM(K8,L8) -> 0.33333333 | N8: =AVERAGEIF($G$3:$G$1053,I8,$D$3:$D$1053) -> 2.6675
B9: Test #1 | C9: 16 | D9: 2.29 | E9: Incorrect | F9: Critical Reasoning | G9: Assumption | I9: Weaken | J9: =K9+L9 -> 20 | K9: =COUNTIFS($G$3:$G$1053,$I9,$E$3:$E$1053,K$7) -> 11 | L9: =COUNTIFS($G$3:$G$1053,$I9,$E$3:$E$1053,L$7) -> 9 | M9: =K9/SUM(K9,L9) -> 0.55 | N9: =AVERAGEIF($G$3:$G$1053,I9,$D$3:$D$1053) -> 2.281
B10: Test #1 | C10: 17 | D10: 1.8 | E10: Incorrect | F10: Critical Reasoning | G10: Assumption | I10: Strengthen | J10: =K10+L10 -> 7 | K10: =COUNTIFS($G$3:$G$1053,$I10,$E$3:$E$1053,K$7) -> 3 | L10: =COUNTIFS($G$3:$G$1053,$I10,$E$3:$E$1053,L$7) -> 4 | M10: =K10/SUM(K10,L10) -> 0.42857143 | N10: =AVERAGEIF($G$3:$G$1053,I10,$D$3:$D$1053) -> 2.4
B11: Test #1 | C11: 22 | D11: 1.06 | E11: Correct | F11: Critical Reasoning | G11: Resolve paradox | I11: Resolve paradox | J11: =K11+L11 -> 2 | K11: =COUNTIFS($G$3:$G$1053,$I11,$E$3:$E$1053,K$7) -> 2 | L11: =COUNTIFS($G$3:$G$1053,$I11,$E$3:$E$1053,L$7) -> 0 | M11: =K11/SUM(K11,L11) -> 1 | N11: =AVERAGEIF($G$3:$G$1053,I11,$D$3:$D$1053) -> 2.005
B12: Test #1 | C12: 23 | D12: 0.51 | E12: Incorrect | F12: Critical Reasoning | G12: Argumentative technique | I12: Argumentative technique | J12: =K12+L12 -> 1 | K12: =COUNTIFS($G$3:$G$1053,$I12,$E$3:$E$1053,K$7) -> 0 | L12: =COUNTIFS($G$3:$G$1053,$I12,$E$3:$E$1053,L$7) -> 1 | M12: =K12/SUM(K12,L12) -> 0 | N12: =AVERAGEIF($G$3:$G$1053,I12,$D$3:$D$1053) -> 0.51
B13: Test #2 | C13: 1 | D13: 1.62 | E13: Correct | F13: Critical Reasoning | G13: Evaluate the argument | I13: Evaluate the argument | J13: =K13+L13 -> 6 | K13: =COUNTIFS($G$3:$G$1053,$I13,$E$3:$E$1053,K$7) -> 4 | L13: =COUNTIFS($G$3:$G$1053,$I13,$E$3:$E$1053,L$7) -> 2 | M13: =K13/SUM(K13,L13) -> 0.66666667 | N13: =AVERAGEIF($G$3:$G$1053,I13,$D$3:$D$1053) -> 2.2716667
B14: Test #2 | C14: 2 | D14: 3.2 | E14: Incorrect | F14: Critical Reasoning | G14: Complete Passage | I14: Analysis/Critique | J14: =K14+L14 -> 2 | K14: =COUNTIFS($G$3:$G$1053,$I14,$E$3:$E$1053,K$7) -> 2 | L14: =COUNTIFS($G$3:$G$1053,$I14,$E$3:$E$1053,L$7) -> 0 | M14: =K14/SUM(K14,L14) -> 1 | N14: =AVERAGEIF($G$3:$G$1053,I14,$D$3:$D$1053) -> 1.97
B15: Test #2 | C15: 3 | D15: 1.32 | E15: Correct | F15: Critical Reasoning | G15: Analysis/Critique | I15: Flaw / error | J15: =K15+L15 -> 3 | K15: =COUNTIFS($G$3:$G$1053,$I15,$E$3:$E$1053,K$7) -> 1 | L15: =COUNTIFS($G$3:$G$1053,$I15,$E$3:$E$1053,L$7) -> 2 | M15: =K15/SUM(K15,L15) -> 0.33333333 | N15: =AVERAGEIF($G$3:$G$1053,I15,$D$3:$D$1053) -> 1.55
B16: Test #2 | C16: 7 | D16: 4.03 | E16: Correct | F16: Critical Reasoning | G16: Assumption | I16: Boldface | J16: =K16+L16 -> 2 | K16: =COUNTIFS($G$3:$G$1053,$I16,$E$3:$E$1053,K$7) -> 0 | L16: =COUNTIFS($G$3:$G$1053,$I16,$E$3:$E$1053,L$7) -> 2 | M16: =K16/SUM(K16,L16) -> 0 | N16: =AVERAGEIF($G$3:$G$1053,I16,$D$3:$D$1053) -> 1.115
B17: Test #2 | C17: 8 | D17: 2.59 | E17: Incorrect | F17: Critical Reasoning | G17: Weaken | I17: Inference | J17: =K17+L17 -> 5 | K17: =COUNTIFS($G$3:$G$1053,$I17,$E$3:$E$1053,K$7) -> 4 | L17: =COUNTIFS($G$3:$G$1053,$I17,$E$3:$E$1053,L$7) -> 1 | M17: =K17/SUM(K17,L17) -> 0.8 | N17: =AVERAGEIF($G$3:$G$1053,I17,$D$3:$D$1053) -> 1.686
B18: Test #2 | C18: 13 | D18: 2.61 | E18: Incorrect | F18: Critical Reasoning | G18: Flaw / error | I18: Conclusion | J18: =K18+L18 -> 1 | K18: =COUNTIFS($G$3:$G$1053,$I18,$E$3:$E$1053,K$7) -> 0 | L18: =COUNTIFS($G$3:$G$1053,$I18,$E$3:$E$1053,L$7) -> 1 | M18: =K18/SUM(K18,L18) -> 0 | N18: =AVERAGEIF($G$3:$G$1053,I18,$D$3:$D$1053) -> 2.96
B19: Test #2 | C19: 14 | D19: 2.35 | E19: Incorrect | F19: Critical Reasoning | G19: Strengthen | I19: Strongest reason not to challenge | J19: =K19+L19 -> 1 | K19: =COUNTIFS($G$3:$G$1053,$I19,$E$3:$E$1053,K$7) -> 1 | L19: =COUNTIFS($G$3:$G$1053,$I19,$E$3:$E$1053,L$7) -> 0 | M19: =K19/SUM(K19,L19) -> 1 | N19: =AVERAGEIF($G$3:$G$1053,I19,$D$3:$D$1053) -> 2.88
... B22: Test #2 | C22: 20 | D22: 2.31 | E22: Incorrect | F22: Critical Reasoning | G22: Evaluate the argument | I22: Must be true | J22: =K22+L22 -> 1 | K22: =COUNTIFS($G$3:$G$1053,$I22,$E$3:$E$1053,K$7) -> 0 | L22: =COUNTIFS($G$3:$G$1053,$I22,$E$3:$E$1053,L$7) -> 1 | M22: =K22/SUM(K22,L22) -> 0 | N22: =AVERAGEIF($G$3:$G$1053,I22,$D$3:$D$1053) -> 1.75
B23: Test #2 | C23: 21 | D23: 0.94 | E23: Incorrect | F23: Critical Reasoning | G23: Complete Passage
B24: Test #2 | C24: 22 | D24: 0.35 | E24: Incorrect | F24: Critical Reasoning | G24: Weaken | I24: Total | J24: =SUM(J8:J22) -> 72 | K24: =SUM(K8:K22) -> 37 | L24: =SUM(L8:L22) -> 35 | M24: =K24/SUM(K24,L24) -> 0.51388889 | N24: =average(D3:D1053) -> 2.1854167
B25: Test #2 | C25: 23 | D25: 0.53 | E25: Incorrect | F25: Critical Reasoning | G25: Boldface
B26: Test #3 | C26: 1 | D26: 3.57 | E26: Correct | F26: Critical Reasoning | G26: Assumption
B27: Test #3 | C27: 2 | D27: 3.64 | E27: Incorrect | F27: Critical Reasoning | G27: Weaken
B28: Test #3 | C28: 6 | D28: 3.33 | E28: Correct | F28: Critical Reasoning | G28: Evaluate the argument
B29: Test #3 | C29: 7 | D29: 2.56 | E29: Incorrect | F29: Critical Reasoning | G29: Evaluate the argument
B30: Test #3 | C30: 11 | D30: 2.38 | E30: Correct | F30: Critical Reasoning | G30: Weaken
B31: Test #3 | C31: 12 | D31: 2.95 | E31: Correct | F31: Critical Reasoning | G31: Resolve paradox
B32: Test #3 | C32: 16 | D32: 1.57 | E32: Correct | F32: Critical Reasoning | G32: Evaluate the argument
B33: Test #3 | C33: 17 | D33: 2.71 | E33: Incorrect | F33: Critical Reasoning | G33: Assumption
B34: Test #3 | C34: 22 | D34: 0.74 | E34: Incorrect | F34: Critical Reasoning | G34: Inference
B35: Test #3 | C35: 23 | D35: 0.06 | E35: Incorrect | F35: Critical Reasoning | G35: Strengthen
B36: Test #4 | C36: 1 | D36: 1.77 | E36: Correct | F36: Critical Reasoning | G36: Flaw / error
... B74: Test #7 | C74: 23 | D74: 0.99 | E74: Incorrect | F74: Critical Reasoning | G74: Weaken

Sheet Tracker Question Type
D1: =CONCATENATE("'",D3,"'","!") -> 'Test #1 - Jan 12, 2024 - 555'! | E1: =CONCATENATE("'",E3,"'","!") -> 'Test #2 - Jan 19, 2024 - 565'! | F1: =CONCATENATE("'",F3,"'","!") -> 'Test #3 - May 11, 2024 - 555'! | G1: =CONCATENATE("'",G3,"'","!") -> 'Test #4 - May 12, 2024 - 655'! | H1: =CONCATENATE("'",H3,"'","!") -> 'Test #5 - May 17, 2024 - 615'! | I1: =CONCATENATE("'",I3,"'","!") -> 'Test #6 - May 19, 2024 - 575'! | J1: =CONCATENATE("'",J3,"'","!") -> 'Test #7 - May 20, 2024 - 585'! | K1: =CONCATENATE("'",K3,"'","!") -> 'Test #8 - May 31, 2024 - 615'! | L1: =CONCATENATE("'",L3,"'","!") -> 'Test #9 - June 01, 2024 - 645'!
C2: DI | D2: 73 | E2: 77 | F2: 74 | G2: 80 | H2: 79 | I2: 73 | J2: 78 | K2: 74 | L2: 79
C3: Question # | D3: Test #1 - Jan 12, 2024 - 555 | E3: Test #2 - Jan 19, 2024 - 565 | F3: Test #3 - May 11, 2024 - 555 | G3: Test #4 - May 12, 2024 - 655 | H3: Test #5 - May 17, 2024 - 615 | I3: Test #6 - May 19, 2024 - 575 | J3: Test #7 - May 20, 2024 - 585 | K3: Test #8 - May 31, 2024 - 615 | L3: Test #9 - June 01, 2024 - 645
B4: $R$5 | C4: 1 | D4: =INDIRECT(D$1&$B4) -> Two-part analysis | E4: =INDIRECT(E$1&$B4) -> Two-part analysis | F4: =INDIRECT(F$1&$B4) -> Data Sufficiency | G4: =INDIRECT(G$1&$B4) -> Data Sufficiency | H4: =INDIRECT(H$1&$B4) -> Graphs and Tables | I4: =INDIRECT(I$1&$B4) -> Two-part analysis | J4: =INDIRECT(J$1&$B4) -> Data Sufficiency | K4: =INDIRECT(K$1&$B4) -> Graphs and Tables | L4: =INDIRECT(L$1&$B4) -> Graphs and Tables
B5: $R$6 | C5: 2 | D5: =INDIRECT(D$1&$B5) -> Data Sufficiency | E5: =INDIRECT(E$1&$B5) -> Data Sufficiency | F5: =INDIRECT(F$1&$B5) -> Graphs and Tables | G5: =INDIRECT(G$1&$B5) -> Graphs and Tables | H5: =INDIRECT(H$1&$B5) -> Graphs and Tables | I5: =INDIRECT(I$1&$B5) -> Data Sufficiency | J5: =INDIRECT(J$1&$B5) -> Graphs and Tables | K5: =INDIRECT(K$1&$B5) -> Graphs and Tables | L5: =INDIRECT(L$1&$B5) -> Graphs and Tables
B6: $R$7 | C6: 3 | D6: =INDIRECT(D$1&$B6) -> Graphs and Tables | E6: =INDIRECT(E$1&$B6) -> Graphs and Tables | F6: =INDIRECT(F$1&$B6) -> Graphs and Tables | G6: =INDIRECT(G$1&$B6) -> Graphs and Tables | H6: =INDIRECT(H$1&$B6) -> Two-part analysis | I6: =INDIRECT(I$1&$B6) -> Graphs and Tables | J6: =INDIRECT(J$1&$B6) -> Graphs and Tables | K6: =INDIRECT(K$1&$B6) -> Two-part analysis | L6: =INDIRECT(L$1&$B6) -> Two-part analysis
B7: $R$8 | C7: 4 | D7: =INDIRECT(D$1&$B7) -> Multi-source reasoning | E7: =INDIRECT(E$1&$B7) -> Multi-source reasoning | F7: =INDIRECT(F$1&$B7) -> Data Sufficiency | G7: =INDIRECT(G$1&$B7) -> Data Sufficiency | H7: =INDIRECT(H$1&$B7) -> Data Sufficiency | I7: =INDIRECT(I$1&$B7) -> Multi-source reasoning | J7: =INDIRECT(J$1&$B7) -> Data Sufficiency | K7: =INDIRECT(K$1&$B7) -> Data Sufficiency | L7: =INDIRECT(L$1&$B7) -> Data Sufficiency
B8: $R$9 | C8: 5 | D8: =INDIRECT(D$1&$B8) -> Multi-source reasoning | E8: =INDIRECT(E$1&$B8) -> Multi-source reasoning | F8: =INDIRECT(F$1&$B8) -> Multi-source reasoning | G8: =INDIRECT(G$1&$B8) -> Multi-source reasoning | H8: =INDIRECT(H$1&$B8) -> Multi-source reasoning | I8: =INDIRECT(I$1&$B8) -> Multi-source reasoning | J8: =INDIRECT(J$1&$B8) -> Multi-source reasoning | K8: =INDIRECT(K$1&$B8) -> Multi-source reasoning | L8: =INDIRECT(L$1&$B8) -> Multi-source reasoning
B9: $R$10 | C9: 6 | D9: =INDIRECT(D$1&$B9) -> Multi-source reasoning | E9: =INDIRECT(E$1&$B9) -> Multi-source reasoning | F9: =INDIRECT(F$1&$B9) -> Multi-source reasoning | G9: =INDIRECT(G$1&$B9) -> Multi-source reasoning | H9: =INDIRECT(H$1&$B9) -> Multi-source reasoning | I9: =INDIRECT(I$1&$B9) -> Multi-source reasoning | J9: =INDIRECT(J$1&$B9) -> Multi-source reasoning | K9: =INDIRECT(K$1&$B9) -> Multi-source reasoning | L9: =INDIRECT(L$1&$B9) -> Multi-source reasoning
B10: $R$11 | C10: 7 | D10: =INDIRECT(D$1&$B10) -> Data Sufficiency | E10: =INDIRECT(E$1&$B10) -> Data Sufficiency | F10: =INDIRECT(F$1&$B10) -> Multi-source reasoning | G10: =INDIRECT(G$1&$B10) -> Multi-source reasoning | H10: =INDIRECT(H$1&$B10) -> Multi-source reasoning | I10: =INDIRECT(I$1&$B10) -> Data Sufficiency | J10: =INDIRECT(J$1&$B10) -> Multi-source reasoning | K10: =INDIRECT(K$1&$B10) -> Multi-source reasoning | L10: =INDIRECT(L$1&$B10) -> Multi-source reasoning
B11: $R$12 | C11: 8 | D11: =INDIRECT(D$1&$B11) -> Data Sufficiency | E11: =INDIRECT(E$1&$B11) -> Data Sufficiency | F11: =INDIRECT(F$1&$B11) -> Two-part analysis | G11: =INDIRECT(G$1&$B11) -> Two-part analysis | H11: =INDIRECT(H$1&$B11) -> Graphs and Tables | I11: =INDIRECT(I$1&$B11) -> Data Sufficiency | J11: =INDIRECT(J$1&$B11) -> Two-part analysis | K11: =INDIRECT(K$1&$B11) -> Graphs and Tables | L11: =INDIRECT(L$1&$B11) -> Graphs and Tables
B12: $R$13 | C12: 9 | D12: =INDIRECT(D$1&$B12) -> Graphs and Tables | E12: =INDIRECT(E$1&$B12) -> Graphs and Tables | F12: =INDIRECT(F$1&$B12) -> Graphs and Tables | G12: =INDIRECT(G$1&$B12) -> Graphs and Tables | H12: =INDIRECT(H$1&$B12) -> Two-part analysis | I12: =INDIRECT(I$1&$B12) -> Graphs and Tables | J12: =INDIRECT(J$1&$B12) -> Graphs and Tables | K12: =INDIRECT(K$1&$B12) -> Two-part analysis | L12: =INDIRECT(L$1&$B12) -> Two-part analysis
B13: $R$14 | C13: 10 | D13: =INDIRECT(D$1&$B13) -> Data Sufficiency | E13: =INDIRECT(E$1&$B13) -> Data Sufficiency | F13: =INDIRECT(F$1&$B13) -> Data Sufficiency | G13: =INDIRECT(G$1&$B13) -> Data Sufficiency | H13: =INDIRECT(H$1&$B13) -> Multi-source reasoning | I13: =INDIRECT(I$1&$B13) -> Data Sufficiency | J13: =INDIRECT(J$1&$B13) -> Data Sufficiency | K13: =INDIRECT(K$1&$B13) -> Multi-source reasoning | L13: =INDIRECT(L$1&$B13) -> Multi-source reasoning
B14: $R$15 | C14: 11 | D14: =INDIRECT(D$1&$B14) -> Two-part analysis | E14: =INDIRECT(E$1&$B14) -> Two-part analysis | F14: =INDIRECT(F$1&$B14) -> Two-part analysis | G14: =INDIRECT(G$1&$B14) -> Two-part analysis | H14: =INDIRECT(H$1&$B14) -> Multi-source reasoning | I14: =INDIRECT(I$1&$B14) -> Two-part analysis | J14: =INDIRECT(J$1&$B14) -> Two-part analysis | K14: =INDIRECT(K$1&$B14) -> Multi-source reasoning | L14: =INDIRECT(L$1&$B14) -> Multi-source reasoning
B15: $R$16 | C15: 12 | D15: =INDIRECT(D$1&$B15) -> Data Sufficiency | E15: =INDIRECT(E$1&$B15) -> Data Sufficiency | F15: =INDIRECT(F$1&$B15) -> Graphs and Tables | G15: =INDIRECT(G$1&$B15) -> Graphs and Tables | H15: =INDIRECT(H$1&$B15) -> Multi-source reasoning | I15: =INDIRECT(I$1&$B15) -> Data Sufficiency | J15: =INDIRECT(J$1&$B15) -> Graphs and Tables | K15: =INDIRECT(K$1&$B15) -> Multi-source reasoning | L15: =INDIRECT(L$1&$B15) -> Multi-source reasoning
... B44: $Q$24 | C44: 20 | D44: =INDIRECT(D$1&$B44) -> Non-Math Related | E44: =INDIRECT(E$1&$B44) -> Non-Math Related | F44: =INDIRECT(F$1&$B44) -> Math Related | G44: =INDIRECT(G$1&$B44) -> Math Related | H44: =INDIRECT(H$1&$B44) -> Non-Math Related | I44: =INDIRECT(I$1&$B44) -> Non-Math Related | J44: =INDIRECT(J$1&$B44) -> Math Related | K44: =INDIRECT(K$1&$B44) -> Non-Math Related | L44: =INDIRECT(L$1&$B44) -> Non-Math Related
C47: Non-Math Related | D47: =COUNTIF(D25:D44,$C$47) -> 5 | E47: =COUNTIF(E25:E44,$C$47) -> 6 | F47: =COUNTIF(F25:F44,$C$47) -> 5 | G47: =COUNTIF(G25:G44,$C$47) -> 8 | H47: =COUNTIF(H25:H44,$C$47) -> 8 | I47: =COUNTIF(I25:I44,$C$47) -> 4 | J47: =COUNTIF(J25:J44,$C$47) -> 4 | K47: =COUNTIF(K25:K44,$C$47) -> 10 | L47: =COUNTIF(L25:L44,$C$47) -> 9
C48: Math Related | D48: =COUNTIF(D26:D45,$C$48) -> 14 | E48: =COUNTIF(E26:E45,$C$48) -> 13 | F48: =COUNTIF(F26:F45,$C$48) -> 13 | G48: =COUNTIF(G26:G45,$C$48) -> 11 | H48: =COUNTIF(H26:H45,$C$48) -> 11 | I48: =COUNTIF(I26:I45,$C$48) -> 15 | J48: =COUNTIF(J26:J45,$C$48) -> 15 | K48: =COUNTIF(K26:K45,$C$48) -> 9 | L48: =COUNTIF(L26:L45,$C$48) -> 10
D49: =SUM(D47:D48) -> 19

Sheet OG Qs. Status
B2: Official Questions Practice
B4: Critical Reasoning
B6: Difficulty | C6: Type | D6: Total Qs. | E6: Accuracy | F6: Correct | G6: Incorrect | H6: Source | I6: Filter | J6: Date
B8: Sub 505, 505 - 555, 555 - 605
B9: Set 1 | C9: Strengthen | D9: =SUM(F9,G9) -> 10 | E9: =F9/sum(F9,G9) -> 0.9 | F9: 9 | G9: 1 | H9: OG - Club | I9: Sub 505, 505 - 555, 555 - 605 | J9: 45448
B10: Set 2 | C10: Weaken | D10: =SUM(F10,G10) -> 10 | E10: =F10/sum(F10,G10) -> 0.8 | F10: 8 | G10: 2 | H10: OG - Club | I10: Sub 505, 505 - 555, 555 - 605 | J10: 45448
B11: Set 3 | C11: Strengthen | D11: =SUM(F11,G11) -> 10 | E11: =F11/sum(F11,G11) -> 0.5 | F11: 5 | G11: 5 | H11: OG - Club | I11: Sub 505, 505 - 555, 555 - 605 | J11: 45449
B12: Set 4 | C12: Weaken | D12: =SUM(F12,G12) -> 10 | E12: =F12/sum(F12,G12) -> 0.9 | F12: 9 | G12: 1 | H12: OG - Club | I12: Sub 505, 505 - 555, 555 - 605 | J12: 45449
B13: Set 5 | C13: Strengthen | D13: =SUM(F13,G13) -> 11 | E13: =F13/sum(F13,G13) -> 0.90909091 | F13: 10 | G13: 1 | H13: OG - Club | I13: Sub 505, 505 - 555, 555 - 605 | J13: 45450
B14: Set 6 | C14: Weaken | D14: =SUM(F14,G14) -> 10 | E14: =F14/sum(F14,G14) -> 0.7 | F14: 7 | G14: 3 | H14: OG - Club | I14: Sub 505, 505 - 555, 555 - 605 | J14: 45450
B15: Set 7 | C15: Strengthen | D15: =SUM(F15,G15) -> 10 | E15: =F15/sum(F15,G15) -> 0.8 | F15: 8 | G15: 2 | H15: OG - Club | I15: Sub 505, 505 - 555, 555 - 605 | J15: 45451
B16: Set 8 | C16: Weaken | D16: =SUM(F16,G16) -> 10 | E16: =F16/sum(F16,G16) -> 0.7 | F16: 7 | G16: 3 | H16: OG - Club | I16: Sub 505, 505 - 555, 555 - 605 | J16: 45451
B17: Set 9 | C17: Weaken | D17: =SUM(F17,G17) -> 10 | E17: =F17/sum(F17,G17) -> 1 | F17: 10 | G17: 0 | H17: OG - Club | I17: 505 - 555, 555 - 605, 605 - 655 | J17: 45452
B18: Set 10 | C18: Strengthen | D18: =SUM(F18,G18) -> 10 | E18: =F18/sum(F18,G18) -> 0.8 | F18: 8 | G18: 2 | H18: OG - Club | I18: Sub 505, 505 - 555, 555 - 605 | J18: 45452
B20: Sub 505, 505 - 555, 555 - 605
B21: Set 1 | C21: Assumption | D21: =SUM(F21,G21) -> 10 | E21: =F21/sum(F21,G21) -> 1 | F21: 10 | G21: 0 | H21: OG - Club | I21: Sub 505, 505 - 555, 555 - 605 | J21: 45452
B22: Set 2 | C22: Assumption | D22: =SUM(F22,G22) -> 11 | E22: =F22/sum(F22,G22) -> 0.90909091 | F22: 10 | G22: 1 | H22: OG - Club | I22: Sub 505, 505 - 555, 555 - 605 | J22: 45453
B23: Set 3 | C23: Assumption | D23: =SUM(F23,G23) -> 10 | E23: =F23/sum(F23,G23) -> 0.7 | F23: 7 | G23: 3 | H23: OG - Club | I23: Sub 505, 505 - 555, 555 - 605, 655 - 705 | J23: 45453
B24: Set 4 | C24: Evaluate the argument | D24: =SUM(F24,G24) -> 10 | E24: =F24/sum(F24,G24) -> 0.7 | F24: 7 | G24: 3 | H24: OG - Club | I24: Sub 505, 505 - 555, 555 - 605, 605 - 655 | J24: 45453
B25: Set 5 | C25: Evaluate the argument | D25: =SUM(F25,G25) -> 10 | E25: =F25/sum(F25,G25) -> 0.7 | F25: 7 | G25: 3 | H25: OG - Club | I25: Sub 505, 505 - 555, 555 - 605, 605 - 655, 655 - 705 | J25: 45453
B26: Set 6 | C26: Evaluate the argument | D26: =SUM(F26,G26) -> 10 | E26: =F26/sum(F26,G26) -> 0.6 | F26: 6 | G26: 4 | H26: OG - Club | I26: 555 - 605, 605 - 655, 655 - 705 | J26: 45459 | K26: Higher difficulty set...
B27: Set 7 | C27: Flaw | D27: =SUM(F27,G27) -> 10 | E27: =F27/sum(F27,G27) -> 0.8 | F27: 8 | G27: 2 | H27: OG - Club | I27: Sub 505, 505 - 555, 555 - 605, 605 - 655 | J27: 45459
B28: Set 8 | C28: Assumption | D28: =SUM(F28,G28) -> 11 | E28: =F28/sum(F28,G28) -> 0.90909091 | F28: 10 | G28: 1 | H28: OG - Club | I28: Sub 505, 505 - 555, 555 - 605, 605 - 655 | J28: 45459 | K28: 1 bonus Qs. 655-705 correct GOOD!
B29: Set 9 | C29: Mixed Set: Stren, Weaken, Assump | D29: =SUM(F29,G29) -> 12 | E29: =F29/sum(F29,G29) -> 0.66666667 | F29: 8 | G29: 4 | H29: OG - Club | I29: Half 605-655, Half 655 - 705 | J29: 45466
B30: Set 10 | C30: Mixed Set: Stren, Weaken, Assump | D30: =SUM(F30,G30) -> 10 | E30: =F30/sum(F30,G30) -> 0.8 | F30: 8 | G30: 2 | H30: OG - Club | I30: 3 at 655-705; Others Medium/Low Difficulty | J30: 45470
B32: Sub 505, 505 - 555, 555 - 605
B33: Set 1 | C33: Assumption | D33: =SUM(F33,G33) -> 10 | E33: =F33/sum(F33,G33) -> 1 | F33: 10 | G33: 0 | H33: OG - Club | I33: Sub 505, 505 - 555, 555 - 605 | J33: 45452
B34: Set 2 | C34: Assumption | D34: =SUM(F34,G34) -> 11 | E34: =F34/sum(F34,G34) -> 0.90909091 | F34: 10 | G34: 1 | H34: OG - Club | I34: Sub 505, 505 - 555, 555 - 605 | J34: 45453
B35: Set 3 | C35: Flaw | D35: =SUM(F35,G35) -> 9 | E35: =F35/sum(F35,G35) -> 0.77777778 | F35: 7 | G35: 2 | H35: OG - Club | I35: Sub 505, 505 - 555, 555 - 605 | J35: 45463
B36: Set 4 | C36: Evaluate the argument
B37: Set 5 | C37: Assumption
B38: Set 6 | C38: Flaw
B39: Set 7 | C39: Evaluate the argument
B40: Set 8 | C40: Assumption
B41: Set 9 | C41: Flaw
B42: Set 10 | C42: Evaluate the argument
B44: Sub 505, 505 - 555, 555 - 605
B45: Set 1 | C45: Boldface
B46: Set 2 | C46: Resolve Paradox
B47: Set 3 | C47: Inference
B48: Set 4 | C48: Complete the passage
B49: Set 5
B50: Set 6
B51: Set 7
B52: Set 8
B53: Set 9
B54: Set 10
B57: Mixed Difficulty
B58: Set 1 | C58: Strengthen
B59: Set 2 | C59: Weaken
B60: Set 3 | C60: Assumption
B61: Set 4
B62: Set 5
B63: Set 6
B64: Set 7
B65: Set 8
B66: Set 9
B67: Set 10
B69: Data Interpretation
C71: Type | D71: Total Qs. | E71: Accuracy | F71: Correct | G71: Incorrect | H71: Source | I71: Filter | J71: Date
B73: Set 1 | C73: Data Sufficiency | D73: =SUM(F73,G73) -> 5 | E73: =F73/D73 -> 0.8 | F73: 4 | G73: 1 | H73: OG | I73: OG | J73: 45461
B74: Set 1 | C74: Two-part analysis | D74: =SUM(F74,G74) -> 8 | E74: =F74/D74 -> 0.75 | F74: 6 | G74: 2 | H74: OG | I74: Easy | J74: 45459
B75: Set 1 | C75: Graphs and Tables | D75: =SUM(F75,G75) -> 6 | E75: =F75/D75 -> 0.83333333 | F75: 5 | G75: 1 | H75: OG | I75: OG | J75: 45455
B76: Set 1 | C76: Graphs and Tables | D76: =SUM(F76,G76) -> 7 | E76: =F76/D76 -> 0.71428571 | F76: 5 | G76: 2 | H76: OG | I76: OG | J76: 45456
B77: Set 1 | C77: Graphs and Tables | D77: =SUM(F77,G77) -> 4 | E77: =F77/D77 -> 0.75 | F77: 3 | G77: 1 | H77: OG | I77: OG | J77: 45457
B78: Set 1 | C78: Multi-source reasoning | D78: =SUM(F78,G78) -> 0 | E78: =F78/D78 -> #DIV/0! | H78: OG | I78: OG
B80: Set 2 | C80: Data Sufficiency | D80: =SUM(F80,G80) -> 13 | E80: =F80/D80 -> 0.76923077 | F80: 10 | G80: 3 | H80: OG | I80: Sub 505, 505 - 555, 555 - 605 - Easy | J80: 45465
B81: Set 2 | C81: Two-part analysis | D81: =SUM(F81,G81) -> 9 | E81: =F81/D81 -> 0.44444444 | F81: 4 | G81: 5 | H81: OG | I81: Medium | J81: 45459
B82: Set 2 | C82: Graphs | D82: =SUM(F82,G82) -> 3 | E82: =F82/D82 -> 0.33333333 | F82: 1 | G82: 2 | H82: OG | I82: Hard | J82: 45459
B83: Set 2 | C83: Tables | D83: =SUM(F83,G83) -> 8 | E83: =F83/D83 -> 0.75 | F83: 6 | G83: 2 | H83: OG | I83: Easy / Medium | J83: 45459
B84: Set 2 | C84: Multi-source reasoning | D84: =SUM(F84,G84) -> 0 | E84: =F84/D84 -> #DIV/0! | H84: OG | I84: OG
B86: Set 3 | C86: Data Sufficiency | D86: =SUM(F86,G86) -> 12 | E86: =F86/D86 -> 0.75 | F86: 9 | G86: 3 | I86: Medium OG | J86: 45465
B87: Set 3 | C87: Two-part analysis | D87: =SUM(F87,G87) -> 11 | E87: =F87/D87 -> 0.81818182 | F87: 9 | G87: 2 | H87: OG | I87: Sub 505, 505 - 555, 555 - 605 | J87: 45461
B88: Set 3 | C88: Graphs and Tables | D88: =SUM(F88,G88) -> 0 | E88: =F88/D88 -> #DIV/0! | H88: OG | I88: OG
B89: Set 3 | C89: Multi-source reasoning | D89: =SUM(F89,G89) -> 0 | E89: =F89/D89 -> #DIV/0! | H89: OG | I89: OG
B91: Set 4 | C91: Data Sufficiency | D91: =SUM(F91,G91) -> 10 | E91: =F91/D91 -> 0.8 | F91: 8 | G91: 2 | H91: OG | I91: Medium Hard OG | J91: 45465
B92: Set 4 | C92: Two-part analysis | D92: =SUM(F92,G92) -> 9 | E92: =F92/D92 -> 0.88888889 | F92: 8 | G92: 1 | H92: OG | I92: OG | J92: 45465 | K92: Practice Exam Qs.
B93: Set 4 | C93: Graphs and Tables | D93: =SUM(F93,G93) -> 0 | E93: =F93/D93 -> #DIV/0! | H93: OG | I93: OG
B94: Set 4 | C94: Multi-source reasoning | D94: =SUM(F94,G94) -> 0 | E94: =F94/D94 -> #DIV/0! | H94: OG | I94: OG
B96: Set 5 | C96: Data Sufficiency | D96: =SUM(F96,G96) -> 10 | E96: =F96/D96 -> 0.7 | F96: 7 | G96: 3 | H96: OG | I96: Medium OG | J96: 45471
B97: Set 5 | C97: Two-part analysis | D97: =SUM(F97,G97) -> 0 | E97: =F97/D97 -> #DIV/0!
B98: Set 5 | C98: Graphs and Tables | D98: =SUM(F98,G98) -> 0 | E98: =F98/D98 -> #DIV/0!
B99: Set 5 | C99: Multi-source reasoning | D99: =SUM(F99,G99) -> 0 | E99: =F99/D99 -> #DIV/0!
B101: Set 6 | C101: Data Sufficiency | D101: =SUM(F101,G101) -> 16 | E101: =F101/D101 -> 0.875 | F101: 14 | G101: 2 | H101: OG | I101: Medium | J101: 45471
B102: Set 6 | C102: Two-part analysis | D102: =SUM(F102,G102) -> 0 | E102: =F102/D102 -> #DIV/0!
B103: Set 6 | C103: Graphs and Tables | D103: =SUM(F103,G103) -> 0 | E103: =F103/D103 -> #DIV/0!
B104: Set 6 | C104: Multi-source reasoning | D104: =SUM(F104,G104) -> 0 | E104: =F104/D104 -> #DIV/0!
B106: Set 7 | C106: Data Sufficiency | D106: =SUM(F106,G106) -> 7 | E106: =F106/D106 -> 0.85714286 | F106: 6 | G106: 1 | H106: OG | I106: Medium | J106: 45474
B107: Set 7 | C107: Two-part analysis | D107: =SUM(F107,G107) -> 0 | E107: =F107/D107 -> #DIV/0!
B108: Set 7 | C108: Graphs and Tables | D108: =SUM(F108,G108) -> 0 | E108: =F108/D108 -> #DIV/0!
B109: Set 7 | C109: Multi-source reasoning | D109: =SUM(F109,G109) -> 0 | E109: =F109/D109 -> #DIV/0!
B111: Set 8 | C111: Data Sufficiency | D111: =SUM(F111,G111) -> 15 | E111: =F111/D111 -> 0.53333333 | F111: 8 | G111: 7 | H111: OG | I111: Hard and very hard problems with some medium OG | J111: 45474
B112: Set 8 | C112: Two-part analysis | D112: =SUM(F112,G112) -> 0 | E112: =F112/D112 -> #DIV/0!
B113: Set 8 | C113: Graphs and Tables | D113: =SUM(F113,G113) -> 0 | E113: =F113/D113 -> #DIV/0!
B114: Set 8 | C114: Multi-source reasoning | D114: =SUM(F114,G114) -> 0 | E114: =F114/D114 -> #DIV/0!
B122: GMAT Club OG Problems Available - OG Filter Quant
B124: Quant Topic | C124: # of Problems / 605+ | D124: Status | E124: Plan
B125: Absolute Values | C125: 1 | D125: Complete | E125: 1
B126: Algebra | C126: 7 | D126: Complete | E126: 2
B127: Arithmetic | C127: 5 | D127: Complete | E127: 2
...

Sheet Test Tracker
B2: # | C2: Source | D2: Test # | E2: Date Attempted | F2: Total | G2: Total %ile | H2: Quant | I2: Quant %ile | J2: Verbal | K2: Verbal %ile | L2: Data Insights
B3: 1 | C3: GMAC | D3: Practice Exam #1 | E3: 45303 | F3: 555 | G3: 0.53 | H3: 80 | I3: 0.66 | J3: 79 | K3: 0.51 | L3: 73
B4: 2 | C4: GMAC | D4: Practice Exam #1 | E4: 45310 | F4: 565 | G4: 0.56 | H4: 77 | I4: 0.46 | J4: 80 | K4: 0.6 | L4: 77
B5: 3 | C5: GMAC | D5: Practice Exam #1 | E5: 45423 | F5: 555 | G5: 0.53 | H5: 78 | I5: 0.45 | J5: 81 | K5: 0.7 | L5: 74
B6: 4 | C6: GMAC | D6: Practice Exam #3 | E6: 45424 | F6: 655 | G6: 0.93 | H6: 84 | I6: 0.85 | J6: 83 | K6: 0.86 | L6: 80
B7: 5 | C7: GMAC | D7: Practice Exam #3 | E7: 45429 | F7: 615 | G7: 0.8 | H7: 81 | I7: 0.71 | J7: 81 | K7: 0.7 | L7: 79
B8: 6 | C8: GMAC | D8: Practice Exam #3 | E8: 45431 | F8: 575 | G8: 0.62 | H8: 82 | I8: 0.76 | J8: 81 | K8: 0.7 | L8: 73
B9: 7 | C9: GMAC | E9: 45432 | F9: 585 | G9: 0.65 | H9: 79 | I9: 0.59 | J9: 80 | K9: 0.6 | L9: 78
B10: 8 | F10: 615 | H10: 84 | J10: 83 | L10: 74
B11: 9 | F11: 645 | G11: 0.89 | H11: 83 | J11: 83 | L11: 79
B12: 10
B13: 11
B14: 12
D16: =CONCATENATE("'",D17,"'","!") -> 'Test #1 - Jan 12, 2024 - 555'! | E16: =CONCATENATE("'",E17,"'","!") -> 'Test #2 - Jan 19, 2024 - 565'! | F16: =CONCATENATE("'",F17,"'","!") -> 'Test #3 - May 11, 2024 - 555'! | G16: =CONCATENATE("'",G17,"'","!") -> 'Test #4 - May 12, 2024 - 655'! | H16: =CONCATENATE("'",H17,"'","!") -> 'Test #5 - May 17, 2024 - 615'! | I16: =CONCATENATE("'",I17,"'","!") -> 'Test #6 - May 19, 2024 - 575'! | J16: =CONCATENATE("'",J17,"'","!") -> 'Test #7 - May 20, 2024 - 585'! | K16: =CONCATENATE("'",K17,"'","!") -> 'Test #8 - May 31, 2024 - 615'! | L16: =CONCATENATE("'",L17,"'","!") -> 'Test #9 - June 01, 2024 - 645'!
C17: Item | D17: Test #1 - Jan 12, 2024 - 555 | E17: Test #2 - Jan 19, 2024 - 565 | F17: Test #3 - May 11, 2024 - 555 | G17: Test #4 - May 12, 2024 - 655 | H17: Test #5 - May 17, 2024 - 615 | I17: Test #6 - May 19, 2024 - 575 | J17: Test #7 - May 20, 2024 - 585 | K17: Test #8 - May 31, 2024 - 615 | L17: Test #9 - June 01, 2024 - 645 | N17: Average | O17: Median
C18: Total Score | D18: 555 | E18: 565 | F18: 555 | G18: 655 | H18: 615 | I18: 575 | J18: 585 | K18: 615 | L18: 645 | N18: =AVERAGE(D18:L18) -> 596.11111 | O18: =MEDIAN(D18:L18) -> 585
C19: Quant | D19: =H3 -> 80 | E19: =H4 -> 77 | F19: =H5 -> 78 | G19: =H6 -> 84 | H19: =H7 -> 81 | I19: =H8 -> 82 | J19: 79 | K19: 84 | L19: 83 | N19: =AVERAGE(D19:L19) -> 80.888889 | O19: =MEDIAN(D19:L19) -> 81
C20: Verbal | D20: =J3 -> 79 | E20: =J4 -> 80 | F20: =J5 -> 81 | G20: =J6 -> 83 | H20: =J7 -> 81 | I20: =J8 -> 81 | J20: =J9 -> 80 | K20: 83 | L20: 83 | N20: =AVERAGE(D20:L20) -> 81.222222 | O20: =MEDIAN(D20:L20) -> 81
C21: DI | D21: =L3 -> 73 | E21: =L4 -> 77 | F21: =L5 -> 74 | G21: =L6 -> 80 | H21: =L7 -> 79 | I21: =L8 -> 73 | J21: 78 | K21: 74 | L21: 79 | N21: =AVERAGE(D21:L21) -> 76.333333 | O21: =MEDIAN(D21:L21) -> 77
C22: Quant
B23: =ADDRESS(Row('Test #1 - Jan 12, 2024 - 555'!D32),Column('Test #1 - Jan 12, 2024 - 555'!D32)) -> $D$32 | C23: Correct | D23: ='Test #1 - Jan 12, 2024 - 555'!D32 -> 12 | E23: =INDIRECT(E$16&$B23) -> 12 | F23: =INDIRECT(F$16&$B23) -> 12 | G23: =INDIRECT(G$16&$B23) -> 18 | H23: =INDIRECT(H$16&$B23) -> 15 | I23: =INDIRECT(I$16&$B23) -> 15 | J23: =INDIRECT(J$16&$B23) -> 12 | K23: =INDIRECT(K$16&$B23) -> 17 | L23: =INDIRECT(L$16&$B23) -> 15 | N23: =AVERAGE(D23:L23) -> 14.222222 | O23: =MEDIAN(D23:L23) -> 15
B24: =ADDRESS(Row('Test #1 - Jan 12, 2024 - 555'!D33),Column('Test #1 - Jan 12, 2024 - 555'!D33)) -> $D$33 | C24: Incorrect | D24: ='Test #1 - Jan 12, 2024 - 555'!D33 -> 9 | E24: =INDIRECT(E$16&$B24) -> 9 | F24: =INDIRECT(F$16&$B24) -> 9 | G24: =INDIRECT(G$16&$B24) -> 3 | H24: =INDIRECT(H$16&$B24) -> 6 | I24: =INDIRECT(I$16&$B24) -> 6 | J24: =INDIRECT(J$16&$B24) -> 9 | K24: =INDIRECT(K$16&$B24) -> 4 | L24: =INDIRECT(L$16&$B24) -> 6 | N24: =AVERAGE(D24:L24) -> 6.7777778 | O24: =MEDIAN(D24:L24) -> 6
B25: =ADDRESS(Row('Test #1 - Jan 12, 2024 - 555'!D34),Column('Test #1 - Jan 12, 2024 - 555'!D34)) -> $D$34 | C25: Accuracy | D25: ='Test #1 - Jan 12, 2024 - 555'!D34 -> 0.57142857 | E25: =INDIRECT(E$16&$B25) -> 0.57142857 | F25: =INDIRECT(F$16&$B25) -> 0.57142857 | G25: =INDIRECT(G$16&$B25) -> 0.85714286 | H25: =INDIRECT(H$16&$B25) -> 0.71428571 | I25: =INDIRECT(I$16&$B25) -> 0.71428571 | J25: =INDIRECT(J$16&$B25) -> 0.57142857 | K25: =INDIRECT(K$16&$B25) -> 0.80952381 | L25: =INDIRECT(L$16&$B25) -> 0.71428571 | N25: =AVERAGE(D25:L25) -> 0.67724868 | O25: =MEDIAN(D25:L25) -> 0.71428571
B26: =ADDRESS(Row('Test #1 - Jan 12, 2024 - 555'!B26),Column('Test #1 - Jan 12, 2024 - 555'!B26)) -> $B$26 | C26: Avg Time/ Qs. | D26: ='Test #1 - Jan 12, 2024 - 555'!B26 -> 2.1366667 | E26: =INDIRECT(E$16&$B26) -> 2.1152381 | F26: =INDIRECT(F$16&$B26) -> 2.1361905 | G26: =INDIRECT(G$16&$B26) -> 2.1390476 | H26: =INDIRECT(H$16&$B26) -> 2.1371429 | I26: =INDIRECT(I$16&$B26) -> 2.1404762 | J26: =INDIRECT(J$16&$B26) -> 2.1395238 | K26: =INDIRECT(K$16&$B26) -> 2.1357143 | L26: =INDIRECT(L$16&$B26) -> 2.14 | N26: =AVERAGE(D26:L26) -> 2.1355556 | O26: =MEDIAN(D26:L26) -> 2.1371429
C27: CR
B28: =ADDRESS(Row('Test #1 - Jan 12, 2024 - 555'!K35),Column('Test #1 - Jan 12, 2024 - 555'!K35)) -> $K$35 | C28: Correct | D28: ='Test #1 - Jan 12, 2024 - 555'!K35 -> 5 | E28: =INDIRECT(E$16&$B28) -> 5 | F28: =INDIRECT(F$16&$B28) -> 5 | G28: =INDIRECT(G$16&$B28) -> 6 | H28: =INDIRECT(H$16&$B28) -> 5 | I28: =INDIRECT(I$16&$B28) -> 6 | J28: =INDIRECT(J$16&$B28) -> 5 | K28: =INDIRECT(K$16&$B28) -> 6 | L28: =INDIRECT(L$16&$B28) -> 5 | N28: =AVERAGE(D28:L28) -> 5.3333333 | O28: =MEDIAN(D28:L28) -> 5
B29: =ADDRESS(Row('Test #1 - Jan 12, 2024 - 555'!K36),Column('Test #1 - Jan 12, 2024 - 555'!K36)) -> $K$36 | C29: Incorrect | D29: ='Test #1 - Jan 12, 2024 - 555'!K36 -> 5 | E29: =INDIRECT(E$16&$B29) -> 8 | F29: =INDIRECT(F$16&$B29) -> 5 | G29: =INDIRECT(G$16&$B29) -> 4 | H29: =INDIRECT(H$16&$B29) -> 4 | I29: =INDIRECT(I$16&$B29) -> 4 | J29: =INDIRECT(J$16&$B29) -> 5 | K29: =INDIRECT(K$16&$B29) -> 3 | L29: =INDIRECT(L$16&$B29) -> 4 | N29: =AVERAGE(D29:L29) -> 4.6666667 | O29: =MEDIAN(D29:L29) -> 4
B30: =ADDRESS(Row('Test #1 - Jan 12, 2024 - 555'!K37),Column('Test #1 - Jan 12, 2024 - 555'!K37)) -> $K$37 | C30: Accuracy | D30: ='Test #1 - Jan 12, 2024 - 555'!K37 -> 0.5 | E30: =INDIRECT(E$16&$B30) -> 0.38461538 | F30: =INDIRECT(F$16&$B30) -> 0.5 | G30: =INDIRECT(G$16&$B30) -> 0.6 | H30: =INDIRECT(H$16&$B30) -> 0.55555556 | I30: =INDIRECT(I$16&$B30) -> 0.6 | J30: =INDIRECT(J$16&$B30) -> 0.5 | K30: =INDIRECT(K$16&$B30) -> 0.66666667 | L30: =INDIRECT(L$16&$B30) -> 0.55555556 | N30: =AVERAGE(D30:L30) -> 0.54026591 | O30: =MEDIAN(D30:L30) -> 0.55555556
B31: =ADDRESS(Row('Test #1 - Jan 12, 2024 - 555'!K34),Column('Test #1 - Jan 12, 2024 - 555'!K34)) -> $K$34 | C31: Avg Time/ Qs. | D31: ='Test #1 - Jan 12, 2024 - 555'!K34 -> 2.288 | E31: =INDIRECT(E$16&$B31) -> 2.0238462 | F31: =INDIRECT(F$16&$B31) -> 2.351 | G31: =INDIRECT(G$16&$B31) -> 2.244 | H31: =INDIRECT(H$16&$B31) -> 2.3344444 | I31: =INDIRECT(I$16&$B31) -> 2.087 | J31: =INDIRECT(J$16&$B31) -> 2.033 | K31: =INDIRECT(K$16&$B31) -> 2.4033333 | L31: =INDIRECT(L$16&$B31) -> 1.9711111 | N31: =AVERAGE(D31:L31) -> 2.1928594 | O31: =MEDIAN(D31:L31) -> 2.244
C32: RC
B33: =ADDRESS(Row('Test #1 - Jan 12, 2024 - 555'!K50),Column('Test #1 - Jan 12, 2024 - 555'!K50)) -> $K$50 | C33: Correct | D33: ='Test #1 - Jan 12, 2024 - 555'!K50 -> 10 | E33: =INDIRECT(E$16&$B33) -> 7 | F33: =INDIRECT(F$16&$B33) -> 10 | G33: =INDIRECT(G$16&$B33) -> 11 | H33: =INDIRECT(H$16&$B33) -> 10 | I33: =INDIRECT(I$16&$B33) -> 10 | J33: =INDIRECT(J$16&$B33) -> 10 | K33: =INDIRECT(K$16&$B33) -> 12 | L33: =INDIRECT(L$16&$B33) -> 10 | N33: =AVERAGE(D33:L33) -> 10 | O33: =MEDIAN(D33:L33) -> 10
B34: =ADDRESS(Row('Test #1 - Jan 12, 2024 - 555'!K51),Column('Test #1 - Jan 12, 2024 - 555'!K51)) -> $K$51 | C34: Incorrect | D34: ='Test #1 - Jan 12, 2024 - 555'!K51 -> 3 | E34: =INDIRECT(E$16&$B34) -> 3 | F34: =INDIRECT(F$16&$B34) -> 3 | G34: =INDIRECT(G$16&$B34) -> 2 | H34: =INDIRECT(H$16&$B34) -> 4 | I34: =INDIRECT(I$16&$B34) -> 3 | J34: =INDIRECT(J$16&$B34) -> 3 | K34: =INDIRECT(K$16&$B34) -> 2 | L34: =INDIRECT(L$16&$B34) -> 4 | N34: =AVERAGE(D34:L34) -> 3 | O34: =MEDIAN(D34:L34) -> 3
B35: =ADDRESS(Row('Test #1 - Jan 12, 2024 - 555'!K52),Column('Test #1 - Jan 12, 2024 - 555'!K52)) -> $K$52 | C35: Accuracy | D35: ='Test #1 - Jan 12, 2024 - 555'!K52 -> 0.76923077 | E35: =INDIRECT(E$16&$B35) -> 0.7 | F35: =INDIRECT(F$16&$B35) -> 0.76923077 | G35: =INDIRECT(G$16&$B35) -> 0.84615385 | H35: =INDIRECT(H$16&$B35) -> 0.71428571 | I35: =INDIRECT(I$16&$B35) -> 0.76923077 | J35: =INDIRECT(J$16&$B35) -> 0.76923077 | K35: =INDIRECT(K$16&$B35) -> 0.85714286 | L35: =INDIRECT(L$16&$B35) -> 0.71428571 | N35: =AVERAGE(D35:L35) -> 0.76764347 | O35: =MEDIAN(D35:L35) -> 0.76923077
B36: =ADDRESS(Row('Test #1 - Jan 12, 2024 - 555'!K41),Column('Test #1 - Jan 12, 2024 - 555'!K41)) -> $K$41 | C36: Avg Time/ Qs. | D36: ='Test #1 - Jan 12, 2024 - 555'!K41 -> 1.6969231 | E36: =INDIRECT(E$16&$B36) -> 1.864 | F36: =INDIRECT(F$16&$B36) -> 1.6515385 | G36: =INDIRECT(G$16&$B36) -> 1.7307692 | H36: =INDIRECT(H$16&$B36) -> 1.7085714 | I36: =INDIRECT(I$16&$B36) -> 1.85 | J36: =INDIRECT(J$16&$B36) -> 1.8930769 | K36: =INDIRECT(K$16&$B36) -> 1.6685714 | L36: =INDIRECT(L$16&$B36) -> 1.945 | N36: =AVERAGE(D36:L36) -> 1.7787167 | O36: =MEDIAN(D36:L36) -> 1.7307692
C37: Data Sufficiency
B38: =ADDRESS(Row('Test #1 - Jan 12, 2024 - 555'!S32),Column('Test #1 - Jan 12, 2024 - 555'!S32)) -> $S$32 | C38: Correct | D38: ='Test #1 - Jan 12, 2024 - 555'!S32 -> 3 | E38: =INDIRECT(E$16&$B38) -> 3 | F38: =INDIRECT(F$16&$B38) -> 2 | G38: =INDIRECT(G$16&$B38) -> 3 | H38: =INDIRECT(H$16&$B38) -> 4 | I38: =INDIRECT(I$16&$B38) -> 4 | J38: =INDIRECT(J$16&$B38) -> 5 | K38: =INDIRECT(K$16&$B38) -> 2 | L38: =INDIRECT(L$16&$B38) -> 3 | N38: =AVERAGE(D38:L38) -> 3.2222222 | O38: =MEDIAN(D38:L38) -> 3
B39: =ADDRESS(Row('Test #1 - Jan 12, 2024 - 555'!T32),Column('Test #1 - Jan 12, 2024 - 555'!T32)) -> $T$32 | C39: Incorrect | D39: ='Test #1 - Jan 12, 2024 - 555'!T32 -> 3 | E39: =INDIRECT(E$16&$B39) -> 3 | F39: =INDIRECT(F$16&$B39) -> 4 | G39: =INDIRECT(G$16&$B39) -> 4 | H39: =INDIRECT(H$16&$B39) -> 1 | I39: =INDIRECT(I$16&$B39) -> 2 | J39: =INDIRECT(J$16&$B39) -> 2 | K39: =INDIRECT(K$16&$B39) -> 3 | L39: =INDIRECT(L$16&$B39) -> 2 | N39: =AVERAGE(D39:L39) -> 2.6666667 | O39: =MEDIAN(D39:L39) -> 3
B40: =ADDRESS(Row('Test #1 - Jan 12, 2024 - 555'!U32),Column('Test #1 - Jan 12, 2024 - 555'!U32)) -> $U$32 | C40: Accuracy | D40: ='Test #1 - Jan 12, 2024 - 555'!U32 -> 0.5 | E40: =INDIRECT(E$16&$B40) -> 0.5 | F40: =INDIRECT(F$16&$B40) -> 0.28571429 | G40: =INDIRECT(G$16&$B40) -> 0.42857143 | H40: =INDIRECT(H$16&$B40) -> 0.8 | I40: =INDIRECT(I$16&$B40) -> 0.66666667 | J40: =INDIRECT(J$16&$B40) -> 0.71428571 | K40: =INDIRECT(K$16&$B40) -> 0.4 | L40: =INDIRECT(L$16&$B40) -> 0.6 | N40: =AVERAGE(D40:L40) -> 0.54391534 | O40: =MEDIAN(D40:L40) -> 0.5
B41: =ADDRESS(Row('Test #1 - Jan 12, 2024 - 555'!R32),Column('Test #1 - Jan 12, 2024 - 555'!R32)) -> $R$32 | C41: Avg Time/ Qs. | D41: ='Test #1 - Jan 12, 2024 - 555'!R32 -> 2.0716667 | E41: =INDIRECT(E$16&$B41) -> 1.98 | F41: =INDIRECT(F$16&$B41) -> 1.6785714 | G41: =INDIRECT(G$16&$B41) -> 2.3585714 | H41: =INDIRECT(H$16&$B41) -> 2.436 | I41: =INDIRECT(I$16&$B41) -> 2.3733333 | J41: =INDIRECT(J$16&$B41) -> 2.0957143 | K41: =INDIRECT(K$16&$B41) -> 2.702 | L41: =INDIRECT(L$16&$B41) -> 2.786 | N41: =AVERAGE(D41:L41) -> 2.2757619 | O41: =MEDIAN(D41:L41) -> 2.3585714
C42: Two-part analysis
B43: =ADDRESS(Row('Test #1 - Jan 12, 2024 - 555'!S33),Column('Test #1 - Jan 12, 2024 - 555'!S33)) -> $S$33 | C43: Correct | D43: ='Test #1 - Jan 12, 2024 - 555'!S33 -> 3 | E43: =INDIRECT(E$16&$B43) -> 3 | F43: =INDIRECT(F$16&$B43) -> 3 | G43: =INDIRECT(G$16&$B43) -> 1 | H43: =INDIRECT(H$16&$B43) -> 3 | I43: =INDIRECT(I$16&$B43) -> 2 | J43: =INDIRECT(J$16&$B43) -> 2 | K43: =INDIRECT(K$16&$B43) -> 0 | L43: =INDIRECT(L$16&$B43) -> 2 | N43: =AVERAGE(D43:L43) -> 2.1111111 | O43: =MEDIAN(D43:L43) -> 2
B44: =ADDRESS(Row('Test #1 - Jan 12, 2024 - 555'!T33),Column('Test #1 - Jan 12, 2024 - 555'!T33)) -> $T$33 | C44: Incorrect | D44: ='Test #1 - Jan 12, 2024 - 555'!T33 -> 3 | E44: =INDIRECT(E$16&$B44) -> 2 | F44: =INDIRECT(F$16&$B44) -> 1 | G44: =INDIRECT(G$16&$B44) -> 3 | H44: =INDIRECT(H$16&$B44) -> 1 | I44: =INDIRECT(I$16&$B44) -> 3 | J44: =INDIRECT(J$16&$B44) -> 2 | K44: =INDIRECT(K$16&$B44) -> 4 | L44: =INDIRECT(L$16&$B44) -> 2 | N44: =AVERAGE(D44:L44) -> 2.3333333 | O44: =MEDIAN(D44:L44) -> 2
B45: =ADDRESS(Row('Test #1 - Jan 12, 2024 - 555'!U33),Column('Test #1 - Jan 12, 2024 - 555'!U33)) -> $U$33 | C45: Accuracy | D45: ='Test #1 - Jan 12, 2024 - 555'!U33 -> 0.5 | E45: =INDIRECT(E$16&$B45) -> 0.6 | F45: =INDIRECT(F$16&$B45) -> 0.75 | G45: =INDIRECT(G$16&$B45) -> 0.25 | H45: =INDIRECT(H$16&$B45) -> 0.75 | I45: =INDIRECT(I$16&$B45) -> 0.4 | J45: =INDIRECT(J$16&$B45) -> 0.5 | K45: =INDIRECT(K$16&$B45) -> 0 | L45: =INDIRECT(L$16&$B45) -> 0.5 | N45: =AVERAGE(D45:L45) -> 0.47222222 | O45: =MEDIAN(D45:L45) -> 0.5
B46: =ADDRESS(Row('Test #1 - Jan 12, 2024 - 555'!R33),Column('Test #1 - Jan 12, 2024 - 555'!R33)) -> $R$33 | C46: Avg Time/ Qs. | D46: ='Test #1 - Jan 12, 2024 - 555'!R33 -> 1.848 | E46: =INDIRECT(E$16&$B46) -> 2.2225 | F46: =INDIRECT(F$16&$B46) -> 2.4725 | G46: =INDIRECT(G$16&$B46) -> 2 | H46: =INDIRECT(H$16&$B46) -> 2.3975 | I46: =INDIRECT(I$16&$B46) -> 2.49 | J46: =INDIRECT(J$16&$B46) -> 2.4125 | K46: =INDIRECT(K$16&$B46) -> 2.715 | L46: =INDIRECT(L$16&$B46) -> 2.6225 | N46: =AVERAGE(D46:L46) -> 2.3533889 | O46: =MEDIAN(D46:L46) -> 2.4125
C47: Graphs and Tables
B48: =ADDRESS(Row('Test #1 - Jan 12, 2024 - 555'!S34),Column('Test #1 - Jan 12, 2024 - 555'!S34)) -> $S$34 | C48: Correct | D48: ='Test #1 - Jan 12, 2024 - 555'!S34 -> 2 | E48: =INDIRECT(E$16&$B48) -> 2 | F48: =INDIRECT(F$16&$B48) -> 4 | G48: =INDIRECT(G$16&$B48) -> 6 | H48: =INDIRECT(H$16&$B48) -> 5 | I48: =INDIRECT(I$16&$B48) -> 3 | J48: =INDIRECT(J$16&$B48) -> 5 | K48: =INDIRECT(K$16&$B48) -> 5 | L48: =INDIRECT(L$16&$B48) -> 3 | N48: =AVERAGE(D48:L48) -> 3.8888889 | O48: =MEDIAN(D48:L48) -> 4
B49: =ADDRESS(Row('Test #1 - Jan 12, 2024 - 555'!T34),Column('Test #1 - Jan 12, 2024 - 555'!T34)) -> $T$34 | C49: Incorrect | D49: ='Test #1 - Jan 12, 2024 - 555'!T34 -> 3 | E49: =INDIRECT(E$16&$B49) -> 4 | F49: =INDIRECT(F$16&$B49) -> 2 | G49: =INDIRECT(G$16&$B49) -> 0 | H49: =INDIRECT(H$16&$B49) -> 0 | I49: =INDIRECT(I$16&$B49) -> 3 | J49: =INDIRECT(J$16&$B49) -> 1 | K49: =INDIRECT(K$16&$B49) -> 0 | L49: =INDIRECT(L$16&$B49) -> 2 | N49: =AVERAGE(D49:L49) -> 1.6666667 | O49: =MEDIAN(D49:L49) -> 2
B50: =ADDRESS(Row('Test #1 - Jan 12, 2024 - 555'!U34),Column('Test #1 - Jan 12, 2024 - 555'!U34)) -> $U$34 | C50: Accuracy | D50: ='Test #1 - Jan 12, 2024 - 555'!U34 -> 0.4 | E50: =INDIRECT(E$16&$B50) -> 0.33333333 | F50: =INDIRECT(F$16&$B50) -> 0.66666667 | G50: =INDIRECT(G$16&$B50) -> 1 | H50: =INDIRECT(H$16&$B50) -> 1 | I50: =INDIRECT(I$16&$B50) -> 0.5 | J50: =INDIRECT(J$16&$B50) -> 0.83333333 | K50: =INDIRECT(K$16&$B50) -> 1 | L50: =INDIRECT(L$16&$B50) -> 0.6 | N50: =AVERAGE(D50:L50) -> 0.7037037 | O50: =MEDIAN(D50:L50) -> 0.66666667
B51: =ADDRESS(Row('Test #1 - Jan 12, 2024 - 555'!R34),Column('Test #1 - Jan 12, 2024 - 555'!R34)) -> $R$34 | C51: Avg Time/ Qs. | D51: ='Test #1 - Jan 12, 2024 - 555'!R34 -> 1.844 | E51: =INDIRECT(E$16&$B51) -> 2.6016667 | F51: =INDIRECT(F$16&$B51) -> 2.2083333 | G51: =INDIRECT(G$16&$B51) -> 2.3166667 | H51: =INDIRECT(H$16&$B51) -> 1.944 | I51: =INDIRECT(I$16&$B51) -> 1.3233333 | J51: =INDIRECT(J$16&$B51) -> 2.03 | K51: =INDIRECT(K$16&$B51) -> 2.498 | L51: =INDIRECT(L$16&$B51) -> 2.328 | N51: =AVERAGE(D51:L51) -> 2.1215556 | O51: =MEDIAN(D51:L51) -> 2.2083333
C52: Multi-source reasoning
B53: =ADDRESS(Row('Test #1 - Jan 12, 2024 - 555'!S35),Column('Test #1 - Jan 12, 2024 - 555'!S35)) -> $S$35 | C53: Correct | D53: ='Test #1 - Jan 12, 2024 - 555'!S35 -> 2 | E53: =INDIRECT(E$16&$B53) -> 2 | F53: =INDIRECT(F$16&$B53) -> 2 | G53: =INDIRECT(G$16&$B53) -> 2 | H53: =INDIRECT(H$16&$B53) -> 3 | I53: =INDIRECT(I$16&$B53) -> 2 | J53: =INDIRECT(J$16&$B53) -> 1 | K53: =INDIRECT(K$16&$B53) -> 3 | L53: =INDIRECT(L$16&$B53) -> 4 | N53: =AVERAGE(D53:L53) -> 2.3333333 | O53: =MEDIAN(D53:L53) -> 2
B54: =ADDRESS(Row('Test #1 - Jan 12, 2024 - 555'!T35),Column('Test #1 - Jan 12, 2024 - 555'!T35)) -> $T$35 | C54: Incorrect | D54: ='Test #1 - Jan 12, 2024 - 555'!T35 -> 1 | E54: =INDIRECT(E$16&$B54) -> 1 | F54: =INDIRECT(F$16&$B54) -> 1 | G54: =INDIRECT(G$16&$B54) -> 1 | H54: =INDIRECT(H$16&$B54) -> 3 | I54: =INDIRECT(I$16&$B54) -> 1 | J54: =INDIRECT(J$16&$B54) -> 2 | K54: =INDIRECT(K$16&$B54) -> 3 | L54: =INDIRECT(L$16&$B54) -> 2 | N54: =AVERAGE(D54:L54) -> 1.6666667 | O54: =MEDIAN(D54:L54) -> 1
B55: =ADDRESS(Row('Test #1 - Jan 12, 2024 - 555'!U35),Column('Test #1 - Jan 12, 2024 - 555'!U35)) -> $U$35 | C55: Accuracy | D55: ='Test #1 - Jan 12, 2024 - 555'!U35 -> 0.66666667 | E55: =INDIRECT(E$16&$B55) -> 0.66666667 | F55: =INDIRECT(F$16&$B55) -> 0.66666667 | G55: =INDIRECT(G$16&$B55) -> 0.66666667 | H55: =INDIRECT(H$16&$B55) -> 0.5 | I55: =INDIRECT(I$16&$B55) -> 0.66666667 | J55: =INDIRECT(J$16&$B55) -> 0.33333333 | K55: =INDIRECT(K$16&$B55) -> 0.5 | L55: =INDIRECT(L$16&$B55) -> 0.66666667 | N55: =AVERAGE(D55:L55) -> 0.59259259 | O55: =MEDIAN(D55:L55) -> 0.66666667
B56: =ADDRESS(Row('Test #1 - Jan 12, 2024 - 555'!R35),Column('Test #1 - Jan 12, 2024 - 555'!R35)) -> $R$35 | C56: Avg Time/ Qs. | D56: ='Test #1 - Jan 12, 2024 - 555'!R35 -> 2.8333333 | E56: =INDIRECT(E$16&$B56) -> 1.5066667 | F56: =INDIRECT(F$16&$B56) -> 3.3766667 | G56: =INDIRECT(G$16&$B56) -> 2.1766667 | H56: =INDIRECT(H$16&$B56) -> 2.2433333 | I56: =INDIRECT(I$16&$B56) -> 3.4566667 | J56: =INDIRECT(J$16&$B56) -> 2.81 | K56: =INDIRECT(K$16&$B56) -> 1.345 | L56: =INDIRECT(L$16&$B56) -> 1.4816667 | N56: =AVERAGE(D56:L56) -> 2.3588889 | O56: =MEDIAN(D56:L56) -> 2.2433333

Sheet Test #1 - Jan 12, 2024 - 555
A1: Practice Exam #1 - Attempt 1
A3: QUANT - 80 (66%) | H3: VERBAL - 79 (51%) | N3: DATA INSIGHTS - 73 (98%)
A4: Qs | B4: Time (Min) | C4: Performance | D4: Content Domain | E4: Question Type | F4: Fundamental Skills | H4: Qs | I4: Time (Min) | J4: Performance | K4: Question Type | L4: Fundamental Skills | N4: Qs | O4: Time (Min) | P4: Performance | Q4: Content Domain | R4: Question Type
A5: 1 | B5: 2.98 | C5: Incorrect | D5: Algebra | E5: Real Contexts | F5: Rates/Ratios/Percent | H5: 1 | I5: 2.84 | J5: Correct | K5: Critical Reasoning | L5: Assumption | N5: 1 | O5: 5.6 | P5: Incorrect | Q5: Math Related | R5: Two-part analysis
A6: 2 | B6: 0.83 | C6: Correct | D6: Arithmetic | E6: Real Contexts | F6: Rates/Ratios/Percent | H6: 2 | I6: 3.34 | J6: Correct | K6: Critical Reasoning | L6: Weaken | N6: 2 | O6: 1.28 | P6: Correct | Q6: Math Related | R6: Data Sufficiency
A7: 3 | B7: 1.87 | C7: Correct | D7: Arithmetic | E7: Pure Contexts | F7: Value/Order/Factors | H7: 3 | I7: 2.85 | J7: Correct | K7: Reading Comprehension | L7: Identify Inferred Idea | N7: 3 | O7: 3.09 | P7: Incorrect | Q7: Non-Math Related | R7: Graphs and Tables
A8: 4 | B8: 3.98 | C8: Incorrect | D8: Arithmetic | E8: Pure Contexts | F8: Value/Order/Factors | H8: 4 | I8: 0.9 | J8: Correct | K8: Reading Comprehension | L8: Identify Stated Idea | N8: 4 | O8: 4.75 | P8: Correct | Q8: Math Related | R8: Multi-source reasoning
A9: 5 | B9: 2.73 | C9: Correct | D9: Algebra | E9: Real Contexts | F9: Equal/Unequal/ALG | H9: 5 | I9: 1.61 | J9: Correct | K9: Reading Comprehension | L9: Identify Inferred Idea | N9: 5 | O9: 0.93 | P9: Correct | Q9: Non-Math Related | R9: Multi-source reasoning
A10: 6 | B10: 1.47 | C10: Correct | D10: Algebra | E10: Pure Contexts | F10: Equal/Unequal/ALG | H10: 6 | I10: 2.33 | J10: Correct | K10: Critical Reasoning | L10: Complete the passage | N10: 6 | O10: 2.82 | P10: Incorrect | Q10: Math Related | R10: Multi-source reasoning
A11: 7 | B11: 5.59 | C11: Incorrect | D11: Arithmetic | E11: Real Contexts | F11: Counting/Sets/Series/PolyStats | H11: 7 | I11: 3.44 | J11: Incorrect | K11: Critical Reasoning | L11: Strengthen | N11: 7 | O11: 1.26 | P11: Incorrect | Q11: Math Related | R11: Data Sufficiency
A12: 8 | B12: 3.08 | C12: Incorrect | D12: Arithmetic | E12: Real Contexts | F12: Counting/Sets/Series/PolyStats | H12: 8 | I12: 2.73 | J12: Correct | K12: Reading Comprehension | L12: Identify Inferred Idea | N12: 8 | O12: 2.1 | P12: Correct | Q12: Math Related | R12: Data Sufficiency
A13: 9 | B13: 2.01 | C13: Correct | D13: Algebra | E13: Real Contexts | F13: Equal/Unequal/ALG | H13: 9 | I13: 1.95 | J13: Correct | K13: Reading Comprehension | L13: Identify Stated Idea | N13: 9 | O13: 2.11 | P13: Correct | Q13: Math Related | R13: Graphs and Tables
A14: 10 | B14: 1.22 | C14: Correct | D14: Arithmetic | E14: Pure Contexts | F14: Value Order Factors | H14: 10 | I14: 1.77 | J14: Correct | K14: Reading Comprehension | L14: Identify Inferred Idea | N14: 10 | O14: 2.43 | P14: Incorrect | Q14: Math Related | R14: Data Sufficiency
A15: 11 | B15: 2.23 | C15: Incorrect | D15: Algebra | E15: Real context | F15: Rates/Ratios/Percent | H15: 11 | I15: 3.47 | J15: Correct | K15: Critical Reasoning | L15: Weaken | N15: 11 | O15: 2.46 | P15: Correct | Q15: Math Related | R15: Two-part analysis
A16: 12 | B16: 2.23 | C16: Correct | D16: Algebra | E16: Pure Contexts | F16: Equal/Unequal/ALG | H16: 12 | I16: 1.8 | J16: Incorrect | K16: Critical Reasoning | L16: Assumption | N16: 12 | O16: 3.53 | P16: Correct | Q16: Math Related | R16: Data Sufficiency
... A24: 20 | B24: 1.91 | C24: Incorrect | D24: Algebra | E24: Pure Contexts | F24: Equal/Unequal/ALG | H24: 20 | I24: 0.74 | J24: Incorrect | K24: Reading Comprehension | L24: Identify Inferred Idea | N24: 20 | O24: 0.3 | P24: Correct | Q24: Non-Math Related | R24: Graphs and Tables
A25: 21 | B25: 1.15 | C25: Correct | D25: Arithmetic | E25: Real Contexts | F25: Counting/Sets/Series/PolyStats | H25: 21 | I25: 0.43 | J25: Incorrect | K25: Reading Comprehension | L25: Identify Inferred Idea | O25: =AVERAGE(O5:O24) -> 2.2495
B26: =AVERAGE(B5:B25) -> 2.1366667 | H26: 22 | I26: 1.06 | J26: Correct | K26: Critical Reasoning | L26: Resolve paradox
H27: 23 | I27: 0.51 | J27: Incorrect | K27: Critical Reasoning | L27: Argumentative technique | P27: Total Time | Q27: =SUM(O5:O24) -> 44.99
C28: Total Time: | D28: =SUM(B5:B25) -> 44.87 | I28: =AVERAGE(I5:I27) -> 1.953913 | P28: Top 3 Average | Q28: {=AVERAGE(SORTN($O$5:$O$24,3,0,1,FALSE))} -> 4.6266667
C29: Top 3 Average | D29: {=AVERAGE(SORTN($B$5:$B$25,3,0,1,FALSE))} -> 4.22 | P29: Bottom 3 Average | Q29: {=AVERAGE(SORTN($O$5:$O$24,3,0,1,True))} -> 0.49333333
C30: Bottom 3 Average | D30: {=AVERAGE(SORTN($B$5:$B$25,3,0,1,True))} -> 0.88666667 | J30: Total Time | K30: =SUM(I5:I27) -> 44.94
P31: Type | Q31: # of Qs | R31: Avg per Qs | S31: Correct | T31: Incorrect | U31: Accuracy
C32: Correct | D32: =COUNTIF($C$5:$C$25,C32) -> 12 | I32: Critical Reasoning | J32: No. Of Ques | K32: =countif($K$5:$K$27, "Critical Reasoning") -> 10 | P32: Data Sufficiency | Q32: =countif($R$5:$R$24,P32) -> 6 | R32: =AVERAGEIF(R5:R24,P32,O5:O24) -> 2.0716667 | S32: =COUNTIFS(R$5:R$24,P32,$P$5:$P$24,$S$31) -> 3 | T32: =COUNTIFS($R$5:$R$24,P32,$P$5:$P$24,$T$31) -> 3 | U32: =S32/Q32 -> 0.5
C33: Incorrect | D33: =COUNTIF($C$5:$C$25,C33) -> 9 | I33: Critical Reasoning | J33: Total Time | K33: =SUMIFS($I$5:$I$27,$K$5:$K$27,"Critical Reasoning") -> 22.88 | P33: Two-part analysis | Q33: =countif($R$5:$R$24,P33) -> 6 | R33: =AVERAGEIF(R6:R25,P33,O6:O25) -> 1.848 | S33: =COUNTIFS(R$5:R$24,P33,$P$5:$P$24,$S$31) -> 3 | T33: =COUNTIFS($R$5:$R$24,P33,$P$5:$P$24,$T$31) -> 3 | U33: =S33/Q33 -> 0.5
C34: Accuracy | D34: =D32/SUM(D32:D33) -> 0.57142857 | J34: Time per Ques | K34: =K33/K32 -> 2.288 | P34: Graphs and Tables | Q34: =countif($R$5:$R$24,P34) -> 5 | R34: =AVERAGEIF(R7:R26,P34,O7:O26) -> 1.844 | S34: =COUNTIFS(R$5:R$24,P34,$P$5:$P$24,$S$31) -> 2 | T34: =COUNTIFS($R$5:$R$24,P34,$P$5:$P$24,$T$31) -> 3 | U34: =S34/Q34 -> 0.4
J35: Correct | K35: =countifs($K$5:$K$27,I32,$J$5:$J$27,J35) -> 5 | P35: Multi-source reasoning | Q35: =countif($R$5:$R$24,P35) -> 3 | R35: =AVERAGEIF(R8:R27,P35,O8:O27) -> 2.8333333 | S35: =COUNTIFS(R$5:R$24,P35,$P$5:$P$24,$S$31) -> 2 | T35: =COUNTIFS($R$5:$R$24,P35,$P$5:$P$24,$T$31) -> 1 | U35: =S35/Q35 -> 0.66666667
J36: Incorrect | K36: =countifs($K$5:$K$27,I33,$J$5:$J$27,J36) -> 5 | Q36: =SUM(Q32:Q35) -> 20 | S36: =SUM(S32:S35) -> 10 | T36: =SUM(T32:T35) -> 10 | U36: =S36/Q36 -> 0.5
J37: Accuracy | K37: =K35/SUM(K35:K36) -> 0.5
I39: Reading Comprehension | J39: No. Of Ques | K39: =countif($K$5:$K$27, "Reading Comprehension") -> 13
I40: Reading Comprehension | J40: Total Time | K40: =SUMIFS($I$5:$I$27,$K$5:$K$27,"Reading Comprehension") -> 22.06
J41: Time per Ques | K41: =K40/K39 -> 1.6969231
J43: No. of Passages | K43: 4
J44: P1 | K44: =sum(I7:I9) -> 5.36 | L44: mins
J45: P2 | K45: =SUM(I12:I14) -> 6.45 | L45: mins
J46: P3 | K46: =SUM(I17:I19) -> 4.81 | L46: mins
J47: P4 | K47: =SUM(I22:I25) -> 5.44 | L47: mins
J48: Avg per passage | K48: =average(K44:K47) -> 5.515 | L48: mins
J50: Correct | K50: =countifs($K$5:$K$27,I39,$J$5:$J$27,J50) -> 10
J51: Incorrect | K51: =countifs($K$5:$K$27,I40,$J$5:$J$27,J51) -> 3
J52: Accuracy | K52: =K50/SUM(K50:K51) -> 0.76923077

Sheet Test #2 - Jan 19, 2024 - 565
A1: Practice Exam #1 - Attempt 2
A3: QUANT - 80 (66%) | H3: VERBAL - 80 (60%) | N3: DATA INSIGHTS - 77 (66%)
A4: Qs | B4: Time (Min) | C4: Performance | D4: Content Domain | E4: Question Type | F4: Fundamental Skills | H4: Qs | I4: Time (Min) | J4: Performance | K4: Question Type | L4: Fundamental Skills | N4: Qs | O4: Time (Min) | P4: Performance | Q4: Content Domain | R4: Question Type
A5: 1 | B5: 4.01 | C5: Correct | F5: Counting/Sets/Series/Prob/Stats | H5: 1 | I5: 1.62 | J5: Correct | K5: Critical Reasoning | L5: Evaluate the argument | N5: 1 | O5: 4.05 | P5: Correct | Q5: Math Related | R5: Two-part analysis
A6: 2 | B6: 1.95 | C6: Incorrect | F6: Equal/Unequal/ALG | H6: 2 | I6: 3.2 | J6: Incorrect | K6: Critical Reasoning | L6: Complete the passage | N6: 2 | O6: 1.73 | P6: Incorrect | Q6: Math Related | R6: Data Sufficiency
A7: 3 | B7: 1.36 | C7: Correct | F7: Rates/Ratios/Percent | H7: 3 | I7: 1.32 | J7: Correct | K7: Critical Reasoning | L7: Analysis/Critique | N7: 3 | O7: 4.89 | P7: Correct | Q7: Non-Math Related | R7: Graphs and Tables
A8: 4 | B8: 0.32 | C8: Correct | F8: Equal/Unequal/ALG | H8: 4 | I8: 2.14 | J8: Correct | K8: Reading Comprehension | L8: Identify Stated Idea | N8: 4 | O8: 4.16 | P8: Correct | Q8: Math Related | R8: Multi-source reasoning
A9: 5 | B9: 0.97 | C9: Correct | F9: Value/Order/Factors | H9: 5 | I9: 2.12 | J9: Correct | K9: Reading Comprehension | L9: Identify Inferred Idea | N9: 5 | O9: 0.21 | P9: Incorrect | Q9: Non-Math Related | R9: Multi-source reasoning
A10: 6 | B10: 2.73 | C10: Incorrect | F10: Equal/Unequal/ALG | H10: 6 | I10: 0.94 | J10: Correct | K10: Reading Comprehension | L10: Identify Inferred Idea | N10: 6 | O10: 0.15 | P10: Correct | Q10: Math Related | R10: Multi-source reasoning
A11: 7 | B11: 2.13 | C11: Incorrect | F11: Counting/Sets/Series/Prob/Stats | H11: 7 | I11: 4.03 | J11: Correct | K11: Critical Reasoning | L11: Assumption | N11: 7 | O11: 3.05 | P11: Incorrect | Q11: Math Related | R11: Data Sufficiency
A12: 8 | B12: 2.11 | C12: Incorrect | F12: Value/Order/Factors | H12: 8 | I12: 2.59 | J12: Incorrect | K12: Critical Reasoning | L12: Weaken | N12: 8 | O12: 1.38 | P12: Correct | Q12: Math Related | R12: Data Sufficiency
A13: 9 | B13: 1.49 | C13: Correct | F13: Value/Order/Factors | H13: 9 | I13: 4.26 | J13: Correct | K13: Reading Comprehension | L13: Identify Stated Idea | N13: 9 | O13: 6.57 | P13: Incorrect | Q13: Math Related | R13: Graphs and Tables
A14: 10 | B14: 1.72 | C14: Correct | F14: Equal/Unequal/ALG | H14: 10 | I14: 0.69 | J14: Correct | K14: Reading Comprehension | L14: Identify Inferred Idea | N14: 10 | O14: 1.37 | P14: Correct | Q14: Math Related | R14: Data Sufficiency
A15: 11 | B15: 0.7 | C15: Correct | F15: Value/Order/Factors | H15: 11 | I15: 2.44 | J15: Incorrect | K15: Reading Comprehension | L15: Identify Inferred Idea | N15: 11 | O15: 3.72 | P15: Correct | Q15: Math Related | R15: Two-part analysis
A16: 12 | B16: 1.47 | C16: Correct | F16: Equal/Unequal/ALG | H16: 12 | I16: 0.28 | J16: Correct | K16: Reading Comprehension | L16: Identify Stated Idea | N16: 12 | O16: 2.48 | P16: Incorrect | Q16: Math Related | R16: Data Sufficiency
... A24: 20 | B24: 6.77 | C24: Incorrect | F24: Equal/Unequal/ALG | H24: 20 | I24: 2.31 | J24: Incorrect | K24: Critical Reasoning | L24: Evaluate the argument | N24: 20 | O24: 0.16 | P24: Incorrect | Q24: Non-Math Related | R24: Graphs and Tables
A25: 21 | B25: 3.08 | C25: Incorrect | F25: Value/Order/Factors | H25: 21 | I25: 0.94 | J25: Incorrect | K25: Critical Reasoning | L25: Complete the passage | O25: =AVERAGE(O5:O24) -> 2.2475
B26: =AVERAGE(B5:B25) -> 2.1152381 | H26: 22 | I26: 0.35 | J26: Incorrect | K26: Critical Reasoning | L26: Weaken
H27: 23 | I27: 0.53 | J27: Incorrect | K27: Critical Reasoning | L27: Boldface | P27: Total Time | Q27: =SUM(O5:O24) -> 44.95
C28: Total Time: | D28: =SUM(B5:B25) -> 44.42 | I28: =AVERAGE(I5:I27) -> 1.9543478 | P28: Top 3 Average | Q28: {=AVERAGE(SORTN($O$5:$O$24,3,0,1,FALSE))} -> 5.2066667
C29: Top 3 Average | D29: {=AVERAGE(SORTN($B$5:$B$25,3,0,1,FALSE))} -> 4.6966667 | P29: Bottom 3 Average | Q29: {=AVERAGE(SORTN($O$5:$O$24,3,0,1,True))} -> 0.17333333
C30: Bottom 3 Average | D30: {=AVERAGE(SORTN($B$5:$B$25,3,0,1,True))} -> 0.63 | J30: Total Time | K30: =SUM(I5:I27) -> 44.95
P31: Type | Q31: # of Qs | R31: Avg Time (Mins) | S31: Correct | T31: Incorrect | U31: Accuracy
C32: Correct | D32: =COUNTIF($C$5:$C$25,C32) -> 12 | I32: Critical Reasoning | J32: No. Of Ques | K32: =countif($K$5:$K$27, "Critical Reasoning") -> 13 | P32: Data Sufficiency | Q32: =countif($R$5:$R$24,P32) -> 6 | R32: =AVERAGEIF(R5:R24,P32,O5:O24) -> 1.98 | S32: =COUNTIFS(R$5:R$24,P32,$P$5:$P$24,$S$31) -> 3 | T32: =COUNTIFS($R$5:$R$24,P32,$P$5:$P$24,$T$31) -> 3 | U32: =S32/Q32 -> 0.5
C33: Incorrect | D33: =COUNTIF($C$5:$C$25,C33) -> 9 | I33: Critical Reasoning | J33: Total Time | K33: =SUMIFS($I$5:$I$27,$K$5:$K$27,"Critical Reasoning") -> 26.31 | P33: Two-part analysis | Q33: =countif($R$5:$R$24,P33) -> 5 | R33: =AVERAGEIF(R6:R25,P33,O6:O25) -> 2.2225 | S33: =COUNTIFS(R$5:R$24,P33,$P$5:$P$24,$S$31) -> 3 | T33: =COUNTIFS($R$5:$R$24,P33,$P$5:$P$24,$T$31) -> 2 | U33: =S33/Q33 -> 0.6
C34: Accuracy | D34: =D32/SUM(D32:D33) -> 0.57142857 | J34: Time per Ques | K34: =K33/K32 -> 2.0238462 | P34: Graphs and Tables | Q34: =countif($R$5:$R$24,P34) -> 6 | R34: =AVERAGEIF(R7:R26,P34,O7:O26) -> 2.6016667 | S34: =COUNTIFS(R$5:R$24,P34,$P$5:$P$24,$S$31) -> 2 | T34: =COUNTIFS($R$5:$R$24,P34,$P$5:$P$24,$T$31) -> 4 | U34: =S34/Q34 -> 0.33333333
J35: Correct | K35: =countifs($K$5:$K$27,I32,$J$5:$J$27,J35) -> 5 | P35: Multi-source reasoning | Q35: =countif($R$5:$R$24,P35) -> 3 | R35: =AVERAGEIF(R8:R27,P35,O8:O27) -> 1.5066667 | S35: =COUNTIFS(R$5:R$24,P35,$P$5:$P$24,$S$31) -> 2 | T35: =COUNTIFS($R$5:$R$24,P35,$P$5:$P$24,$T$31) -> 1 | U35: =S35/Q35 -> 0.66666667
J36: Incorrect | K36: =countifs($K$5:$K$27,I33,$J$5:$J$27,J36) -> 8 | Q36: =SUM(Q32:Q35) -> 20 | S36: =SUM(S32:S35) -> 10 | T36: =SUM(T32:T35) -> 10 | U36: =S36/Q36 -> 0.5
J37: Accuracy | K37: =K35/SUM(K35:K36) -> 0.38461538
I39: Reading Comprehension | J39: No. Of Ques | K39: =countif($K$5:$K$27, "Reading Comprehension") -> 10
I40: Reading Comprehension | J40: Total Time | K40: =SUMIFS($I$5:$I$27,$K$5:$K$27,"Reading Comprehension") -> 18.64
J41: Time per Ques | K41: =K40/K39 -> 1.864
J43: No. of Passages | K43: 3
J44: P1 | K44: =SUM(I8:I10) -> 5.2 | L44: mins
J45: P2 | K45: =SUM(I13:I16) -> 7.67 | L45: mins
J46: P3 | K46: =SUM(I20:I22) -> 5.77 | L46: mins
J47: Avg per passage | K47: =average(K44:K46) -> 6.2133333 | L47: mins
J50: Correct | K50: =countifs($K$5:$K$27,I39,$J$5:$J$27,J50) -> 7
J51: Incorrect | K51: =countifs($K$5:$K$27,I40,$J$5:$J$27,J51) -> 3
J52: Accuracy | K52: =K50/SUM(K50:K51) -> 0.7

Sheet Test #3 - May 11, 2024 - 555
A1: Practice Exam #1 - Attempt 3
A3: QUANT - 78 (52%) | H3: VERBAL - 81 (70%) | N3: DATA INSIGHTS - 74 (45%)
A4: Qs | B4: Time (Min) | C4: Performance | D4: Content Domain | E4: Question Type | F4: Fundamental Skills | H4: Qs | I4: Time (Min) | J4: Performance | K4: Question Type | L4: Fundamental Skills | N4: Qs | O4: Time (Min) | P4: Performance | Q4: Content Domain | R4: Question Type
A5: 1 | B5: 3.71 | C5: Correct | D5: Algebra | E5: Real Contexts | F5: Rates/Ratios/Percent | H5: 1 | I5: 3.57 | J5: Correct | K5: Critical Reasoning | L5: Assumption | N5: 1 | O5: 2.53 | P5: Incorrect | Q5: Math Related | R5: Data Sufficiency
A6: 2 | B6: 5.63 | C6: Incorrect | D6: Arithmetic | E6: Real Contexts | F6: Rates/Ratios/Percent | H6: 2 | I6: 3.64 | J6: Incorrect | K6: Critical Reasoning | L6: Weaken | N6: 2 | O6: 4.82 | P6: Incorrect | Q6: Math Related | R6: Graphs and Tables
A7: 3 | B7: 1.43 | C7: Correct | D7: Arithmetic | E7: Pure Contexts | F7: Value/Order/Factors | H7: 3 | I7: 3.26 | J7: Incorrect | K7: Reading Comprehension | L7: Identify Inferred Idea | N7: 3 | O7: 2.72 | P7: Correct | Q7: Non -Math Related | R7: Graphs and Tables
A8: 4 | B8: 4.41 | C8: Correct | D8: Arithmetic | E8: Pure Contexts | F8: Value/Order/Factors | H8: 4 | I8: 2.53 | J8: Correct | K8: Reading Comprehension | L8: Identify Inferred Idea | N8: 4 | O8: 2.48 | P8: Incorrect | Q8: Math Related | R8: Data Sufficiency
A9: 5 | B9: 1.84 | C9: Correct | D9: Algebra | E9: Real Contexts | F9: Rates/Ratios/Percent | H9: 5 | I9: 0.67 | J9: Correct | K9: Reading Comprehension | L9: Identify Stated Idea | N9: 5 | O9: 7.68 | P9: Correct | Q9: Math Related | R9: Multi-source reasoning
A10: 6 | B10: 0.59 | C10: Correct | D10: Algebra | E10: Pure Contexts | F10: Value/Order/Factors | H10: 6 | I10: 3.33 | J10: Correct | K10: Critical Reasoning | L10: Evaluate the argument | N10: 6 | O10: 1.54 | P10: Incorrect | Q10: Non-Math Related | R10: Multi-source reasoning
A11: 7 | B11: 4.92 | C11: Correct | D11: Arithmetic | E11: Real Contexts | F11: Counting/Sets/Series/Prob/Stats | H11: 7 | I11: 2.56 | J11: Incorrect | K11: Critical Reasoning | L11: Evaluate the argument | N11: 7 | O11: 0.91 | P11: Correct | Q11: Non-Math Related | R11: Multi-source reasoning
A12: 8 | B12: 1 | C12: Correct | D12: Arithmetic | E12: Real Contexts | F12: Value/Order/Factors | H12: 8 | I12: 2.93 | J12: Correct | K12: Reading Comprehension | L12: Identify Inferred Idea | N12: 8 | O12: 1.74 | P12: Correct | Q12: Non-Math Related | R12: Two-part analysis
A13: 9 | B13: 1.97 | C13: Correct | D13: Algebra | E13: Real Contexts | F13: Equal/Unequal/ALG | H13: 9 | I13: 0.7 | J13: Correct | K13: Reading Comprehension | L13: Identify Inferred Idea | N13: 9 | O13: 1.35 | P13: Correct | Q13: Non-Math Related | R13: Graphs and Tables
A14: 10 | B14: 0.58 | C14: Incorrect | D14: Arithmetic | E14: Pure Contexts | F14: Equal/Unequal/ALG | G14: SLOPPY | H14: 10 | I14: 0.47 | J14: Correct | K14: Reading Comprehension | L14: Identify Stated Idea | N14: 10 | O14: 2.67 | P14: Correct | Q14: Math Related | R14: Data Sufficiency
A15: 11 | B15: 1.39 | C15: Correct | D15: Arithmetic | E15: Pure Contexts | F15: Counting/Sets/Series/Prob/Stats | H15: 11 | I15: 2.38 | J15: Correct | K15: Critical Reasoning | L15: Weaken | N15: 11 | O15: 3.16 | P15: Correct | Q15: Math Related | R15: Two-part analysis
A16: 12 | B16: 1.05 | C16: Correct | D16: Arithmetic | E16: Pure Contexts | F16: Value/Order/Factors | H16: 12 | I16: 2.95 | J16: Correct | K16: Critical Reasoning | L16: Resolve paradox | N16: 12 | O16: 1.91 | P16: Correct | Q16: Math Related | R16: Graphs and Tables
A17: 13 | B17: 3.53 | C17: Incorrect | D17: Algebra | E17: Pure Contexts | F17: Value/Order/Factors | H17: 13 | I17: 3.3 | J17: Incorrect | K17: Reading Comprehension | L17: Identify Inferred Idea | N17: 13 | O17: 2.16 | P17: Incorrect | Q17: Math Related | R17: Data Sufficiency
A18: 14 | B18: 6.39 | C18: Incorrect | D18: Arithmetic | E18: Real Contexts | F18: Counting/Sets/Series/Prob/Stats | H18: 14 | I18: 0.96 | J18: Correct | K18: Reading Comprehension | L18: Identify Inferred Idea | N18: 14 | O18: 4.67 | P18: Correct | Q18: Non-Math Related | R18: Two-part analysis
A19: 15 | B19: 4.79 | C19: Correct | D19: Algebra | E19: Real Contexts | F19: Equal/Unequal/ALG | H19: 15 | I19: 1.11 | J19: Correct | K19: Reading Comprehension | L19: Identify Stated Idea | N19: 15 | O19: 2.17 | P19: Correct | Q19: Math Related | R19: Graphs and Tables
A20: 16 | B20: 1.03 | C20: Incorrect | D20: Arithmetic | E20: Real Contexts | F20: Counting/Sets/Series/Prob/Stats | H20: 16 | I20: 1.57 | J20: Correct | K20: Critical Reasoning | L20: Evaluate the argument | N20: 16 | O20: 1.39 | P20: Correct | Q20: Math Related | R20: Data Sufficiency
A21: 17 | B21: 0.15 | C21: Incorrect | D21: Algebra | E21: Pure Contexts | F21: Equal/Unequal/ALG | H21: 17 | I21: 2.71 | J21: Incorrect | K21: Critical Reasoning | L21: Assumption | N21: 17 | O21: 0.34 | P21: Incorrect | Q21: Math Related | R21: Data Sufficiency
A22: 18 | B22: 0.12 | C22: Incorrect | D22: Arithmetic | E22: Real Contexts | F22: Rates/Ratios/Percent | H22: 18 | I22: 3.47 | J22: Incorrect | K22: Reading Comprehension | L22: Identify Inferred Idea | N22: 18 | O22: 0.28 | P22: Incorrect | Q22: Math Related | R22: Graphs and Tables
A23: 19 | B23: 0.1 | C23: Incorrect | D23: Algebra | E23: Pure Contexts | F23: Equal/Unequal/ALG | H23: 19 | I23: 0.73 | J23: Correct | K23: Reading Comprehension | L23: Identify Inferred Idea | N23: 19 | O23: 0.32 | P23: Incorrect | Q23: Math Related | R23: Two-part analysis
A24: 20 | B24: 0.07 | C24: Incorrect | D24: Arithmetic | E24: Pure Contexts | F24: Equal/Unequal/ALG | H24: 20 | I24: 0.5 | J24: Correct | K24: Reading Comprehension | L24: Identify Stated Idea | N24: 20 | O24: 0.18 | P24: Not Answered | Q24: Math Related | R24: Data Sufficiency
A25: 21 | B25: 0.16 | C25: Correct | D25: Algebra | E25: Real Contexts | F25: Rates/Ratios/Percent | H25: 21 | I25: 0.84 | J25: Correct | K25: Reading Comprehension | L25: Identify Stated Idea | O25: =AVERAGE(O5:O24) -> 2.251
B26: =AVERAGE(B5:B25) -> 2.1361905 | H26: 22 | I26: 0.74 | J26: Incorrect | K26: Critical Reasoning | L26: Inference
H27: 23 | I27: 0.06 | J27: Incorrect | K27: Critical Reasoning | L27: Strengthen | P27: Total Time | Q27: =SUM(O5:O24) -> 45.02
C28: Total Time: | D28: =SUM(B5:B25) -> 44.86 | I28: =AVERAGE(I5:I27) -> 1.9556522 | P28: Top 3 Average | Q28: {=AVERAGE(SORTN($O$5:$O$24,3,0,1,FALSE))} -> 5.7233333
C29: Top 3 Average | D29: {=AVERAGE(SORTN($B$5:$B$25,3,0,1,FALSE))} -> 5.6466667 | P29: Bottom 3 Average | Q29: {=AVERAGE(SORTN($O$5:$O$24,3,0,1,True))} -> 0.26
C30: Bottom 3 Average | D30: {=AVERAGE(SORTN($B$5:$B$25,3,0,1,True))} -> 0.096666667 | J30: Total Time | K30: =SUM(I5:I27) -> 44.98
P31: Type | Q31: # of Qs | R31: Avg Time (Mins) | S31: Correct | T31: Incorrect | U31: Accuracy
C32: Correct | D32: =COUNTIF($C$5:$C$25,C32) -> 12 | I32: Critical Reasoning | J32: No. Of Ques | K32: =countif($K$5:$K$27, "Critical Reasoning") -> 10 | P32: Data Sufficiency | Q32: =countif($R$5:$R$24,P32) -> 7 | R32: =AVERAGEIF($R$5:$R$24,P32,$O$5:$O$24) -> 1.6785714 | S32: =COUNTIFS(R$5:R$24,P32,$P$5:$P$24,$S$31) -> 2 | T32: =COUNTIFS($R$5:$R$24,P32,$P$5:$P$24,$T$31) -> 4 | U32: =S32/Q32 -> 0.28571429
C33: Incorrect | D33: =COUNTIF($C$5:$C$25,C33) -> 9 | I33: Critical Reasoning | J33: Total Time | K33: =SUMIFS($I$5:$I$27,$K$5:$K$27,"Critical Reasoning") -> 23.51 | P33: Two-part analysis | Q33: =countif($R$5:$R$24,P33) -> 4 | R33: =AVERAGEIF($R$5:$R$24,P33,$O$5:$O$24) -> 2.4725 | S33: =COUNTIFS(R$5:R$24,P33,$P$5:$P$24,$S$31) -> 3 | T33: =COUNTIFS($R$5:$R$24,P33,$P$5:$P$24,$T$31) -> 1 | U33: =S33/Q33 -> 0.75
C34: Accuracy | D34: =D32/SUM(D32:D33) -> 0.57142857 | J34: Time per Ques | K34: =K33/K32 -> 2.351 | P34: Graphs and Tables | Q34: =countif($R$5:$R$24,P34) -> 6 | R34: =AVERAGEIF($R$5:$R$24,P34,$O$5:$O$24) -> 2.2083333 | S34: =COUNTIFS(R$5:R$24,P34,$P$5:$P$24,$S$31) -> 4 | T34: =COUNTIFS($R$5:$R$24,P34,$P$5:$P$24,$T$31) -> 2 | U34: =S34/Q34 -> 0.66666667
J35: Correct | K35: =countifs($K$5:$K$27,I32,$J$5:$J$27,J35) -> 5 | P35: Multi-source reasoning | Q35: =countif($R$5:$R$24,P35) -> 3 | R35: =AVERAGEIF($R$5:$R$24,P35,$O$5:$O$24) -> 3.3766667 | S35: =COUNTIFS(R$5:R$24,P35,$P$5:$P$24,$S$31) -> 2 | T35: =COUNTIFS($R$5:$R$24,P35,$P$5:$P$24,$T$31) -> 1 | U35: =S35/Q35 -> 0.66666667
J36: Incorrect | K36: =countifs($K$5:$K$27,I33,$J$5:$J$27,J36) -> 5 | Q36: =SUM(Q32:Q35) -> 20 | S36: =SUM(S32:S35) -> 11 | T36: =SUM(T32:T35) -> 8 | U36: =S36/Q36 -> 0.55
J37: Accuracy | K37: =K35/SUM(K35:K36) -> 0.5
I39: Reading Comprehension | J39: No. Of Ques | K39: =countif($K$5:$K$27, "Reading Comprehension") -> 13
I40: Reading Comprehension | J40: Total Time | K40: =SUMIFS($I$5:$I$27,$K$5:$K$27,"Reading Comprehension") -> 21.47
J41: Time per Ques | K41: =K40/K39 -> 1.6515385
J43: No. of Passages | K43: 3
J44: P1 | K44: =SUM(I7:I9) -> 6.46 | L44: mins
J45: P2 | K45: =SUM(I12:I14) -> 4.1 | L45: mins
J46: P3 | K46: =SUM(I17:I19) -> 5.37 | L46: mins
J47: P4 | K47: =SUM(I22:I25) -> 5.54
J48: Avg per passage | K48: =average(K44:K46) -> 5.31 | L48: mins
J50: Correct | K50: =countifs($K$5:$K$27,I39,$J$5:$J$27,J50) -> 10
J51: Incorrect | K51: =countifs($K$5:$K$27,I40,$J$5:$J$27,J51) -> 3
J52: Accuracy | K52: =K50/SUM(K50:K51) -> 0.76923077

Sheet Test #4 - May 12, 2024 - 655
A1: Practice Exam #2 - Attempt 1
A3: QUANT - 84 (85%) | H3: VERBAL - 83 (86%) | N3: DATA INSIGHTS - 80 (86%)
A4: Qs | B4: Time (Min) | C4: Performance | D4: Content Domain | E4: Question Type | F4: Fundamental Skills | H4: Qs | I4: Time (Min) | J4: Performance | K4: Question Type | L4: Fundamental Skills | N4: Qs | O4: Time (Min) | P4: Performance | Q4: Content Domain | R4: Question Type
A5: 1 | B5: 2.56 | C5: Correct | D5: Algebra | E5: Pure Contexts | F5: Value/Order/Factors | H5: 1 | I5: 1.77 | J5: Correct | K5: Critical Reasoning | L5: Flaw / error | N5: 1 | O5: 4.7 | P5: Correct | Q5: Math Related | R5: Data Sufficiency
A6: 2 | B6: 1.58 | C6: Correct | D6: Algebra | E6: Real Contexts | F6: Rates/Ratios/Percent | H6: 2 | I6: 3.6 | J6: Correct | K6: Critical Reasoning | L6: Weaken | N6: 2 | O6: 1.12 | P6: Correct | Q6: Math Related | R6: Graphs and Tables
A7: 3 | B7: 2.86 | C7: Incorrect | D7: Arithmetic | E7: Real Contexts | F7: Rates/Ratios/Percent | H7: 3 | I7: 2.14 | J7: Correct | K7: Reading Comprehension | L7: Identify Inferred Idea | N7: 3 | O7: 4.02 | P7: Correct | Q7: Non-Math Related | R7: Graphs and Tables
A8: 4 | B8: 0.98 | C8: Correct | D8: Arithmetic | E8: Pure Contexts | F8: Equal/Unequal/ALG | H8: 4 | I8: 1.02 | J8: Correct | K8: Reading Comprehension | L8: Identify Inferred Idea | N8: 4 | O8: 3.25 | P8: Incorrect | Q8: Math Related | R8: Data Sufficiency
A9: 5 | B9: 3.03 | C9: Correct | D9: Arithmetic | E9: Pure Contexts | F9: Value/Order/Factors | H9: 5 | I9: 2.18 | J9: Correct | K9: Reading Comprehension | L9: Identify Stated Idea | N9: 5 | O9: 3.61 | P9: Incorrect | Q9: Non-Math Related | R9: Multi-source reasoning
A10: 6 | B10: 6.2 | C10: Correct | D10: Arithmetic | E10: Real Contexts | F10: Rates/Ratios/Percent | H10: 6 | I10: 3.23 | J10: Correct | K10: Critical Reasoning | L10: Complete the passage | N10: 6 | O10: 1.19 | P10: Correct | Q10: Non-Math Related | R10: Multi-source reasoning
A11: 7 | B11: 1.2 | C11: Correct | D11: Arithmetic | E11: Pure Contexts | F11: Value/Order/Factors | H11: 7 | I11: 1.37 | J11: Correct | K11: Critical Reasoning | L11: Strengthen | N11: 7 | O11: 1.73 | P11: Correct | Q11: Non-Math Related | R11: Multi-source reasoning
A12: 8 | B12: 3.49 | C12: Correct | D12: Arithmetic | E12: Real Contexts | F12: Rates/Ratios/Percent | H12: 8 | I12: 2.97 | J12: Correct | K12: Reading Comprehension | L12: Identify Stated Idea | N12: 8 | O12: 2.31 | P12: Incorrect | Q12: Non-Math Related | R12: Two-part analysis
A13: 9 | B13: 1.64 | C13: Correct | D13: Algebra | E13: Pure Contexts | F13: Counting/Sets/Series/Prob/Stats | H13: 9 | I13: 1.38 | J13: Incorrect | K13: Reading Comprehension | L13: Identify Inferred Idea | N13: 9 | O13: 3.83 | P13: Correct | Q13: Non-Math Related | R13: Graphs and Tables
A14: 10 | B14: 1.31 | C14: Correct | D14: Algebra | E14: Real Contexts | F14: Equal/Unequal/ALG | H14: 10 | I14: 1.65 | J14: Correct | K14: Reading Comprehension | L14: Identify Inferred Idea | N14: 10 | O14: 4.18 | P14: Incorrect | Q14: Math Related | R14: Data Sufficiency
A15: 11 | B15: 3.62 | C15: Correct | D15: Arithmetic | E15: Real Contexts | F15: Rates/Ratios/Percent | H15: 11 | I15: 2.24 | J15: Correct | K15: Critical Reasoning | L15: Evaluate the argument | N15: 11 | O15: 2.38 | P15: Correct | Q15: Math Related | R15: Two-part analysis
A16: 12 | B16: 1.59 | C16: Correct | D16: Algebra | E16: Pure Contexts | F16: Equal/Unequal/ALG | H16: 12 | I16: 2.47 | J16: Correct | K16: Critical Reasoning | L16: Inference | N16: 12 | O16: 2.51 | P16: Correct | Q16: Non-Math Related | R16: Graphs and Tables
... A24: 20 | B24: 0.17 | C24: Correct | D24: Algebra | E24: Real Contexts | F24: Equal/Unequal/ALG | H24: 20 | I24: 0.83 | J24: Correct | K24: Reading Comprehension | L24: Identify Inferred Idea | N24: 20 | O24: 0.16 | P24: Incorrect | Q24: Math Related | R24: Data Sufficiency
A25: 21 | B25: 0.32 | C25: Incorrect | D25: Arithmetic | E25: Pure Contexts | F25: Value/Order/Factors | H25: 21 | I25: 1.15 | J25: Correct | K25: Reading Comprehension | L25: Identify Stated Idea | O25: =AVERAGE(O5:O24) -> 2.247
B26: =AVERAGE(B5:B25) -> 2.1390476 | H26: 22 | I26: 0.28 | J26: Incorrect | K26: Critical Reasoning | L26: Assumption
H27: 23 | I27: 0.15 | J27: Incorrect | K27: Critical Reasoning | L27: Weaken | P27: Total Time | Q27: =SUM(O5:O24) -> 44.94
C28: Total Time: | D28: =SUM(B5:B25) -> 44.92 | I28: =AVERAGE(I5:I27) -> 1.953913 | P28: Top 3 Average | Q28: {=AVERAGE(SORTN($O$5:$O$24,3,0,1,FALSE))} -> 4.3
C29: Top 3 Average | D29: {=AVERAGE(SORTN($B$5:$B$25,3,0,1,FALSE))} -> 4.83 | P29: Bottom 3 Average | Q29: {=AVERAGE(SORTN($O$5:$O$24,3,0,1,True))} -> 0.32666667
C30: Bottom 3 Average | D30: {=AVERAGE(SORTN($B$5:$B$25,3,0,1,True))} -> 0.24333333 | J30: Total Time | K30: =SUM(I5:I27) -> 44.94
P31: Type | Q31: # of Qs | R31: Avg Time (Mins) | S31: Correct | T31: Incorrect | U31: Accuracy
C32: Correct | D32: =COUNTIF($C$5:$C$25,C32) -> 18 | I32: Critical Reasoning | J32: No. Of Ques | K32: =countif($K$5:$K$27, "Critical Reasoning") -> 10 | P32: Data Sufficiency | Q32: =countif($R$5:$R$24,P32) -> 7 | R32: =AVERAGEIF($R$5:$R$24,P32,$O$5:$O$24) -> 2.3585714 | S32: =COUNTIFS(R$5:R$24,P32,$P$5:$P$24,$S$31) -> 3 | T32: =COUNTIFS($R$5:$R$24,P32,$P$5:$P$24,$T$31) -> 4 | U32: =S32/Q32 -> 0.42857143
C33: Incorrect | D33: =COUNTIF($C$5:$C$25,C33) -> 3 | I33: Critical Reasoning | J33: Total Time | K33: =SUMIFS($I$5:$I$27,$K$5:$K$27,"Critical Reasoning") -> 22.44 | P33: Two-part analysis | Q33: =countif($R$5:$R$24,P33) -> 4 | R33: =AVERAGEIF($R$5:$R$24,P33,$O$5:$O$24) -> 2 | S33: =COUNTIFS(R$5:R$24,P33,$P$5:$P$24,$S$31) -> 1 | T33: =COUNTIFS($R$5:$R$24,P33,$P$5:$P$24,$T$31) -> 3 | U33: =S33/Q33 -> 0.25
C34: Accuracy | D34: =D32/SUM(D32:D33) -> 0.85714286 | J34: Time per Ques | K34: =K33/K32 -> 2.244 | P34: Graphs and Tables | Q34: =countif($R$5:$R$24,P34) -> 6 | R34: =AVERAGEIF($R$5:$R$24,P34,$O$5:$O$24) -> 2.3166667 | S34: =COUNTIFS(R$5:R$24,P34,$P$5:$P$24,$S$31) -> 6 | T34: =COUNTIFS($R$5:$R$24,P34,$P$5:$P$24,$T$31) -> 0 | U34: =S34/Q34 -> 1
J35: Correct | K35: =countifs($K$5:$K$27,I32,$J$5:$J$27,J35) -> 6 | P35: Multi-source reasoning | Q35: =countif($R$5:$R$24,P35) -> 3 | R35: =AVERAGEIF($R$5:$R$24,P35,$O$5:$O$24) -> 2.1766667 | S35: =COUNTIFS(R$5:R$24,P35,$P$5:$P$24,$S$31) -> 2 | T35: =COUNTIFS($R$5:$R$24,P35,$P$5:$P$24,$T$31) -> 1 | U35: =S35/Q35 -> 0.66666667
J36: Incorrect | K36: =countifs($K$5:$K$27,I33,$J$5:$J$27,J36) -> 4 | Q36: =SUM(Q32:Q35) -> 20 | S36: =SUM(S32:S35) -> 12 | T36: =SUM(T32:T35) -> 8 | U36: =S36/Q36 -> 0.6
J37: Accuracy | K37: =K35/SUM(K35:K36) -> 0.6
I39: Reading Comprehension | J39: No. Of Ques | K39: =countif($K$5:$K$27, "Reading Comprehension") -> 13
I40: Reading Comprehension | J40: Total Time | K40: =SUMIFS($I$5:$I$27,$K$5:$K$27,"Reading Comprehension") -> 22.5
J41: Time per Ques | K41: =K40/K39 -> 1.7307692 | P41: 1 | Q41: 4.7 | R41: Correct | S41: Math Related | T41: Data Sufficiency
P42: 2 | Q42: 1.12 | R42: Correct | S42: Math Related | T42: Graphs and Tables
J43: No. of Passages | K43: 3 | P43: 3 | Q43: 4.02 | R43: Correct | S43: Non-Math Related | T43: Graphs and Tables
J44: P1 | K44: =SUM(I7:I9) -> 5.34 | L44: mins | P44: 4 | Q44: 3.25 | R44: Incorrect | S44: Math Related | T44: Data Sufficiency
J45: P2 | K45: =SUM(I12:I14) -> 6 | L45: mins | P45: 5 | Q45: 3.61 | R45: Incorrect | S45: Non-Math Related | T45: Multi-source reasoning
J46: P3 | K46: =SUM(I17:I19) -> 3.55 | L46: mins | P46: 6 | Q46: 1.19 | R46: Correct | S46: Non-Math Related | T46: Multi-source reasoning
J47: P4 | K47: =SUM(I22:I25) -> 7.61 | L47: mins | P47: 7 | Q47: 1.73 | R47: Correct | S47: Non-Math Related | T47: Multi-source reasoning
J48: Avg per passage | K48: =AVERAGE(K44:K47) -> 5.625 | L48: mins | P48: 8 | Q48: 2.31 | R48: Incorrect | S48: Non-Math Related | T48: Two-part analysis
P49: 9 | Q49: 3.83 | R49: Correct | S49: Non-Math Related | T49: Graphs and Tables
J50: Correct | K50: =countifs($K$5:$K$27,I39,$J$5:$J$27,J50) -> 11 | P50: 10 | Q50: 4.18 | R50: Incorrect | S50: Math Related | T50: Data Sufficiency
J51: Incorrect | K51: =countifs($K$5:$K$27,I40,$J$5:$J$27,J51) -> 2 | P51: 11 | Q51: 2.38 | R51: Correct | S51: Math Related | T51: Two-part analysis
J52: Accuracy | K52: =K50/SUM(K50:K51) -> 0.84615385 | P52: 12 | Q52: 2.51 | R52: Correct | S52: Non-Math Related | T52: Graphs and Tables
P53: 13 | Q53: 1.75 | R53: Correct | S53: Math Related | T53: Data Sufficiency
P54: 14 | Q54: 3.22 | R54: Incorrect | S54: Non-Math Related | T54: Two-part analysis
P55: 15 | Q55: 0.97 | R55: Correct | S55: Math Related | T55: Graphs and Tables
P56: 16 | Q56: 0.73 | R56: Correct | S56: Math Related | T56: Data Sufficiency
P57: 17 | Q57: 1.74 | R57: Incorrect | S57: Math Related | T57: Data Sufficiency
P58: 18 | Q58: 1.45 | R58: Correct | S58: Math Related | T58: Graphs and Tables
P59: 19 | Q59: 0.09 | R59: Incorrect | S59: Math Related | T59: Two-part analysis
P60: 20 | Q60: 0.16 | R60: Incorrect | S60: Math Related | T60: Data Sufficiency

Sheet Test #5 - May 17, 2024 - 615
A1: Practice Exam #2 - Attempt 1
A3: QUANT - 84 (85%) | H3: VERBAL - 83 (86%) | N3: DATA INSIGHTS - 80 (86%)
A4: Qs | B4: Time (Min) | C4: Performance | D4: Content Domain | E4: Question Type | F4: Fundamental Skills | H4: Qs | I4: Time (Min) | J4: Performance | K4: Question Type | L4: Fundamental Skills | N4: Qs | O4: Time (Min) | P4: Performance | Q4: Content Domain | R4: Question Type
A5: 1 | B5: 2.74 | C5: Correct | D5: Arithmetic | E5: Real Contexts | F5: Rates/Ratios/Percent | H5: 1 | I5: 3.16 | J5: Correct | K5: Critical Reasoning | L5: Assumption | N5: 1 | O5: 2.78 | P5: Correct | Q5: Math Related | R5: Graphs and Tables | Z5: Time | AA5: AN | AB5: (Minutes) | AC5: 4/ | AD5: 4/ | AE5: AV
A6: 2 | B6: 1.29 | C6: Correct | D6: Arithmetic | E6: Pure Contexts | F6: Value/Order/Factors | H6: 2 | I6: 2.88 | J6: Correct | K6: Critical Reasoning | L6: Strongest reason not to challenge | N6: 2 | O6: 2.44 | P6: Correct | Q6: Math Related | R6: Graphs and Tables
A7: 3 | B7: 7 | C7: Incorrect | D7: Algebra | E7: Real Contexts | F7: Equal/Unequal/ALG | H7: 3 | I7: 3.8 | J7: Correct | K7: Reading Comprehension | L7: Identify Stated Idea | N7: 3 | O7: 2.34 | P7: Correct | Q7: Math Related | R7: Two-part analysis
A8: 4 | B8: 3.33 | C8: Incorrect | D8: Arithmetic | E8: Real Contexts | F8: Counting/Sets/Series/Prob/Stats | H8: 4 | I8: 1.38 | J8: Correct | K8: Reading Comprehension | L8: Identify Inferred Idea | N8: 4 | O8: 2.2 | P8: Correct | Q8: Math Related | R8: Data Sufficiency
A9: 5 | B9: 1.53 | C9: Correct | D9: Arithmetic | E9: Real Contexts | F9: Rates/Ratios/Percent | H9: 5 | I9: 1.44 | J9: Correct | K9: Reading Comprehension | L9: Identify Stated Idea | N9: 5 | O9: 4.08 | P9: Incorrect | Q9: Non-Math Related | R9: Multi-source reasoning
A10: 6 | B10: 1.63 | C10: Correct | D10: Arithmetic | E10: Real Contexts | F10: Rates/Ratios/Percent | H10: 6 | I10: 1.97 | J10: Incorrect | K10: Reading Comprehension | L10: Identify Inferred Idea | N10: 6 | O10: 0.75 | P10: Correct | Q10: Non-Math Related | R10: Multi-source reasoning
A11: 7 | B11: 2.68 | C11: Correct | D11: Arithmetic | E11: Pure Contexts | F11: Value/Order/Factors | H11: 7 | I11: 2.62 | J11: Correct | K11: Critical Reasoning | L11: Analysis/Critique | N11: 7 | O11: 0.75 | P11: Correct | Q11: Non-Math Related | R11: Multi-source reasoning
A12: 8 | B12: 1.76 | C12: Correct | D12: Algebra | E12: Real Contexts | F12: Value/Order/Factors | H12: 8 | I12: 2 | J12: Correct | K12: Critical Reasoning | L12: Plan/Construct | N12: 8 | O12: 2.21 | P12: Correct | Q12: Math Related | R12: Graphs and Tables
A13: 9 | B13: 4.64 | C13: Correct | D13: Arithmetic | E13: Real Contexts | F13: Rates/Ratios/Percent | H13: 9 | I13: 2.38 | J13: Correct | K13: Reading Comprehension | L13: Identify Inferred Idea | N13: 9 | O13: 5.05 | P13: Correct | Q13: Non-Math Related | R13: Two-part analysis
A14: 10 | B14: 1.18 | C14: Correct | D14: Arithmetic | E14: Real Contexts | F14: Value/Order/Factors | H14: 10 | I14: 2.3 | J14: Incorrect | K14: Reading Comprehension | L14: Identify Inferred Idea | N14: 10 | O14: 5.49 | P14: Incorrect | Q14: Math Related | R14: Multi-source reasoning
A15: 11 | B15: 2.92 | C15: Correct | D15: Algebra | E15: Real Contexts | F15: Counting/Sets/Series/Prob/Stats | H15: 11 | I15: 0.76 | J15: Correct | K15: Reading Comprehension | L15: Identify Stated Idea | N15: 11 | O15: 1.12 | P15: Incorrect | Q15: Non-Math Related | R15: Multi-source reasoning
A16: 12 | B16: 1.07 | C16: Correct | D16: Algebra | E16: Pure Contexts | F16: Equal/Unequal/ALG | H16: 12 | I16: 0.63 | J16: Correct | K16: Reading Comprehension | L16: Identify Stated Idea | N16: 12 | O16: 1.27 | P16: Correct | Q16: Math Related | R16: Multi-source reasoning
A17: 13 | B17: 0.58 | C17: Correct | D17: Arithmetic | E17: Pure Contexts | F17: Value/Order/Factors | H17: 13 | I17: 3.02 | J17: Incorrect | K17: Critical Reasoning | L17: Assumption | N17: 13 | O17: 1.33 | P17: Correct | Q17: Non-Math Related | R17: Graphs and Tables
... A24: 20 | B24: 1.79 | C24: Incorrect | D24: Arithmetic | E24: Pure Contexts | F24: Value/Order/Factors | H24: 20 | I24: 2.41 | J24: Correct | K24: Reading Comprehension | L24: Identify Inferred Idea | N24: 20 | O24: 0.96 | P24: Correct | Q24: Non-Math Related | R24: Graphs and Tables
A25: 21 | B25: 0.51 | C25: Incorrect | D25: Algebra | E25: Pure Contexts | F25: Equal/Unequal/ALG | H25: 21 | I25: 0.28 | J25: Incorrect | K25: Reading Comprehension | L25: Identify Inferred Idea | O25: =AVERAGE(O5:O24) -> 2.2475
B26: =AVERAGE(B5:B25) -> 2.1371429 | H26: 22 | I26: 0.29 | J26: Incorrect | K26: Reading Comprehension | L26: Identify Stated Idea
H27: 23 | I27: 0.27 | J27: Incorrect | K27: Critical Reasoning | L27: Flaw / error | P27: Total Time | Q27: =SUM(O5:O24) -> 44.95
C28: Total Time: | D28: =SUM(B5:B25) -> 44.88 | I28: =AVERAGE(I5:I27) -> 1.9534783 | P28: Top 3 Average | Q28: {=AVERAGE(SORTN($O$5:$O$24,3,0,1,FALSE))} -> 4.8766667
C29: Top 3 Average | D29: {=AVERAGE(SORTN($B$5:$B$25,3,0,1,FALSE))} -> 4.99 | P29: Bottom 3 Average | Q29: {=AVERAGE(SORTN($O$5:$O$24,3,0,1,True))} -> 0.57
C30: Bottom 3 Average | D30: {=AVERAGE(SORTN($B$5:$B$25,3,0,1,True))} -> 0.55666667 | J30: Total Time | K30: =SUM(I5:I27) -> 44.93
P31: Type | Q31: # of Qs | R31: Avg Time (Mins) | S31: Correct | T31: Incorrect | U31: Accuracy
C32: Correct | D32: =COUNTIF($C$5:$C$25,C32) -> 15 | I32: Critical Reasoning | J32: No. Of Ques | K32: =countif($K$5:$K$27, "Critical Reasoning") -> 9 | P32: Data Sufficiency | Q32: =countif($R$5:$R$24,P32) -> 5 | R32: =AVERAGEIF($R$5:$R$24,P32,$O$5:$O$24) -> 2.436 | S32: =COUNTIFS(R$5:R$24,P32,$P$5:$P$24,$S$31) -> 4 | T32: =COUNTIFS($R$5:$R$24,P32,$P$5:$P$24,$T$31) -> 1 | U32: =S32/Q32 -> 0.8
C33: Incorrect | D33: =COUNTIF($C$5:$C$25,C33) -> 6 | I33: Critical Reasoning | J33: Total Time | K33: =SUMIFS($I$5:$I$27,$K$5:$K$27,"Critical Reasoning") -> 21.01 | P33: Two-part analysis | Q33: =countif($R$5:$R$24,P33) -> 4 | R33: =AVERAGEIF($R$5:$R$24,P33,$O$5:$O$24) -> 2.3975 | S33: =COUNTIFS(R$5:R$24,P33,$P$5:$P$24,$S$31) -> 3 | T33: =COUNTIFS($R$5:$R$24,P33,$P$5:$P$24,$T$31) -> 1 | U33: =S33/Q33 -> 0.75
C34: Accuracy | D34: =D32/SUM(D32:D33) -> 0.71428571 | J34: Time per Ques | K34: =K33/K32 -> 2.3344444 | P34: Graphs and Tables | Q34: =countif($R$5:$R$24,P34) -> 5 | R34: =AVERAGEIF($R$5:$R$24,P34,$O$5:$O$24) -> 1.944 | S34: =COUNTIFS(R$5:R$24,P34,$P$5:$P$24,$S$31) -> 5 | T34: =COUNTIFS($R$5:$R$24,P34,$P$5:$P$24,$T$31) -> 0 | U34: =S34/Q34 -> 1
J35: Correct | K35: =countifs($K$5:$K$27,I32,$J$5:$J$27,J35) -> 5 | P35: Multi-source reasoning | Q35: =countif($R$5:$R$24,P35) -> 6 | R35: =AVERAGEIF($R$5:$R$24,P35,$O$5:$O$24) -> 2.2433333 | S35: =COUNTIFS(R$5:R$24,P35,$P$5:$P$24,$S$31) -> 3 | T35: =COUNTIFS($R$5:$R$24,P35,$P$5:$P$24,$T$31) -> 3 | U35: =S35/Q35 -> 0.5
J36: Incorrect | K36: =countifs($K$5:$K$27,I33,$J$5:$J$27,J36) -> 4 | Q36: =SUM(Q32:Q35) -> 20 | S36: =SUM(S32:S35) -> 15 | T36: =SUM(T32:T35) -> 5 | U36: =S36/Q36 -> 0.75
J37: Accuracy | K37: =K35/SUM(K35:K36) -> 0.55555556
I39: Reading Comprehension | J39: No. Of Ques | K39: =countif($K$5:$K$27, "Reading Comprehension") -> 14
I40: Reading Comprehension | J40: Total Time | K40: =SUMIFS($I$5:$I$27,$K$5:$K$27,"Reading Comprehension") -> 23.92
J41: Time per Ques | K41: =K40/K39 -> 1.7085714
J43: No. of Passages | K43: 3
J44: P1 | K44: =SUM(I7:I9) -> 6.62 | L44: mins
J45: P2 | K45: =SUM(I12:I14) -> 6.68 | L45: mins
J46: P3 | K46: =SUM(I17:I19) -> 8.7 | L46: mins
J47: P4 | K47: =SUM(I22:I25) -> 6.82 | L47: mins
J48: Avg per passage | K48: =AVERAGE(K44:K47) -> 7.205 | L48: mins
J50: Correct | K50: =countifs($K$5:$K$27,I39,$J$5:$J$27,J50) -> 10
J51: Incorrect | K51: =countifs($K$5:$K$27,I40,$J$5:$J$27,J51) -> 4
J52: Accuracy | K52: =K50/SUM(K50:K51) -> 0.71428571
F76: 1 | G76: 3.16 | H76: Correct | I76: Critical Reasoning | J76: Plan/Construct
F77: 2 | G77: 2.88 | H77: Correct | I77: Critical Reasoning | J77: Plan/Construct
F78: 3 | G78: 3.8 | H78: Correct | I78: Reading Comprehension | J78: Identify Stated Idea
F79: 4 | G79: 1.38 | H79: Correct | I79: Reading Comprehension | J79: Identify Inferred Idea
F80: 5 | G80: 1.44 | H80: Correct | I80: Reading Comprehension | J80: Identify Stated Idea
F81: 6 | G81: 1.97 | H81: Incorrect | I81: Reading Comprehension | J81: Identify Inferred Idea
F82: 7 | G82: 2.62 | H82: Correct | I82: Critical Reasoning | J82: Analysis/Critique
F83: 8 | G83: 2 | H83: Correct | I83: Critical Reasoning | J83: Plan/Construct
F84: 9 | G84: 2.38 | H84: Correct | I84: Reading Comprehension | J84: Identify Inferred Idea
F85: 10 | G85: 2.3 | H85: Incorrect | I85: Reading Comprehension | J85: Identify Inferred Idea
F86: 11 | G86: 0.76 | H86: Correct | I86: Reading Comprehension | J86: Identify Stated Idea
F87: 12 | G87: 0.63 | H87: Correct | I87: Reading Comprehension | J87: Identify Stated Idea
... F98: 23 | G98: 0.27 | H98: Incorrect | I98: Critical Reasoning | J98: Analysis/Critique

Sheet Test #6 - May 19, 2024 - 575
A1: Practice Exam #2 - Attempt 1
A3: QUANT - 84 (85%) | H3: VERBAL - 83 (86%) | N3: DATA INSIGHTS - 80 (86%)
A4: Qs | B4: Time (Min) | C4: Performance | D4: Content Domain | E4: Question Type | F4: Fundamental Skills | H4: Qs | I4: Time (Min) | J4: Performance | K4: Question Type | L4: Fundamental Skills | N4: Qs | O4: Time (Min) | P4: Performance | Q4: Content Domain | R4: Question Type
A5: 1 | B5: 5.15 | C5: Incorrect | D5: Algebra | E5: Pure Contexts | F5: Value/Order/Factors | H5: 1 | I5: 2.39 | J5: Correct | K5: Critical Reasoning | L5: Weaken | N5: 1 | O5: 5.32 | P5: Incorrect | Q5: Math Related | R5: Two-part analysis
A6: 2 | B6: 4.22 | C6: Correct | D6: Algebra | E6: Real Contexts | F6: Rates/Ratios/Percent | H6: 2 | I6: 2.88 | J6: Incorrect | K6: Critical Reasoning | L6: Weaken | N6: 2 | O6: 1.78 | P6: Correct | Q6: Math Related | R6: Data Sufficiency
A7: 3 | B7: 2.9 | C7: Correct | D7: Arithmetic | E7: Real Contexts | F7: Value/Order/Factors | H7: 3 | I7: 2.5 | J7: Correct | K7: Reading Comprehension | L7: Identify Inferred Idea | N7: 3 | O7: 1.16 | P7: Correct | Q7: Non-Math Related | R7: Graphs and Tables
A8: 4 | B8: 0.95 | C8: Correct | D8: Arithmetic | E8: Pure Contexts | F8: Equal/Unequal/ALG | H8: 4 | I8: 2 | J8: Correct | K8: Reading Comprehension | L8: Identify Stated Idea | N8: 4 | O8: 5.34 | P8: Correct | Q8: Math Related | R8: Multi-source reasoning
A9: 5 | B9: 3.63 | C9: Correct | D9: Arithmetic | E9: Pure Contexts | F9: Value/Order/Factors | H9: 5 | I9: 0.84 | J9: Correct | K9: Reading Comprehension | L9: Identify Inferred Idea | N9: 5 | O9: 3.43 | P9: Incorrect | Q9: Math Related | R9: Multi-source reasoning
A10: 6 | B10: 1.55 | C10: Correct | D10: Arithmetic | E10: Real Contexts | F10: Value/Order/Factors | H10: 6 | I10: 2.85 | J10: Correct | K10: Critical Reasoning | L10: Inference | N10: 6 | O10: 1.6 | P10: Correct | Q10: Math Related | R10: Multi-source reasoning
A11: 7 | B11: 3.08 | C11: Correct | D11: Arithmetic | E11: Pure Contexts | F11: Counting/Sets/Series/Prob/Stats | H11: 7 | I11: 2.52 | J11: Incorrect | K11: Critical Reasoning | L11: Weaken | N11: 7 | O11: 3.15 | P11: Correct | Q11: Math Related | R11: Data Sufficiency
A12: 8 | B12: 1.34 | C12: Correct | D12: Arithmetic | E12: Real Contexts | F12: Rates/Ratios/Percent | H12: 8 | I12: 4.56 | J12: Incorrect | K12: Reading Comprehension | L12: Identify Inferred Idea | N12: 8 | O12: 3.45 | P12: Incorrect | Q12: Math Related | R12: Data Sufficiency
A13: 9 | B13: 4.05 | C13: Correct | D13: Algebra | E13: Pure Contexts | F13: Value/Order/Factors | H13: 9 | I13: 1.11 | J13: Correct | K13: Reading Comprehension | L13: Identify Stated Idea | N13: 9 | O13: 2.92 | P13: Correct | Q13: Math Related | R13: Graphs and Tables
A14: 10 | B14: 1.3 | C14: Correct | D14: Algebra | E14: Real Contexts | F14: Equal/Unequal/ALG | H14: 10 | I14: 2.58 | J14: Correct | K14: Reading Comprehension | L14: Identify Inferred Idea | N14: 10 | O14: 3.62 | P14: Correct | Q14: Math Related | R14: Data Sufficiency
A15: 11 | B15: 0.74 | C15: Incorrect | D15: Arithmetic | E15: Pure Contexts | F15: Value/Order/Factors | H15: 11 | I15: 4.04 | J15: Correct | K15: Critical Reasoning | L15: Strengthen | N15: 11 | O15: 2.84 | P15: Incorrect | Q15: Math Related | R15: Two-part analysis
A16: 12 | B16: 2.01 | C16: Correct | D16: Algebra | E16: Pure Contexts | F16: Equal/Unequal/ALG | H16: 12 | I16: 2.03 | J16: Incorrect | K16: Critical Reasoning | L16: Complete the passage | N16: 12 | O16: 2.12 | P16: Correct | Q16: Math Related | R16: Data Sufficiency
... A24: 20 | B24: 1.36 | C24: Incorrect | D24: Algebra | E24: Real Contexts | F24: Rates/Ratios/Percent | H24: 20 | I24: 1.34 | J24: Incorrect | K24: Reading Comprehension | L24: Identify Inferred Idea | N24: 20 | O24: 0.04 | P24: Incorrect | Q24: Non-Math Related | R24: Graphs and Tables
A25: 21 | B25: 0.26 | C25: Incorrect | D25: Arithmetic | E25: Pure Contexts | F25: Value/Order/Factors | H25: 21 | I25: 1.18 | J25: Correct | K25: Reading Comprehension | L25: Identify Inferred Idea | O25: =AVERAGE(O5:O24) -> 2.25
B26: =AVERAGE(B5:B25) -> 2.1404762 | H26: 22 | I26: 0.57 | J26: Correct | K26: Critical Reasoning | L26: Inference
H27: 23 | I27: 0.32 | J27: Correct | K27: Critical Reasoning | L27: Weaken | P27: Total Time | Q27: =SUM(O5:O24) -> 45
C28: Total Time: | D28: =SUM(B5:B25) -> 44.95 | I28: =AVERAGE(I5:I27) -> 1.9530435 | P28: Top 3 Average | Q28: {=AVERAGE(SORTN($O$5:$O$24,3,0,1,FALSE))} -> 4.76
C29: Top 3 Average | D29: {=AVERAGE(SORTN($B$5:$B$25,3,0,1,FALSE))} -> 4.4733333 | P29: Bottom 3 Average | Q29: {=AVERAGE(SORTN($O$5:$O$24,3,0,1,True))} -> 0.076666667
C30: Bottom 3 Average | D30: {=AVERAGE(SORTN($B$5:$B$25,3,0,1,True))} -> 0.6 | J30: Total Time | K30: =SUM(I5:I27) -> 44.92
P31: Type | Q31: # of Qs | R31: Avg Time (Mins) | S31: Correct | T31: Incorrect | U31: Accuracy
C32: Correct | D32: =COUNTIF($C$5:$C$25,C32) -> 15 | I32: Critical Reasoning | J32: No. Of Ques | K32: =countif($K$5:$K$27, "Critical Reasoning") -> 10 | P32: Data Sufficiency | Q32: =countif($R$5:$R$24,P32) -> 6 | R32: =AVERAGEIF($R$5:$R$24,P32,$O$5:$O$24) -> 2.3733333 | S32: =COUNTIFS(R$5:R$24,P32,$P$5:$P$24,$S$31) -> 4 | T32: =COUNTIFS($R$5:$R$24,P32,$P$5:$P$24,$T$31) -> 2 | U32: =S32/Q32 -> 0.66666667
C33: Incorrect | D33: =COUNTIF($C$5:$C$25,C33) -> 6 | I33: Critical Reasoning | J33: Total Time | K33: =SUMIFS($I$5:$I$27,$K$5:$K$27,"Critical Reasoning") -> 20.87 | P33: Two-part analysis | Q33: =countif($R$5:$R$24,P33) -> 5 | R33: =AVERAGEIF($R$5:$R$24,P33,$O$5:$O$24) -> 2.49 | S33: =COUNTIFS(R$5:R$24,P33,$P$5:$P$24,$S$31) -> 2 | T33: =COUNTIFS($R$5:$R$24,P33,$P$5:$P$24,$T$31) -> 3 | U33: =S33/Q33 -> 0.4
C34: Accuracy | D34: =D32/SUM(D32:D33) -> 0.71428571 | J34: Time per Ques | K34: =K33/K32 -> 2.087 | P34: Graphs and Tables | Q34: =countif($R$5:$R$24,P34) -> 6 | R34: =AVERAGEIF($R$5:$R$24,P34,$O$5:$O$24) -> 1.3233333 | S34: =COUNTIFS(R$5:R$24,P34,$P$5:$P$24,$S$31) -> 3 | T34: =COUNTIFS($R$5:$R$24,P34,$P$5:$P$24,$T$31) -> 3 | U34: =S34/Q34 -> 0.5
J35: Correct | K35: =countifs($K$5:$K$27,I32,$J$5:$J$27,J35) -> 6 | P35: Multi-source reasoning | Q35: =countif($R$5:$R$24,P35) -> 3 | R35: =AVERAGEIF($R$5:$R$24,P35,$O$5:$O$24) -> 3.4566667 | S35: =COUNTIFS(R$5:R$24,P35,$P$5:$P$24,$S$31) -> 2 | T35: =COUNTIFS($R$5:$R$24,P35,$P$5:$P$24,$T$31) -> 1 | U35: =S35/Q35 -> 0.66666667
J36: Incorrect | K36: =countifs($K$5:$K$27,I33,$J$5:$J$27,J36) -> 4 | Q36: =SUM(Q32:Q35) -> 20 | S36: =SUM(S32:S35) -> 11 | T36: =SUM(T32:T35) -> 9 | U36: =S36/Q36 -> 0.55
J37: Accuracy | K37: =K35/SUM(K35:K36) -> 0.6
I39: Reading Comprehension | J39: No. Of Ques | K39: =countif($K$5:$K$27, "Reading Comprehension") -> 13
I40: Reading Comprehension | J40: Total Time | K40: =SUMIFS($I$5:$I$27,$K$5:$K$27,"Reading Comprehension") -> 24.05
J41: Time per Ques | K41: =K40/K39 -> 1.85
J43: No. of Passages | K43: 3
J44: P1 | K44: =SUM(I7:I9) -> 5.34 | L44: mins
J45: P2 | K45: =SUM(I12:I14) -> 8.25 | L45: mins
J46: P3 | K46: =SUM(I17:I19) -> 4.25 | L46: mins
J47: P4 | K47: =SUM(I22:I25) -> 6.21 | L47: mins
J48: Avg per passage | K48: =AVERAGE(K44:K47) -> 6.0125 | L48: mins
J50: Correct | K50: =countifs($K$5:$K$27,I39,$J$5:$J$27,J50) -> 10
J51: Incorrect | K51: =countifs($K$5:$K$27,I40,$J$5:$J$27,J51) -> 3
J52: Accuracy | K52: =K50/SUM(K50:K51) -> 0.76923077

Sheet Test #7 - May 20, 2024 - 585
A1: Practice Exam #2 - Attempt 1
A3: QUANT - 84 (85%) | H3: VERBAL - 83 (86%) | N3: DATA INSIGHTS - 80 (86%)
A4: Qs | B4: Time (Min) | C4: Performance | D4: Content Domain | E4: Question Type | F4: Fundamental Skills | H4: Qs | I4: Time (Min) | J4: Performance | K4: Question Type | L4: Fundamental Skills | N4: Qs | O4: Time (Min) | P4: Performance | Q4: Content Domain | R4: Question Type
A5: 1 | B5: 2.39 | C5: Correct | D5: Arithmetic | E5: Real Contexts | F5: Rates/Ratios/Percent | H5: 1 | I5: 0.96 | J5: Correct | K5: Critical Reasoning | L5: Complete Passage | N5: 1 | O5: 4.66 | P5: Incorrect | Q5: Math Related | R5: Data Sufficiency
A6: 2 | B6: 4.22 | C6: Incorrect | D6: Arithmetic | E6: Pure Contexts | F6: Value/Order/Factors | H6: 2 | I6: 2.65 | J6: Incorrect | K6: Critical Reasoning | L6: Strenghten | N6: 2 | O6: 2.23 | P6: Correct | Q6: Math Related | R6: Graphs and Tables
A7: 3 | B7: 4.26 | C7: Incorrect | D7: Algebra | E7: Real Contexts | F7: Rates/Ratios/Percent | H7: 3 | I7: 3.5 | J7: Correct | K7: Reading Comprehension | L7: Identify Inferred Idea | N7: 3 | O7: 1.45 | P7: Correct | Q7: Non-Math Related | R7: Graphs and Tables
A8: 4 | B8: 4.36 | C8: Correct | D8: Arithmetic | E8: Real Contexts | F8: Counting/Sets/Series/Prob/Stats | H8: 4 | I8: 1 | J8: Correct | K8: Reading Comprehension | L8: Identify Stated Idea | N8: 4 | O8: 2.63 | P8: Correct | Q8: Math Related | R8: Data Sufficiency
A9: 5 | B9: 1.31 | C9: Correct | D9: Arithmetic | E9: Real Contexts | F9: Rates/Ratios/Percent | H9: 5 | I9: 1.14 | J9: Correct | K9: Reading Comprehension | L9: Identify Inferred Idea | N9: 5 | O9: 2.97 | P9: Correct | Q9: Math Related | R9: Multi-source reasoning
A10: 6 | B10: 0.99 | C10: Correct | D10: Arithmetic | E10: Pure Contexts | F10: Equal/Unequal/ALG | H10: 6 | I10: 2.76 | J10: Correct | K10: Critical Reasoning | L10: Weaken | N10: 6 | O10: 2.63 | P10: Incorrect | Q10: Math Related | R10: Multi-source reasoning
A11: 7 | B11: 2.6 | C11: Correct | D11: Arithmetic | E11: Pure Contexts | F11: Value/Order/Factors | H11: 7 | I11: 4.3 | J11: Incorrect | K11: Critical Reasoning | L11: Weaken | N11: 7 | O11: 2.83 | P11: Incorrect | Q11: Math Related | R11: Multi-source reasoning
A12: 8 | B12: 5.71 | C12: Incorrect | D12: Algebra | E12: Real Contexts | F12: Rates/Ratios/Percent | H12: 8 | I12: 2.34 | J12: Correct | K12: Reading Comprehension | L12: Identify Inferred Idea | N12: 8 | O12: 4.76 | P12: Correct | Q12: Non-Math Related | R12: Two-part analysis
A13: 9 | B13: 1.49 | C13: Correct | D13: Arithmetic | E13: Real Contexts | F13: Rates/Ratios/Percent | H13: 9 | I13: 0.84 | J13: Correct | K13: Reading Comprehension | L13: Identify Inferred Idea | N13: 9 | O13: 2.3 | P13: Correct | Q13: Non-Math Related | R13: Graphs and Tables
A14: 10 | B14: 1.01 | C14: Correct | D14: Arithmetic | E14: Real Contexts | F14: Value/Order/Factors | H14: 10 | I14: 0.76 | J14: Correct | K14: Reading Comprehension | L14: Identify Stated Idea | N14: 10 | O14: 2.26 | P14: Correct | Q14: Math Related | R14: Data Sufficiency
A15: 11 | B15: 4.59 | C15: Incorrect | D15: Algebra | E15: Real Contexts | F15: Equal/Unequal/ALG | H15: 11 | I15: 1.26 | J15: Correct | K15: Critical Reasoning | L15: Weaken | N15: 11 | O15: 2.32 | P15: Correct | Q15: Math Related | R15: Two-part analysis
A16: 12 | B16: 1.45 | C16: Correct | D16: Algebra | E16: Pure Contexts | F16: Equal/Unequal/ALG | H16: 12 | I16: 1.77 | J16: Correct | K16: Critical Reasoning | L16: Complete Passage | N16: 12 | O16: 2.63 | P16: Correct | Q16: Math Related | R16: Graphs and Tables
... A24: 20 | B24: 0.32 | C24: Incorrect | D24: Arithmetic | E24: Pure Contexts | F24: Value/Order/Factors | H24: 20 | I24: 0.42 | J24: Correct | K24: Reading Comprehension | L24: Identify Inferred Idea | N24: 20 | O24: 0.56 | P24: Correct | Q24: Math Related | R24: Data Sufficiency
A25: 21 | B25: 0.26 | C25: Correct | D25: Algebra | E25: Pure Contexts | F25: Value/Order/Factors | H25: 21 | I25: 1.06 | J25: Correct | K25: Reading Comprehension | L25: Identify Stated Idea | O25: =AVERAGE(O5:O24) -> 2.2465
B26: =AVERAGE(B5:B25) -> 2.1395238 | H26: 22 | I26: 1.75 | J26: Incorrect | K26: Critical Reasoning | L26: Must be true
H27: 23 | I27: 0.99 | J27: Incorrect | K27: Critical Reasoning | L27: Weaken | P27: Total Time | Q27: =SUM(O5:O24) -> 44.93
C28: Total Time: | D28: =SUM(B5:B25) -> 44.93 | I28: =AVERAGE(I5:I27) -> 1.953913 | P28: Top 3 Average | Q28: {=AVERAGE(SORTN($O$5:$O$24,3,0,1,FALSE))} -> 4.13
C29: Top 3 Average | D29: {=AVERAGE(SORTN($B$5:$B$25,3,0,1,FALSE))} -> 4.8866667 | P29: Bottom 3 Average | Q29: {=AVERAGE(SORTN($O$5:$O$24,3,0,1,True))} -> 0.49666667
C30: Bottom 3 Average | D30: {=AVERAGE(SORTN($B$5:$B$25,3,0,1,True))} -> 0.26333333 | J30: Total Time | K30: =SUM(I5:I27) -> 44.94
P31: Type | Q31: # of Qs | R31: Avg Time (Mins) | S31: Correct | T31: Incorrect | U31: Accuracy
C32: Correct | D32: =COUNTIF($C$5:$C$25,C32) -> 12 | I32: Critical Reasoning | J32: No. Of Ques | K32: =countif($K$5:$K$27, "Critical Reasoning") -> 10 | P32: Data Sufficiency | Q32: =countif($R$5:$R$24,P32) -> 7 | R32: =AVERAGEIF($R$5:$R$24,P32,$O$5:$O$24) -> 2.0957143 | S32: =COUNTIFS(R$5:R$24,P32,$P$5:$P$24,$S$31) -> 5 | T32: =COUNTIFS($R$5:$R$24,P32,$P$5:$P$24,$T$31) -> 2 | U32: =S32/Q32 -> 0.71428571
C33: Incorrect | D33: =COUNTIF($C$5:$C$25,C33) -> 9 | I33: Critical Reasoning | J33: Total Time | K33: =SUMIFS($I$5:$I$27,$K$5:$K$27,"Critical Reasoning") -> 20.33 | P33: Two-part analysis | Q33: =countif($R$5:$R$24,P33) -> 4 | R33: =AVERAGEIF($R$5:$R$24,P33,$O$5:$O$24) -> 2.4125 | S33: =COUNTIFS(R$5:R$24,P33,$P$5:$P$24,$S$31) -> 2 | T33: =COUNTIFS($R$5:$R$24,P33,$P$5:$P$24,$T$31) -> 2 | U33: =S33/Q33 -> 0.5
C34: Accuracy | D34: =D32/SUM(D32:D33) -> 0.57142857 | J34: Time per Ques | K34: =K33/K32 -> 2.033 | P34: Graphs and Tables | Q34: =countif($R$5:$R$24,P34) -> 6 | R34: =AVERAGEIF($R$5:$R$24,P34,$O$5:$O$24) -> 2.03 | S34: =COUNTIFS(R$5:R$24,P34,$P$5:$P$24,$S$31) -> 5 | T34: =COUNTIFS($R$5:$R$24,P34,$P$5:$P$24,$T$31) -> 1 | U34: =S34/Q34 -> 0.83333333
J35: Correct | K35: =countifs($K$5:$K$27,I32,$J$5:$J$27,J35) -> 5 | P35: Multi-source reasoning | Q35: =countif($R$5:$R$24,P35) -> 3 | R35: =AVERAGEIF($R$5:$R$24,P35,$O$5:$O$24) -> 2.81 | S35: =COUNTIFS(R$5:R$24,P35,$P$5:$P$24,$S$31) -> 1 | T35: =COUNTIFS($R$5:$R$24,P35,$P$5:$P$24,$T$31) -> 2 | U35: =S35/Q35 -> 0.33333333
J36: Incorrect | K36: =countifs($K$5:$K$27,I33,$J$5:$J$27,J36) -> 5 | Q36: =SUM(Q32:Q35) -> 20 | S36: =SUM(S32:S35) -> 13 | T36: =SUM(T32:T35) -> 7 | U36: =S36/Q36 -> 0.65
J37: Accuracy | K37: =K35/SUM(K35:K36) -> 0.5
I39: Reading Comprehension | J39: No. Of Ques | K39: =countif($K$5:$K$27, "Reading Comprehension") -> 13
I40: Reading Comprehension | J40: Total Time | K40: =SUMIFS($I$5:$I$27,$K$5:$K$27,"Reading Comprehension") -> 24.61
J41: Time per Ques | K41: =K40/K39 -> 1.8930769
J43: No. of Passages | K43: 3
J44: P1 | K44: =SUM(I7:I9) -> 5.64 | L44: mins
J45: P2 | K45: =SUM(I12:I14) -> 3.94 | L45: mins
J46: P3 | K46: =SUM(I17:I19) -> 6.17 | L46: mins
J47: P4 | K47: =SUM(I22:I25) -> 8.86 | L47: mins
J48: Avg per passage | K48: =AVERAGE(K44:K47) -> 6.1525 | L48: mins
J50: Correct | K50: =countifs($K$5:$K$27,I39,$J$5:$J$27,J50) -> 10
J51: Incorrect | K51: =countifs($K$5:$K$27,I40,$J$5:$J$27,J51) -> 3
J52: Accuracy | K52: =K50/SUM(K50:K51) -> 0.76923077

Sheet Test #8 - May 31, 2024 - 615
A1: Practice Exam #2 - Attempt 1
A3: QUANT - 84 (85%) | H3: VERBAL - 83 (86%) | N3: DATA INSIGHTS - 80 (86%)
A4: Qs | B4: Time (Min) | C4: Performance | D4: Content Domain | E4: Question Type | F4: Fundamental Skills | H4: Qs | I4: Time (Min) | J4: Performance | K4: Question Type | L4: Fundamental Skills | N4: Qs | O4: Time (Min) | P4: Performance | Q4: Content Domain | R4: Question Type
A5: 1 | B5: 5.37 | C5: Incorrect | D5: Algebra | E5: Real Contexts | F5: Rates/Ratios/Percent | H5: 1 | I5: 1.98 | J5: Correct | K5: Critical Reasoning | L5: Plan/Construct | N5: 1 | O5: 2.67 | P5: Correct | Q5: Math Related | R5: Graphs and Tables
A6: 2 | B6: 0.53 | C6: Correct | D6: Arithmetic | E6: Real Contexts | F6: Rates/Ratios/Percent | H6: 2 | I6: 2.81 | J6: Incorrect | K6: Critical Reasoning | L6: Plan/Construct | N6: 2 | O6: 4.96 | P6: Correct | Q6: Math Related | R6: Graphs and Tables
A7: 3 | B7: 0.82 | C7: Correct | D7: Arithmetic | E7: Pure Contexts | F7: Value/Order/Factors | H7: 3 | I7: 3.87 | J7: Correct | K7: Reading Comprehension | L7: Identify Stated Idea | N7: 3 | O7: 4.59 | P7: Incorrect | Q7: Math Related | R7: Two-part analysis
A8: 4 | B8: 2.98 | C8: Correct | D8: Arithmetic | E8: Pure Contexts | F8: Counting/Sets/Series/Prob/Stats | H8: 4 | I8: 2.17 | J8: Correct | K8: Reading Comprehension | L8: Identify Inferred Idea | N8: 4 | O8: 4.06 | P8: Correct | Q8: Math Related | R8: Data Sufficiency
A9: 5 | B9: 2.07 | C9: Correct | D9: Algebra | E9: Real Contexts | F9: Equal/Unequal/ALG | H9: 5 | I9: 0.99 | J9: Correct | K9: Reading Comprehension | L9: Identify Inferred Idea | N9: 5 | O9: 4.06 | P9: Incorrect | Q9: Non-Math Related | R9: Multi-source reasoning
A10: 6 | B10: 0.94 | C10: Correct | D10: Algebra | E10: Pure Contexts | F10: Equal/Unequal/ALG | H10: 6 | I10: 1.45 | J10: Incorrect | K10: Reading Comprehension | L10: Identify Stated Idea | N10: 6 | O10: 0.81 | P10: Correct | Q10: Non-Math Related | R10: Multi-source reasoning
A11: 7 | B11: 4.4 | C11: Correct | D11: Arithmetic | E11: Real Contexts | F11: Value/Order/Factors | H11: 7 | I11: 3.88 | J11: Correct | K11: Critical Reasoning | L11: Analysis/Critique | N11: 7 | O11: 0.28 | P11: Correct | Q11: Non-Math Related | R11: Multi-source reasoning
A12: 8 | B12: 2.01 | C12: Correct | D12: Arithmetic | E12: Real Contexts | F12: Value/Order/Factors | H12: 8 | I12: 2.63 | J12: Incorrect | K12: Critical Reasoning | L12: Plan/Construct | N12: 8 | O12: 2.01 | P12: Correct | Q12: Math Related | R12: Graphs and Tables
A13: 9 | B13: 1.88 | C13: Correct | D13: Algebra | E13: Real Contexts | F13: Equal/Unequal/ALG | H13: 9 | I13: 5.08 | J13: Correct | K13: Reading Comprehension | L13: Identify Inferred Idea | N13: 9 | O13: 2.96 | P13: Incorrect | Q13: Non-Math Related | R13: Two-part analysis
A14: 10 | B14: 1.7 | C14: Correct | D14: Arithmetic | E14: Pure Contexts | F14: Value/Order/Factors | H14: 10 | I14: 0.97 | J14: Correct | K14: Reading Comprehension | L14: Identify Stated Idea | N14: 10 | O14: 0.89 | P14: Incorrect | Q14: Non-Math Related | R14: Multi-source reasoning
A15: 11 | B15: 6.61 | C15: Incorrect | D15: Arithmetic | E15: Real Contexts | F15: Value/Order/Factors | H15: 11 | I15: 1.35 | J15: Correct | K15: Reading Comprehension | L15: Identify Inferred Idea | N15: 11 | O15: 1.38 | P15: Correct | Q15: Non-Math Related | R15: Multi-source reasoning
A16: 12 | B16: 1.79 | C16: Correct | D16: Arithmetic | E16: Pure Contexts | F16: Rates/Ratios/Percent | H16: 12 | I16: 0.65 | J16: Correct | K16: Reading Comprehension | L16: Identify Stated Idea | N16: 12 | O16: 0.65 | P16: Incorrect | Q16: Non-Math Related | R16: Multi-source reasoning
... A24: 20 | B24: 1.01 | C24: Correct | D24: Arithmetic | E24: Pure Contexts | F24: Value/Order/Factors | H24: 20 | I24: 2.43 | J24: Incorrect | K24: Reading Comprehension | L24: Identify Stated Idea | N24: 20 | O24: 0.12 | P24: Correct | Q24: Non-Math Related | R24: Graphs and Tables
A25: 21 | B25: 1.04 | C25: Correct | D25: Algebra | E25: Real Contexts | F25: Rates/Ratios/Percent | H25: 21 | I25: 0.87 | J25: Correct | K25: Reading Comprehension | L25: Identify Inferred Idea | O25: =AVERAGE(O5:O24) -> 2.2465
B26: =AVERAGE(B5:B25) -> 2.1357143 | H26: 22 | I26: 0.53 | J26: Correct | K26: Reading Comprehension | L26: Identify Inferred Idea
H27: 23 | I27: 0.25 | J27: Correct | K27: Critical Reasoning | L27: Analysis/Critique | P27: Total Time | Q27: =SUM(O5:O24) -> 44.93
C28: Total Time: | D28: =SUM(B5:B25) -> 44.85 | I28: =AVERAGE(I5:I27) -> 1.956087 | P28: Top 3 Average | Q28: {=AVERAGE(SORTN($O$5:$O$24,3,0,1,FALSE))} -> 4.6033333
C29: Top 3 Average | D29: {=AVERAGE(SORTN($B$5:$B$25,3,0,1,FALSE))} -> 5.46 | P29: Bottom 3 Average | Q29: {=AVERAGE(SORTN($O$5:$O$24,3,0,1,True))} -> 0.35
C30: Bottom 3 Average | D30: {=AVERAGE(SORTN($B$5:$B$25,3,0,1,True))} -> 0.68333333 | J30: Total Time | K30: =SUM(I5:I27) -> 44.99
P31: Type | Q31: # of Qs | R31: Avg Time (Mins) | S31: Correct | T31: Incorrect | U31: Accuracy
C32: Correct | D32: =COUNTIF($C$5:$C$25,C32) -> 17 | I32: Critical Reasoning | J32: No. Of Ques | K32: =countif($K$5:$K$27, "Critical Reasoning") -> 9 | P32: Data Sufficiency | Q32: =countif($R$5:$R$24,P32) -> 5 | R32: =AVERAGEIF($R$5:$R$24,P32,$O$5:$O$24) -> 2.702 | S32: =COUNTIFS(R$5:R$24,P32,$P$5:$P$24,$S$31) -> 2 | T32: =COUNTIFS($R$5:$R$24,P32,$P$5:$P$24,$T$31) -> 3 | U32: =S32/Q32 -> 0.4
C33: Incorrect | D33: =COUNTIF($C$5:$C$25,C33) -> 4 | I33: Critical Reasoning | J33: Total Time | K33: =SUMIFS($I$5:$I$27,$K$5:$K$27,"Critical Reasoning") -> 21.63 | P33: Two-part analysis | Q33: =countif($R$5:$R$24,P33) -> 4 | R33: =AVERAGEIF($R$5:$R$24,P33,$O$5:$O$24) -> 2.715 | S33: =COUNTIFS(R$5:R$24,P33,$P$5:$P$24,$S$31) -> 0 | T33: =COUNTIFS($R$5:$R$24,P33,$P$5:$P$24,$T$31) -> 4 | U33: =S33/Q33 -> 0
C34: Accuracy | D34: =D32/SUM(D32:D33) -> 0.80952381 | J34: Time per Ques | K34: =K33/K32 -> 2.4033333 | P34: Graphs and Tables | Q34: =countif($R$5:$R$24,P34) -> 5 | R34: =AVERAGEIF($R$5:$R$24,P34,$O$5:$O$24) -> 2.498 | S34: =COUNTIFS(R$5:R$24,P34,$P$5:$P$24,$S$31) -> 5 | T34: =COUNTIFS($R$5:$R$24,P34,$P$5:$P$24,$T$31) -> 0 | U34: =S34/Q34 -> 1
J35: Correct | K35: =countifs($K$5:$K$27,I32,$J$5:$J$27,J35) -> 6 | P35: Multi-source reasoning | Q35: =countif($R$5:$R$24,P35) -> 6 | R35: =AVERAGEIF($R$5:$R$24,P35,$O$5:$O$24) -> 1.345 | S35: =COUNTIFS(R$5:R$24,P35,$P$5:$P$24,$S$31) -> 3 | T35: =COUNTIFS($R$5:$R$24,P35,$P$5:$P$24,$T$31) -> 3 | U35: =S35/Q35 -> 0.5
J36: Incorrect | K36: =countifs($K$5:$K$27,I33,$J$5:$J$27,J36) -> 3 | Q36: =SUM(Q32:Q35) -> 20 | S36: =SUM(S32:S35) -> 10 | T36: =SUM(T32:T35) -> 10 | U36: =S36/Q36 -> 0.5
J37: Accuracy | K37: =K35/SUM(K35:K36) -> 0.66666667
I39: Reading Comprehension | J39: No. Of Ques | K39: =countif($K$5:$K$27, "Reading Comprehension") -> 14
I40: Reading Comprehension | J40: Total Time | K40: =SUMIFS($I$5:$I$27,$K$5:$K$27,"Reading Comprehension") -> 23.36
J41: Time per Ques | K41: =K40/K39 -> 1.6685714
J43: No. of Passages | K43: 4
J44: P1 | K44: =SUM(I7:I10) -> 8.48 | L44: mins
J45: P2 | K45: =SUM(I13:I16) -> 8.05 | L45: mins
J46: P3 | K46: =SUM(I19:I21) -> 3 | L46: mins
J47: P4 | K47: =SUM(I24:I26) -> 3.83 | L47: mins
J48: Avg per passage | K48: =AVERAGE(K44:K47) -> 5.84 | L48: mins
J50: Correct | K50: =countifs($K$5:$K$27,I39,$J$5:$J$27,J50) -> 12
J51: Incorrect | K51: =countifs($K$5:$K$27,I40,$J$5:$J$27,J51) -> 2
J52: Accuracy | K52: =K50/SUM(K50:K51) -> 0.85714286

Sheet Test #9 - June 01, 2024 - 645
A1: Practice Exam #2 - Attempt 1
A3: QUANT - 84 (85%) | H3: VERBAL - 83 (86%) | N3: DATA INSIGHTS - 80 (86%)
A4: Qs | B4: Time (Min) | C4: Performance | D4: Content Domain | E4: Question Type | F4: Fundamental Skills | H4: Qs | I4: Time (Min) | J4: Performance | K4: Question Type | L4: Fundamental Skills | N4: Qs | O4: Time (Min) | P4: Performance | Q4: Content Domain | R4: Question Type
A5: 1 | B5: 1.83 | C5: Correct | D5: Algebra | E5: Pure Contexts | F5: Value/Order/Factors | H5: 1 | I5: 2.12 | J5: Correct | K5: Critical Reasoning | L5: Plan/Construct | N5: 1 | O5: 2.1 | P5: Correct | Q5: Math Related | R5: Graphs and Tables
A6: 2 | B6: 1.4 | C6: Correct | D6: Algebra | E6: Real Contexts | F6: Counting/Sets/Series/Prob/Stats | H6: 2 | I6: 2.13 | J6: Incorrect | K6: Critical Reasoning | L6: Plan/Construct | N6: 2 | O6: 1.34 | P6: Correct | Q6: Math Related | R6: Graphs and Tables
A7: 3 | B7: 1.55 | C7: Correct | D7: Arithmetic | E7: Real Contexts | F7: Rates/Ratios/Percent | H7: 3 | I7: 4.73 | J7: Incorrect | K7: Reading Comprehension | L7: Identify Stated Idea | N7: 3 | O7: 4.47 | P7: Correct | Q7: Math Related | R7: Two-part analysis
A8: 4 | B8: 4.33 | C8: Correct | D8: Arithmetic | E8: Pure Contexts | F8: Value/Order/Factors | H8: 4 | I8: 1.24 | J8: Correct | K8: Reading Comprehension | L8: Identify Inferred Idea | N8: 4 | O8: 2.99 | P8: Correct | Q8: Math Related | R8: Data Sufficiency
A9: 5 | B9: 0.8 | C9: Correct | D9: Arithmetic | E9: Pure Contexts | F9: Value/Order/Factors | H9: 5 | I9: 1.1 | J9: Correct | K9: Reading Comprehension | L9: Identify Stated Idea | N9: 5 | O9: 2.4 | P9: Correct | Q9: Non-Math Related | R9: Multi-source reasoning
A10: 6 | B10: 2.32 | C10: Correct | D10: Arithmetic | E10: Real Contexts | F10: Equal/Unequal/ALG | H10: 6 | I10: 1.82 | J10: Incorrect | K10: Reading Comprehension | L10: Identify Inferred Idea | N10: 6 | O10: 1.23 | P10: Incorrect | Q10: Non-Math Related | R10: Multi-source reasoning
A11: 7 | B11: 1.78 | C11: Incorrect | D11: Arithmetic | E11: Pure Contexts | F11: Counting/Sets/Series/Prob/Stats | H11: 7 | I11: 1.48 | J11: Correct | K11: Critical Reasoning | L11: Analysis/Critique | N11: 7 | O11: 0.78 | P11: Correct | Q11: Non-Math Related | R11: Multi-source reasoning
A12: 8 | B12: 2.63 | C12: Correct | D12: Arithmetic | E12: Real Contexts | F12: Rates/Ratios/Percent | H12: 8 | I12: 1.68 | J12: Correct | K12: Critical Reasoning | L12: Plan/Construct | N12: 8 | O12: 5.03 | P12: Incorrect | Q12: Math Related | R12: Graphs and Tables
A13: 9 | B13: 2.61 | C13: Correct | D13: Algebra | E13: Pure Contexts | F13: Value/Order/Factors | H13: 9 | I13: 3.61 | J13: Correct | K13: Reading Comprehension | L13: Identify Stated Idea | N13: 9 | O13: 2.79 | P13: Correct | Q13: Non-Math Related | R13: Two-part analysis
A14: 10 | B14: 2.84 | C14: Correct | D14: Algebra | E14: Real Contexts | F14: Equal/Unequal/ALG | H14: 10 | I14: 1.83 | J14: Correct | K14: Reading Comprehension | L14: Identify Inferred Idea | N14: 10 | O14: 1.33 | P14: Incorrect | Q14: Math Related | R14: Multi-source reasoning
A15: 11 | B15: 5.56 | C15: Incorrect | D15: Arithmetic | E15: Real Contexts | F15: Counting/Sets/Series/Prob/Stats | H15: 11 | I15: 1.77 | J15: Correct | K15: Reading Comprehension | L15: Identify Inferred Idea | N15: 11 | O15: 2.42 | P15: Correct | Q15: Non-Math Related | R15: Multi-source reasoning
A16: 12 | B16: 2.19 | C16: Correct | D16: Algebra | E16: Pure Contexts | F16: Equal/Unequal/ALG | H16: 12 | I16: 1.46 | J16: Correct | K16: Reading Comprehension | L16: Identify Stated Idea | N16: 12 | O16: 0.73 | P16: Correct | Q16: Non-Math Related | R16: Multi-source reasoning
... A24: 20 | B24: 3.06 | C24: Incorrect | D24: Algebra | E24: Real Contexts | F24: Rates/Ratios/Percent | H24: 20 | I24: 2.92 | J24: Correct | K24: Reading Comprehension | L24: Identify Stated Idea | N24: 20 | O24: 0.53 | P24: Incorrect | Q24: Non-Math Related | R24: Graphs and Tables
A25: 21 | B25: 0.58 | C25: Incorrect | D25: Arithmetic | E25: Pure Contexts | F25: Value/Order/Factors | H25: 21 | I25: 0.97 | J25: Incorrect | K25: Reading Comprehension | L25: Identify Inferred Idea | O25: =AVERAGE(O5:O24) -> 2.2475
B26: =AVERAGE(B5:B25) -> 2.14 | H26: 22 | I26: 1.89 | J26: Correct | K26: Reading Comprehension | L26: Identify Inferred Idea
H27: 23 | I27: 1.75 | J27: Incorrect | K27: Critical Reasoning | L27: Analysis/Critique | P27: Total Time | Q27: =SUM(O5:O24) -> 44.95
C28: Total Time: | D28: =SUM(B5:B25) -> 44.94 | I28: =AVERAGE(I5:I27) -> 1.9552174 | P28: Top 3 Average | Q28: {=AVERAGE(SORTN($O$5:$O$24,3,0,1,FALSE))} -> 4.3633333
C29: Top 3 Average | D29: {=AVERAGE(SORTN($B$5:$B$25,3,0,1,FALSE))} -> 4.3166667 | P29: Bottom 3 Average | Q29: {=AVERAGE(SORTN($O$5:$O$24,3,0,1,True))} -> 0.48666667
C30: Bottom 3 Average | D30: {=AVERAGE(SORTN($B$5:$B$25,3,0,1,True))} -> 0.65 | J30: Total Time | K30: =SUM(I5:I27) -> 44.97
P31: Type | Q31: # of Qs | R31: Avg Time (Mins) | S31: Correct | T31: Incorrect | U31: Accuracy
C32: Correct | D32: =COUNTIF($C$5:$C$25,C32) -> 15 | I32: Critical Reasoning | J32: No. Of Ques | K32: =countif($K$5:$K$27, "Critical Reasoning") -> 9 | P32: Data Sufficiency | Q32: =countif($R$5:$R$24,P32) -> 5 | R32: =AVERAGEIF($R$5:$R$24,P32,$O$5:$O$24) -> 2.786 | S32: =COUNTIFS(R$5:R$24,P32,$P$5:$P$24,$S$31) -> 3 | T32: =COUNTIFS($R$5:$R$24,P32,$P$5:$P$24,$T$31) -> 2 | U32: =S32/Q32 -> 0.6
C33: Incorrect | D33: =COUNTIF($C$5:$C$25,C33) -> 6 | I33: Critical Reasoning | J33: Total Time | K33: =SUMIFS($I$5:$I$27,$K$5:$K$27,"Critical Reasoning") -> 17.74 | P33: Two-part analysis | Q33: =countif($R$5:$R$24,P33) -> 4 | R33: =AVERAGEIF($R$5:$R$24,P33,$O$5:$O$24) -> 2.6225 | S33: =COUNTIFS(R$5:R$24,P33,$P$5:$P$24,$S$31) -> 2 | T33: =COUNTIFS($R$5:$R$24,P33,$P$5:$P$24,$T$31) -> 2 | U33: =S33/Q33 -> 0.5
C34: Accuracy | D34: =D32/SUM(D32:D33) -> 0.71428571 | J34: Time per Ques | K34: =K33/K32 -> 1.9711111 | P34: Graphs and Tables | Q34: =countif($R$5:$R$24,P34) -> 5 | R34: =AVERAGEIF($R$5:$R$24,P34,$O$5:$O$24) -> 2.328 | S34: =COUNTIFS(R$5:R$24,P34,$P$5:$P$24,$S$31) -> 3 | T34: =COUNTIFS($R$5:$R$24,P34,$P$5:$P$24,$T$31) -> 2 | U34: =S34/Q34 -> 0.6
J35: Correct | K35: =countifs($K$5:$K$27,I32,$J$5:$J$27,J35) -> 5 | P35: Multi-source reasoning | Q35: =countif($R$5:$R$24,P35) -> 6 | R35: =AVERAGEIF($R$5:$R$24,P35,$O$5:$O$24) -> 1.4816667 | S35: =COUNTIFS(R$5:R$24,P35,$P$5:$P$24,$S$31) -> 4 | T35: =COUNTIFS($R$5:$R$24,P35,$P$5:$P$24,$T$31) -> 2 | U35: =S35/Q35 -> 0.66666667
J36: Incorrect | K36: =countifs($K$5:$K$27,I33,$J$5:$J$27,J36) -> 4 | Q36: =SUM(Q32:Q35) -> 20 | S36: =SUM(S32:S35) -> 12 | T36: =SUM(T32:T35) -> 8 | U36: =S36/Q36 -> 0.6
J37: Accuracy | K37: =K35/SUM(K35:K36) -> 0.55555556
I39: Reading Comprehension | J39: No. Of Ques | K39: =countif($K$5:$K$27, "Reading Comprehension") -> 14
I40: Reading Comprehension | J40: Total Time | K40: =SUMIFS($I$5:$I$27,$K$5:$K$27,"Reading Comprehension") -> 27.23
J41: Time per Ques | K41: =K40/K39 -> 1.945
J43: No. of Passages | K43: 4
J44: P1 | K44: =SUM(I7:I9) -> 7.07 | L44: mins
J45: P2 | K45: =SUM(I13:I16) -> 8.67 | L45: mins
J46: P3 | K46: =SUM(I19:I21) -> 3.89 | L46: mins
J47: P4 | K47: =SUM(I24:I26) -> 5.78 | L47: mins
J48: Avg per passage | K48: =AVERAGE(K44:K47) -> 6.3525 | L48: mins
J50: Correct | K50: =countifs($K$5:$K$27,I39,$J$5:$J$27,J50) -> 10
J51: Incorrect | K51: =countifs($K$5:$K$27,I40,$J$5:$J$27,J51) -> 4
J52: Accuracy | K52: =K50/SUM(K50:K51) -> 0.71428571

Sheet Test #10 - July 13, 2024 - 625
A1: Practice Exam #2 - Attempt 1
A3: QUANT - 84 (85%) | H3: VERBAL - 83 (86%) | N3: DATA INSIGHTS - 80 (86%)
A4: Qs | B4: Time (Min) | C4: Performance | D4: Content Domain | E4: Question Type | F4: Fundamental Skills | H4: Qs | I4: Time (Min) | J4: Performance | K4: Question Type | L4: Fundamental Skills | N4: Qs | O4: Time (Min) | P4: Performance | Q4: Content Domain | R4: Question Type
A5: 1 | B5: 1.59 | C5: Correct | D5: Algebra | E5: Pure Contexts | F5: Equal/Unequal/ALG | H5: 1 | I5: 1.58 | J5: Correct | K5: Critical Reasoning | L5: Plan/Construct | N5: 1 | O5: 2.38 | P5: Correct | Q5: Math Related | R5: Data Sufficiency
A6: 2 | B6: 1.79 | C6: Correct | D6: Algebra | E6: Real Contexts | F6: Rates/Ratios/Percent | H6: 2 | I6: 2.43 | J6: Correct | K6: Critical Reasoning | L6: Plan/Construct | N6: 2 | O6: 2.19 | P6: Correct | Q6: Math Related | R6: Graphs and Tables
A7: 3 | B7: 3.53 | C7: Correct | D7: Arithmetic | E7: Real Contexts | F7: Rates/Ratios/Percent | H7: 3 | I7: 5.28 | J7: Correct | K7: Reading Comprehension | L7: Identify Stated Idea | N7: 3 | O7: 2.03 | P7: Incorrect | Q7: Non-Math Related | R7: Graphs and Tables
A8: 4 | B8: 0.66 | C8: Correct | D8: Arithmetic | E8: Pure Contexts | F8: Equal/Unequal/ALG | H8: 4 | I8: 1.74 | J8: Correct | K8: Reading Comprehension | L8: Identify Stated Idea | N8: 4 | O8: 4.27 | P8: Incorrect | Q8: Math Related | R8: Data Sufficiency
A9: 5 | B9: 2.67 | C9: Incorrect | D9: Arithmetic | E9: Pure Contexts | F9: Counting/Sets/Series/Prob/Stats | H9: 5 | I9: 0.43 | J9: Correct | K9: Reading Comprehension | L9: Identify Inferred Idea | N9: 5 | O9: 4.06 | P9: Correct | Q9: Math Related | R9: Multi-source reasoning
A10: 6 | B10: 7.5 | C10: Incorrect | D10: Arithmetic | E10: Real Contexts | F10: Rates/Ratios/Percent | H10: 6 | I10: 1.42 | J10: Correct | K10: Reading Comprehension | L10: Identify Inferred Idea | N10: 6 | O10: 1.57 | P10: Correct | Q10: Non-Math Related | R10: Multi-source reasoning
A11: 7 | B11: 2.66 | C11: Correct | D11: Arithmetic | E11: Pure Contexts | F11: Counting/Sets/Series/Prob/Stats | H11: 7 | I11: 1.72 | J11: Correct | K11: Critical Reasoning | L11: Analysis/Critique | N11: 7 | O11: 4.1 | P11: Correct | Q11: Math Related | R11: Multi-source reasoning
A12: 8 | B12: 5.78 | C12: Incorrect | D12: Arithmetic | E12: Real Contexts | F12: Rates/Ratios/Percent | H12: 8 | I12: 2.91 | J12: Correct | K12: Critical Reasoning | L12: Plan/Construct | N12: 8 | O12: 3.54 | P12: Correct | Q12: Non-Math Related | R12: Two-part analysis
A13: 9 | B13: 0.34 | C13: Correct | D13: Algebra | E13: Pure Contexts | F13: Equal/Unequal/ALG | H13: 9 | I13: 4.07 | J13: Correct | K13: Reading Comprehension | L13: Identify Stated Idea | N13: 9 | O13: 3.21 | P13: Correct | Q13: Non-Math Related | R13: Graphs and Tables
A14: 10 | B14: 1.7 | C14: Correct | D14: Algebra | E14: Real Contexts | F14: Equal/Unequal/ALG | H14: 10 | I14: 2.59 | J14: Correct | K14: Reading Comprehension | L14: Identify Inferred Idea | N14: 10 | O14: 3.99 | P14: Incorrect | Q14: Math Related | R14: Data Sufficiency
A15: 11 | B15: 0.37 | C15: Correct | D15: Arithmetic | E15: Pure Contexts | F15: Equal/Unequal/ALG | H15: 11 | I15: 0.97 | J15: Correct | K15: Reading Comprehension | L15: Identify Stated Idea | N15: 11 | O15: 5.22 | P15: Incorrect | Q15: Math Related | R15: Two-part analysis
A16: 12 | B16: 0.79 | C16: Correct | D16: Algebra | E16: Pure Contexts | F16: Equal/Unequal/ALG | H16: 12 | I16: 1.43 | J16: Correct | K16: Reading Comprehension | L16: Identify Inferred Idea | N16: 12 | O16: 1.57 | P16: Correct | Q16: Non-Math Related | R16: Graphs and Tables
... A24: 20 | B24: 0.19 | C24: Incorrect | D24: Algebra | E24: Real Contexts | F24: Rates/Ratios/Percent | H24: 20 | I24: 3.35 | J24: Incorrect | K24: Reading Comprehension | L24: Identify Inferred Idea | N24: 20 | O24: 0.06 | P24: Incorrect | Q24: Math Related | R24: Data Sufficiency
A25: 21 | B25: 0.27 | C25: Incorrect | D25: Arithmetic | E25: Pure Contexts | F25: Value/Order/Factors | H25: 21 | I25: 1.15 | J25: Correct | K25: Reading Comprehension | L25: Identify Inferred Idea | O25: =AVERAGE(O5:O24) -> 2.2495
B26: =AVERAGE(B5:B25) -> 2.1419048 | H26: 22 | I26: 0.27 | J26: Correct | K26: Reading Comprehension | L26: Identify Stated Idea
H27: 23 | I27: 0.46 | J27: Incorrect | K27: Critical Reasoning | L27: Analysis/Critique | P27: Total Time | Q27: =SUM(O5:O24) -> 44.99
C28: Total Time: | D28: =SUM(B5:B25) -> 44.98 | I28: =AVERAGE(I5:I27) -> 1.9521739 | P28: Top 3 Average | Q28: {=AVERAGE(SORTN($O$5:$O$24,3,0,1,FALSE))} -> 4.53
C29: Top 3 Average | D29: {=AVERAGE(SORTN($B$5:$B$25,3,0,1,FALSE))} -> 5.6033333 | P29: Bottom 3 Average | Q29: {=AVERAGE(SORTN($O$5:$O$24,3,0,1,True))} -> 0.12666667
C30: Bottom 3 Average | D30: {=AVERAGE(SORTN($B$5:$B$25,3,0,1,True))} -> 0.26666667 | J30: Total Time | K30: =SUM(I5:I27) -> 44.9
P31: Type | Q31: # of Qs | R31: Avg Time (Mins) | S31: Correct | T31: Incorrect | U31: Accuracy
C32: Correct | D32: =COUNTIF($C$5:$C$25,C32) -> 14 | I32: Critical Reasoning | J32: No. Of Ques | K32: =countif($K$5:$K$27, "Critical Reasoning") -> 9 | P32: Data Sufficiency | Q32: =countif($R$5:$R$24,P32) -> 7 | R32: =AVERAGEIF($R$5:$R$24,P32,$O$5:$O$24) -> 2.0028571 | S32: =COUNTIFS(R$5:R$24,P32,$P$5:$P$24,$S$31) -> 3 | T32: =COUNTIFS($R$5:$R$24,P32,$P$5:$P$24,$T$31) -> 4 | U32: =S32/Q32 -> 0.42857143
C33: Incorrect | D33: =COUNTIF($C$5:$C$25,C33) -> 7 | I33: Critical Reasoning | J33: Total Time | K33: =SUMIFS($I$5:$I$27,$K$5:$K$27,"Critical Reasoning") -> 18.95 | P33: Two-part analysis | Q33: =countif($R$5:$R$24,P33) -> 4 | R33: =AVERAGEIF($R$5:$R$24,P33,$O$5:$O$24) -> 2.915 | S33: =COUNTIFS(R$5:R$24,P33,$P$5:$P$24,$S$31) -> 2 | T33: =COUNTIFS($R$5:$R$24,P33,$P$5:$P$24,$T$31) -> 2 | U33: =S33/Q33 -> 0.5
C34: Accuracy | D34: =D32/SUM(D32:D33) -> 0.66666667 | J34: Time per Ques | K34: =K33/K32 -> 2.1055556 | P34: Graphs and Tables | Q34: =countif($R$5:$R$24,P34) -> 6 | R34: =AVERAGEIF($R$5:$R$24,P34,$O$5:$O$24) -> 1.5966667 | S34: =COUNTIFS(R$5:R$24,P34,$P$5:$P$24,$S$31) -> 3 | T34: =COUNTIFS($R$5:$R$24,P34,$P$5:$P$24,$T$31) -> 3 | U34: =S34/Q34 -> 0.5
J35: Correct | K35: =countifs($K$5:$K$27,I32,$J$5:$J$27,J35) -> 7 | P35: Multi-source reasoning | Q35: =countif($R$5:$R$24,P35) -> 3 | R35: =AVERAGEIF($R$5:$R$24,P35,$O$5:$O$24) -> 3.2433333 | S35: =COUNTIFS(R$5:R$24,P35,$P$5:$P$24,$S$31) -> 3 | T35: =COUNTIFS($R$5:$R$24,P35,$P$5:$P$24,$T$31) -> 0 | U35: =S35/Q35 -> 1
J36: Incorrect | K36: =countifs($K$5:$K$27,I33,$J$5:$J$27,J36) -> 2 | Q36: =SUM(Q32:Q35) -> 20 | S36: =SUM(S32:S35) -> 11 | T36: =SUM(T32:T35) -> 9 | U36: =S36/Q36 -> 0.55
J37: Accuracy | K37: =K35/SUM(K35:K36) -> 0.77777778
I39: Reading Comprehension | J39: No. Of Ques | K39: =countif($K$5:$K$27, "Reading Comprehension") -> 14
I40: Reading Comprehension | J40: Total Time | K40: =SUMIFS($I$5:$I$27,$K$5:$K$27,"Reading Comprehension") -> 25.95
J41: Time per Ques | K41: =K40/K39 -> 1.8535714
J43: No. of Passages | K43: 4
J44: P1 | K44: =sum(I7:I9) -> 7.45 | L44: mins
J45: P2 | K45: =sum(I12:I14) -> 9.57 | L45: mins
J46: P3 | K46: =sum(I16:I18) -> 6.92 | L46: mins
J47: P4 | K47: =sum(I21:I24) -> 8.25 | L47: mins
J48: Avg per passage | K48: =AVERAGE(K44:K47) -> 8.0475 | L48: mins
J50: Correct | K50: =countifs($K$5:$K$27,I39,$J$5:$J$27,J50) -> 13
J51: Incorrect | K51: =countifs($K$5:$K$27,I40,$J$5:$J$27,J51) -> 1
J52: Accuracy | K52: =K50/SUM(K50:K51) -> 0.92857143
